| Back to Multiple platform build/check report for BioC 3.21: simplified long |
|
This page was generated on 2025-04-22 13:18 -0400 (Tue, 22 Apr 2025).
| Hostname | OS | Arch (*) | R version | Installed pkgs |
|---|---|---|---|---|
| nebbiolo1 | Linux (Ubuntu 24.04.1 LTS) | x86_64 | 4.5.0 RC (2025-04-04 r88126) -- "How About a Twenty-Six" | 4831 |
| palomino7 | Windows Server 2022 Datacenter | x64 | 4.5.0 RC (2025-04-04 r88126 ucrt) -- "How About a Twenty-Six" | 4573 |
| lconway | macOS 12.7.1 Monterey | x86_64 | 4.5.0 RC (2025-04-04 r88126) -- "How About a Twenty-Six" | 4599 |
| kjohnson3 | macOS 13.7.1 Ventura | arm64 | 4.5.0 RC (2025-04-04 r88126) -- "How About a Twenty-Six" | 4553 |
| kunpeng2 | Linux (openEuler 24.03 LTS) | aarch64 | R Under development (unstable) (2025-02-19 r87757) -- "Unsuffered Consequences" | 4570 |
| Click on any hostname to see more info about the system (e.g. compilers) (*) as reported by 'uname -p', except on Windows and Mac OS X | ||||
| Package 1656/2341 | Hostname | OS / Arch | INSTALL | BUILD | CHECK | BUILD BIN | ||||||||
| QDNAseq 1.44.0 (landing page) Daoud Sie
| nebbiolo1 | Linux (Ubuntu 24.04.1 LTS) / x86_64 | OK | OK | OK | |||||||||
| palomino7 | Windows Server 2022 Datacenter / x64 | OK | OK | OK | OK | |||||||||
| lconway | macOS 12.7.1 Monterey / x86_64 | OK | OK | OK | OK | |||||||||
| kjohnson3 | macOS 13.7.1 Ventura / arm64 | OK | OK | OK | OK | |||||||||
| kunpeng2 | Linux (openEuler 24.03 LTS) / aarch64 | OK | OK | OK | ||||||||||
|
To the developers/maintainers of the QDNAseq package: - Allow up to 24 hours (and sometimes 48 hours) for your latest push to git@git.bioconductor.org:packages/QDNAseq.git to reflect on this report. See Troubleshooting Build Report for more information. - Use the following Renviron settings to reproduce errors and warnings. - If 'R CMD check' started to fail recently on the Linux builder(s) over a missing dependency, add the missing dependency to 'Suggests:' in your DESCRIPTION file. See Renviron.bioc for more information. |
| Package: QDNAseq |
| Version: 1.44.0 |
| Command: /Library/Frameworks/R.framework/Resources/bin/R CMD check --install=check:QDNAseq.install-out.txt --library=/Library/Frameworks/R.framework/Resources/library --no-vignettes --timings QDNAseq_1.44.0.tar.gz |
| StartedAt: 2025-04-21 21:03:38 -0400 (Mon, 21 Apr 2025) |
| EndedAt: 2025-04-21 21:06:19 -0400 (Mon, 21 Apr 2025) |
| EllapsedTime: 161.0 seconds |
| RetCode: 0 |
| Status: OK |
| CheckDir: QDNAseq.Rcheck |
| Warnings: 0 |
##############################################################################
##############################################################################
###
### Running command:
###
### /Library/Frameworks/R.framework/Resources/bin/R CMD check --install=check:QDNAseq.install-out.txt --library=/Library/Frameworks/R.framework/Resources/library --no-vignettes --timings QDNAseq_1.44.0.tar.gz
###
##############################################################################
##############################################################################
* using log directory ‘/Users/biocbuild/bbs-3.21-bioc/meat/QDNAseq.Rcheck’
* using R version 4.5.0 RC (2025-04-04 r88126)
* using platform: aarch64-apple-darwin20
* R was compiled by
Apple clang version 14.0.0 (clang-1400.0.29.202)
GNU Fortran (GCC) 14.2.0
* running under: macOS Ventura 13.7.1
* using session charset: UTF-8
* using option ‘--no-vignettes’
* checking for file ‘QDNAseq/DESCRIPTION’ ... OK
* this is package ‘QDNAseq’ version ‘1.44.0’
* checking package namespace information ... OK
* checking package dependencies ... OK
* checking if this is a source package ... OK
* checking if there is a namespace ... OK
* checking for hidden files and directories ... OK
* checking for portable file names ... OK
* checking for sufficient/correct file permissions ... OK
* checking whether package ‘QDNAseq’ can be installed ... OK
* checking installed package size ... OK
* checking package directory ... OK
* checking ‘build’ directory ... OK
* checking DESCRIPTION meta-information ... OK
* checking top-level files ... OK
* checking for left-over files ... OK
* checking index information ... OK
* checking package subdirectories ... OK
* checking code files for non-ASCII characters ... OK
* checking R files for syntax errors ... OK
* checking whether the package can be loaded ... OK
* checking whether the package can be loaded with stated dependencies ... OK
* checking whether the package can be unloaded cleanly ... OK
* checking whether the namespace can be loaded with stated dependencies ... OK
* checking whether the namespace can be unloaded cleanly ... OK
* checking dependencies in R code ... OK
* checking S3 generic/method consistency ... OK
* checking replacement functions ... OK
* checking foreign function calls ... OK
* checking R code for possible problems ... OK
* checking Rd files ... OK
* checking Rd metadata ... OK
* checking Rd cross-references ... NOTE
Found the following Rd file(s) with Rd \link{} targets missing package
anchors:
exportBins.Rd: cghRaw, cghSeg, cghCall, cghRegions
Please provide package anchors for all Rd \link{} targets not in the
package itself and the base packages.
* checking for missing documentation entries ... OK
* checking for code/documentation mismatches ... OK
* checking Rd \usage sections ... OK
* checking Rd contents ... OK
* checking for unstated dependencies in examples ... OK
* checking contents of ‘data’ directory ... OK
* checking data for non-ASCII characters ... OK
* checking data for ASCII and uncompressed saves ... OK
* checking sizes of PDF files under ‘inst/doc’ ... OK
* checking files in ‘vignettes’ ... OK
* checking examples ... OK
Examples with CPU (user + system) or elapsed time > 5s
user system elapsed
frequencyPlot 8.071 0.087 8.508
callBins 7.946 0.094 8.221
* checking for unstated dependencies in ‘tests’ ... OK
* checking tests ...
Running ‘QDNAseq,copyneutral.R’
Running ‘QDNAseq,gain-copyneutral-gain.R’
Running ‘QDNAseq,parallel-reproducibility.R’
Running ‘QDNAseq.R’
Running ‘binReadCounts.R’
Running ‘poolRuns.R’
OK
* checking for unstated dependencies in vignettes ... OK
* checking package vignettes ... OK
* checking running R code from vignettes ... SKIPPED
* checking re-building of vignette outputs ... SKIPPED
* checking PDF version of manual ... OK
* DONE
Status: 1 NOTE
See
‘/Users/biocbuild/bbs-3.21-bioc/meat/QDNAseq.Rcheck/00check.log’
for details.
QDNAseq.Rcheck/00install.out
############################################################################## ############################################################################## ### ### Running command: ### ### /Library/Frameworks/R.framework/Resources/bin/R CMD INSTALL QDNAseq ### ############################################################################## ############################################################################## * installing to library ‘/Library/Frameworks/R.framework/Versions/4.5-arm64/Resources/library’ * installing *source* package ‘QDNAseq’ ... ** this is package ‘QDNAseq’ version ‘1.44.0’ ** using staged installation ** R ** data ** inst ** byte-compile and prepare package for lazy loading ** help *** installing help indices ** building package indices ** installing vignettes ** testing if installed package can be loaded from temporary location ** testing if installed package can be loaded from final location ** testing if installed package keeps a record of temporary installation path * DONE (QDNAseq)
QDNAseq.Rcheck/tests/binReadCounts.Rout
R version 4.5.0 RC (2025-04-04 r88126) -- "How About a Twenty-Six"
Copyright (C) 2025 The R Foundation for Statistical Computing
Platform: aarch64-apple-darwin20
R is free software and comes with ABSOLUTELY NO WARRANTY.
You are welcome to redistribute it under certain conditions.
Type 'license()' or 'licence()' for distribution details.
R is a collaborative project with many contributors.
Type 'contributors()' for more information and
'citation()' on how to cite R or R packages in publications.
Type 'demo()' for some demos, 'help()' for on-line help, or
'help.start()' for an HTML browser interface to help.
Type 'q()' to quit R.
> library(QDNAseq)
>
> if (requireNamespace("QDNAseq.hg19", quietly = TRUE)) {
+ bins <- getBinAnnotations(500, genome = "hg19")
+ print(bins)
+
+ bam <- system.file("extdata", "ex1.bam", package = "Rsamtools")
+ print(bam)
+
+ counts <- binReadCounts(bins, bamfiles = bam)
+ print(counts)
+
+ ## BUG: https://github.com/ccagc/QDNAseq/issues/89
+ counts2 <- binReadCounts(bins, bamfiles = bam, chunkSize = 10e3)
+ print(counts2)
+ }
Loaded bin annotations for genome 'hg19', bin size 500 kbp, and experiment type 'SR50' from annotation package QDNAseq.hg19 v1.38.0
QDNAseq bin annotations for Hsapiens, build hg19.
Created by Ilari Scheinin with QDNAseq 0.7.5, 2014-02-06 09:20:46.041402.
An object of class 'AnnotatedDataFrame'
rowNames: 1:1-500000 1:500001-1000000 ... Y:59000001-59373566 (6206
total)
varLabels: chromosome start ... use (9 total)
varMetadata: labelDescription
[1] "/Library/Frameworks/R.framework/Versions/4.5-arm64/Resources/library/Rsamtools/extdata/ex1.bam"
ex1 (1 of 1): extracting reads ... binning ...
QDNAseqReadCounts (storageMode: lockedEnvironment)
assayData: 6206 features, 1 samples
element names: counts
protocolData: none
phenoData
sampleNames: ex1
varLabels: name total.reads used.reads expected.variance
varMetadata: labelDescription
featureData
featureNames: 1:1-500000 1:500001-1000000 ... Y:59000001-59373566
(6206 total)
fvarLabels: chromosome start ... use (9 total)
fvarMetadata: labelDescription
experimentData: use 'experimentData(object)'
Annotation:
ex1 (1 of 1): extracting reads ...
binning chunk - seq1:1:10001
binning chunk - seq2:1:10001
QDNAseqReadCounts (storageMode: lockedEnvironment)
assayData: 6206 features, 1 samples
element names: counts
protocolData: none
phenoData
sampleNames: ex1
varLabels: name total.reads used.reads expected.variance
varMetadata: labelDescription
featureData
featureNames: 1:1-500000 1:500001-1000000 ... Y:59000001-59373566
(6206 total)
fvarLabels: chromosome start ... use (9 total)
fvarMetadata: labelDescription
experimentData: use 'experimentData(object)'
Annotation:
>
>
>
> proc.time()
user system elapsed
2.566 0.107 2.690
QDNAseq.Rcheck/tests/poolRuns.Rout
R version 4.5.0 RC (2025-04-04 r88126) -- "How About a Twenty-Six"
Copyright (C) 2025 The R Foundation for Statistical Computing
Platform: aarch64-apple-darwin20
R is free software and comes with ABSOLUTELY NO WARRANTY.
You are welcome to redistribute it under certain conditions.
Type 'license()' or 'licence()' for distribution details.
R is a collaborative project with many contributors.
Type 'contributors()' for more information and
'citation()' on how to cite R or R packages in publications.
Type 'demo()' for some demos, 'help()' for on-line help, or
'help.start()' for an HTML browser interface to help.
Type 'q()' to quit R.
> library(QDNAseq)
> library(Biobase) ## sampleNames()
Loading required package: BiocGenerics
Loading required package: generics
Attaching package: 'generics'
The following objects are masked from 'package:base':
as.difftime, as.factor, as.ordered, intersect, is.element, setdiff,
setequal, union
Attaching package: 'BiocGenerics'
The following objects are masked from 'package:stats':
IQR, mad, sd, var, xtabs
The following objects are masked from 'package:base':
Filter, Find, Map, Position, Reduce, anyDuplicated, aperm, append,
as.data.frame, basename, cbind, colnames, dirname, do.call,
duplicated, eval, evalq, get, grep, grepl, is.unsorted, lapply,
mapply, match, mget, order, paste, pmax, pmax.int, pmin, pmin.int,
rank, rbind, rownames, sapply, saveRDS, table, tapply, unique,
unsplit, which.max, which.min
Welcome to Bioconductor
Vignettes contain introductory material; view with
'browseVignettes()'. To cite Bioconductor, see
'citation("Biobase")', and for packages 'citation("pkgname")'.
>
> data(LGG150)
>
> message("poolRuns(LGG150) ...")
poolRuns(LGG150) ...
> pooledReadCounts <- poolRuns(LGG150, samples = sampleNames(LGG150))
> print(pooledReadCounts)
QDNAseqReadCounts (storageMode: lockedEnvironment)
assayData: 38819 features, 1 samples
element names: counts
protocolData: none
phenoData
sampleNames: LGG150
varLabels: name reads used.reads expected.variance
varMetadata: labelDescription
featureData
featureNames: 7:1-15000 7:15001-30000 ... 10:135525001-135534747
(38819 total)
fvarLabels: chromosome start ... use (9 total)
fvarMetadata: labelDescription
experimentData: use 'experimentData(object)'
Annotation:
> message("poolRuns(LGG150) ... done")
poolRuns(LGG150) ... done
>
>
> message("Create fake data set with two samples ...")
Create fake data set with two samples ...
> phenodata <- phenoData(LGG150)
> phenodata@data <- rbind(phenodata@data, phenodata@data)
>
> counts <- assayDataElement(LGG150, "counts")
> counts2 <- cbind(counts, counts)
> colnames(counts2) <- sampleNames(phenodata)
>
> x <- new("QDNAseqReadCounts", bins = featureData(LGG150), phenodata = phenodata, counts = counts2)
> print(x)
QDNAseqReadCounts (storageMode: lockedEnvironment)
assayData: 38819 features, 2 samples
element names: counts
protocolData: none
phenoData
sampleNames: LGG150 LGG1501
varLabels: name reads used.reads expected.variance
varMetadata: labelDescription
featureData
featureNames: 7:1-15000 7:15001-30000 ... 10:135525001-135534747
(38819 total)
fvarLabels: chromosome start ... use (9 total)
fvarMetadata: labelDescription
experimentData: use 'experimentData(object)'
Annotation:
> message("Create fake data set with two samples ... done")
Create fake data set with two samples ... done
>
> message("poolRuns(LGG150set) ...")
poolRuns(LGG150set) ...
> x_pool <- poolRuns(x, samples = sampleNames(x))
> print(x_pool)
QDNAseqReadCounts (storageMode: lockedEnvironment)
assayData: 38819 features, 2 samples
element names: counts
protocolData: none
phenoData
sampleNames: LGG150 LGG1501
varLabels: name reads used.reads expected.variance
varMetadata: labelDescription
featureData
featureNames: 7:1-15000 7:15001-30000 ... 10:135525001-135534747
(38819 total)
fvarLabels: chromosome start ... use (9 total)
fvarMetadata: labelDescription
experimentData: use 'experimentData(object)'
Annotation:
>
> message("poolRuns(LGG150set) - pooled ...")
poolRuns(LGG150set) - pooled ...
> ## BUG #112 (https://github.com/ccagc/QDNAseq/issues/112)
> x_pool <- poolRuns(x, samples = rep("pooled", times = 2L))
> print(x_pool)
QDNAseqReadCounts (storageMode: lockedEnvironment)
assayData: 38819 features, 1 samples
element names: counts
protocolData: none
phenoData
sampleNames: pooled
varLabels: name reads ... total.reads (5 total)
varMetadata: labelDescription
featureData
featureNames: 7:1-15000 7:15001-30000 ... 10:135525001-135534747
(38819 total)
fvarLabels: chromosome start ... use (9 total)
fvarMetadata: labelDescription
experimentData: use 'experimentData(object)'
Annotation:
>
> message("poolRuns(LGG150set) ... done")
poolRuns(LGG150set) ... done
>
> proc.time()
user system elapsed
1.804 0.086 1.894
QDNAseq.Rcheck/tests/QDNAseq,copyneutral.Rout
R version 4.5.0 RC (2025-04-04 r88126) -- "How About a Twenty-Six"
Copyright (C) 2025 The R Foundation for Statistical Computing
Platform: aarch64-apple-darwin20
R is free software and comes with ABSOLUTELY NO WARRANTY.
You are welcome to redistribute it under certain conditions.
Type 'license()' or 'licence()' for distribution details.
R is a collaborative project with many contributors.
Type 'contributors()' for more information and
'citation()' on how to cite R or R packages in publications.
Type 'demo()' for some demos, 'help()' for on-line help, or
'help.start()' for an HTML browser interface to help.
Type 'q()' to quit R.
> library(QDNAseq)
> library(Biobase)
Loading required package: BiocGenerics
Loading required package: generics
Attaching package: 'generics'
The following objects are masked from 'package:base':
as.difftime, as.factor, as.ordered, intersect, is.element, setdiff,
setequal, union
Attaching package: 'BiocGenerics'
The following objects are masked from 'package:stats':
IQR, mad, sd, var, xtabs
The following objects are masked from 'package:base':
Filter, Find, Map, Position, Reduce, anyDuplicated, aperm, append,
as.data.frame, basename, cbind, colnames, dirname, do.call,
duplicated, eval, evalq, get, grep, grepl, is.unsorted, lapply,
mapply, match, mget, order, paste, pmax, pmax.int, pmin, pmin.int,
rank, rbind, rownames, sapply, saveRDS, table, tapply, unique,
unsplit, which.max, which.min
Welcome to Bioconductor
Vignettes contain introductory material; view with
'browseVignettes()'. To cite Bioconductor, see
'citation("Biobase")', and for packages 'citation("pkgname")'.
> set.seed(0xBEEF)
>
> data(LGG150)
> data <- LGG150
> print(data)
QDNAseqReadCounts (storageMode: lockedEnvironment)
assayData: 38819 features, 1 samples
element names: counts
protocolData: none
phenoData
sampleNames: LGG150
varLabels: name reads used.reads expected.variance
varMetadata: labelDescription
featureData
featureNames: 7:1-15000 7:15001-30000 ... 10:135525001-135534747
(38819 total)
fvarLabels: chromosome start ... use (9 total)
fvarMetadata: labelDescription
experimentData: use 'experimentData(object)'
Annotation:
>
> dataF <- applyFilters(data, residual=TRUE, blacklist=TRUE)
38,819 total bins
38,819 of which in selected chromosomes
36,722 of which with reference sequence
33,347 final bins
> print(dataF)
QDNAseqReadCounts (storageMode: lockedEnvironment)
assayData: 38819 features, 1 samples
element names: counts
protocolData: none
phenoData
sampleNames: LGG150
varLabels: name reads used.reads expected.variance
varMetadata: labelDescription
featureData
featureNames: 7:1-15000 7:15001-30000 ... 10:135525001-135534747
(38819 total)
fvarLabels: chromosome start ... use (9 total)
fvarMetadata: labelDescription
experimentData: use 'experimentData(object)'
Annotation:
>
> dataC <- correctBins(dataF)
Calculating correction for GC content and mappability
Calculating fit for sample LGG150 (1 of 1) ...
Done.
>
> ## Force all copy neutral data
> cn <- assayDataElement(dataC, "copynumber")
> cn[,1] <- rnorm(nrow(cn), mean = 1.0, sd = 0.05)
> assayDataElement(dataC, "copynumber") <- cn
>
> print(dataC)
QDNAseqCopyNumbers (storageMode: lockedEnvironment)
assayData: 38819 features, 1 samples
element names: copynumber
protocolData: none
phenoData
sampleNames: LGG150
varLabels: name reads ... loess.family (6 total)
varMetadata: labelDescription
featureData
featureNames: 7:1-15000 7:15001-30000 ... 10:135525001-135534747
(38819 total)
fvarLabels: chromosome start ... use (9 total)
fvarMetadata: labelDescription
experimentData: use 'experimentData(object)'
Annotation:
>
> dataN <- normalizeBins(dataC)
Applying median normalization ...
> print(dataN)
QDNAseqCopyNumbers (storageMode: lockedEnvironment)
assayData: 38819 features, 1 samples
element names: copynumber
protocolData: none
phenoData
sampleNames: LGG150
varLabels: name reads ... loess.family (6 total)
varMetadata: labelDescription
featureData
featureNames: 7:1-15000 7:15001-30000 ... 10:135525001-135534747
(38819 total)
fvarLabels: chromosome start ... use (9 total)
fvarMetadata: labelDescription
experimentData: use 'experimentData(object)'
Annotation:
>
> fit <- segmentBins(dataN)
Performing segmentation:
Segmenting: LGG150 (1 of 1) ...
> print(fit)
QDNAseqCopyNumbers (storageMode: lockedEnvironment)
assayData: 38819 features, 1 samples
element names: copynumber, segmented
protocolData: none
phenoData
sampleNames: LGG150
varLabels: name reads ... loess.family (6 total)
varMetadata: labelDescription
featureData
featureNames: 7:1-15000 7:15001-30000 ... 10:135525001-135534747
(38819 total)
fvarLabels: chromosome start ... use (9 total)
fvarMetadata: labelDescription
experimentData: use 'experimentData(object)'
Annotation:
>
> fitC <- callBins(fit)
EM algorithm started ...
[1] "Total number of segments present in the data: 4"
[1] "Number of segments used for fitting the model: 4"
39448088138966210.762.1777524814786712415.3112.9NA196608777524810146275415.377.5
Calling iteration1:
optim results
time: 0
minimum: 16682.0890247003
116682.0890247003-0.825303675797091-0.323169506423803-0.001754401929814960.2970863141060160.5078724084702190.9928769615298530.1100346090918040.0003692713871108020.0111811691191362-0.0001065348234756080.1102701734224670.145866377811007
39463138142387210.862.2777524814786712415.3112.9NA196608777524810146275415.377.5
Calling iteration2:
optim results
time: 0
minimum: 16682.0888522346
116682.0888522346-0.816384144994661-0.31848916294222-0.00167850977268490.292952991143050.5008064461942260.9819310567480430.1311557982956840.0002223141320088620.01118096583020170.0001872099918784220.1313921659017140.175722206269368
EM algorithm done ...
Computing posterior probabilities for all segments ...
Total time:0minutes
Adjusting segmented data for cellularity ...
Cellularity sample1: 1
Adjusting normalized data for cellularity ...
Cellularity sample1: 1
1
39489818364141210.963.9777524814786712415.3112.9NA196608777524810881231415.383.1
39490008530887210.965.1777524814786712415.3112.9NA196608777524810881231415.383.1
39489978530881210.965.1777524814786712415.3112.9NA196608777524810881231415.383.1
3949025879766121167.2777524817824054415.3136NA196608777524810881231415.383.1
3949442879859521167.2777524817824054415.3136NA196608777524810881231415.383.1
3949451879859921167.2777524817824054415.3136NA196608777524810881231415.383.1
3949460879860321167.2777524817824054415.3136NA196608777524810881231415.383.1
3949469879860721167.2777524817824054415.3136NA196608777524810881231415.383.1
3949478879861121167.2777524817824054415.3136NA196608777524810881231415.383.1
3949484879861421167.2777524817824054415.3136NA196608777524810881231415.383.1
3949503886534421167.7777524817824054415.3136NA196608777524810881231415.383.1
3949920886566721167.7777524817824054415.3136NA196608777524810881231415.383.1
FINISHED!
Total time:0minutes
There were 24 warnings (use warnings() to see them)
> print(fitC)
QDNAseqCopyNumbers (storageMode: lockedEnvironment)
assayData: 38819 features, 1 samples
element names: calls, copynumber, probamp, probdloss, probgain, probloss, probnorm, segmented
protocolData: none
phenoData
sampleNames: LGG150
varLabels: name reads ... loess.family (6 total)
varMetadata: labelDescription
featureData
featureNames: 7:1-15000 7:15001-30000 ... 10:135525001-135534747
(38819 total)
fvarLabels: chromosome start ... use (9 total)
fvarMetadata: labelDescription
experimentData: use 'experimentData(object)'
Annotation:
>
>
> ## Assert that everything is called copy-neutral
> calls <- assayDataElement(fitC, "calls")
> stopifnot(all(is.na(calls) | calls == 0))
>
> formats <- c("tsv", "igv", "bed", "seg", "vcf")
> types <- c("copynumber", "segments", "calls")
> for (format in formats) {
+ for (type in types) {
+ fileext <- sprintf(".%s.%s", type, format)
+ file <- tempfile(pattern = "QDNAseq-%s", fileext = fileext)
+ message(sprintf(" - exportBins(<%d samples>, format=\"%s\", type=\"%s\")", ncol(fitC), format, type))
+ file <- exportBins(fitC, format = format, type = type, file = file)
+ message(sprintf(" File(s) written: [n=%d] %s",
+ length(file), paste(sQuote(file), collapse = ", ")))
+ stopifnot(all(file_test("-f", file)))
+ if (format == "seg") {
+ segs <- read.table(file, sep = "\t", header = TRUE)
+ print(segs)
+ stopifnot(nrow(segs) == 0L)
+ } else if (format == "vcf") {
+ rows <- readLines(file)
+ rows <- grep("^#", rows, invert = TRUE, value = TRUE)
+ print(rows)
+ stopifnot(length(rows) == 0L)
+ }
+ file.remove(file)
+ stopifnot(!any(file_test("-f", file)))
+ }
+ }
- exportBins(<1 samples>, format="tsv", type="copynumber")
File(s) written: [n=1] '/var/folders/r0/l4fjk6cj5xj0j3brt4bplpl40000gt/T//Rtmp9LhrFE/QDNAseq-%s17d3a2ec92352.copynumber.tsv'
- exportBins(<1 samples>, format="tsv", type="segments")
File(s) written: [n=1] '/var/folders/r0/l4fjk6cj5xj0j3brt4bplpl40000gt/T//Rtmp9LhrFE/QDNAseq-%s17d3a172df47d.segments.tsv'
- exportBins(<1 samples>, format="tsv", type="calls")
File(s) written: [n=1] '/var/folders/r0/l4fjk6cj5xj0j3brt4bplpl40000gt/T//Rtmp9LhrFE/QDNAseq-%s17d3a4a0e466e.calls.tsv'
- exportBins(<1 samples>, format="igv", type="copynumber")
File(s) written: [n=1] '/var/folders/r0/l4fjk6cj5xj0j3brt4bplpl40000gt/T//Rtmp9LhrFE/QDNAseq-%s17d3a6f3205bd.copynumber.igv'
- exportBins(<1 samples>, format="igv", type="segments")
File(s) written: [n=1] '/var/folders/r0/l4fjk6cj5xj0j3brt4bplpl40000gt/T//Rtmp9LhrFE/QDNAseq-%s17d3a3d16f453.segments.igv'
- exportBins(<1 samples>, format="igv", type="calls")
File(s) written: [n=1] '/var/folders/r0/l4fjk6cj5xj0j3brt4bplpl40000gt/T//Rtmp9LhrFE/QDNAseq-%s17d3a2e02947a.calls.igv'
- exportBins(<1 samples>, format="bed", type="copynumber")
File(s) written: [n=1] '/var/folders/r0/l4fjk6cj5xj0j3brt4bplpl40000gt/T//Rtmp9LhrFE/QDNAseq-LGG15017d3a2b61ed2f.copynumber.bed'
- exportBins(<1 samples>, format="bed", type="segments")
File(s) written: [n=1] '/var/folders/r0/l4fjk6cj5xj0j3brt4bplpl40000gt/T//Rtmp9LhrFE/QDNAseq-LGG15017d3a2a1abee9.segments.bed'
- exportBins(<1 samples>, format="bed", type="calls")
File(s) written: [n=1] '/var/folders/r0/l4fjk6cj5xj0j3brt4bplpl40000gt/T//Rtmp9LhrFE/QDNAseq-LGG15017d3a41ebc897.calls.bed'
- exportBins(<1 samples>, format="seg", type="copynumber")
File(s) written: [n=1] '/var/folders/r0/l4fjk6cj5xj0j3brt4bplpl40000gt/T//Rtmp9LhrFE/QDNAseq-LGG15017d3a5ebe5350.copynumber.seg'
[1] SAMPLE_NAME CHROMOSOME START STOP
[5] DATAPOINTS LOG2_RATIO_MEAN
<0 rows> (or 0-length row.names)
- exportBins(<1 samples>, format="seg", type="segments")
File(s) written: [n=1] '/var/folders/r0/l4fjk6cj5xj0j3brt4bplpl40000gt/T//Rtmp9LhrFE/QDNAseq-LGG15017d3a214fd9c8.segments.seg'
[1] SAMPLE_NAME CHROMOSOME START STOP
[5] DATAPOINTS LOG2_RATIO_MEAN
<0 rows> (or 0-length row.names)
- exportBins(<1 samples>, format="seg", type="calls")
File(s) written: [n=1] '/var/folders/r0/l4fjk6cj5xj0j3brt4bplpl40000gt/T//Rtmp9LhrFE/QDNAseq-LGG15017d3a162ea8e.calls.seg'
[1] SAMPLE_NAME CHROMOSOME START STOP
[5] DATAPOINTS LOG2_RATIO_MEAN
<0 rows> (or 0-length row.names)
- exportBins(<1 samples>, format="vcf", type="copynumber")
File(s) written: [n=1] '/var/folders/r0/l4fjk6cj5xj0j3brt4bplpl40000gt/T//Rtmp9LhrFE/QDNAseq-LGG15017d3a5151158.copynumber.vcf'
character(0)
- exportBins(<1 samples>, format="vcf", type="segments")
File(s) written: [n=1] '/var/folders/r0/l4fjk6cj5xj0j3brt4bplpl40000gt/T//Rtmp9LhrFE/QDNAseq-LGG15017d3a2a25ab03.segments.vcf'
character(0)
- exportBins(<1 samples>, format="vcf", type="calls")
File(s) written: [n=1] '/var/folders/r0/l4fjk6cj5xj0j3brt4bplpl40000gt/T//Rtmp9LhrFE/QDNAseq-LGG15017d3aefe6793.calls.vcf'
character(0)
>
> proc.time()
user system elapsed
8.289 0.195 8.621
QDNAseq.Rcheck/tests/QDNAseq,gain-copyneutral-gain.Rout
R version 4.5.0 RC (2025-04-04 r88126) -- "How About a Twenty-Six"
Copyright (C) 2025 The R Foundation for Statistical Computing
Platform: aarch64-apple-darwin20
R is free software and comes with ABSOLUTELY NO WARRANTY.
You are welcome to redistribute it under certain conditions.
Type 'license()' or 'licence()' for distribution details.
R is a collaborative project with many contributors.
Type 'contributors()' for more information and
'citation()' on how to cite R or R packages in publications.
Type 'demo()' for some demos, 'help()' for on-line help, or
'help.start()' for an HTML browser interface to help.
Type 'q()' to quit R.
> library(QDNAseq)
> library(Biobase)
Loading required package: BiocGenerics
Loading required package: generics
Attaching package: 'generics'
The following objects are masked from 'package:base':
as.difftime, as.factor, as.ordered, intersect, is.element, setdiff,
setequal, union
Attaching package: 'BiocGenerics'
The following objects are masked from 'package:stats':
IQR, mad, sd, var, xtabs
The following objects are masked from 'package:base':
Filter, Find, Map, Position, Reduce, anyDuplicated, aperm, append,
as.data.frame, basename, cbind, colnames, dirname, do.call,
duplicated, eval, evalq, get, grep, grepl, is.unsorted, lapply,
mapply, match, mget, order, paste, pmax, pmax.int, pmin, pmin.int,
rank, rbind, rownames, sapply, saveRDS, table, tapply, unique,
unsplit, which.max, which.min
Welcome to Bioconductor
Vignettes contain introductory material; view with
'browseVignettes()'. To cite Bioconductor, see
'citation("Biobase")', and for packages 'citation("pkgname")'.
> library(utils)
> set.seed(0xBEEF)
>
> data(LGG150)
> data <- LGG150
> print(data)
QDNAseqReadCounts (storageMode: lockedEnvironment)
assayData: 38819 features, 1 samples
element names: counts
protocolData: none
phenoData
sampleNames: LGG150
varLabels: name reads used.reads expected.variance
varMetadata: labelDescription
featureData
featureNames: 7:1-15000 7:15001-30000 ... 10:135525001-135534747
(38819 total)
fvarLabels: chromosome start ... use (9 total)
fvarMetadata: labelDescription
experimentData: use 'experimentData(object)'
Annotation:
>
> dataF <- applyFilters(data, residual=TRUE, blacklist=TRUE)
38,819 total bins
38,819 of which in selected chromosomes
36,722 of which with reference sequence
33,347 final bins
> print(dataF)
QDNAseqReadCounts (storageMode: lockedEnvironment)
assayData: 38819 features, 1 samples
element names: counts
protocolData: none
phenoData
sampleNames: LGG150
varLabels: name reads used.reads expected.variance
varMetadata: labelDescription
featureData
featureNames: 7:1-15000 7:15001-30000 ... 10:135525001-135534747
(38819 total)
fvarLabels: chromosome start ... use (9 total)
fvarMetadata: labelDescription
experimentData: use 'experimentData(object)'
Annotation:
>
> dataC <- correctBins(dataF)
Calculating correction for GC content and mappability
Calculating fit for sample LGG150 (1 of 1) ...
Done.
>
> ## Force results to have segments gain, copy neutral, and gain.
> cnAll <- assayDataElement(dataC, "copynumber")
> cnAll[,1] <- rnorm(nrow(cnAll), mean = 1.0, sd = 0.05)
> chr7 <- (chromosomes(dataC) == "7")
> cn <- cnAll[chr7, , drop = FALSE]
> n <- nrow(cn)
> idxs <- seq(from=1/3*n - 0.1*n, to=1/3*n + 0.1*n)
> cn[idxs,1] <- rnorm(length(idxs), mean = 2.0, sd = 0.05)
> idxs <- seq(from=2/3*n - 0.1*n, to=2/3*n + 0.1*n)
> cn[idxs,1] <- rnorm(length(idxs), mean = 2.0, sd = 0.05)
> cnAll[chr7, ] <- cn
> assayDataElement(dataC, "copynumber") <- cnAll
> print(dataC)
QDNAseqCopyNumbers (storageMode: lockedEnvironment)
assayData: 38819 features, 1 samples
element names: copynumber
protocolData: none
phenoData
sampleNames: LGG150
varLabels: name reads ... loess.family (6 total)
varMetadata: labelDescription
featureData
featureNames: 7:1-15000 7:15001-30000 ... 10:135525001-135534747
(38819 total)
fvarLabels: chromosome start ... use (9 total)
fvarMetadata: labelDescription
experimentData: use 'experimentData(object)'
Annotation:
>
> dataN <- normalizeBins(dataC)
Applying median normalization ...
> print(dataN)
QDNAseqCopyNumbers (storageMode: lockedEnvironment)
assayData: 38819 features, 1 samples
element names: copynumber
protocolData: none
phenoData
sampleNames: LGG150
varLabels: name reads ... loess.family (6 total)
varMetadata: labelDescription
featureData
featureNames: 7:1-15000 7:15001-30000 ... 10:135525001-135534747
(38819 total)
fvarLabels: chromosome start ... use (9 total)
fvarMetadata: labelDescription
experimentData: use 'experimentData(object)'
Annotation:
>
> fit <- segmentBins(dataN)
Performing segmentation:
Segmenting: LGG150 (1 of 1) ...
> print(fit)
QDNAseqCopyNumbers (storageMode: lockedEnvironment)
assayData: 38819 features, 1 samples
element names: copynumber, segmented
protocolData: none
phenoData
sampleNames: LGG150
varLabels: name reads ... loess.family (6 total)
varMetadata: labelDescription
featureData
featureNames: 7:1-15000 7:15001-30000 ... 10:135525001-135534747
(38819 total)
fvarLabels: chromosome start ... use (9 total)
fvarMetadata: labelDescription
experimentData: use 'experimentData(object)'
Annotation:
>
> fitC <- callBins(fit)
EM algorithm started ...
[1] "Total number of segments present in the data: 8"
[1] "Number of segments used for fitting the model: 8"
39451188182545210.762.5777524814786712415.3112.9NA196608777524810146275415.377.5
Calling iteration1:
optim results
time: 0
minimum: 16691.9360158015
116691.9360158015-0.76889026698241-0.310183146024425-0.01185150972096230.2885943760685340.4933553445096880.9879385470392230.0299884700901994-0.0005485736219481460.0111821966975442-4.08995447325668e-050.01000052582656670.0100005260086061
EM algorithm done ...
Computing posterior probabilities for all segments ...
Total time:0minutes
Adjusting segmented data for cellularity ...
Cellularity sample1: 1
Adjusting normalized data for cellularity ...
Cellularity sample1: 1
1
3949291840752821164.2777524814786712415.3112.9NA196608777524810924937415.383.4
3949310857427421165.5777524814786712415.3112.9NA196608777524810924937415.383.4
3949307857426821165.5777524814786712415.3112.9NA196608777524810924937415.383.4
3949335884279821167.5777524817824054415.3136NA196608777524810924937415.383.4
3949752884373221167.5777524817824054415.3136NA196608777524810924937415.383.4
3949761884373621167.5777524817824054415.3136NA196608777524810924937415.383.4
3949770884374021167.5777524817824054415.3136NA196608777524810924937415.383.4
3949779884374421167.5777524817824054415.3136NA196608777524810924937415.383.4
3949788884374821167.5777524817824054415.3136NA196608777524810924937415.383.4
3949794884375121167.5777524817824054415.3136NA196608777524810924937415.383.4
3949813891048121168777524817824054415.3136NA196608777524810924937415.383.4
3950230891080421168777524817824054415.3136NA196608777524810924937415.383.4
FINISHED!
Total time:0minutes
There were 32 warnings (use warnings() to see them)
> print(fitC)
QDNAseqCopyNumbers (storageMode: lockedEnvironment)
assayData: 38819 features, 1 samples
element names: calls, copynumber, probamp, probdloss, probgain, probloss, probnorm, segmented
protocolData: none
phenoData
sampleNames: LGG150
varLabels: name reads ... loess.family (6 total)
varMetadata: labelDescription
featureData
featureNames: 7:1-15000 7:15001-30000 ... 10:135525001-135534747
(38819 total)
fvarLabels: chromosome start ... use (9 total)
fvarMetadata: labelDescription
experimentData: use 'experimentData(object)'
Annotation:
>
> ## Assert that everything is called copy-neutral
> calls <- assayDataElement(fitC, "calls")
> stopifnot(all(is.na(calls) | calls %in% c(0, 2)))
>
> formats <- c("tsv", "igv", "bed", "seg", "vcf")
> types <- c("copynumber", "segments", "calls")
> for (format in formats) {
+ for (type in types) {
+ fileext <- sprintf(".%s.%s", type, format)
+ file <- tempfile(pattern = "QDNAseq-%s", fileext = fileext)
+ message(sprintf(" - exportBins(<%d samples>, format=\"%s\", type=\"%s\")", ncol(fitC), format, type))
+ file <- exportBins(fitC, format = format, type = type, file = file)
+ message(sprintf(" File(s) written: [n=%d] %s",
+ length(file), paste(sQuote(file), collapse = ", ")))
+ stopifnot(all(file_test("-f", file)))
+
+ if (format == "seg") {
+ segs <- read.table(file, sep = "\t", header = TRUE)
+ print(segs)
+ stopifnot(all(segs$CHROMOSOME == "7"), nrow(segs) == 2L)
+ } else if (format == "vcf") {
+ segs <- read.table(file, sep = "\t", header = FALSE)
+ print(segs)
+ stopifnot(all(segs$V1 == "7"), nrow(segs) == 2L)
+ }
+
+ file.remove(file)
+ stopifnot(!any(file_test("-f", file)))
+ }
+ }
- exportBins(<1 samples>, format="tsv", type="copynumber")
File(s) written: [n=1] '/var/folders/r0/l4fjk6cj5xj0j3brt4bplpl40000gt/T//RtmpyT6GAP/QDNAseq-%s17fe45c34ac8f.copynumber.tsv'
- exportBins(<1 samples>, format="tsv", type="segments")
File(s) written: [n=1] '/var/folders/r0/l4fjk6cj5xj0j3brt4bplpl40000gt/T//RtmpyT6GAP/QDNAseq-%s17fe462d0f94.segments.tsv'
- exportBins(<1 samples>, format="tsv", type="calls")
File(s) written: [n=1] '/var/folders/r0/l4fjk6cj5xj0j3brt4bplpl40000gt/T//RtmpyT6GAP/QDNAseq-%s17fe47859c0b6.calls.tsv'
- exportBins(<1 samples>, format="igv", type="copynumber")
File(s) written: [n=1] '/var/folders/r0/l4fjk6cj5xj0j3brt4bplpl40000gt/T//RtmpyT6GAP/QDNAseq-%s17fe44c7b2a74.copynumber.igv'
- exportBins(<1 samples>, format="igv", type="segments")
File(s) written: [n=1] '/var/folders/r0/l4fjk6cj5xj0j3brt4bplpl40000gt/T//RtmpyT6GAP/QDNAseq-%s17fe42a204ce6.segments.igv'
- exportBins(<1 samples>, format="igv", type="calls")
File(s) written: [n=1] '/var/folders/r0/l4fjk6cj5xj0j3brt4bplpl40000gt/T//RtmpyT6GAP/QDNAseq-%s17fe42e98a5a5.calls.igv'
- exportBins(<1 samples>, format="bed", type="copynumber")
File(s) written: [n=1] '/var/folders/r0/l4fjk6cj5xj0j3brt4bplpl40000gt/T//RtmpyT6GAP/QDNAseq-LGG15017fe427a30b89.copynumber.bed'
- exportBins(<1 samples>, format="bed", type="segments")
File(s) written: [n=1] '/var/folders/r0/l4fjk6cj5xj0j3brt4bplpl40000gt/T//RtmpyT6GAP/QDNAseq-LGG15017fe4414a63b3.segments.bed'
- exportBins(<1 samples>, format="bed", type="calls")
File(s) written: [n=1] '/var/folders/r0/l4fjk6cj5xj0j3brt4bplpl40000gt/T//RtmpyT6GAP/QDNAseq-LGG15017fe47ad79e41.calls.bed'
- exportBins(<1 samples>, format="seg", type="copynumber")
File(s) written: [n=1] '/var/folders/r0/l4fjk6cj5xj0j3brt4bplpl40000gt/T//RtmpyT6GAP/QDNAseq-LGG15017fe461d6fc68.copynumber.seg'
SAMPLE_NAME
1 /var/folders/r0/l4fjk6cj5xj0j3brt4bplpl40000gt/T//RtmpyT6GAP/QDNAseq-LGG15017fe461d6fc68.copynumber.seg
2 /var/folders/r0/l4fjk6cj5xj0j3brt4bplpl40000gt/T//RtmpyT6GAP/QDNAseq-LGG15017fe461d6fc68.copynumber.seg
CHROMOSOME START STOP DATAPOINTS LOG2_RATIO_MEAN
1 7 37110001 68955000 1487 0.99
2 7 90165001 122010000 2012 0.99
- exportBins(<1 samples>, format="seg", type="segments")
File(s) written: [n=1] '/var/folders/r0/l4fjk6cj5xj0j3brt4bplpl40000gt/T//RtmpyT6GAP/QDNAseq-LGG15017fe469554206.segments.seg'
SAMPLE_NAME
1 /var/folders/r0/l4fjk6cj5xj0j3brt4bplpl40000gt/T//RtmpyT6GAP/QDNAseq-LGG15017fe469554206.segments.seg
2 /var/folders/r0/l4fjk6cj5xj0j3brt4bplpl40000gt/T//RtmpyT6GAP/QDNAseq-LGG15017fe469554206.segments.seg
CHROMOSOME START STOP DATAPOINTS LOG2_RATIO_MEAN
1 7 37110001 68955000 1487 0.99
2 7 90165001 122010000 2012 0.99
- exportBins(<1 samples>, format="seg", type="calls")
File(s) written: [n=1] '/var/folders/r0/l4fjk6cj5xj0j3brt4bplpl40000gt/T//RtmpyT6GAP/QDNAseq-LGG15017fe45c61cdf0.calls.seg'
SAMPLE_NAME
1 /var/folders/r0/l4fjk6cj5xj0j3brt4bplpl40000gt/T//RtmpyT6GAP/QDNAseq-LGG15017fe45c61cdf0.calls.seg
2 /var/folders/r0/l4fjk6cj5xj0j3brt4bplpl40000gt/T//RtmpyT6GAP/QDNAseq-LGG15017fe45c61cdf0.calls.seg
CHROMOSOME START STOP DATAPOINTS LOG2_RATIO_MEAN
1 7 37110001 68955000 1487 0.99
2 7 90165001 122010000 2012 0.99
- exportBins(<1 samples>, format="vcf", type="copynumber")
File(s) written: [n=1] '/var/folders/r0/l4fjk6cj5xj0j3brt4bplpl40000gt/T//RtmpyT6GAP/QDNAseq-LGG15017fe4191776f2.copynumber.vcf'
V1 V2 V3 V4 V5 V6 V7
1 7 37110001 . <DIP> <DUP> 1000 PASS
2 7 90165001 . <DIP> <DUP> 1000 PASS
V8 V9 V10
1 SVTYPE=DUP;END=68955000;SVLEN=31845000;BINS=1487;SCORE=2;LOG2CNT=0.99 GT 0/1
2 SVTYPE=DUP;END=122010000;SVLEN=31845000;BINS=2012;SCORE=2;LOG2CNT=0.99 GT 0/1
- exportBins(<1 samples>, format="vcf", type="segments")
File(s) written: [n=1] '/var/folders/r0/l4fjk6cj5xj0j3brt4bplpl40000gt/T//RtmpyT6GAP/QDNAseq-LGG15017fe4538216bc.segments.vcf'
V1 V2 V3 V4 V5 V6 V7
1 7 37110001 . <DIP> <DUP> 1000 PASS
2 7 90165001 . <DIP> <DUP> 1000 PASS
V8 V9 V10
1 SVTYPE=DUP;END=68955000;SVLEN=31845000;BINS=1487;SCORE=2;LOG2CNT=0.99 GT 0/1
2 SVTYPE=DUP;END=122010000;SVLEN=31845000;BINS=2012;SCORE=2;LOG2CNT=0.99 GT 0/1
- exportBins(<1 samples>, format="vcf", type="calls")
File(s) written: [n=1] '/var/folders/r0/l4fjk6cj5xj0j3brt4bplpl40000gt/T//RtmpyT6GAP/QDNAseq-LGG15017fe41a2bb79.calls.vcf'
V1 V2 V3 V4 V5 V6 V7
1 7 37110001 . <DIP> <DUP> 1000 PASS
2 7 90165001 . <DIP> <DUP> 1000 PASS
V8 V9 V10
1 SVTYPE=DUP;END=68955000;SVLEN=31845000;BINS=1487;SCORE=2;LOG2CNT=0.99 GT 0/1
2 SVTYPE=DUP;END=122010000;SVLEN=31845000;BINS=2012;SCORE=2;LOG2CNT=0.99 GT 0/1
>
> proc.time()
user system elapsed
8.386 0.212 8.644
QDNAseq.Rcheck/tests/QDNAseq,parallel-reproducibility.Rout
R version 4.5.0 RC (2025-04-04 r88126) -- "How About a Twenty-Six"
Copyright (C) 2025 The R Foundation for Statistical Computing
Platform: aarch64-apple-darwin20
R is free software and comes with ABSOLUTELY NO WARRANTY.
You are welcome to redistribute it under certain conditions.
Type 'license()' or 'licence()' for distribution details.
R is a collaborative project with many contributors.
Type 'contributors()' for more information and
'citation()' on how to cite R or R packages in publications.
Type 'demo()' for some demos, 'help()' for on-line help, or
'help.start()' for an HTML browser interface to help.
Type 'q()' to quit R.
> ######################################################################
> # This scripts asserts that for each processing step of QDNAseq
> # the output/results are reproducible (numerically equal).
> ######################################################################
> library("QDNAseq")
> options("QDNAseq::verbose"=FALSE)
>
> # Load data
> data(LGG150)
> data <- LGG150
>
> # - - - - - - - - - - - - - - - - - - - - - - - - - - - - - - - - - -
> # TRUTH
> # - - - - - - - - - - - - - - - - - - - - - - - - - - - - - - - - - -
> # Filter out "bad" bins
> dataF <- applyFilters(data, residual=TRUE, blacklist=TRUE)
>
> # Correct read counts as a function of GC content and mappability
> dataC <- correctBins(dataF)
>
> # Normalize binned read counts to have diploid normal copy number
> dataN <- normalizeBins(dataC)
>
> # Segment copy numbers
> set.seed(42) ## segmentBins() relies on RNG via DNAcopy::segment()
> fit <- segmentBins(dataN)
>
> # Call copy-number segments
> fitC <- callBins(fit)
There were 50 or more warnings (use warnings() to see the first 50)
>
>
> # - - - - - - - - - - - - - - - - - - - - - - - - - - - - - - - - - -
> # REPRODUCIBILITY
> # - - - - - - - - - - - - - - - - - - - - - - - - - - - - - - - - - -
> strategies <- c("sequential", "multisession")
> if (parallelly::supportsMulticore()) strategies <- c(strategies, "multicore")
>
> oplan <- future::plan("list")
> for (strategy in strategies) {
+ message(sprintf("Reproducibility with plan(\"%s\") ...", strategy))
+
+ future::plan(strategy)
+
+ dataFr <- applyFilters(data, residual=TRUE, blacklist=TRUE)
+ stopifnot(all.equal(dataFr, dataF))
+
+ dataCr <- correctBins(dataF)
+ stopifnot(all.equal(dataCr, dataC))
+
+ dataNr <- normalizeBins(dataC)
+ stopifnot(all.equal(dataNr, dataN))
+
+ set.seed(42) ## segmentBins() relies on RNG via DNAcopy::segment()
+ fitr <- segmentBins(dataNr)
+ stopifnot(all.equal(fitr, fit))
+
+ fitCr <- callBins(fitr)
+ stopifnot(all.equal(fitCr, fitC))
+
+ message(sprintf("Reproducibility with plan(\"%s\") ... done", strategy))
+ }
Reproducibility with plan("sequential") ...
Reproducibility with plan("sequential") ... done
Reproducibility with plan("multisession") ...
Calculating fit for sample LGG150 (1 of 1) ...
Segmenting: LGG150 (1 of 1) ...
Reproducibility with plan("multisession") ... done
Reproducibility with plan("multicore") ...
Reproducibility with plan("multicore") ... done
There were 50 or more warnings (use warnings() to see the first 50)
>
> future::plan(oplan)
>
> proc.time()
user system elapsed
29.569 0.844 34.290
QDNAseq.Rcheck/tests/QDNAseq.Rout
R version 4.5.0 RC (2025-04-04 r88126) -- "How About a Twenty-Six"
Copyright (C) 2025 The R Foundation for Statistical Computing
Platform: aarch64-apple-darwin20
R is free software and comes with ABSOLUTELY NO WARRANTY.
You are welcome to redistribute it under certain conditions.
Type 'license()' or 'licence()' for distribution details.
R is a collaborative project with many contributors.
Type 'contributors()' for more information and
'citation()' on how to cite R or R packages in publications.
Type 'demo()' for some demos, 'help()' for on-line help, or
'help.start()' for an HTML browser interface to help.
Type 'q()' to quit R.
> library(QDNAseq)
> library(Biobase) ## combine(), sampleNames()
Loading required package: BiocGenerics
Loading required package: generics
Attaching package: 'generics'
The following objects are masked from 'package:base':
as.difftime, as.factor, as.ordered, intersect, is.element, setdiff,
setequal, union
Attaching package: 'BiocGenerics'
The following objects are masked from 'package:stats':
IQR, mad, sd, var, xtabs
The following objects are masked from 'package:base':
Filter, Find, Map, Position, Reduce, anyDuplicated, aperm, append,
as.data.frame, basename, cbind, colnames, dirname, do.call,
duplicated, eval, evalq, get, grep, grepl, is.unsorted, lapply,
mapply, match, mget, order, paste, pmax, pmax.int, pmin, pmin.int,
rank, rbind, rownames, sapply, saveRDS, table, tapply, unique,
unsplit, which.max, which.min
Welcome to Bioconductor
Vignettes contain introductory material; view with
'browseVignettes()'. To cite Bioconductor, see
'citation("Biobase")', and for packages 'citation("pkgname")'.
> library(utils)
>
> do_plot <- TRUE
> do_cleanup <- TRUE
>
> # Load data
> data(LGG150)
> data <- LGG150
> print(data)
QDNAseqReadCounts (storageMode: lockedEnvironment)
assayData: 38819 features, 1 samples
element names: counts
protocolData: none
phenoData
sampleNames: LGG150
varLabels: name reads used.reads expected.variance
varMetadata: labelDescription
featureData
featureNames: 7:1-15000 7:15001-30000 ... 10:135525001-135534747
(38819 total)
fvarLabels: chromosome start ... use (9 total)
fvarMetadata: labelDescription
experimentData: use 'experimentData(object)'
Annotation:
> stopifnot(inherits(data, "QDNAseqReadCounts"))
>
> # Plot isobars of read counts
> if (do_plot) isobarPlot(data)
Plotting sample LGG150 median read counts
>
> # Plot copy number profile
> if (do_plot) {
+ plot(data, ylim=c(-100, 200))
+ highlightFilters(data, residual=TRUE, blacklist=TRUE)
+ }
Plotting sample LGG150 (1 of 1) ...
Highlighted 3,375 bins.
>
> # Filter out "bad" bins
> dataF <- applyFilters(data, residual=TRUE, blacklist=TRUE)
38,819 total bins
38,819 of which in selected chromosomes
36,722 of which with reference sequence
33,347 final bins
> print(dataF)
QDNAseqReadCounts (storageMode: lockedEnvironment)
assayData: 38819 features, 1 samples
element names: counts
protocolData: none
phenoData
sampleNames: LGG150
varLabels: name reads used.reads expected.variance
varMetadata: labelDescription
featureData
featureNames: 7:1-15000 7:15001-30000 ... 10:135525001-135534747
(38819 total)
fvarLabels: chromosome start ... use (9 total)
fvarMetadata: labelDescription
experimentData: use 'experimentData(object)'
Annotation:
> if (do_plot) plot(dataF, ylim=c(-100, 200))
Plotting sample LGG150 (1 of 1) ...
> stopifnot(inherits(dataF, "QDNAseqReadCounts"))
>
> # Correct read counts as a function of GC content and mappability
> dataC <- correctBins(dataF)
Calculating correction for GC content and mappability
Calculating fit for sample LGG150 (1 of 1) ...
Done.
> print(dataC)
QDNAseqCopyNumbers (storageMode: lockedEnvironment)
assayData: 38819 features, 1 samples
element names: copynumber
protocolData: none
phenoData
sampleNames: LGG150
varLabels: name reads ... loess.family (6 total)
varMetadata: labelDescription
featureData
featureNames: 7:1-15000 7:15001-30000 ... 10:135525001-135534747
(38819 total)
fvarLabels: chromosome start ... use (9 total)
fvarMetadata: labelDescription
experimentData: use 'experimentData(object)'
Annotation:
> if (do_plot) plot(dataC, ylim=c(-100, 200))
Plotting sample LGG150 (1 of 1) ...
> stopifnot(inherits(dataC, "QDNAseqCopyNumbers"))
>
> # Normalize binned read counts to have diploid normal copy number
> dataN <- normalizeBins(dataC)
Applying median normalization ...
> print(dataN)
QDNAseqCopyNumbers (storageMode: lockedEnvironment)
assayData: 38819 features, 1 samples
element names: copynumber
protocolData: none
phenoData
sampleNames: LGG150
varLabels: name reads ... loess.family (6 total)
varMetadata: labelDescription
featureData
featureNames: 7:1-15000 7:15001-30000 ... 10:135525001-135534747
(38819 total)
fvarLabels: chromosome start ... use (9 total)
fvarMetadata: labelDescription
experimentData: use 'experimentData(object)'
Annotation:
> if (do_plot) plot(dataN)
Plotting sample LGG150 (1 of 1) ...
> stopifnot(inherits(dataN, "QDNAseqCopyNumbers"))
>
> # Plot noise
> if (do_plot) noisePlot(dataF)
Calculating correction for GC content and mappability
Calculating fit for sample LGG150 (1 of 1) ...
Done.
>
> # Segment copy numbers
> fit <- segmentBins(dataN)
Performing segmentation:
Segmenting: LGG150 (1 of 1) ...
> print(fit)
QDNAseqCopyNumbers (storageMode: lockedEnvironment)
assayData: 38819 features, 1 samples
element names: copynumber, segmented
protocolData: none
phenoData
sampleNames: LGG150
varLabels: name reads ... loess.family (6 total)
varMetadata: labelDescription
featureData
featureNames: 7:1-15000 7:15001-30000 ... 10:135525001-135534747
(38819 total)
fvarLabels: chromosome start ... use (9 total)
fvarMetadata: labelDescription
experimentData: use 'experimentData(object)'
Annotation:
> if (do_plot) plot(fit)
Plotting sample LGG150 (1 of 1) ...
> stopifnot(inherits(fit, "QDNAseqCopyNumbers"))
>
> # Call copy-number segments
> fitC <- callBins(fit)
EM algorithm started ...
[1] "Total number of segments present in the data: 10"
[1] "Number of segments used for fitting the model: 9"
39599638147590211.562.2777392014786712415.2112.9NA196608777392012255588415.293.6
Calling iteration1:
optim results
time: 0
minimum: 16445.6418287481
116443.1634295677-0.939948404909664-0.5351158716347120.04999922851584940.1357341814220170.2320391157632851.492692224927890.46336036623653-0.0007447487965542740.0111894143724591-0.000962583906213420.3145629342085070.798554843389167
39614688151041211.662.2777392014786712415.2112.9NA196608777392012255588415.293.6
Calling iteration2:
optim results
time: 0
minimum: 16445.5781374328
116443.1331012469-0.932876677515083-0.535943303880990.0499979048415910.1114729434735370.1905642555481931.861013902305770.4314700360573740.000144068768407330.01118427659401560.0007568920162792620.2061088124299370.87402235157801
39614678151040211.662.2777392014786712415.2112.9NA196608777392012255588415.293.6
Calling iteration3:
optim results
time: 0
minimum: 16445.5975371627
116443.1273697069-0.924012853099601-0.5365177469718870.04999923288882760.108573194240180.1856071014916831.753751992204390.4694950401327692.9331320413768e-050.0111878614439676-0.0001759851682342870.07360543573369820.943675664015282
EM algorithm done ...
Computing posterior probabilities for all segments ...
Total time:0minutes
Adjusting segmented data for cellularity ...
Cellularity sample1: 1
Adjusting normalized data for cellularity ...
Cellularity sample1: 1
1
39641368372275211.863.9777392014786712415.2112.9NA196608777392012255588415.293.6
39641558539021211.865.2777392014786712415.2112.9NA196608777392012255588415.293.6
39641528539015211.865.2777392014786712415.2112.9NA196608777392012255588415.293.6
39641808806030211.867.2777392017824054415.2136NA196608777392012255588415.293.6
39645978806964211.867.2777392017824054415.2136NA196608777392012255588415.293.6
39646068806968211.867.2777392017824054415.2136NA196608777392012255588415.293.6
39646158806972211.867.2777392017824054415.2136NA196608777392012255588415.293.6
39646248806976211.867.2777392017824054415.2136NA196608777392012255588415.293.6
39646338806980211.867.2777392017824054415.2136NA196608777392012255588415.293.6
39646398806983211.867.2777392017824054415.2136NA196608777392012255588415.293.6
39646588873713211.867.8777392017824054415.2136NA196608777392012255588415.293.6
39650758874036211.867.8777392017824054415.2136NA196608777392012255588415.293.6
FINISHED!
Total time:0minutes
There were 50 or more warnings (use warnings() to see the first 50)
> print(fitC)
QDNAseqCopyNumbers (storageMode: lockedEnvironment)
assayData: 38819 features, 1 samples
element names: calls, copynumber, probamp, probdloss, probgain, probloss, probnorm, segmented
protocolData: none
phenoData
sampleNames: LGG150
varLabels: name reads ... loess.family (6 total)
varMetadata: labelDescription
featureData
featureNames: 7:1-15000 7:15001-30000 ... 10:135525001-135534747
(38819 total)
fvarLabels: chromosome start ... use (9 total)
fvarMetadata: labelDescription
experimentData: use 'experimentData(object)'
Annotation:
> if (do_plot) plot(fitC)
Plotting sample LGG150 (1 of 1) ...
>
>
> # ---------------------------------------------------------------
> # Exporting
> # ---------------------------------------------------------------
> message("* exportBins() ...")
* exportBins() ...
>
> sets <- list(data = data, dataC = dataC, fit = fit, fitC = fitC)
> for (name in names(sets)) {
+ set <- sets[[name]]
+ formats <- c("tsv", "igv", "bed")
+ if (name == "fitC") formats <- c(formats, "vcf", "seg")
+ for (format in formats) {
+ types <- c("copynumber")
+ if (name %in% c("fit", "fitC")) types <- c(types, "segments")
+ if (name == "fitC") types <- c(types, "calls")
+ for (type in types) {
+ fileext <- sprintf(".%s.%s", type, format)
+ templates <- c("QDNAseq-%s.", "QDNAseq-%i.", "QDNAseq-%03i.")
+ if (ncol(set) == 1L || !(format %in% c("bed", "seg", "vcf"))) {
+ templates <- c("QDNAseq.", templates)
+ }
+ for (template in templates) {
+ file <- tempfile(pattern = template, fileext = fileext)
+ message(sprintf(" - exportBins(<%d samples>, format=\"%s\", type=\"%s\", file=\"%s\")", ncol(set), format, type, template))
+ file <- exportBins(set, file = file, format = format, type = type)
+ message(sprintf(" File(s) written: [n=%d] %s",
+ length(file), paste(sQuote(file), collapse = ", ")))
+ stopifnot(all(file_test("-f", file)))
+ if (do_cleanup) {
+ file.remove(file)
+ stopifnot(!any(file_test("-f", file)))
+ }
+ }
+ }
+ }
+ }
- exportBins(<1 samples>, format="tsv", type="copynumber", file="QDNAseq.")
File(s) written: [n=1] '/var/folders/r0/l4fjk6cj5xj0j3brt4bplpl40000gt/T//Rtmpe4bPlu/QDNAseq.e03266a73ed.copynumber.tsv'
- exportBins(<1 samples>, format="tsv", type="copynumber", file="QDNAseq-%s.")
File(s) written: [n=1] '/var/folders/r0/l4fjk6cj5xj0j3brt4bplpl40000gt/T//Rtmpe4bPlu/QDNAseq-%s.e0316e0e04f.copynumber.tsv'
- exportBins(<1 samples>, format="tsv", type="copynumber", file="QDNAseq-%i.")
File(s) written: [n=1] '/var/folders/r0/l4fjk6cj5xj0j3brt4bplpl40000gt/T//Rtmpe4bPlu/QDNAseq-%i.e035a66e45.copynumber.tsv'
- exportBins(<1 samples>, format="tsv", type="copynumber", file="QDNAseq-%03i.")
File(s) written: [n=1] '/var/folders/r0/l4fjk6cj5xj0j3brt4bplpl40000gt/T//Rtmpe4bPlu/QDNAseq-%03i.e03719176e8.copynumber.tsv'
- exportBins(<1 samples>, format="igv", type="copynumber", file="QDNAseq.")
File(s) written: [n=1] '/var/folders/r0/l4fjk6cj5xj0j3brt4bplpl40000gt/T//Rtmpe4bPlu/QDNAseq.e03515b398.copynumber.igv'
- exportBins(<1 samples>, format="igv", type="copynumber", file="QDNAseq-%s.")
File(s) written: [n=1] '/var/folders/r0/l4fjk6cj5xj0j3brt4bplpl40000gt/T//Rtmpe4bPlu/QDNAseq-%s.e0353c1c2c3.copynumber.igv'
- exportBins(<1 samples>, format="igv", type="copynumber", file="QDNAseq-%i.")
File(s) written: [n=1] '/var/folders/r0/l4fjk6cj5xj0j3brt4bplpl40000gt/T//Rtmpe4bPlu/QDNAseq-%i.e0355d9bb2a.copynumber.igv'
- exportBins(<1 samples>, format="igv", type="copynumber", file="QDNAseq-%03i.")
File(s) written: [n=1] '/var/folders/r0/l4fjk6cj5xj0j3brt4bplpl40000gt/T//Rtmpe4bPlu/QDNAseq-%03i.e03498eee6e.copynumber.igv'
- exportBins(<1 samples>, format="bed", type="copynumber", file="QDNAseq.")
File(s) written: [n=1] '/var/folders/r0/l4fjk6cj5xj0j3brt4bplpl40000gt/T//Rtmpe4bPlu/QDNAseq.e0346c79d7c.copynumber.bed'
- exportBins(<1 samples>, format="bed", type="copynumber", file="QDNAseq-%s.")
File(s) written: [n=1] '/var/folders/r0/l4fjk6cj5xj0j3brt4bplpl40000gt/T//Rtmpe4bPlu/QDNAseq-LGG150.e035b345c31.copynumber.bed'
- exportBins(<1 samples>, format="bed", type="copynumber", file="QDNAseq-%i.")
File(s) written: [n=1] '/var/folders/r0/l4fjk6cj5xj0j3brt4bplpl40000gt/T//Rtmpe4bPlu/QDNAseq-1.e034a90c3be.copynumber.bed'
- exportBins(<1 samples>, format="bed", type="copynumber", file="QDNAseq-%03i.")
File(s) written: [n=1] '/var/folders/r0/l4fjk6cj5xj0j3brt4bplpl40000gt/T//Rtmpe4bPlu/QDNAseq-001.e0366231530.copynumber.bed'
- exportBins(<1 samples>, format="tsv", type="copynumber", file="QDNAseq.")
File(s) written: [n=1] '/var/folders/r0/l4fjk6cj5xj0j3brt4bplpl40000gt/T//Rtmpe4bPlu/QDNAseq.e0394436b3.copynumber.tsv'
- exportBins(<1 samples>, format="tsv", type="copynumber", file="QDNAseq-%s.")
File(s) written: [n=1] '/var/folders/r0/l4fjk6cj5xj0j3brt4bplpl40000gt/T//Rtmpe4bPlu/QDNAseq-%s.e035d632685.copynumber.tsv'
- exportBins(<1 samples>, format="tsv", type="copynumber", file="QDNAseq-%i.")
File(s) written: [n=1] '/var/folders/r0/l4fjk6cj5xj0j3brt4bplpl40000gt/T//Rtmpe4bPlu/QDNAseq-%i.e03187615a9.copynumber.tsv'
- exportBins(<1 samples>, format="tsv", type="copynumber", file="QDNAseq-%03i.")
File(s) written: [n=1] '/var/folders/r0/l4fjk6cj5xj0j3brt4bplpl40000gt/T//Rtmpe4bPlu/QDNAseq-%03i.e03708816ca.copynumber.tsv'
- exportBins(<1 samples>, format="igv", type="copynumber", file="QDNAseq.")
File(s) written: [n=1] '/var/folders/r0/l4fjk6cj5xj0j3brt4bplpl40000gt/T//Rtmpe4bPlu/QDNAseq.e037690617d.copynumber.igv'
- exportBins(<1 samples>, format="igv", type="copynumber", file="QDNAseq-%s.")
File(s) written: [n=1] '/var/folders/r0/l4fjk6cj5xj0j3brt4bplpl40000gt/T//Rtmpe4bPlu/QDNAseq-%s.e03f0925b.copynumber.igv'
- exportBins(<1 samples>, format="igv", type="copynumber", file="QDNAseq-%i.")
File(s) written: [n=1] '/var/folders/r0/l4fjk6cj5xj0j3brt4bplpl40000gt/T//Rtmpe4bPlu/QDNAseq-%i.e03321894d8.copynumber.igv'
- exportBins(<1 samples>, format="igv", type="copynumber", file="QDNAseq-%03i.")
File(s) written: [n=1] '/var/folders/r0/l4fjk6cj5xj0j3brt4bplpl40000gt/T//Rtmpe4bPlu/QDNAseq-%03i.e036bd40a99.copynumber.igv'
- exportBins(<1 samples>, format="bed", type="copynumber", file="QDNAseq.")
File(s) written: [n=1] '/var/folders/r0/l4fjk6cj5xj0j3brt4bplpl40000gt/T//Rtmpe4bPlu/QDNAseq.e032e03fa1d.copynumber.bed'
- exportBins(<1 samples>, format="bed", type="copynumber", file="QDNAseq-%s.")
File(s) written: [n=1] '/var/folders/r0/l4fjk6cj5xj0j3brt4bplpl40000gt/T//Rtmpe4bPlu/QDNAseq-LGG150.e037199d85.copynumber.bed'
- exportBins(<1 samples>, format="bed", type="copynumber", file="QDNAseq-%i.")
File(s) written: [n=1] '/var/folders/r0/l4fjk6cj5xj0j3brt4bplpl40000gt/T//Rtmpe4bPlu/QDNAseq-1.e0322b48a67.copynumber.bed'
- exportBins(<1 samples>, format="bed", type="copynumber", file="QDNAseq-%03i.")
File(s) written: [n=1] '/var/folders/r0/l4fjk6cj5xj0j3brt4bplpl40000gt/T//Rtmpe4bPlu/QDNAseq-001.e037aea81fd.copynumber.bed'
- exportBins(<1 samples>, format="tsv", type="copynumber", file="QDNAseq.")
File(s) written: [n=1] '/var/folders/r0/l4fjk6cj5xj0j3brt4bplpl40000gt/T//Rtmpe4bPlu/QDNAseq.e0339fc4816.copynumber.tsv'
- exportBins(<1 samples>, format="tsv", type="copynumber", file="QDNAseq-%s.")
File(s) written: [n=1] '/var/folders/r0/l4fjk6cj5xj0j3brt4bplpl40000gt/T//Rtmpe4bPlu/QDNAseq-%s.e0361e0ba17.copynumber.tsv'
- exportBins(<1 samples>, format="tsv", type="copynumber", file="QDNAseq-%i.")
File(s) written: [n=1] '/var/folders/r0/l4fjk6cj5xj0j3brt4bplpl40000gt/T//Rtmpe4bPlu/QDNAseq-%i.e0368d96e34.copynumber.tsv'
- exportBins(<1 samples>, format="tsv", type="copynumber", file="QDNAseq-%03i.")
File(s) written: [n=1] '/var/folders/r0/l4fjk6cj5xj0j3brt4bplpl40000gt/T//Rtmpe4bPlu/QDNAseq-%03i.e031ad24db3.copynumber.tsv'
- exportBins(<1 samples>, format="tsv", type="segments", file="QDNAseq.")
File(s) written: [n=1] '/var/folders/r0/l4fjk6cj5xj0j3brt4bplpl40000gt/T//Rtmpe4bPlu/QDNAseq.e0364eb3086.segments.tsv'
- exportBins(<1 samples>, format="tsv", type="segments", file="QDNAseq-%s.")
File(s) written: [n=1] '/var/folders/r0/l4fjk6cj5xj0j3brt4bplpl40000gt/T//Rtmpe4bPlu/QDNAseq-%s.e03cbee12d.segments.tsv'
- exportBins(<1 samples>, format="tsv", type="segments", file="QDNAseq-%i.")
File(s) written: [n=1] '/var/folders/r0/l4fjk6cj5xj0j3brt4bplpl40000gt/T//Rtmpe4bPlu/QDNAseq-%i.e0347b157e4.segments.tsv'
- exportBins(<1 samples>, format="tsv", type="segments", file="QDNAseq-%03i.")
File(s) written: [n=1] '/var/folders/r0/l4fjk6cj5xj0j3brt4bplpl40000gt/T//Rtmpe4bPlu/QDNAseq-%03i.e034c015e81.segments.tsv'
- exportBins(<1 samples>, format="igv", type="copynumber", file="QDNAseq.")
File(s) written: [n=1] '/var/folders/r0/l4fjk6cj5xj0j3brt4bplpl40000gt/T//Rtmpe4bPlu/QDNAseq.e036de38e22.copynumber.igv'
- exportBins(<1 samples>, format="igv", type="copynumber", file="QDNAseq-%s.")
File(s) written: [n=1] '/var/folders/r0/l4fjk6cj5xj0j3brt4bplpl40000gt/T//Rtmpe4bPlu/QDNAseq-%s.e037688928a.copynumber.igv'
- exportBins(<1 samples>, format="igv", type="copynumber", file="QDNAseq-%i.")
File(s) written: [n=1] '/var/folders/r0/l4fjk6cj5xj0j3brt4bplpl40000gt/T//Rtmpe4bPlu/QDNAseq-%i.e034cded2.copynumber.igv'
- exportBins(<1 samples>, format="igv", type="copynumber", file="QDNAseq-%03i.")
File(s) written: [n=1] '/var/folders/r0/l4fjk6cj5xj0j3brt4bplpl40000gt/T//Rtmpe4bPlu/QDNAseq-%03i.e0336b8ad25.copynumber.igv'
- exportBins(<1 samples>, format="igv", type="segments", file="QDNAseq.")
File(s) written: [n=1] '/var/folders/r0/l4fjk6cj5xj0j3brt4bplpl40000gt/T//Rtmpe4bPlu/QDNAseq.e03166f7434.segments.igv'
- exportBins(<1 samples>, format="igv", type="segments", file="QDNAseq-%s.")
File(s) written: [n=1] '/var/folders/r0/l4fjk6cj5xj0j3brt4bplpl40000gt/T//Rtmpe4bPlu/QDNAseq-%s.e036f360d6d.segments.igv'
- exportBins(<1 samples>, format="igv", type="segments", file="QDNAseq-%i.")
File(s) written: [n=1] '/var/folders/r0/l4fjk6cj5xj0j3brt4bplpl40000gt/T//Rtmpe4bPlu/QDNAseq-%i.e0345aba825.segments.igv'
- exportBins(<1 samples>, format="igv", type="segments", file="QDNAseq-%03i.")
File(s) written: [n=1] '/var/folders/r0/l4fjk6cj5xj0j3brt4bplpl40000gt/T//Rtmpe4bPlu/QDNAseq-%03i.e038ac38df.segments.igv'
- exportBins(<1 samples>, format="bed", type="copynumber", file="QDNAseq.")
File(s) written: [n=1] '/var/folders/r0/l4fjk6cj5xj0j3brt4bplpl40000gt/T//Rtmpe4bPlu/QDNAseq.e0362c9bceb.copynumber.bed'
- exportBins(<1 samples>, format="bed", type="copynumber", file="QDNAseq-%s.")
File(s) written: [n=1] '/var/folders/r0/l4fjk6cj5xj0j3brt4bplpl40000gt/T//Rtmpe4bPlu/QDNAseq-LGG150.e032a921af8.copynumber.bed'
- exportBins(<1 samples>, format="bed", type="copynumber", file="QDNAseq-%i.")
File(s) written: [n=1] '/var/folders/r0/l4fjk6cj5xj0j3brt4bplpl40000gt/T//Rtmpe4bPlu/QDNAseq-1.e035e28a59d.copynumber.bed'
- exportBins(<1 samples>, format="bed", type="copynumber", file="QDNAseq-%03i.")
File(s) written: [n=1] '/var/folders/r0/l4fjk6cj5xj0j3brt4bplpl40000gt/T//Rtmpe4bPlu/QDNAseq-001.e033e9116b6.copynumber.bed'
- exportBins(<1 samples>, format="bed", type="segments", file="QDNAseq.")
File(s) written: [n=1] '/var/folders/r0/l4fjk6cj5xj0j3brt4bplpl40000gt/T//Rtmpe4bPlu/QDNAseq.e03276a26d1.segments.bed'
- exportBins(<1 samples>, format="bed", type="segments", file="QDNAseq-%s.")
File(s) written: [n=1] '/var/folders/r0/l4fjk6cj5xj0j3brt4bplpl40000gt/T//Rtmpe4bPlu/QDNAseq-LGG150.e032a1a778e.segments.bed'
- exportBins(<1 samples>, format="bed", type="segments", file="QDNAseq-%i.")
File(s) written: [n=1] '/var/folders/r0/l4fjk6cj5xj0j3brt4bplpl40000gt/T//Rtmpe4bPlu/QDNAseq-1.e032f9f213a.segments.bed'
- exportBins(<1 samples>, format="bed", type="segments", file="QDNAseq-%03i.")
File(s) written: [n=1] '/var/folders/r0/l4fjk6cj5xj0j3brt4bplpl40000gt/T//Rtmpe4bPlu/QDNAseq-001.e03783e7f42.segments.bed'
- exportBins(<1 samples>, format="tsv", type="copynumber", file="QDNAseq.")
File(s) written: [n=1] '/var/folders/r0/l4fjk6cj5xj0j3brt4bplpl40000gt/T//Rtmpe4bPlu/QDNAseq.e034f1503ba.copynumber.tsv'
- exportBins(<1 samples>, format="tsv", type="copynumber", file="QDNAseq-%s.")
File(s) written: [n=1] '/var/folders/r0/l4fjk6cj5xj0j3brt4bplpl40000gt/T//Rtmpe4bPlu/QDNAseq-%s.e036ca7d0e5.copynumber.tsv'
- exportBins(<1 samples>, format="tsv", type="copynumber", file="QDNAseq-%i.")
File(s) written: [n=1] '/var/folders/r0/l4fjk6cj5xj0j3brt4bplpl40000gt/T//Rtmpe4bPlu/QDNAseq-%i.e037d83a21d.copynumber.tsv'
- exportBins(<1 samples>, format="tsv", type="copynumber", file="QDNAseq-%03i.")
File(s) written: [n=1] '/var/folders/r0/l4fjk6cj5xj0j3brt4bplpl40000gt/T//Rtmpe4bPlu/QDNAseq-%03i.e034d085e4b.copynumber.tsv'
- exportBins(<1 samples>, format="tsv", type="segments", file="QDNAseq.")
File(s) written: [n=1] '/var/folders/r0/l4fjk6cj5xj0j3brt4bplpl40000gt/T//Rtmpe4bPlu/QDNAseq.e036066b56f.segments.tsv'
- exportBins(<1 samples>, format="tsv", type="segments", file="QDNAseq-%s.")
File(s) written: [n=1] '/var/folders/r0/l4fjk6cj5xj0j3brt4bplpl40000gt/T//Rtmpe4bPlu/QDNAseq-%s.e037711bbda.segments.tsv'
- exportBins(<1 samples>, format="tsv", type="segments", file="QDNAseq-%i.")
File(s) written: [n=1] '/var/folders/r0/l4fjk6cj5xj0j3brt4bplpl40000gt/T//Rtmpe4bPlu/QDNAseq-%i.e032d442248.segments.tsv'
- exportBins(<1 samples>, format="tsv", type="segments", file="QDNAseq-%03i.")
File(s) written: [n=1] '/var/folders/r0/l4fjk6cj5xj0j3brt4bplpl40000gt/T//Rtmpe4bPlu/QDNAseq-%03i.e035426bc2f.segments.tsv'
- exportBins(<1 samples>, format="tsv", type="calls", file="QDNAseq.")
File(s) written: [n=1] '/var/folders/r0/l4fjk6cj5xj0j3brt4bplpl40000gt/T//Rtmpe4bPlu/QDNAseq.e033b0cdcd2.calls.tsv'
- exportBins(<1 samples>, format="tsv", type="calls", file="QDNAseq-%s.")
File(s) written: [n=1] '/var/folders/r0/l4fjk6cj5xj0j3brt4bplpl40000gt/T//Rtmpe4bPlu/QDNAseq-%s.e0349757d47.calls.tsv'
- exportBins(<1 samples>, format="tsv", type="calls", file="QDNAseq-%i.")
File(s) written: [n=1] '/var/folders/r0/l4fjk6cj5xj0j3brt4bplpl40000gt/T//Rtmpe4bPlu/QDNAseq-%i.e034073e5fe.calls.tsv'
- exportBins(<1 samples>, format="tsv", type="calls", file="QDNAseq-%03i.")
File(s) written: [n=1] '/var/folders/r0/l4fjk6cj5xj0j3brt4bplpl40000gt/T//Rtmpe4bPlu/QDNAseq-%03i.e037900a7c0.calls.tsv'
- exportBins(<1 samples>, format="igv", type="copynumber", file="QDNAseq.")
File(s) written: [n=1] '/var/folders/r0/l4fjk6cj5xj0j3brt4bplpl40000gt/T//Rtmpe4bPlu/QDNAseq.e031a056c50.copynumber.igv'
- exportBins(<1 samples>, format="igv", type="copynumber", file="QDNAseq-%s.")
File(s) written: [n=1] '/var/folders/r0/l4fjk6cj5xj0j3brt4bplpl40000gt/T//Rtmpe4bPlu/QDNAseq-%s.e035a0a0588.copynumber.igv'
- exportBins(<1 samples>, format="igv", type="copynumber", file="QDNAseq-%i.")
File(s) written: [n=1] '/var/folders/r0/l4fjk6cj5xj0j3brt4bplpl40000gt/T//Rtmpe4bPlu/QDNAseq-%i.e0347f151e6.copynumber.igv'
- exportBins(<1 samples>, format="igv", type="copynumber", file="QDNAseq-%03i.")
File(s) written: [n=1] '/var/folders/r0/l4fjk6cj5xj0j3brt4bplpl40000gt/T//Rtmpe4bPlu/QDNAseq-%03i.e033437f7f0.copynumber.igv'
- exportBins(<1 samples>, format="igv", type="segments", file="QDNAseq.")
File(s) written: [n=1] '/var/folders/r0/l4fjk6cj5xj0j3brt4bplpl40000gt/T//Rtmpe4bPlu/QDNAseq.e034676c858.segments.igv'
- exportBins(<1 samples>, format="igv", type="segments", file="QDNAseq-%s.")
File(s) written: [n=1] '/var/folders/r0/l4fjk6cj5xj0j3brt4bplpl40000gt/T//Rtmpe4bPlu/QDNAseq-%s.e03205b2d8c.segments.igv'
- exportBins(<1 samples>, format="igv", type="segments", file="QDNAseq-%i.")
File(s) written: [n=1] '/var/folders/r0/l4fjk6cj5xj0j3brt4bplpl40000gt/T//Rtmpe4bPlu/QDNAseq-%i.e03420b52ec.segments.igv'
- exportBins(<1 samples>, format="igv", type="segments", file="QDNAseq-%03i.")
File(s) written: [n=1] '/var/folders/r0/l4fjk6cj5xj0j3brt4bplpl40000gt/T//Rtmpe4bPlu/QDNAseq-%03i.e03757125d3.segments.igv'
- exportBins(<1 samples>, format="igv", type="calls", file="QDNAseq.")
File(s) written: [n=1] '/var/folders/r0/l4fjk6cj5xj0j3brt4bplpl40000gt/T//Rtmpe4bPlu/QDNAseq.e03576a7be1.calls.igv'
- exportBins(<1 samples>, format="igv", type="calls", file="QDNAseq-%s.")
File(s) written: [n=1] '/var/folders/r0/l4fjk6cj5xj0j3brt4bplpl40000gt/T//Rtmpe4bPlu/QDNAseq-%s.e03feb1d9d.calls.igv'
- exportBins(<1 samples>, format="igv", type="calls", file="QDNAseq-%i.")
File(s) written: [n=1] '/var/folders/r0/l4fjk6cj5xj0j3brt4bplpl40000gt/T//Rtmpe4bPlu/QDNAseq-%i.e0314e53695.calls.igv'
- exportBins(<1 samples>, format="igv", type="calls", file="QDNAseq-%03i.")
File(s) written: [n=1] '/var/folders/r0/l4fjk6cj5xj0j3brt4bplpl40000gt/T//Rtmpe4bPlu/QDNAseq-%03i.e0354627aea.calls.igv'
- exportBins(<1 samples>, format="bed", type="copynumber", file="QDNAseq.")
File(s) written: [n=1] '/var/folders/r0/l4fjk6cj5xj0j3brt4bplpl40000gt/T//Rtmpe4bPlu/QDNAseq.e03d73c3ee.copynumber.bed'
- exportBins(<1 samples>, format="bed", type="copynumber", file="QDNAseq-%s.")
File(s) written: [n=1] '/var/folders/r0/l4fjk6cj5xj0j3brt4bplpl40000gt/T//Rtmpe4bPlu/QDNAseq-LGG150.e032b444528.copynumber.bed'
- exportBins(<1 samples>, format="bed", type="copynumber", file="QDNAseq-%i.")
File(s) written: [n=1] '/var/folders/r0/l4fjk6cj5xj0j3brt4bplpl40000gt/T//Rtmpe4bPlu/QDNAseq-1.e03f185b49.copynumber.bed'
- exportBins(<1 samples>, format="bed", type="copynumber", file="QDNAseq-%03i.")
File(s) written: [n=1] '/var/folders/r0/l4fjk6cj5xj0j3brt4bplpl40000gt/T//Rtmpe4bPlu/QDNAseq-001.e038111d5d.copynumber.bed'
- exportBins(<1 samples>, format="bed", type="segments", file="QDNAseq.")
File(s) written: [n=1] '/var/folders/r0/l4fjk6cj5xj0j3brt4bplpl40000gt/T//Rtmpe4bPlu/QDNAseq.e031b9ec8ce.segments.bed'
- exportBins(<1 samples>, format="bed", type="segments", file="QDNAseq-%s.")
File(s) written: [n=1] '/var/folders/r0/l4fjk6cj5xj0j3brt4bplpl40000gt/T//Rtmpe4bPlu/QDNAseq-LGG150.e0355915a8c.segments.bed'
- exportBins(<1 samples>, format="bed", type="segments", file="QDNAseq-%i.")
File(s) written: [n=1] '/var/folders/r0/l4fjk6cj5xj0j3brt4bplpl40000gt/T//Rtmpe4bPlu/QDNAseq-1.e0339cfc937.segments.bed'
- exportBins(<1 samples>, format="bed", type="segments", file="QDNAseq-%03i.")
File(s) written: [n=1] '/var/folders/r0/l4fjk6cj5xj0j3brt4bplpl40000gt/T//Rtmpe4bPlu/QDNAseq-001.e0378a35787.segments.bed'
- exportBins(<1 samples>, format="bed", type="calls", file="QDNAseq.")
File(s) written: [n=1] '/var/folders/r0/l4fjk6cj5xj0j3brt4bplpl40000gt/T//Rtmpe4bPlu/QDNAseq.e032bc79df1.calls.bed'
- exportBins(<1 samples>, format="bed", type="calls", file="QDNAseq-%s.")
File(s) written: [n=1] '/var/folders/r0/l4fjk6cj5xj0j3brt4bplpl40000gt/T//Rtmpe4bPlu/QDNAseq-LGG150.e033e524fab.calls.bed'
- exportBins(<1 samples>, format="bed", type="calls", file="QDNAseq-%i.")
File(s) written: [n=1] '/var/folders/r0/l4fjk6cj5xj0j3brt4bplpl40000gt/T//Rtmpe4bPlu/QDNAseq-1.e03dec8384.calls.bed'
- exportBins(<1 samples>, format="bed", type="calls", file="QDNAseq-%03i.")
File(s) written: [n=1] '/var/folders/r0/l4fjk6cj5xj0j3brt4bplpl40000gt/T//Rtmpe4bPlu/QDNAseq-001.e0322ae5640.calls.bed'
- exportBins(<1 samples>, format="vcf", type="copynumber", file="QDNAseq.")
File(s) written: [n=1] '/var/folders/r0/l4fjk6cj5xj0j3brt4bplpl40000gt/T//Rtmpe4bPlu/QDNAseq.e0363a09589.copynumber.vcf'
- exportBins(<1 samples>, format="vcf", type="copynumber", file="QDNAseq-%s.")
File(s) written: [n=1] '/var/folders/r0/l4fjk6cj5xj0j3brt4bplpl40000gt/T//Rtmpe4bPlu/QDNAseq-LGG150.e0343b98878.copynumber.vcf'
- exportBins(<1 samples>, format="vcf", type="copynumber", file="QDNAseq-%i.")
File(s) written: [n=1] '/var/folders/r0/l4fjk6cj5xj0j3brt4bplpl40000gt/T//Rtmpe4bPlu/QDNAseq-1.e0349aea104.copynumber.vcf'
- exportBins(<1 samples>, format="vcf", type="copynumber", file="QDNAseq-%03i.")
File(s) written: [n=1] '/var/folders/r0/l4fjk6cj5xj0j3brt4bplpl40000gt/T//Rtmpe4bPlu/QDNAseq-001.e0367cd3366.copynumber.vcf'
- exportBins(<1 samples>, format="vcf", type="segments", file="QDNAseq.")
File(s) written: [n=1] '/var/folders/r0/l4fjk6cj5xj0j3brt4bplpl40000gt/T//Rtmpe4bPlu/QDNAseq.e0350e9a2c7.segments.vcf'
- exportBins(<1 samples>, format="vcf", type="segments", file="QDNAseq-%s.")
File(s) written: [n=1] '/var/folders/r0/l4fjk6cj5xj0j3brt4bplpl40000gt/T//Rtmpe4bPlu/QDNAseq-LGG150.e031abde051.segments.vcf'
- exportBins(<1 samples>, format="vcf", type="segments", file="QDNAseq-%i.")
File(s) written: [n=1] '/var/folders/r0/l4fjk6cj5xj0j3brt4bplpl40000gt/T//Rtmpe4bPlu/QDNAseq-1.e0327d1f38e.segments.vcf'
- exportBins(<1 samples>, format="vcf", type="segments", file="QDNAseq-%03i.")
File(s) written: [n=1] '/var/folders/r0/l4fjk6cj5xj0j3brt4bplpl40000gt/T//Rtmpe4bPlu/QDNAseq-001.e0348cd040e.segments.vcf'
- exportBins(<1 samples>, format="vcf", type="calls", file="QDNAseq.")
File(s) written: [n=1] '/var/folders/r0/l4fjk6cj5xj0j3brt4bplpl40000gt/T//Rtmpe4bPlu/QDNAseq.e03bc55879.calls.vcf'
- exportBins(<1 samples>, format="vcf", type="calls", file="QDNAseq-%s.")
File(s) written: [n=1] '/var/folders/r0/l4fjk6cj5xj0j3brt4bplpl40000gt/T//Rtmpe4bPlu/QDNAseq-LGG150.e03493375f8.calls.vcf'
- exportBins(<1 samples>, format="vcf", type="calls", file="QDNAseq-%i.")
File(s) written: [n=1] '/var/folders/r0/l4fjk6cj5xj0j3brt4bplpl40000gt/T//Rtmpe4bPlu/QDNAseq-1.e0351861253.calls.vcf'
- exportBins(<1 samples>, format="vcf", type="calls", file="QDNAseq-%03i.")
File(s) written: [n=1] '/var/folders/r0/l4fjk6cj5xj0j3brt4bplpl40000gt/T//Rtmpe4bPlu/QDNAseq-001.e03391d30f5.calls.vcf'
- exportBins(<1 samples>, format="seg", type="copynumber", file="QDNAseq.")
File(s) written: [n=1] '/var/folders/r0/l4fjk6cj5xj0j3brt4bplpl40000gt/T//Rtmpe4bPlu/QDNAseq.e032b79421e.copynumber.seg'
- exportBins(<1 samples>, format="seg", type="copynumber", file="QDNAseq-%s.")
File(s) written: [n=1] '/var/folders/r0/l4fjk6cj5xj0j3brt4bplpl40000gt/T//Rtmpe4bPlu/QDNAseq-LGG150.e0325e3d5de.copynumber.seg'
- exportBins(<1 samples>, format="seg", type="copynumber", file="QDNAseq-%i.")
File(s) written: [n=1] '/var/folders/r0/l4fjk6cj5xj0j3brt4bplpl40000gt/T//Rtmpe4bPlu/QDNAseq-1.e0310edf541.copynumber.seg'
- exportBins(<1 samples>, format="seg", type="copynumber", file="QDNAseq-%03i.")
File(s) written: [n=1] '/var/folders/r0/l4fjk6cj5xj0j3brt4bplpl40000gt/T//Rtmpe4bPlu/QDNAseq-001.e0376808715.copynumber.seg'
- exportBins(<1 samples>, format="seg", type="segments", file="QDNAseq.")
File(s) written: [n=1] '/var/folders/r0/l4fjk6cj5xj0j3brt4bplpl40000gt/T//Rtmpe4bPlu/QDNAseq.e037024b07a.segments.seg'
- exportBins(<1 samples>, format="seg", type="segments", file="QDNAseq-%s.")
File(s) written: [n=1] '/var/folders/r0/l4fjk6cj5xj0j3brt4bplpl40000gt/T//Rtmpe4bPlu/QDNAseq-LGG150.e0378be531a.segments.seg'
- exportBins(<1 samples>, format="seg", type="segments", file="QDNAseq-%i.")
File(s) written: [n=1] '/var/folders/r0/l4fjk6cj5xj0j3brt4bplpl40000gt/T//Rtmpe4bPlu/QDNAseq-1.e0317420de4.segments.seg'
- exportBins(<1 samples>, format="seg", type="segments", file="QDNAseq-%03i.")
File(s) written: [n=1] '/var/folders/r0/l4fjk6cj5xj0j3brt4bplpl40000gt/T//Rtmpe4bPlu/QDNAseq-001.e03719dffa9.segments.seg'
- exportBins(<1 samples>, format="seg", type="calls", file="QDNAseq.")
File(s) written: [n=1] '/var/folders/r0/l4fjk6cj5xj0j3brt4bplpl40000gt/T//Rtmpe4bPlu/QDNAseq.e033bfbea85.calls.seg'
- exportBins(<1 samples>, format="seg", type="calls", file="QDNAseq-%s.")
File(s) written: [n=1] '/var/folders/r0/l4fjk6cj5xj0j3brt4bplpl40000gt/T//Rtmpe4bPlu/QDNAseq-LGG150.e0317e1e087.calls.seg'
- exportBins(<1 samples>, format="seg", type="calls", file="QDNAseq-%i.")
File(s) written: [n=1] '/var/folders/r0/l4fjk6cj5xj0j3brt4bplpl40000gt/T//Rtmpe4bPlu/QDNAseq-1.e036e5bcb50.calls.seg'
- exportBins(<1 samples>, format="seg", type="calls", file="QDNAseq-%03i.")
File(s) written: [n=1] '/var/folders/r0/l4fjk6cj5xj0j3brt4bplpl40000gt/T//Rtmpe4bPlu/QDNAseq-001.e034c8129ca.calls.seg'
>
> sets <- list(data = data, dataC = dataC, fit = fit, fitC = fitC)
> sets <- lapply(sets, FUN = function(set) {
+ stopifnot(ncol(set) == 1L)
+ name <- sampleNames(set)
+ setA <- set
+ sampleNames(setA) <- sprintf("%sa", name)
+ setB <- set
+ sampleNames(setB) <- sprintf("%sb", name)
+ combine(setA, setB)
+ })
>
> for (name in names(sets)) {
+ set <- sets[[name]]
+ stopifnot(ncol(set) == 2L)
+ formats <- c("tsv", "igv", "bed")
+ if (name == "fitC") formats <- c(formats, "vcf", "seg")
+ for (format in formats) {
+ types <- c("copynumber")
+ if (name %in% c("fit", "fitC")) types <- c(types, "segments")
+ if (name == "fitC") types <- c(types, "calls")
+ for (type in types) {
+ fileext <- sprintf(".%s.%s", type, format)
+ templates <- c("QDNAseq-%s.", "QDNAseq-%i.", "QDNAseq-%03i.")
+ if (ncol(set) == 1L || !(format %in% c("bed", "seg", "vcf"))) {
+ templates <- c("QDNAseq.", templates)
+ }
+ for (template in templates) {
+ file <- tempfile(pattern = template, fileext = fileext)
+ message(sprintf(" - exportBins(<%d samples>, format=\"%s\", type=\"%s\", file=\"%s\")", ncol(set), format, type, template))
+ file <- exportBins(set, file = file, format = format, type = type)
+ message(sprintf(" File(s) written: [n=%d] %s",
+ length(file), paste(sQuote(file), collapse = ", ")))
+ stopifnot(all(file_test("-f", file)))
+ if (do_cleanup) {
+ file.remove(file)
+ stopifnot(!any(file_test("-f", file)))
+ }
+ }
+ }
+ }
+ }
- exportBins(<2 samples>, format="tsv", type="copynumber", file="QDNAseq.")
File(s) written: [n=1] '/var/folders/r0/l4fjk6cj5xj0j3brt4bplpl40000gt/T//Rtmpe4bPlu/QDNAseq.e0333deb403.copynumber.tsv'
- exportBins(<2 samples>, format="tsv", type="copynumber", file="QDNAseq-%s.")
File(s) written: [n=1] '/var/folders/r0/l4fjk6cj5xj0j3brt4bplpl40000gt/T//Rtmpe4bPlu/QDNAseq-%s.e0361fc4b8f.copynumber.tsv'
- exportBins(<2 samples>, format="tsv", type="copynumber", file="QDNAseq-%i.")
File(s) written: [n=1] '/var/folders/r0/l4fjk6cj5xj0j3brt4bplpl40000gt/T//Rtmpe4bPlu/QDNAseq-%i.e037ac4cb8a.copynumber.tsv'
- exportBins(<2 samples>, format="tsv", type="copynumber", file="QDNAseq-%03i.")
File(s) written: [n=1] '/var/folders/r0/l4fjk6cj5xj0j3brt4bplpl40000gt/T//Rtmpe4bPlu/QDNAseq-%03i.e03e0f0ffe.copynumber.tsv'
- exportBins(<2 samples>, format="igv", type="copynumber", file="QDNAseq.")
File(s) written: [n=1] '/var/folders/r0/l4fjk6cj5xj0j3brt4bplpl40000gt/T//Rtmpe4bPlu/QDNAseq.e037ee2f3e7.copynumber.igv'
- exportBins(<2 samples>, format="igv", type="copynumber", file="QDNAseq-%s.")
File(s) written: [n=1] '/var/folders/r0/l4fjk6cj5xj0j3brt4bplpl40000gt/T//Rtmpe4bPlu/QDNAseq-%s.e0365fb03c5.copynumber.igv'
- exportBins(<2 samples>, format="igv", type="copynumber", file="QDNAseq-%i.")
File(s) written: [n=1] '/var/folders/r0/l4fjk6cj5xj0j3brt4bplpl40000gt/T//Rtmpe4bPlu/QDNAseq-%i.e0342b4aed1.copynumber.igv'
- exportBins(<2 samples>, format="igv", type="copynumber", file="QDNAseq-%03i.")
File(s) written: [n=1] '/var/folders/r0/l4fjk6cj5xj0j3brt4bplpl40000gt/T//Rtmpe4bPlu/QDNAseq-%03i.e0364413d8d.copynumber.igv'
- exportBins(<2 samples>, format="bed", type="copynumber", file="QDNAseq-%s.")
File(s) written: [n=2] '/var/folders/r0/l4fjk6cj5xj0j3brt4bplpl40000gt/T//Rtmpe4bPlu/QDNAseq-LGG150a.e0377302766.copynumber.bed', '/var/folders/r0/l4fjk6cj5xj0j3brt4bplpl40000gt/T//Rtmpe4bPlu/QDNAseq-LGG150b.e0377302766.copynumber.bed'
- exportBins(<2 samples>, format="bed", type="copynumber", file="QDNAseq-%i.")
File(s) written: [n=2] '/var/folders/r0/l4fjk6cj5xj0j3brt4bplpl40000gt/T//Rtmpe4bPlu/QDNAseq-1.e037a6ad6ab.copynumber.bed', '/var/folders/r0/l4fjk6cj5xj0j3brt4bplpl40000gt/T//Rtmpe4bPlu/QDNAseq-2.e037a6ad6ab.copynumber.bed'
- exportBins(<2 samples>, format="bed", type="copynumber", file="QDNAseq-%03i.")
File(s) written: [n=2] '/var/folders/r0/l4fjk6cj5xj0j3brt4bplpl40000gt/T//Rtmpe4bPlu/QDNAseq-001.e037c33b356.copynumber.bed', '/var/folders/r0/l4fjk6cj5xj0j3brt4bplpl40000gt/T//Rtmpe4bPlu/QDNAseq-002.e037c33b356.copynumber.bed'
- exportBins(<2 samples>, format="tsv", type="copynumber", file="QDNAseq.")
File(s) written: [n=1] '/var/folders/r0/l4fjk6cj5xj0j3brt4bplpl40000gt/T//Rtmpe4bPlu/QDNAseq.e03264312ce.copynumber.tsv'
- exportBins(<2 samples>, format="tsv", type="copynumber", file="QDNAseq-%s.")
File(s) written: [n=1] '/var/folders/r0/l4fjk6cj5xj0j3brt4bplpl40000gt/T//Rtmpe4bPlu/QDNAseq-%s.e037d87a601.copynumber.tsv'
- exportBins(<2 samples>, format="tsv", type="copynumber", file="QDNAseq-%i.")
File(s) written: [n=1] '/var/folders/r0/l4fjk6cj5xj0j3brt4bplpl40000gt/T//Rtmpe4bPlu/QDNAseq-%i.e0354a3cc09.copynumber.tsv'
- exportBins(<2 samples>, format="tsv", type="copynumber", file="QDNAseq-%03i.")
File(s) written: [n=1] '/var/folders/r0/l4fjk6cj5xj0j3brt4bplpl40000gt/T//Rtmpe4bPlu/QDNAseq-%03i.e034da88e48.copynumber.tsv'
- exportBins(<2 samples>, format="igv", type="copynumber", file="QDNAseq.")
File(s) written: [n=1] '/var/folders/r0/l4fjk6cj5xj0j3brt4bplpl40000gt/T//Rtmpe4bPlu/QDNAseq.e03751540cc.copynumber.igv'
- exportBins(<2 samples>, format="igv", type="copynumber", file="QDNAseq-%s.")
File(s) written: [n=1] '/var/folders/r0/l4fjk6cj5xj0j3brt4bplpl40000gt/T//Rtmpe4bPlu/QDNAseq-%s.e0346514d21.copynumber.igv'
- exportBins(<2 samples>, format="igv", type="copynumber", file="QDNAseq-%i.")
File(s) written: [n=1] '/var/folders/r0/l4fjk6cj5xj0j3brt4bplpl40000gt/T//Rtmpe4bPlu/QDNAseq-%i.e0339ed598.copynumber.igv'
- exportBins(<2 samples>, format="igv", type="copynumber", file="QDNAseq-%03i.")
File(s) written: [n=1] '/var/folders/r0/l4fjk6cj5xj0j3brt4bplpl40000gt/T//Rtmpe4bPlu/QDNAseq-%03i.e0330d8f003.copynumber.igv'
- exportBins(<2 samples>, format="bed", type="copynumber", file="QDNAseq-%s.")
File(s) written: [n=2] '/var/folders/r0/l4fjk6cj5xj0j3brt4bplpl40000gt/T//Rtmpe4bPlu/QDNAseq-LGG150a.e0372756e02.copynumber.bed', '/var/folders/r0/l4fjk6cj5xj0j3brt4bplpl40000gt/T//Rtmpe4bPlu/QDNAseq-LGG150b.e0372756e02.copynumber.bed'
- exportBins(<2 samples>, format="bed", type="copynumber", file="QDNAseq-%i.")
File(s) written: [n=2] '/var/folders/r0/l4fjk6cj5xj0j3brt4bplpl40000gt/T//Rtmpe4bPlu/QDNAseq-1.e037b898002.copynumber.bed', '/var/folders/r0/l4fjk6cj5xj0j3brt4bplpl40000gt/T//Rtmpe4bPlu/QDNAseq-2.e037b898002.copynumber.bed'
- exportBins(<2 samples>, format="bed", type="copynumber", file="QDNAseq-%03i.")
File(s) written: [n=2] '/var/folders/r0/l4fjk6cj5xj0j3brt4bplpl40000gt/T//Rtmpe4bPlu/QDNAseq-001.e033342ab.copynumber.bed', '/var/folders/r0/l4fjk6cj5xj0j3brt4bplpl40000gt/T//Rtmpe4bPlu/QDNAseq-002.e033342ab.copynumber.bed'
- exportBins(<2 samples>, format="tsv", type="copynumber", file="QDNAseq.")
File(s) written: [n=1] '/var/folders/r0/l4fjk6cj5xj0j3brt4bplpl40000gt/T//Rtmpe4bPlu/QDNAseq.e03255de8a7.copynumber.tsv'
- exportBins(<2 samples>, format="tsv", type="copynumber", file="QDNAseq-%s.")
File(s) written: [n=1] '/var/folders/r0/l4fjk6cj5xj0j3brt4bplpl40000gt/T//Rtmpe4bPlu/QDNAseq-%s.e0338553f1b.copynumber.tsv'
- exportBins(<2 samples>, format="tsv", type="copynumber", file="QDNAseq-%i.")
File(s) written: [n=1] '/var/folders/r0/l4fjk6cj5xj0j3brt4bplpl40000gt/T//Rtmpe4bPlu/QDNAseq-%i.e0364a22281.copynumber.tsv'
- exportBins(<2 samples>, format="tsv", type="copynumber", file="QDNAseq-%03i.")
File(s) written: [n=1] '/var/folders/r0/l4fjk6cj5xj0j3brt4bplpl40000gt/T//Rtmpe4bPlu/QDNAseq-%03i.e03508776c4.copynumber.tsv'
- exportBins(<2 samples>, format="tsv", type="segments", file="QDNAseq.")
File(s) written: [n=1] '/var/folders/r0/l4fjk6cj5xj0j3brt4bplpl40000gt/T//Rtmpe4bPlu/QDNAseq.e036d866729.segments.tsv'
- exportBins(<2 samples>, format="tsv", type="segments", file="QDNAseq-%s.")
File(s) written: [n=1] '/var/folders/r0/l4fjk6cj5xj0j3brt4bplpl40000gt/T//Rtmpe4bPlu/QDNAseq-%s.e0312deecec.segments.tsv'
- exportBins(<2 samples>, format="tsv", type="segments", file="QDNAseq-%i.")
File(s) written: [n=1] '/var/folders/r0/l4fjk6cj5xj0j3brt4bplpl40000gt/T//Rtmpe4bPlu/QDNAseq-%i.e03699483a1.segments.tsv'
- exportBins(<2 samples>, format="tsv", type="segments", file="QDNAseq-%03i.")
File(s) written: [n=1] '/var/folders/r0/l4fjk6cj5xj0j3brt4bplpl40000gt/T//Rtmpe4bPlu/QDNAseq-%03i.e03154df52e.segments.tsv'
- exportBins(<2 samples>, format="igv", type="copynumber", file="QDNAseq.")
File(s) written: [n=1] '/var/folders/r0/l4fjk6cj5xj0j3brt4bplpl40000gt/T//Rtmpe4bPlu/QDNAseq.e03311ba9ef.copynumber.igv'
- exportBins(<2 samples>, format="igv", type="copynumber", file="QDNAseq-%s.")
File(s) written: [n=1] '/var/folders/r0/l4fjk6cj5xj0j3brt4bplpl40000gt/T//Rtmpe4bPlu/QDNAseq-%s.e03f31a319.copynumber.igv'
- exportBins(<2 samples>, format="igv", type="copynumber", file="QDNAseq-%i.")
File(s) written: [n=1] '/var/folders/r0/l4fjk6cj5xj0j3brt4bplpl40000gt/T//Rtmpe4bPlu/QDNAseq-%i.e033cac61a.copynumber.igv'
- exportBins(<2 samples>, format="igv", type="copynumber", file="QDNAseq-%03i.")
File(s) written: [n=1] '/var/folders/r0/l4fjk6cj5xj0j3brt4bplpl40000gt/T//Rtmpe4bPlu/QDNAseq-%03i.e037593d6e7.copynumber.igv'
- exportBins(<2 samples>, format="igv", type="segments", file="QDNAseq.")
File(s) written: [n=1] '/var/folders/r0/l4fjk6cj5xj0j3brt4bplpl40000gt/T//Rtmpe4bPlu/QDNAseq.e033d0213ff.segments.igv'
- exportBins(<2 samples>, format="igv", type="segments", file="QDNAseq-%s.")
File(s) written: [n=1] '/var/folders/r0/l4fjk6cj5xj0j3brt4bplpl40000gt/T//Rtmpe4bPlu/QDNAseq-%s.e03536ee9a3.segments.igv'
- exportBins(<2 samples>, format="igv", type="segments", file="QDNAseq-%i.")
File(s) written: [n=1] '/var/folders/r0/l4fjk6cj5xj0j3brt4bplpl40000gt/T//Rtmpe4bPlu/QDNAseq-%i.e0316acf720.segments.igv'
- exportBins(<2 samples>, format="igv", type="segments", file="QDNAseq-%03i.")
File(s) written: [n=1] '/var/folders/r0/l4fjk6cj5xj0j3brt4bplpl40000gt/T//Rtmpe4bPlu/QDNAseq-%03i.e0335946181.segments.igv'
- exportBins(<2 samples>, format="bed", type="copynumber", file="QDNAseq-%s.")
File(s) written: [n=2] '/var/folders/r0/l4fjk6cj5xj0j3brt4bplpl40000gt/T//Rtmpe4bPlu/QDNAseq-LGG150a.e03208d77a2.copynumber.bed', '/var/folders/r0/l4fjk6cj5xj0j3brt4bplpl40000gt/T//Rtmpe4bPlu/QDNAseq-LGG150b.e03208d77a2.copynumber.bed'
- exportBins(<2 samples>, format="bed", type="copynumber", file="QDNAseq-%i.")
File(s) written: [n=2] '/var/folders/r0/l4fjk6cj5xj0j3brt4bplpl40000gt/T//Rtmpe4bPlu/QDNAseq-1.e0327a93d60.copynumber.bed', '/var/folders/r0/l4fjk6cj5xj0j3brt4bplpl40000gt/T//Rtmpe4bPlu/QDNAseq-2.e0327a93d60.copynumber.bed'
- exportBins(<2 samples>, format="bed", type="copynumber", file="QDNAseq-%03i.")
File(s) written: [n=2] '/var/folders/r0/l4fjk6cj5xj0j3brt4bplpl40000gt/T//Rtmpe4bPlu/QDNAseq-001.e0357fc7df7.copynumber.bed', '/var/folders/r0/l4fjk6cj5xj0j3brt4bplpl40000gt/T//Rtmpe4bPlu/QDNAseq-002.e0357fc7df7.copynumber.bed'
- exportBins(<2 samples>, format="bed", type="segments", file="QDNAseq-%s.")
File(s) written: [n=2] '/var/folders/r0/l4fjk6cj5xj0j3brt4bplpl40000gt/T//Rtmpe4bPlu/QDNAseq-LGG150a.e031b21042.segments.bed', '/var/folders/r0/l4fjk6cj5xj0j3brt4bplpl40000gt/T//Rtmpe4bPlu/QDNAseq-LGG150b.e031b21042.segments.bed'
- exportBins(<2 samples>, format="bed", type="segments", file="QDNAseq-%i.")
File(s) written: [n=2] '/var/folders/r0/l4fjk6cj5xj0j3brt4bplpl40000gt/T//Rtmpe4bPlu/QDNAseq-1.e0351495dec.segments.bed', '/var/folders/r0/l4fjk6cj5xj0j3brt4bplpl40000gt/T//Rtmpe4bPlu/QDNAseq-2.e0351495dec.segments.bed'
- exportBins(<2 samples>, format="bed", type="segments", file="QDNAseq-%03i.")
File(s) written: [n=2] '/var/folders/r0/l4fjk6cj5xj0j3brt4bplpl40000gt/T//Rtmpe4bPlu/QDNAseq-001.e0327b55aa5.segments.bed', '/var/folders/r0/l4fjk6cj5xj0j3brt4bplpl40000gt/T//Rtmpe4bPlu/QDNAseq-002.e0327b55aa5.segments.bed'
- exportBins(<2 samples>, format="tsv", type="copynumber", file="QDNAseq.")
File(s) written: [n=1] '/var/folders/r0/l4fjk6cj5xj0j3brt4bplpl40000gt/T//Rtmpe4bPlu/QDNAseq.e0373521b00.copynumber.tsv'
- exportBins(<2 samples>, format="tsv", type="copynumber", file="QDNAseq-%s.")
File(s) written: [n=1] '/var/folders/r0/l4fjk6cj5xj0j3brt4bplpl40000gt/T//Rtmpe4bPlu/QDNAseq-%s.e03136ad826.copynumber.tsv'
- exportBins(<2 samples>, format="tsv", type="copynumber", file="QDNAseq-%i.")
File(s) written: [n=1] '/var/folders/r0/l4fjk6cj5xj0j3brt4bplpl40000gt/T//Rtmpe4bPlu/QDNAseq-%i.e034b94b0bf.copynumber.tsv'
- exportBins(<2 samples>, format="tsv", type="copynumber", file="QDNAseq-%03i.")
File(s) written: [n=1] '/var/folders/r0/l4fjk6cj5xj0j3brt4bplpl40000gt/T//Rtmpe4bPlu/QDNAseq-%03i.e03edff25d.copynumber.tsv'
- exportBins(<2 samples>, format="tsv", type="segments", file="QDNAseq.")
File(s) written: [n=1] '/var/folders/r0/l4fjk6cj5xj0j3brt4bplpl40000gt/T//Rtmpe4bPlu/QDNAseq.e0310a0bf4c.segments.tsv'
- exportBins(<2 samples>, format="tsv", type="segments", file="QDNAseq-%s.")
File(s) written: [n=1] '/var/folders/r0/l4fjk6cj5xj0j3brt4bplpl40000gt/T//Rtmpe4bPlu/QDNAseq-%s.e03296f1f1b.segments.tsv'
- exportBins(<2 samples>, format="tsv", type="segments", file="QDNAseq-%i.")
File(s) written: [n=1] '/var/folders/r0/l4fjk6cj5xj0j3brt4bplpl40000gt/T//Rtmpe4bPlu/QDNAseq-%i.e033e633add.segments.tsv'
- exportBins(<2 samples>, format="tsv", type="segments", file="QDNAseq-%03i.")
File(s) written: [n=1] '/var/folders/r0/l4fjk6cj5xj0j3brt4bplpl40000gt/T//Rtmpe4bPlu/QDNAseq-%03i.e0364ada32a.segments.tsv'
- exportBins(<2 samples>, format="tsv", type="calls", file="QDNAseq.")
File(s) written: [n=1] '/var/folders/r0/l4fjk6cj5xj0j3brt4bplpl40000gt/T//Rtmpe4bPlu/QDNAseq.e0343b34e09.calls.tsv'
- exportBins(<2 samples>, format="tsv", type="calls", file="QDNAseq-%s.")
File(s) written: [n=1] '/var/folders/r0/l4fjk6cj5xj0j3brt4bplpl40000gt/T//Rtmpe4bPlu/QDNAseq-%s.e0330c85398.calls.tsv'
- exportBins(<2 samples>, format="tsv", type="calls", file="QDNAseq-%i.")
File(s) written: [n=1] '/var/folders/r0/l4fjk6cj5xj0j3brt4bplpl40000gt/T//Rtmpe4bPlu/QDNAseq-%i.e032fe8392d.calls.tsv'
- exportBins(<2 samples>, format="tsv", type="calls", file="QDNAseq-%03i.")
File(s) written: [n=1] '/var/folders/r0/l4fjk6cj5xj0j3brt4bplpl40000gt/T//Rtmpe4bPlu/QDNAseq-%03i.e033701d1ed.calls.tsv'
- exportBins(<2 samples>, format="igv", type="copynumber", file="QDNAseq.")
File(s) written: [n=1] '/var/folders/r0/l4fjk6cj5xj0j3brt4bplpl40000gt/T//Rtmpe4bPlu/QDNAseq.e03587d3ad1.copynumber.igv'
- exportBins(<2 samples>, format="igv", type="copynumber", file="QDNAseq-%s.")
File(s) written: [n=1] '/var/folders/r0/l4fjk6cj5xj0j3brt4bplpl40000gt/T//Rtmpe4bPlu/QDNAseq-%s.e035a09cba.copynumber.igv'
- exportBins(<2 samples>, format="igv", type="copynumber", file="QDNAseq-%i.")
File(s) written: [n=1] '/var/folders/r0/l4fjk6cj5xj0j3brt4bplpl40000gt/T//Rtmpe4bPlu/QDNAseq-%i.e0373917a38.copynumber.igv'
- exportBins(<2 samples>, format="igv", type="copynumber", file="QDNAseq-%03i.")
File(s) written: [n=1] '/var/folders/r0/l4fjk6cj5xj0j3brt4bplpl40000gt/T//Rtmpe4bPlu/QDNAseq-%03i.e0353ef2dce.copynumber.igv'
- exportBins(<2 samples>, format="igv", type="segments", file="QDNAseq.")
File(s) written: [n=1] '/var/folders/r0/l4fjk6cj5xj0j3brt4bplpl40000gt/T//Rtmpe4bPlu/QDNAseq.e037ba85a6e.segments.igv'
- exportBins(<2 samples>, format="igv", type="segments", file="QDNAseq-%s.")
File(s) written: [n=1] '/var/folders/r0/l4fjk6cj5xj0j3brt4bplpl40000gt/T//Rtmpe4bPlu/QDNAseq-%s.e0369c92b2e.segments.igv'
- exportBins(<2 samples>, format="igv", type="segments", file="QDNAseq-%i.")
File(s) written: [n=1] '/var/folders/r0/l4fjk6cj5xj0j3brt4bplpl40000gt/T//Rtmpe4bPlu/QDNAseq-%i.e0316320f44.segments.igv'
- exportBins(<2 samples>, format="igv", type="segments", file="QDNAseq-%03i.")
File(s) written: [n=1] '/var/folders/r0/l4fjk6cj5xj0j3brt4bplpl40000gt/T//Rtmpe4bPlu/QDNAseq-%03i.e03308844be.segments.igv'
- exportBins(<2 samples>, format="igv", type="calls", file="QDNAseq.")
File(s) written: [n=1] '/var/folders/r0/l4fjk6cj5xj0j3brt4bplpl40000gt/T//Rtmpe4bPlu/QDNAseq.e0342592ed6.calls.igv'
- exportBins(<2 samples>, format="igv", type="calls", file="QDNAseq-%s.")
File(s) written: [n=1] '/var/folders/r0/l4fjk6cj5xj0j3brt4bplpl40000gt/T//Rtmpe4bPlu/QDNAseq-%s.e036d1205a1.calls.igv'
- exportBins(<2 samples>, format="igv", type="calls", file="QDNAseq-%i.")
File(s) written: [n=1] '/var/folders/r0/l4fjk6cj5xj0j3brt4bplpl40000gt/T//Rtmpe4bPlu/QDNAseq-%i.e033a2fc4f8.calls.igv'
- exportBins(<2 samples>, format="igv", type="calls", file="QDNAseq-%03i.")
File(s) written: [n=1] '/var/folders/r0/l4fjk6cj5xj0j3brt4bplpl40000gt/T//Rtmpe4bPlu/QDNAseq-%03i.e03162c93a0.calls.igv'
- exportBins(<2 samples>, format="bed", type="copynumber", file="QDNAseq-%s.")
File(s) written: [n=2] '/var/folders/r0/l4fjk6cj5xj0j3brt4bplpl40000gt/T//Rtmpe4bPlu/QDNAseq-LGG150a.e03488ff8bf.copynumber.bed', '/var/folders/r0/l4fjk6cj5xj0j3brt4bplpl40000gt/T//Rtmpe4bPlu/QDNAseq-LGG150b.e03488ff8bf.copynumber.bed'
- exportBins(<2 samples>, format="bed", type="copynumber", file="QDNAseq-%i.")
File(s) written: [n=2] '/var/folders/r0/l4fjk6cj5xj0j3brt4bplpl40000gt/T//Rtmpe4bPlu/QDNAseq-1.e036413e8d0.copynumber.bed', '/var/folders/r0/l4fjk6cj5xj0j3brt4bplpl40000gt/T//Rtmpe4bPlu/QDNAseq-2.e036413e8d0.copynumber.bed'
- exportBins(<2 samples>, format="bed", type="copynumber", file="QDNAseq-%03i.")
File(s) written: [n=2] '/var/folders/r0/l4fjk6cj5xj0j3brt4bplpl40000gt/T//Rtmpe4bPlu/QDNAseq-001.e035719e304.copynumber.bed', '/var/folders/r0/l4fjk6cj5xj0j3brt4bplpl40000gt/T//Rtmpe4bPlu/QDNAseq-002.e035719e304.copynumber.bed'
- exportBins(<2 samples>, format="bed", type="segments", file="QDNAseq-%s.")
File(s) written: [n=2] '/var/folders/r0/l4fjk6cj5xj0j3brt4bplpl40000gt/T//Rtmpe4bPlu/QDNAseq-LGG150a.e0364874848.segments.bed', '/var/folders/r0/l4fjk6cj5xj0j3brt4bplpl40000gt/T//Rtmpe4bPlu/QDNAseq-LGG150b.e0364874848.segments.bed'
- exportBins(<2 samples>, format="bed", type="segments", file="QDNAseq-%i.")
File(s) written: [n=2] '/var/folders/r0/l4fjk6cj5xj0j3brt4bplpl40000gt/T//Rtmpe4bPlu/QDNAseq-1.e036d9aa287.segments.bed', '/var/folders/r0/l4fjk6cj5xj0j3brt4bplpl40000gt/T//Rtmpe4bPlu/QDNAseq-2.e036d9aa287.segments.bed'
- exportBins(<2 samples>, format="bed", type="segments", file="QDNAseq-%03i.")
File(s) written: [n=2] '/var/folders/r0/l4fjk6cj5xj0j3brt4bplpl40000gt/T//Rtmpe4bPlu/QDNAseq-001.e0343248548.segments.bed', '/var/folders/r0/l4fjk6cj5xj0j3brt4bplpl40000gt/T//Rtmpe4bPlu/QDNAseq-002.e0343248548.segments.bed'
- exportBins(<2 samples>, format="bed", type="calls", file="QDNAseq-%s.")
File(s) written: [n=2] '/var/folders/r0/l4fjk6cj5xj0j3brt4bplpl40000gt/T//Rtmpe4bPlu/QDNAseq-LGG150a.e0312aa5c68.calls.bed', '/var/folders/r0/l4fjk6cj5xj0j3brt4bplpl40000gt/T//Rtmpe4bPlu/QDNAseq-LGG150b.e0312aa5c68.calls.bed'
- exportBins(<2 samples>, format="bed", type="calls", file="QDNAseq-%i.")
File(s) written: [n=2] '/var/folders/r0/l4fjk6cj5xj0j3brt4bplpl40000gt/T//Rtmpe4bPlu/QDNAseq-1.e036e98b96a.calls.bed', '/var/folders/r0/l4fjk6cj5xj0j3brt4bplpl40000gt/T//Rtmpe4bPlu/QDNAseq-2.e036e98b96a.calls.bed'
- exportBins(<2 samples>, format="bed", type="calls", file="QDNAseq-%03i.")
File(s) written: [n=2] '/var/folders/r0/l4fjk6cj5xj0j3brt4bplpl40000gt/T//Rtmpe4bPlu/QDNAseq-001.e036cb516df.calls.bed', '/var/folders/r0/l4fjk6cj5xj0j3brt4bplpl40000gt/T//Rtmpe4bPlu/QDNAseq-002.e036cb516df.calls.bed'
- exportBins(<2 samples>, format="vcf", type="copynumber", file="QDNAseq-%s.")
File(s) written: [n=2] '/var/folders/r0/l4fjk6cj5xj0j3brt4bplpl40000gt/T//Rtmpe4bPlu/QDNAseq-LGG150a.e0364f0c23a.copynumber.vcf', '/var/folders/r0/l4fjk6cj5xj0j3brt4bplpl40000gt/T//Rtmpe4bPlu/QDNAseq-LGG150b.e0364f0c23a.copynumber.vcf'
- exportBins(<2 samples>, format="vcf", type="copynumber", file="QDNAseq-%i.")
File(s) written: [n=2] '/var/folders/r0/l4fjk6cj5xj0j3brt4bplpl40000gt/T//Rtmpe4bPlu/QDNAseq-1.e037a5fa19b.copynumber.vcf', '/var/folders/r0/l4fjk6cj5xj0j3brt4bplpl40000gt/T//Rtmpe4bPlu/QDNAseq-2.e037a5fa19b.copynumber.vcf'
- exportBins(<2 samples>, format="vcf", type="copynumber", file="QDNAseq-%03i.")
File(s) written: [n=2] '/var/folders/r0/l4fjk6cj5xj0j3brt4bplpl40000gt/T//Rtmpe4bPlu/QDNAseq-001.e031c6b05e1.copynumber.vcf', '/var/folders/r0/l4fjk6cj5xj0j3brt4bplpl40000gt/T//Rtmpe4bPlu/QDNAseq-002.e031c6b05e1.copynumber.vcf'
- exportBins(<2 samples>, format="vcf", type="segments", file="QDNAseq-%s.")
File(s) written: [n=2] '/var/folders/r0/l4fjk6cj5xj0j3brt4bplpl40000gt/T//Rtmpe4bPlu/QDNAseq-LGG150a.e03364f055a.segments.vcf', '/var/folders/r0/l4fjk6cj5xj0j3brt4bplpl40000gt/T//Rtmpe4bPlu/QDNAseq-LGG150b.e03364f055a.segments.vcf'
- exportBins(<2 samples>, format="vcf", type="segments", file="QDNAseq-%i.")
File(s) written: [n=2] '/var/folders/r0/l4fjk6cj5xj0j3brt4bplpl40000gt/T//Rtmpe4bPlu/QDNAseq-1.e037de87390.segments.vcf', '/var/folders/r0/l4fjk6cj5xj0j3brt4bplpl40000gt/T//Rtmpe4bPlu/QDNAseq-2.e037de87390.segments.vcf'
- exportBins(<2 samples>, format="vcf", type="segments", file="QDNAseq-%03i.")
File(s) written: [n=2] '/var/folders/r0/l4fjk6cj5xj0j3brt4bplpl40000gt/T//Rtmpe4bPlu/QDNAseq-001.e0327fb3384.segments.vcf', '/var/folders/r0/l4fjk6cj5xj0j3brt4bplpl40000gt/T//Rtmpe4bPlu/QDNAseq-002.e0327fb3384.segments.vcf'
- exportBins(<2 samples>, format="vcf", type="calls", file="QDNAseq-%s.")
File(s) written: [n=2] '/var/folders/r0/l4fjk6cj5xj0j3brt4bplpl40000gt/T//Rtmpe4bPlu/QDNAseq-LGG150a.e035cf3339d.calls.vcf', '/var/folders/r0/l4fjk6cj5xj0j3brt4bplpl40000gt/T//Rtmpe4bPlu/QDNAseq-LGG150b.e035cf3339d.calls.vcf'
- exportBins(<2 samples>, format="vcf", type="calls", file="QDNAseq-%i.")
File(s) written: [n=2] '/var/folders/r0/l4fjk6cj5xj0j3brt4bplpl40000gt/T//Rtmpe4bPlu/QDNAseq-1.e0362c1b817.calls.vcf', '/var/folders/r0/l4fjk6cj5xj0j3brt4bplpl40000gt/T//Rtmpe4bPlu/QDNAseq-2.e0362c1b817.calls.vcf'
- exportBins(<2 samples>, format="vcf", type="calls", file="QDNAseq-%03i.")
File(s) written: [n=2] '/var/folders/r0/l4fjk6cj5xj0j3brt4bplpl40000gt/T//Rtmpe4bPlu/QDNAseq-001.e031c1d20a8.calls.vcf', '/var/folders/r0/l4fjk6cj5xj0j3brt4bplpl40000gt/T//Rtmpe4bPlu/QDNAseq-002.e031c1d20a8.calls.vcf'
- exportBins(<2 samples>, format="seg", type="copynumber", file="QDNAseq-%s.")
File(s) written: [n=2] '/var/folders/r0/l4fjk6cj5xj0j3brt4bplpl40000gt/T//Rtmpe4bPlu/QDNAseq-LGG150a.e033c4b0403.copynumber.seg', '/var/folders/r0/l4fjk6cj5xj0j3brt4bplpl40000gt/T//Rtmpe4bPlu/QDNAseq-LGG150b.e033c4b0403.copynumber.seg'
- exportBins(<2 samples>, format="seg", type="copynumber", file="QDNAseq-%i.")
File(s) written: [n=2] '/var/folders/r0/l4fjk6cj5xj0j3brt4bplpl40000gt/T//Rtmpe4bPlu/QDNAseq-1.e0360f47fe1.copynumber.seg', '/var/folders/r0/l4fjk6cj5xj0j3brt4bplpl40000gt/T//Rtmpe4bPlu/QDNAseq-2.e0360f47fe1.copynumber.seg'
- exportBins(<2 samples>, format="seg", type="copynumber", file="QDNAseq-%03i.")
File(s) written: [n=2] '/var/folders/r0/l4fjk6cj5xj0j3brt4bplpl40000gt/T//Rtmpe4bPlu/QDNAseq-001.e0353f7be81.copynumber.seg', '/var/folders/r0/l4fjk6cj5xj0j3brt4bplpl40000gt/T//Rtmpe4bPlu/QDNAseq-002.e0353f7be81.copynumber.seg'
- exportBins(<2 samples>, format="seg", type="segments", file="QDNAseq-%s.")
File(s) written: [n=2] '/var/folders/r0/l4fjk6cj5xj0j3brt4bplpl40000gt/T//Rtmpe4bPlu/QDNAseq-LGG150a.e032dfc3238.segments.seg', '/var/folders/r0/l4fjk6cj5xj0j3brt4bplpl40000gt/T//Rtmpe4bPlu/QDNAseq-LGG150b.e032dfc3238.segments.seg'
- exportBins(<2 samples>, format="seg", type="segments", file="QDNAseq-%i.")
File(s) written: [n=2] '/var/folders/r0/l4fjk6cj5xj0j3brt4bplpl40000gt/T//Rtmpe4bPlu/QDNAseq-1.e03845121e.segments.seg', '/var/folders/r0/l4fjk6cj5xj0j3brt4bplpl40000gt/T//Rtmpe4bPlu/QDNAseq-2.e03845121e.segments.seg'
- exportBins(<2 samples>, format="seg", type="segments", file="QDNAseq-%03i.")
File(s) written: [n=2] '/var/folders/r0/l4fjk6cj5xj0j3brt4bplpl40000gt/T//Rtmpe4bPlu/QDNAseq-001.e036ea873cf.segments.seg', '/var/folders/r0/l4fjk6cj5xj0j3brt4bplpl40000gt/T//Rtmpe4bPlu/QDNAseq-002.e036ea873cf.segments.seg'
- exportBins(<2 samples>, format="seg", type="calls", file="QDNAseq-%s.")
File(s) written: [n=2] '/var/folders/r0/l4fjk6cj5xj0j3brt4bplpl40000gt/T//Rtmpe4bPlu/QDNAseq-LGG150a.e03754b53ca.calls.seg', '/var/folders/r0/l4fjk6cj5xj0j3brt4bplpl40000gt/T//Rtmpe4bPlu/QDNAseq-LGG150b.e03754b53ca.calls.seg'
- exportBins(<2 samples>, format="seg", type="calls", file="QDNAseq-%i.")
File(s) written: [n=2] '/var/folders/r0/l4fjk6cj5xj0j3brt4bplpl40000gt/T//Rtmpe4bPlu/QDNAseq-1.e03246a2eef.calls.seg', '/var/folders/r0/l4fjk6cj5xj0j3brt4bplpl40000gt/T//Rtmpe4bPlu/QDNAseq-2.e03246a2eef.calls.seg'
- exportBins(<2 samples>, format="seg", type="calls", file="QDNAseq-%03i.")
File(s) written: [n=2] '/var/folders/r0/l4fjk6cj5xj0j3brt4bplpl40000gt/T//Rtmpe4bPlu/QDNAseq-001.e03372f5f96.calls.seg', '/var/folders/r0/l4fjk6cj5xj0j3brt4bplpl40000gt/T//Rtmpe4bPlu/QDNAseq-002.e03372f5f96.calls.seg'
>
> message("* exportBins() ... done")
* exportBins() ... done
>
> proc.time()
user system elapsed
25.870 1.596 27.623
QDNAseq.Rcheck/QDNAseq-Ex.timings
| name | user | system | elapsed | |
| addPhenodata | 0.050 | 0.002 | 0.052 | |
| applyFilters | 0.247 | 0.002 | 0.250 | |
| binReadCounts | 0 | 0 | 0 | |
| callBins | 7.946 | 0.094 | 8.221 | |
| compareToReference | 0.668 | 0.028 | 0.696 | |
| correctBins | 0.617 | 0.010 | 0.645 | |
| createBins | 0 | 0 | 0 | |
| estimateCorrection | 0.606 | 0.009 | 0.630 | |
| exportBins | 0 | 0 | 0 | |
| frequencyPlot | 8.071 | 0.087 | 8.508 | |
| getBinAnnotations | 0 | 0 | 0 | |
| highlightFilters | 0.238 | 0.021 | 0.276 | |
| isobarPlot | 0.614 | 0.011 | 0.634 | |
| makeCgh | 0.845 | 0.029 | 0.883 | |
| noisePlot | 0.608 | 0.010 | 0.641 | |
| normalizeBins | 0.627 | 0.012 | 0.663 | |
| normalizeSegmentedBins | 3.005 | 0.029 | 3.311 | |
| plot | 0.801 | 0.054 | 0.892 | |
| poolRuns | 0.056 | 0.002 | 0.057 | |
| segmentBins | 2.831 | 0.022 | 2.886 | |
| smoothOutlierBins | 0.634 | 0.010 | 0.650 | |