Back to Multiple platform build/check report for BioC 3.21:   simplified   long
ABCDEFGHIJKLMNO[P]QRSTUVWXYZ

This page was generated on 2025-04-22 13:16 -0400 (Tue, 22 Apr 2025).

HostnameOSArch (*)R versionInstalled pkgs
nebbiolo1Linux (Ubuntu 24.04.1 LTS)x86_644.5.0 RC (2025-04-04 r88126) -- "How About a Twenty-Six" 4831
palomino7Windows Server 2022 Datacenterx644.5.0 RC (2025-04-04 r88126 ucrt) -- "How About a Twenty-Six" 4573
lconwaymacOS 12.7.1 Montereyx86_644.5.0 RC (2025-04-04 r88126) -- "How About a Twenty-Six" 4599
kjohnson3macOS 13.7.1 Venturaarm644.5.0 RC (2025-04-04 r88126) -- "How About a Twenty-Six" 4553
kunpeng2Linux (openEuler 24.03 LTS)aarch64R Under development (unstable) (2025-02-19 r87757) -- "Unsuffered Consequences" 4570
Click on any hostname to see more info about the system (e.g. compilers)      (*) as reported by 'uname -p', except on Windows and Mac OS X

Package 1583/2341HostnameOS / ArchINSTALLBUILDCHECKBUILD BIN
Pigengene 1.34.0  (landing page)
Habil Zare
Snapshot Date: 2025-04-21 13:40 -0400 (Mon, 21 Apr 2025)
git_url: https://git.bioconductor.org/packages/Pigengene
git_branch: RELEASE_3_21
git_last_commit: 04213d7
git_last_commit_date: 2025-04-15 11:02:19 -0400 (Tue, 15 Apr 2025)
nebbiolo1Linux (Ubuntu 24.04.1 LTS) / x86_64  OK    OK    OK  YES
palomino7Windows Server 2022 Datacenter / x64  OK    OK    OK    OK  YES
lconwaymacOS 12.7.1 Monterey / x86_64  OK    OK    OK    OK  YES
kjohnson3macOS 13.7.1 Ventura / arm64  OK    OK    OK    OK  YES
kunpeng2Linux (openEuler 24.03 LTS) / aarch64  OK    OK    OK  


CHECK results for Pigengene on lconway

To the developers/maintainers of the Pigengene package:
- Allow up to 24 hours (and sometimes 48 hours) for your latest push to git@git.bioconductor.org:packages/Pigengene.git to reflect on this report. See Troubleshooting Build Report for more information.
- Use the following Renviron settings to reproduce errors and warnings.
- If 'R CMD check' started to fail recently on the Linux builder(s) over a missing dependency, add the missing dependency to 'Suggests:' in your DESCRIPTION file. See Renviron.bioc for more information.

raw results


Summary

Package: Pigengene
Version: 1.34.0
Command: /Library/Frameworks/R.framework/Resources/bin/R CMD check --install=check:Pigengene.install-out.txt --library=/Library/Frameworks/R.framework/Resources/library --no-vignettes --timings Pigengene_1.34.0.tar.gz
StartedAt: 2025-04-21 22:38:57 -0400 (Mon, 21 Apr 2025)
EndedAt: 2025-04-21 22:49:36 -0400 (Mon, 21 Apr 2025)
EllapsedTime: 638.2 seconds
RetCode: 0
Status:   OK  
CheckDir: Pigengene.Rcheck
Warnings: 0

Command output

##############################################################################
##############################################################################
###
### Running command:
###
###   /Library/Frameworks/R.framework/Resources/bin/R CMD check --install=check:Pigengene.install-out.txt --library=/Library/Frameworks/R.framework/Resources/library --no-vignettes --timings Pigengene_1.34.0.tar.gz
###
##############################################################################
##############################################################################


* using log directory ‘/Users/biocbuild/bbs-3.21-bioc/meat/Pigengene.Rcheck’
* using R version 4.5.0 RC (2025-04-04 r88126)
* using platform: x86_64-apple-darwin20
* R was compiled by
    Apple clang version 14.0.0 (clang-1400.0.29.202)
    GNU Fortran (GCC) 14.2.0
* running under: macOS Monterey 12.7.6
* using session charset: UTF-8
* using option ‘--no-vignettes’
* checking for file ‘Pigengene/DESCRIPTION’ ... OK
* checking extension type ... Package
* this is package ‘Pigengene’ version ‘1.34.0’
* checking package namespace information ... OK
* checking package dependencies ... OK
* checking if this is a source package ... OK
* checking if there is a namespace ... OK
* checking for hidden files and directories ... OK
* checking for portable file names ... OK
* checking for sufficient/correct file permissions ... OK
* checking whether package ‘Pigengene’ can be installed ... OK
* checking installed package size ... OK
* checking package directory ... OK
* checking ‘build’ directory ... OK
* checking DESCRIPTION meta-information ... OK
* checking top-level files ... OK
* checking for left-over files ... OK
* checking index information ... OK
* checking package subdirectories ... OK
* checking code files for non-ASCII characters ... OK
* checking R files for syntax errors ... OK
* checking whether the package can be loaded ... OK
* checking whether the package can be loaded with stated dependencies ... OK
* checking whether the package can be unloaded cleanly ... OK
* checking whether the namespace can be loaded with stated dependencies ... OK
* checking whether the namespace can be unloaded cleanly ... OK
* checking dependencies in R code ... NOTE
'library' or 'require' calls in package code:
  ‘AnnotationDbi’ ‘biomaRt’ ‘energy’ ‘org.Hs.eg.db’ ‘org.Mm.eg.db’
  Please use :: or requireNamespace() instead.
  See section 'Suggested packages' in the 'Writing R Extensions' manual.
* checking S3 generic/method consistency ... OK
* checking replacement functions ... OK
* checking foreign function calls ... OK
* checking R code for possible problems ... NOTE
Found the following possibly unsafe calls:
File ‘Pigengene/R/bn.calculation.R’:
  assignInNamespace("supported.clusters", fixArgs, "bnlearn")

one.step.pigengene: no visible binding for global variable
  ‘org.Hs.eg.db’
Undefined global functions or variables:
  org.Hs.eg.db
* checking Rd files ... NOTE
checkRd: (-1) draw.bn.Rd:47: Lost braces
    47 |      rename the nodes name.  See code{rename.node}.}
       |                                      ^
checkRd: (-1) eigengenes33.Rd:21-22: Lost braces
    21 |  {A 202 by 34 matrix. 
       |  ^
checkRd: (-1) eigengenes33.Rd:25: Lost braces; missing escapes or markup?
    25 |  {A 164 by 34 matrix for MDS cases with columns similar to aml.}
       |  ^
checkRd: (-1) eigengenes33.Rd:28: Lost braces; missing escapes or markup?
    28 |  {A numeric vector of length 9166 labeling members of each module. Named by Entrez ID.}
       |  ^
checkRd: (-1) pigengene-class.Rd:25-26: Lost braces in \itemize; meant \describe ?
checkRd: (-1) pigengene-class.Rd:27-29: Lost braces in \itemize; meant \describe ?
checkRd: (-1) pigengene-class.Rd:30-39: Lost braces in \itemize; meant \describe ?
checkRd: (-1) pigengene-class.Rd:40-41: Lost braces in \itemize; meant \describe ?
checkRd: (-1) pigengene-class.Rd:42-44: Lost braces in \itemize; meant \describe ?
checkRd: (-1) pigengene-class.Rd:45-47: Lost braces in \itemize; meant \describe ?
checkRd: (-1) pigengene-class.Rd:48-49: Lost braces in \itemize; meant \describe ?
checkRd: (-1) pigengene-class.Rd:50-52: Lost braces in \itemize; meant \describe ?
checkRd: (-1) pigengene-class.Rd:53-55: Lost braces in \itemize; meant \describe ?
checkRd: (-1) pigengene-class.Rd:56-57: Lost braces in \itemize; meant \describe ?
checkRd: (-1) pigengene-class.Rd:58-59: Lost braces in \itemize; meant \describe ?
checkRd: (-1) pigengene-class.Rd:60-63: Lost braces in \itemize; meant \describe ?
checkRd: (-1) pigengene-class.Rd:64-68: Lost braces in \itemize; meant \describe ?
checkRd: (-1) pigengene-class.Rd:73-76: Lost braces in \itemize; meant \describe ?
checkRd: (-1) pigengene-class.Rd:77-79: Lost braces in \itemize; meant \describe ?
* checking Rd metadata ... OK
* checking Rd cross-references ... NOTE
Non-topic package-anchored link(s) in Rd file 'draw.bn.Rd':
  ‘[bnlearn:bn.class]{bn-class}’

Non-topic package-anchored link(s) in Rd file 'gene.mapping.Rd':
  ‘[org.Hs.eg.db:org.Hs.egBASE]{org.Hs.eg.db}’
  ‘[org.Mm.eg.db:org.Mm.egBASE]{org.Mm.eg.db}’

Non-topic package-anchored link(s) in Rd file 'learn.bn.Rd':
  ‘[bnlearn:preprocessing]{discretize}’ ‘[bnlearn:bn.class]{bn-class}’

See section 'Cross-references' in the 'Writing R Extensions' manual.
* checking for missing documentation entries ... OK
* checking for code/documentation mismatches ... OK
* checking Rd \usage sections ... OK
* checking Rd contents ... OK
* checking for unstated dependencies in examples ... OK
* checking contents of ‘data’ directory ... OK
* checking data for non-ASCII characters ... OK
* checking data for ASCII and uncompressed saves ... OK
* checking sizes of PDF files under ‘inst/doc’ ... OK
* checking files in ‘vignettes’ ... OK
* checking examples ... OK
Examples with CPU (user + system) or elapsed time > 5s
                     user system elapsed
get.enriched.pw    69.226  6.089  76.242
one.step.pigengene 72.343  2.197  75.140
Pigengene-package  69.843  2.642  72.937
module.heatmap     34.255  1.846  36.411
learn.bn           15.870  0.396  16.390
make.filter        14.556  0.275  14.931
apply.filter       13.115  0.281  13.466
combine.networks   12.619  0.109  12.827
determine.modules  12.621  0.103  12.799
wgcna.one.step     12.300  0.089  12.447
compute.pigengene  11.372  0.721  12.184
make.decision.tree 11.420  0.539  12.036
compact.tree       10.696  0.597  11.391
gene.mapping        7.614  0.902  13.628
pigengene           6.451  0.563   7.123
plot.pigengene      6.392  0.378   6.811
project.eigen       5.924  0.351   6.348
* checking for unstated dependencies in vignettes ... OK
* checking package vignettes ... OK
* checking running R code from vignettes ... SKIPPED
* checking re-building of vignette outputs ... SKIPPED
* checking PDF version of manual ... OK
* DONE

Status: 4 NOTEs
See
  ‘/Users/biocbuild/bbs-3.21-bioc/meat/Pigengene.Rcheck/00check.log’
for details.


Installation output

Pigengene.Rcheck/00install.out

##############################################################################
##############################################################################
###
### Running command:
###
###   /Library/Frameworks/R.framework/Resources/bin/R CMD INSTALL Pigengene
###
##############################################################################
##############################################################################


* installing to library ‘/Library/Frameworks/R.framework/Versions/4.5-x86_64/Resources/library’
* installing *source* package ‘Pigengene’ ...
** this is package ‘Pigengene’ version ‘1.34.0’
** using staged installation
** R
** data
** inst
** byte-compile and prepare package for lazy loading
** help
*** installing help indices
** building package indices
** installing vignettes
** testing if installed package can be loaded from temporary location
** testing if installed package can be loaded from final location
** testing if installed package keeps a record of temporary installation path
* DONE (Pigengene)

Tests output


Example timings

Pigengene.Rcheck/Pigengene-Ex.timings

nameusersystemelapsed
Pigengene-package69.843 2.64272.937
aml0.1280.0090.138
apply.filter13.115 0.28113.466
balance0.3630.0400.405
calculate.beta0.6970.0370.738
check.nas0.0350.0020.037
check.pigengene.input0.0370.0030.038
combine.networks12.619 0.10912.827
compact.tree10.696 0.59711.391
compute.pigengene11.372 0.72112.184
dcor.matrix0.1510.0160.169
determine.modules12.621 0.10312.799
draw.bn0.0010.0010.001
eigengenes330.1080.0080.116
gene.mapping 7.614 0.90213.628
get.enriched.pw69.226 6.08976.242
get.fitted.leaf0.4120.0220.438
get.genes0.3920.0230.421
get.used.features0.5640.0510.626
learn.bn15.870 0.39616.390
make.decision.tree11.420 0.53912.036
make.filter14.556 0.27514.931
mds0.1100.0090.122
message.if0.0000.0000.001
module.heatmap34.255 1.84636.411
one.step.pigengene72.343 2.19775.140
pheatmap.type0.2430.0200.266
pigengene6.4510.5637.123
plot.pigengene6.3920.3786.811
preds.at0.5320.0280.568
project.eigen5.9240.3516.348
pvalues.manova0.0390.0070.047
save.if0.7550.0380.804
wgcna.one.step12.300 0.08912.447