Back to Multiple platform build/check report for BioC 3.22:   simplified   long
ABCDEFGHIJKLMNO[P]QRSTUVWXYZ

This page was generated on 2025-11-01 12:04 -0400 (Sat, 01 Nov 2025).

HostnameOSArch (*)R versionInstalled pkgs
nebbiolo2Linux (Ubuntu 24.04.3 LTS)x86_644.5.1 Patched (2025-08-23 r88802) -- "Great Square Root" 4901
lconwaymacOS 12.7.6 Montereyx86_644.5.1 Patched (2025-09-10 r88807) -- "Great Square Root" 4691
kjohnson3macOS 13.7.7 Venturaarm644.5.1 Patched (2025-09-10 r88807) -- "Great Square Root" 4637
Click on any hostname to see more info about the system (e.g. compilers)      (*) as reported by 'uname -p', except on Windows and Mac OS X

Package 1596/2361HostnameOS / ArchINSTALLBUILDCHECKBUILD BIN
PhyloProfile 2.2.0  (landing page)
Vinh Tran
Snapshot Date: 2025-10-31 13:45 -0400 (Fri, 31 Oct 2025)
git_url: https://git.bioconductor.org/packages/PhyloProfile
git_branch: RELEASE_3_22
git_last_commit: aa891b5
git_last_commit_date: 2025-10-29 10:53:26 -0400 (Wed, 29 Oct 2025)
nebbiolo2Linux (Ubuntu 24.04.3 LTS) / x86_64  OK    OK    OK  UNNEEDED, same version is already published
lconwaymacOS 12.7.6 Monterey / x86_64  OK    OK    OK    OK  UNNEEDED, same version is already published
kjohnson3macOS 13.7.7 Ventura / arm64  OK    OK    OK    OK  UNNEEDED, same version is already published


CHECK results for PhyloProfile on lconway

To the developers/maintainers of the PhyloProfile package:
- Allow up to 24 hours (and sometimes 48 hours) for your latest push to git@git.bioconductor.org:packages/PhyloProfile.git to reflect on this report. See Troubleshooting Build Report for more information.
- Use the following Renviron settings to reproduce errors and warnings.
- If 'R CMD check' started to fail recently on the Linux builder(s) over a missing dependency, add the missing dependency to 'Suggests:' in your DESCRIPTION file. See Renviron.bioc for more information.

raw results


Summary

Package: PhyloProfile
Version: 2.2.0
Command: /Library/Frameworks/R.framework/Resources/bin/R CMD check --install=check:PhyloProfile.install-out.txt --library=/Library/Frameworks/R.framework/Resources/library --no-vignettes --timings PhyloProfile_2.2.0.tar.gz
StartedAt: 2025-10-31 23:17:28 -0400 (Fri, 31 Oct 2025)
EndedAt: 2025-10-31 23:20:43 -0400 (Fri, 31 Oct 2025)
EllapsedTime: 194.9 seconds
RetCode: 0
Status:   OK  
CheckDir: PhyloProfile.Rcheck
Warnings: 0

Command output

##############################################################################
##############################################################################
###
### Running command:
###
###   /Library/Frameworks/R.framework/Resources/bin/R CMD check --install=check:PhyloProfile.install-out.txt --library=/Library/Frameworks/R.framework/Resources/library --no-vignettes --timings PhyloProfile_2.2.0.tar.gz
###
##############################################################################
##############################################################################


* using log directory ‘/Users/biocbuild/bbs-3.22-bioc/meat/PhyloProfile.Rcheck’
* using R version 4.5.1 Patched (2025-09-10 r88807)
* using platform: x86_64-apple-darwin20
* R was compiled by
    Apple clang version 14.0.0 (clang-1400.0.29.202)
    GNU Fortran (GCC) 14.2.0
* running under: macOS Monterey 12.7.6
* using session charset: UTF-8
* using option ‘--no-vignettes’
* checking for file ‘PhyloProfile/DESCRIPTION’ ... OK
* this is package ‘PhyloProfile’ version ‘2.2.0’
* package encoding: UTF-8
* checking package namespace information ... OK
* checking package dependencies ... INFO
Imports includes 31 non-default packages.
Importing from so many packages makes the package vulnerable to any of
them becoming unavailable.  Move as many as possible to Suggests and
use conditionally.
* checking if this is a source package ... OK
* checking if there is a namespace ... OK
* checking for hidden files and directories ... OK
* checking for portable file names ... OK
* checking for sufficient/correct file permissions ... OK
* checking whether package ‘PhyloProfile’ can be installed ... OK
* checking installed package size ... OK
* checking package directory ... OK
* checking ‘build’ directory ... OK
* checking DESCRIPTION meta-information ... OK
* checking top-level files ... OK
* checking for left-over files ... OK
* checking index information ... OK
* checking package subdirectories ... OK
* checking code files for non-ASCII characters ... OK
* checking R files for syntax errors ... OK
* checking whether the package can be loaded ... OK
* checking whether the package can be loaded with stated dependencies ... OK
* checking whether the package can be unloaded cleanly ... OK
* checking whether the namespace can be loaded with stated dependencies ... OK
* checking whether the namespace can be unloaded cleanly ... OK
* checking dependencies in R code ... OK
* checking S3 generic/method consistency ... OK
* checking replacement functions ... OK
* checking foreign function calls ... OK
* checking R code for possible problems ... OK
* checking Rd files ... OK
* checking Rd metadata ... OK
* checking Rd cross-references ... OK
* checking for missing documentation entries ... OK
* checking for code/documentation mismatches ... OK
* checking Rd \usage sections ... OK
* checking Rd contents ... OK
* checking for unstated dependencies in examples ... OK
* checking contents of ‘data’ directory ... OK
* checking data for non-ASCII characters ... OK
* checking data for ASCII and uncompressed saves ... OK
* checking files in ‘vignettes’ ... OK
* checking examples ... OK
Examples with CPU (user + system) or elapsed time > 5s
                     user system elapsed
heatmapPlottingFast 4.772  0.231   4.763
* checking for unstated dependencies in ‘tests’ ... OK
* checking tests ...
  Running ‘testthat.R’
 OK
* checking for unstated dependencies in vignettes ... OK
* checking package vignettes ... OK
* checking running R code from vignettes ... SKIPPED
* checking re-building of vignette outputs ... SKIPPED
* checking PDF version of manual ... OK
* DONE

Status: OK


Installation output

PhyloProfile.Rcheck/00install.out

##############################################################################
##############################################################################
###
### Running command:
###
###   /Library/Frameworks/R.framework/Resources/bin/R CMD INSTALL PhyloProfile
###
##############################################################################
##############################################################################


* installing to library ‘/Library/Frameworks/R.framework/Versions/4.5-x86_64/Resources/library’
* installing *source* package ‘PhyloProfile’ ...
** this is package ‘PhyloProfile’ version ‘2.2.0’
** using staged installation
** R
** data
** inst
** byte-compile and prepare package for lazy loading
** help
*** installing help indices
** building package indices
** installing vignettes
** testing if installed package can be loaded from temporary location
** testing if installed package can be loaded from final location
** testing if installed package keeps a record of temporary installation path
* DONE (PhyloProfile)

Tests output

PhyloProfile.Rcheck/tests/testthat.Rout


R version 4.5.1 Patched (2025-09-10 r88807) -- "Great Square Root"
Copyright (C) 2025 The R Foundation for Statistical Computing
Platform: x86_64-apple-darwin20

R is free software and comes with ABSOLUTELY NO WARRANTY.
You are welcome to redistribute it under certain conditions.
Type 'license()' or 'licence()' for distribution details.

R is a collaborative project with many contributors.
Type 'contributors()' for more information and
'citation()' on how to cite R or R packages in publications.

Type 'demo()' for some demos, 'help()' for on-line help, or
'help.start()' for an HTML browser interface to help.
Type 'q()' to quit R.

> library(testthat)
> library(PhyloProfile)
> 
> test_check("PhyloProfile")
[ FAIL 0 | WARN 0 | SKIP 0 | PASS 22 ]
> 
> proc.time()
   user  system elapsed 
  8.022   0.613   8.674 

Example timings

PhyloProfile.Rcheck/PhyloProfile-Ex.timings

nameusersystemelapsed
addDimRedTaxaColors0.8220.0360.863
addFeatureColors0.0360.0040.041
addRankDivisionPlot1.6400.0351.680
calcPresSpec0.0440.0040.048
checkColorPalette0.0000.0000.001
checkInputValidity0.0050.0010.006
checkNewick0.0020.0000.003
checkOmaID000
checkOverlapDomains0.0180.0010.018
clusterDataDend0.0190.0010.021
compareMedianTaxonGroups0.0230.0020.026
compareTaxonGroups0.0330.0030.036
createArchiPlot2.4730.0342.524
createDimRedPlotData0.7860.0320.823
createGeneAgePlot0.4000.0060.413
createLongMatrix0.0160.0140.036
createPercentageDistributionData0.0800.0180.101
createProfileFromOma0.0000.0010.000
createUnrootedTree0.0120.0020.015
createVarDistPlot0.3110.0050.320
createVariableDistributionData0.0080.0090.019
createVariableDistributionDataSubset0.0080.0030.011
dataCustomizedPlot0.0350.0030.042
dataFeatureTaxGroup0.0150.0030.018
dataMainPlot0.0380.0200.062
dataVarDistTaxGroup0.0050.0030.011
dimReduction0.6600.0150.679
estimateGeneAge0.1500.0160.174
fastaParser0.0380.0030.042
featureDistTaxPlot0.3930.0060.402
filterProfileData0.1240.0590.190
fromInputToProfile0.1830.0120.196
geneAgePlotDf0.0060.0010.007
generateSinglePlot0.4790.0140.494
getAllDomainsOma0.0000.0010.000
getAllFastaOma000
getCommonAncestor0.0280.0110.039
getCoreGene0.1100.0130.125
getDataClustering0.0190.0050.024
getDataForOneOma000
getDendrogram0.0530.0050.059
getDistanceMatrix0.0180.0010.020
getDomainFolder0.0000.0010.001
getFastaFromFasInput0.0170.0020.019
getFastaFromFile0.0140.0020.016
getFastaFromFolder0.0100.0010.012
getIDsRank0.0250.0050.030
getInputTaxaID0.0020.0020.005
getInputTaxaName0.0150.0040.020
getNameList0.0240.0690.113
getOmaDataForOneOrtholog000
getOmaDomainFromURL000
getOmaMembers0.0000.0010.001
getQualColForVector0.0000.0000.001
getSelectedFastaOma000
getSelectedTaxonNames0.0200.0050.027
getTaxHierarchy0.0270.0040.031
getTaxonomyInfo0.0170.0030.019
getTaxonomyMatrix0.1130.2550.427
getTaxonomyRanks0.0000.0010.001
gridArrangeSharedLegend0.0000.0010.004
groupLabelDimRedData0.0620.0130.080
heatmapPlotting0.5510.0060.563
heatmapPlottingFast4.7720.2314.763
highlightProfilePlot0.5700.0270.606
id2name0.0040.0030.007
joinPlotMergeLegends0.7920.0080.813
linearizeArchitecture0.0120.0020.016
mainTaxonomyRank0.0010.0010.002
modifyFeatureName0.0200.0390.060
pairDomainPlotting0.5010.0040.508
parseDomainInput0.0160.0210.038
parseInfoProfile0.1350.0090.146
plotDimRed1.1100.0131.127
plotDimRed3D0.9640.0501.022
prepareDimRedData0.0560.0070.064
processNcbiTaxonomy0.0000.0000.001
processOrthoID0.1400.0820.295
qualitativeColours000
rankIndexing0.0360.0010.038
reduceProfile0.0370.0010.038
resolveOverlapFeatures0.0140.0010.015
runPhyloProfile0.0910.0480.167
singleDomainPlotting0.3240.0030.328
sortDomains0.0100.0010.010
sortDomainsByList0.0100.0020.011
sortInputTaxa0.0300.0080.039
sortTaxaFromTree0.0090.0010.009
taxonomyTableCreator0.0920.0040.095
varDistTaxPlot1.8120.0241.846
wideToLong0.0130.0090.022
xmlParser0.0140.0030.017