| Back to Multiple platform build/check report for BioC 3.21: simplified long | 
 | 
This page was generated on 2025-06-16 11:40 -0400 (Mon, 16 Jun 2025).
| Hostname | OS | Arch (*) | R version | Installed pkgs | 
|---|---|---|---|---|
| nebbiolo1 | Linux (Ubuntu 24.04.2 LTS) | x86_64 | 4.5.0 RC (2025-04-04 r88126) -- "How About a Twenty-Six" | 4838 | 
| palomino7 | Windows Server 2022 Datacenter | x64 | 4.5.0 RC (2025-04-04 r88126 ucrt) -- "How About a Twenty-Six" | 4578 | 
| merida1 | macOS 12.7.5 Monterey | x86_64 | 4.5.0 RC (2025-04-04 r88126) -- "How About a Twenty-Six" | 4602 | 
| kjohnson1 | macOS 13.6.6 Ventura | arm64 | 4.5.0 RC (2025-04-04 r88129) -- "How About a Twenty-Six" | 4556 | 
| kunpeng2 | Linux (openEuler 24.03 LTS) | aarch64 | R Under development (unstable) (2025-02-19 r87757) -- "Unsuffered Consequences" | 4576 | 
| Click on any hostname to see more info about the system (e.g. compilers) (*) as reported by 'uname -p', except on Windows and Mac OS X | ||||
| Package 1572/2341 | Hostname | OS / Arch | INSTALL | BUILD | CHECK | BUILD BIN | ||||||||
| PhenStat 2.44.0  (landing page) Hamed Haselimashhadi 
 | nebbiolo1 | Linux (Ubuntu 24.04.2 LTS) / x86_64 | OK | OK | OK |  | ||||||||
| palomino7 | Windows Server 2022 Datacenter / x64 | OK | OK | OK | OK |  | ||||||||
| merida1 | macOS 12.7.5 Monterey / x86_64 | OK | OK | OK | OK |  | ||||||||
| kjohnson1 | macOS 13.6.6 Ventura / arm64 | OK | OK | OK | OK |  | ||||||||
| kunpeng2 | Linux (openEuler 24.03 LTS) / aarch64 | OK | OK | OK | ||||||||||
| To the developers/maintainers of the PhenStat package: - Allow up to 24 hours (and sometimes 48 hours) for your latest push to git@git.bioconductor.org:packages/PhenStat.git to reflect on this report. See Troubleshooting Build Report for more information. - Use the following Renviron settings to reproduce errors and warnings. - If 'R CMD check' started to fail recently on the Linux builder(s) over a missing dependency, add the missing dependency to 'Suggests:' in your DESCRIPTION file. See Renviron.bioc for more information. | 
| Package: PhenStat | 
| Version: 2.44.0 | 
| Command: /home/biocbuild/bbs-3.21-bioc/R/bin/R CMD check --install=check:PhenStat.install-out.txt --library=/home/biocbuild/bbs-3.21-bioc/R/site-library --timings PhenStat_2.44.0.tar.gz | 
| StartedAt: 2025-06-16 01:27:50 -0400 (Mon, 16 Jun 2025) | 
| EndedAt: 2025-06-16 01:29:58 -0400 (Mon, 16 Jun 2025) | 
| EllapsedTime: 128.2 seconds | 
| RetCode: 0 | 
| Status: OK | 
| CheckDir: PhenStat.Rcheck | 
| Warnings: 0 | 
##############################################################################
##############################################################################
###
### Running command:
###
###   /home/biocbuild/bbs-3.21-bioc/R/bin/R CMD check --install=check:PhenStat.install-out.txt --library=/home/biocbuild/bbs-3.21-bioc/R/site-library --timings PhenStat_2.44.0.tar.gz
###
##############################################################################
##############################################################################
* using log directory ‘/home/biocbuild/bbs-3.21-bioc/meat/PhenStat.Rcheck’
* using R version 4.5.0 RC (2025-04-04 r88126)
* using platform: x86_64-pc-linux-gnu
* R was compiled by
    gcc (Ubuntu 13.3.0-6ubuntu2~24.04) 13.3.0
    GNU Fortran (Ubuntu 13.3.0-6ubuntu2~24.04) 13.3.0
* running under: Ubuntu 24.04.2 LTS
* using session charset: UTF-8
* checking for file ‘PhenStat/DESCRIPTION’ ... OK
* checking extension type ... Package
* this is package ‘PhenStat’ version ‘2.44.0’
* checking package namespace information ... OK
* checking package dependencies ... OK
* checking if this is a source package ... OK
* checking if there is a namespace ... OK
* checking for hidden files and directories ... OK
* checking for portable file names ... OK
* checking for sufficient/correct file permissions ... OK
* checking whether package ‘PhenStat’ can be installed ... OK
* checking installed package size ... OK
* checking package directory ... OK
* checking ‘build’ directory ... OK
* checking DESCRIPTION meta-information ... OK
* checking top-level files ... OK
* checking for left-over files ... OK
* checking index information ... OK
* checking package subdirectories ... OK
* checking code files for non-ASCII characters ... OK
* checking R files for syntax errors ... OK
* checking whether the package can be loaded ... OK
* checking whether the package can be loaded with stated dependencies ... OK
* checking whether the package can be unloaded cleanly ... OK
* checking whether the namespace can be loaded with stated dependencies ... OK
* checking whether the namespace can be unloaded cleanly ... OK
* checking loading without being on the library search path ... OK
* checking whether startup messages can be suppressed ... OK
* checking dependencies in R code ... NOTE
Namespace in Imports field not imported from: ‘SmoothWin’
  All declared Imports should be used.
* checking S3 generic/method consistency ... OK
* checking replacement functions ... OK
* checking foreign function calls ... OK
* checking R code for possible problems ... OK
* checking Rd files ... NOTE
checkRd: (-1) plot.PhenList.Rd:49-53: Lost braces
    49 |       \item boxplotSexGenotype. See documentations for {
       |                                                        ^
checkRd: (-1) plot.PhenList.Rd:54-58: Lost braces
    54 |       \item boxplotSexGenotypeBatchAdjusted. See documentations for {
       |                                                                     ^
checkRd: (-1) plot.PhenList.Rd:59-63: Lost braces
    59 |       \item boxplotSexGenotypeWeightBatchAdjusted. See documentations for {
       |                                                                           ^
checkRd: (-1) plot.PhenList.Rd:64-68: Lost braces
    64 |       \item scatterplotSexGenotypeBatch. See documentations for {
       |                                                                 ^
checkRd: (-1) plot.PhenList.Rd:69-73: Lost braces
    69 |       \item scatterplotGenotypeWeight. See documentations for {
       |                                                               ^
checkRd: (-1) plot.PhenList.Rd:74-78: Lost braces
    74 |       \item boxplotSexGenotypeBatch. See documentations for {
       |                                                             ^
checkRd: (-1) plot.PhenTestResult.Rd:41-45: Lost braces
    41 |       \item boxplotSexGenotypeResult. See documentations for {
       |                                                              ^
checkRd: (-1) plot.PhenTestResult.Rd:46-50: Lost braces
    46 |       \item scatterplotSexGenotypeBatchResult. See documentations for {
       |                                                                       ^
checkRd: (-1) plot.PhenTestResult.Rd:51-55: Lost braces
    51 |       \item scatterplotGenotypeWeightResult. See documentations for {
       |                                                                     ^
checkRd: (-1) plot.PhenTestResult.Rd:56-60: Lost braces
    56 |       \item plotResidualPredicted. See documentations for {
       |                                                           ^
checkRd: (-1) plot.PhenTestResult.Rd:61-65: Lost braces
    61 |       \item qqplotRandomEffects. See documentations for {
       |                                                         ^
checkRd: (-1) plot.PhenTestResult.Rd:66-70: Lost braces
    66 |       \item boxplotResidualBatch. See documentations for {
       |                                                          ^
checkRd: (-1) plot.PhenTestResult.Rd:71-75: Lost braces
    71 |       \item qqplotRotatedResiduals. See documentations for {
       |                                                            ^
checkRd: (-1) plot.PhenTestResult.Rd:76-80: Lost braces
    76 |       \item qqplotGenotype. See documentations for {
       |                                                    ^
checkRd: (-1) plot.PhenTestResult.Rd:81-85: Lost braces
    81 |       \item categoricalBarplot. See documentations for {
       |                                                        ^
checkRd: (-1) qqplotRotatedResiduals.Rd:18: Lost braces
    18 |     Houseman, E. A., Ryan, L. M., Coull, B. A. (2004): Cholesky residuals for assessing normal errors in a linear model with correlated outcomes. \emph{Journal of the American Statistical Association} \bold{99}{466}: pg 383-394. Doi 10.1198
       |                                                                                                                                                                                                                   ^
* checking Rd metadata ... OK
* checking Rd cross-references ... OK
* checking for missing documentation entries ... OK
* checking for code/documentation mismatches ... OK
* checking Rd \usage sections ... NOTE
Documented arguments not in \usage in Rd file 'printLROutput.Rd':
  ‘effectValues’
Functions with \usage entries need to have the appropriate \alias
entries, and all their arguments documented.
The \usage entries must correspond to syntactically valid R code.
See chapter ‘Writing R documentation files’ in the ‘Writing R
Extensions’ manual.
* checking Rd contents ... NOTE
Argument items with no description in Rd file 'plot.PhenList.Rd':
  ‘\dots’
Argument items with no description in Rd file 'plot.PhenTestResult.Rd':
  ‘\dots’
* checking for unstated dependencies in examples ... OK
* checking installed files from ‘inst/doc’ ... OK
* checking files in ‘vignettes’ ... OK
* checking examples ... OK
* checking for unstated dependencies in ‘tests’ ... OK
* checking tests ...
  Running ‘runTests.R’
 OK
* checking for unstated dependencies in vignettes ... OK
* checking package vignettes ... OK
* checking re-building of vignette outputs ... OK
* checking PDF version of manual ... OK
* DONE
Status: 4 NOTEs
See
  ‘/home/biocbuild/bbs-3.21-bioc/meat/PhenStat.Rcheck/00check.log’
for details.
PhenStat.Rcheck/00install.out
############################################################################## ############################################################################## ### ### Running command: ### ### /home/biocbuild/bbs-3.21-bioc/R/bin/R CMD INSTALL PhenStat ### ############################################################################## ############################################################################## * installing to library ‘/home/biocbuild/bbs-3.21-bioc/R/site-library’ * installing *source* package ‘PhenStat’ ... ** this is package ‘PhenStat’ version ‘2.44.0’ ** using staged installation ** R ** inst ** byte-compile and prepare package for lazy loading ** help *** installing help indices ** building package indices ** installing vignettes ** testing if installed package can be loaded from temporary location ** testing if installed package can be loaded from final location ** testing if installed package keeps a record of temporary installation path * DONE (PhenStat)
PhenStat.Rcheck/tests/runTests.Rout
R version 4.5.0 RC (2025-04-04 r88126) -- "How About a Twenty-Six"
Copyright (C) 2025 The R Foundation for Statistical Computing
Platform: x86_64-pc-linux-gnu
R is free software and comes with ABSOLUTELY NO WARRANTY.
You are welcome to redistribute it under certain conditions.
Type 'license()' or 'licence()' for distribution details.
R is a collaborative project with many contributors.
Type 'contributors()' for more information and
'citation()' on how to cite R or R packages in publications.
Type 'demo()' for some demos, 'help()' for on-line help, or
'help.start()' for an HTML browser interface to help.
Type 'q()' to quit R.
> BiocGenerics:::testPackage("PhenStat")
 >=========================================================================<
 This version of PhenStat includes *FEWER* functions than the previous ones 
 You *still* can use the previous functions by using `:::`. For example :   
 PhenStat:::boxplotSexGenotype   or   PhenStat:::FisherExactTest            
 *** Want to know what is new in this version? run PhenStat:::WhatIsNew()   
 >=========================================================================<
RUNIT TEST PROTOCOL -- Mon Jun 16 01:29:41 2025 
*********************************************** 
Number of test functions: 0 
Number of errors: 0 
Number of failures: 0 
 
1 Test Suite : 
PhenStat RUnit Tests - 0 test functions, 0 errors, 0 failures
Number of test functions: 0 
Number of errors: 0 
Number of failures: 0 
> 
> proc.time()
   user  system elapsed 
  2.919   0.261   3.163 
PhenStat.Rcheck/PhenStat-Ex.timings
| name | user | system | elapsed | |
| FisherExactTest | 0.151 | 0.010 | 0.163 | |
| JSONOutput | 0.723 | 0.020 | 0.744 | |
| LRDataset | 0.041 | 0.001 | 0.043 | |
| PhenList-class | 0.152 | 0.003 | 0.157 | |
| PhenList | 0.156 | 0.001 | 0.158 | |
| PhenStatReport | 0.031 | 0.000 | 0.031 | |
| PhenTestResult-class | 0.588 | 0.010 | 0.598 | |
| PhenTestResult | 0.492 | 0.003 | 0.495 | |
| RRTest | 0.072 | 0.001 | 0.073 | |
| TFDataset | 0.215 | 0.008 | 0.223 | |
| analysedDataset | 0.593 | 0.012 | 0.605 | |
| analysisResults | 0.836 | 0.009 | 0.845 | |
| boxplotResidualBatch | 0.623 | 0.004 | 0.627 | |
| boxplotSexGenotype | 0.062 | 0.001 | 0.062 | |
| boxplotSexGenotypeBatch | 0.112 | 0.000 | 0.111 | |
| boxplotSexGenotypeBatchAdjusted | 0.068 | 0.002 | 0.070 | |
| boxplotSexGenotypeResult | 0.724 | 0.010 | 0.735 | |
| boxplotSexGenotypeWeightBatchAdjusted | 0.055 | 0.000 | 0.056 | |
| categoricalBarplot | 0.121 | 0.001 | 0.123 | |
| checkDataset | 0.031 | 0.001 | 0.032 | |
| classificationTag | 0.574 | 0.005 | 0.580 | |
| determiningLambda | 0.716 | 0.034 | 0.751 | |
| dim | 0.034 | 0.000 | 0.033 | |
| finalLRModel | 0.468 | 0.006 | 0.476 | |
| finalModel | 0.493 | 0.000 | 0.493 | |
| finalTFModel | 0.384 | 0.017 | 0.402 | |
| htestPhenStat-class | 0.119 | 0.014 | 0.133 | |
| modelFormula | 0 | 0 | 0 | |
| modelFormulaLR | 0.000 | 0.001 | 0.000 | |
| parserOutputSummary | 0.615 | 0.003 | 0.618 | |
| parserOutputSummaryLR | 0.414 | 0.002 | 0.416 | |
| parserOutputTFSummary | 0.087 | 0.001 | 0.088 | |
| performReverseTransformation | 0.000 | 0.000 | 0.001 | |
| performTransformation | 0 | 0 | 0 | |
| plot.PhenList | 1.991 | 0.013 | 2.005 | |
| plot.PhenTestResult | 1.955 | 0.035 | 1.990 | |
| plotResidualPredicted | 0.582 | 0.003 | 0.585 | |
| printLROutput | 0.682 | 0.005 | 0.687 | |
| printTabStyle | 0.000 | 0.000 | 0.001 | |
| qqplotGenotype | 0.604 | 0.003 | 0.607 | |
| qqplotRandomEffects | 0.568 | 0.005 | 0.573 | |
| qqplotRotatedResiduals | 3.145 | 0.050 | 3.195 | |
| recommendMethod | 0.202 | 0.000 | 0.204 | |
| scatterplotGenotypeWeight | 0.134 | 0.001 | 0.135 | |
| scatterplotGenotypeWeightResult | 0.747 | 0.002 | 0.749 | |
| scatterplotSexGenotypeBatch | 0.075 | 0.001 | 0.076 | |
| scatterplotSexGenotypeBatchResult | 0.754 | 0.004 | 0.759 | |
| startLRModel | 0.373 | 0.002 | 0.375 | |
| startModel | 0.444 | 0.001 | 0.445 | |
| startTFModel | 0.354 | 0.005 | 0.359 | |
| summaryOutput | 0.682 | 0.003 | 0.685 | |
| summaryPhenListResult | 0.703 | 0.046 | 0.749 | |
| testDataset | 1.877 | 0.088 | 1.965 | |
| testFinalLRModel | 0.380 | 0.003 | 0.384 | |
| testFinalModel | 0.685 | 0.002 | 0.687 | |
| vectorOutput | 0.684 | 0.004 | 0.688 | |
| vectorOutputMatrices | 0.106 | 0.002 | 0.107 | |