Back to Multiple platform build/check report for BioC 3.20:   simplified   long
ABCDEFGHIJKLMN[O]PQRSTUVWXYZ

This page was generated on 2025-02-03 12:12 -0500 (Mon, 03 Feb 2025).

HostnameOSArch (*)R versionInstalled pkgs
nebbiolo2Linux (Ubuntu 24.04.1 LTS)x86_644.4.2 (2024-10-31) -- "Pile of Leaves" 4746
palomino8Windows Server 2022 Datacenterx644.4.2 (2024-10-31 ucrt) -- "Pile of Leaves" 4494
merida1macOS 12.7.5 Montereyx86_644.4.2 (2024-10-31) -- "Pile of Leaves" 4517
kjohnson1macOS 13.6.6 Venturaarm644.4.2 (2024-10-31) -- "Pile of Leaves" 4469
taishanLinux (openEuler 24.03 LTS)aarch644.4.2 (2024-10-31) -- "Pile of Leaves" 4400
Click on any hostname to see more info about the system (e.g. compilers)      (*) as reported by 'uname -p', except on Windows and Mac OS X

Package 1462/2289HostnameOS / ArchINSTALLBUILDCHECKBUILD BIN
OncoSimulR 4.8.0  (landing page)
Ramon Diaz-Uriarte
Snapshot Date: 2025-01-30 13:00 -0500 (Thu, 30 Jan 2025)
git_url: https://git.bioconductor.org/packages/OncoSimulR
git_branch: RELEASE_3_20
git_last_commit: 52cb97a
git_last_commit_date: 2024-10-29 09:53:24 -0500 (Tue, 29 Oct 2024)
nebbiolo2Linux (Ubuntu 24.04.1 LTS) / x86_64  OK    OK    OK  UNNEEDED, same version is already published
palomino8Windows Server 2022 Datacenter / x64  OK    OK    OK    OK  UNNEEDED, same version is already published
merida1macOS 12.7.5 Monterey / x86_64  OK    OK    OK    OK  UNNEEDED, same version is already published
kjohnson1macOS 13.6.6 Ventura / arm64... NOT SUPPORTED ...
taishanLinux (openEuler 24.03 LTS) / aarch64  OK    OK    OK  


CHECK results for OncoSimulR on taishan

To the developers/maintainers of the OncoSimulR package:
- Allow up to 24 hours (and sometimes 48 hours) for your latest push to git@git.bioconductor.org:packages/OncoSimulR.git to reflect on this report. See Troubleshooting Build Report for more information.
- Use the following Renviron settings to reproduce errors and warnings.
- If 'R CMD check' started to fail recently on the Linux builder(s) over a missing dependency, add the missing dependency to 'Suggests:' in your DESCRIPTION file. See Renviron.bioc for more information.
- See Martin Grigorov's blog post for how to debug Linux ARM64 related issues on a x86_64 host.

raw results


Summary

Package: OncoSimulR
Version: 4.8.0
Command: /home/biocbuild/R/R/bin/R CMD check --install=check:OncoSimulR.install-out.txt --library=/home/biocbuild/R/R/site-library --no-vignettes --timings OncoSimulR_4.8.0.tar.gz
StartedAt: 2025-01-31 08:50:37 -0000 (Fri, 31 Jan 2025)
EndedAt: 2025-01-31 08:56:24 -0000 (Fri, 31 Jan 2025)
EllapsedTime: 347.6 seconds
RetCode: 0
Status:   OK  
CheckDir: OncoSimulR.Rcheck
Warnings: 0

Command output

##############################################################################
##############################################################################
###
### Running command:
###
###   /home/biocbuild/R/R/bin/R CMD check --install=check:OncoSimulR.install-out.txt --library=/home/biocbuild/R/R/site-library --no-vignettes --timings OncoSimulR_4.8.0.tar.gz
###
##############################################################################
##############################################################################


* using log directory ‘/home/biocbuild/bbs-3.20-bioc/meat/OncoSimulR.Rcheck’
* using R version 4.4.2 (2024-10-31)
* using platform: aarch64-unknown-linux-gnu
* R was compiled by
    aarch64-unknown-linux-gnu-gcc (GCC) 14.2.0
    GNU Fortran (GCC) 12.3.1 (openEuler 12.3.1-36.oe2403)
* running under: openEuler 24.03 (LTS)
* using session charset: UTF-8
* using option ‘--no-vignettes’
* checking for file ‘OncoSimulR/DESCRIPTION’ ... OK
* checking extension type ... Package
* this is package ‘OncoSimulR’ version ‘4.8.0’
* checking package namespace information ... OK
* checking package dependencies ... OK
* checking if this is a source package ... OK
* checking if there is a namespace ... OK
* checking for hidden files and directories ... NOTE
Found the following hidden files and directories:
  .BBSoptions
These were most likely included in error. See section ‘Package
structure’ in the ‘Writing R Extensions’ manual.
* checking for portable file names ... OK
* checking for sufficient/correct file permissions ... OK
* checking whether package ‘OncoSimulR’ can be installed ... OK
* used C compiler: ‘aarch64-unknown-linux-gnu-gcc (GCC) 14.2.0’
* used C++ compiler: ‘aarch64-unknown-linux-gnu-g++ (GCC) 14.2.0’
* checking installed package size ... NOTE
  installed size is 46.6Mb
  sub-directories of 1Mb or more:
    libs  44.9Mb
* checking package directory ... OK
* checking ‘build’ directory ... OK
* checking DESCRIPTION meta-information ... OK
* checking top-level files ... OK
* checking for left-over files ... OK
* checking index information ... OK
* checking package subdirectories ... OK
* checking code files for non-ASCII characters ... OK
* checking R files for syntax errors ... OK
* checking whether the package can be loaded ... OK
* checking whether the package can be loaded with stated dependencies ... OK
* checking whether the package can be unloaded cleanly ... OK
* checking whether the namespace can be loaded with stated dependencies ... OK
* checking whether the namespace can be unloaded cleanly ... OK
* checking loading without being on the library search path ... OK
* checking whether startup messages can be suppressed ... OK
* checking dependencies in R code ... OK
* checking S3 generic/method consistency ... OK
* checking replacement functions ... OK
* checking foreign function calls ... OK
* checking R code for possible problems ... OK
* checking Rd files ... OK
* checking Rd metadata ... OK
* checking Rd cross-references ... OK
* checking for missing documentation entries ... OK
* checking for code/documentation mismatches ... OK
* checking Rd \usage sections ... OK
* checking Rd contents ... OK
* checking for unstated dependencies in examples ... OK
* checking contents of ‘data’ directory ... OK
* checking data for non-ASCII characters ... OK
* checking data for ASCII and uncompressed saves ... OK
* checking line endings in C/C++/Fortran sources/headers ... OK
* checking line endings in Makefiles ... OK
* checking compilation flags in Makevars ... OK
* checking for GNU extensions in Makefiles ... OK
* checking for portable use of $(BLAS_LIBS) and $(LAPACK_LIBS) ... OK
* checking use of PKG_*FLAGS in Makefiles ... OK
* checking include directives in Makefiles ... OK
* checking compiled code ... NOTE
Note: information on .o files is not available
* checking files in ‘vignettes’ ... OK
* checking examples ... OK
* checking for unstated dependencies in ‘tests’ ... OK
* checking tests ...
  Running ‘testthat.R’
 OK
* checking for unstated dependencies in vignettes ... OK
* checking package vignettes ... OK
* checking running R code from vignettes ... SKIPPED
* checking re-building of vignette outputs ... SKIPPED
* checking PDF version of manual ... OK
* DONE

Status: 3 NOTEs
See
  ‘/home/biocbuild/bbs-3.20-bioc/meat/OncoSimulR.Rcheck/00check.log’
for details.


Installation output

OncoSimulR.Rcheck/00install.out

##############################################################################
##############################################################################
###
### Running command:
###
###   /home/biocbuild/R/R/bin/R CMD INSTALL OncoSimulR
###
##############################################################################
##############################################################################


* installing to library ‘/home/biocbuild/R/R-4.4.2/site-library’
* installing *source* package ‘OncoSimulR’ ...
** using staged installation
** libs
using C compiler: ‘aarch64-unknown-linux-gnu-gcc (GCC) 14.2.0’
using C++ compiler: ‘aarch64-unknown-linux-gnu-g++ (GCC) 14.2.0’
/opt/ohpc/pub/compiler/gcc/14.2.0/bin/aarch64-unknown-linux-gnu-gcc -I"/home/biocbuild/R/R/include" -DNDEBUG  -I'/home/biocbuild/R/R-4.4.2/site-library/Rcpp/include' -I/usr/local/include    -fPIC  -g -O2  -Wall -Werror=format-security -c FitnessLandscape/gamma.c -o FitnessLandscape/gamma.o
/opt/ohpc/pub/compiler/gcc/14.2.0/bin/aarch64-unknown-linux-gnu-gcc -I"/home/biocbuild/R/R/include" -DNDEBUG  -I'/home/biocbuild/R/R-4.4.2/site-library/Rcpp/include' -I/usr/local/include    -fPIC  -g -O2  -Wall -Werror=format-security -c FitnessLandscape/landscape.c -o FitnessLandscape/landscape.o
/opt/ohpc/pub/compiler/gcc/14.2.0/bin/aarch64-unknown-linux-gnu-gcc -I"/home/biocbuild/R/R/include" -DNDEBUG  -I'/home/biocbuild/R/R-4.4.2/site-library/Rcpp/include' -I/usr/local/include    -fPIC  -g -O2  -Wall -Werror=format-security -c FitnessLandscape/random.c -o FitnessLandscape/random.o
/opt/ohpc/pub/compiler/gcc/14.2.0/bin/aarch64-unknown-linux-gnu-gcc -I"/home/biocbuild/R/R/include" -DNDEBUG  -I'/home/biocbuild/R/R-4.4.2/site-library/Rcpp/include' -I/usr/local/include    -fPIC  -g -O2  -Wall -Werror=format-security -c FitnessLandscape/sort.c -o FitnessLandscape/sort.o
/opt/ohpc/pub/compiler/gcc/14.2.0/bin/aarch64-unknown-linux-gnu-gcc -I"/home/biocbuild/R/R/include" -DNDEBUG  -I'/home/biocbuild/R/R-4.4.2/site-library/Rcpp/include' -I/usr/local/include    -fPIC  -g -O2  -Wall -Werror=format-security -c FitnessLandscape/chain.c -o FitnessLandscape/chain.o
/opt/ohpc/pub/compiler/gcc/14.2.0/bin/aarch64-unknown-linux-gnu-gcc -I"/home/biocbuild/R/R/include" -DNDEBUG  -I'/home/biocbuild/R/R-4.4.2/site-library/Rcpp/include' -I/usr/local/include    -fPIC  -g -O2  -Wall -Werror=format-security -c FitnessLandscape/input.c -o FitnessLandscape/input.o
/opt/ohpc/pub/compiler/gcc/14.2.0/bin/aarch64-unknown-linux-gnu-gcc -I"/home/biocbuild/R/R/include" -DNDEBUG  -I'/home/biocbuild/R/R-4.4.2/site-library/Rcpp/include' -I/usr/local/include    -fPIC  -g -O2  -Wall -Werror=format-security -c FitnessLandscape/genotypes.c -o FitnessLandscape/genotypes.o
/opt/ohpc/pub/compiler/gcc/14.2.0/bin/aarch64-unknown-linux-gnu-gcc -I"/home/biocbuild/R/R/include" -DNDEBUG  -I'/home/biocbuild/R/R-4.4.2/site-library/Rcpp/include' -I/usr/local/include    -fPIC  -g -O2  -Wall -Werror=format-security -c FitnessLandscape/ordered_pairs.c -o FitnessLandscape/ordered_pairs.o
/opt/ohpc/pub/compiler/gcc/14.2.0/bin/aarch64-unknown-linux-gnu-gcc -I"/home/biocbuild/R/R/include" -DNDEBUG  -I'/home/biocbuild/R/R-4.4.2/site-library/Rcpp/include' -I/usr/local/include    -fPIC  -g -O2  -Wall -Werror=format-security -c FitnessLandscape/calculus.c -o FitnessLandscape/calculus.o
/opt/ohpc/pub/compiler/gcc/14.2.0/bin/aarch64-unknown-linux-gnu-gcc -I"/home/biocbuild/R/R/include" -DNDEBUG  -I'/home/biocbuild/R/R-4.4.2/site-library/Rcpp/include' -I/usr/local/include    -fPIC  -g -O2  -Wall -Werror=format-security -c FitnessLandscape/vector.c -o FitnessLandscape/vector.o
/opt/ohpc/pub/compiler/gcc/14.2.0/bin/aarch64-unknown-linux-gnu-gcc -I"/home/biocbuild/R/R/include" -DNDEBUG  -I'/home/biocbuild/R/R-4.4.2/site-library/Rcpp/include' -I/usr/local/include    -fPIC  -g -O2  -Wall -Werror=format-security -c FitnessLandscape/generalized_chain.c -o FitnessLandscape/generalized_chain.o
/opt/ohpc/pub/compiler/gcc/14.2.0/bin/aarch64-unknown-linux-gnu-gcc -I"/home/biocbuild/R/R/include" -DNDEBUG  -I'/home/biocbuild/R/R-4.4.2/site-library/Rcpp/include' -I/usr/local/include    -fPIC  -g -O2  -Wall -Werror=format-security -c FitnessLandscape/LinearAlgebra.c -o FitnessLandscape/LinearAlgebra.o
/opt/ohpc/pub/compiler/gcc/14.2.0/bin/aarch64-unknown-linux-gnu-gcc -I"/home/biocbuild/R/R/include" -DNDEBUG  -I'/home/biocbuild/R/R-4.4.2/site-library/Rcpp/include' -I/usr/local/include    -fPIC  -g -O2  -Wall -Werror=format-security -c FitnessLandscape/summary_statistics.c -o FitnessLandscape/summary_statistics.o
/opt/ohpc/pub/compiler/gcc/14.2.0/bin/aarch64-unknown-linux-gnu-gcc -I"/home/biocbuild/R/R/include" -DNDEBUG  -I'/home/biocbuild/R/R-4.4.2/site-library/Rcpp/include' -I/usr/local/include    -fPIC  -g -O2  -Wall -Werror=format-security -c FitnessLandscape/epistasis_type.c -o FitnessLandscape/epistasis_type.o
/opt/ohpc/pub/compiler/gcc/14.2.0/bin/aarch64-unknown-linux-gnu-gcc -I"/home/biocbuild/R/R/include" -DNDEBUG  -I'/home/biocbuild/R/R-4.4.2/site-library/Rcpp/include' -I/usr/local/include    -fPIC  -g -O2  -Wall -Werror=format-security -c FitnessLandscape/decomposition.c -o FitnessLandscape/decomposition.o
/opt/ohpc/pub/compiler/gcc/14.2.0/bin/aarch64-unknown-linux-gnu-gcc -I"/home/biocbuild/R/R/include" -DNDEBUG  -I'/home/biocbuild/R/R-4.4.2/site-library/Rcpp/include' -I/usr/local/include    -fPIC  -g -O2  -Wall -Werror=format-security -c FitnessLandscape/models.c -o FitnessLandscape/models.o
/opt/ohpc/pub/compiler/gcc/14.2.0/bin/aarch64-unknown-linux-gnu-gcc -I"/home/biocbuild/R/R/include" -DNDEBUG  -I'/home/biocbuild/R/R-4.4.2/site-library/Rcpp/include' -I/usr/local/include    -fPIC  -g -O2  -Wall -Werror=format-security -c FitnessLandscape/verbose.c -o FitnessLandscape/verbose.o
ar -r liblandscape.a FitnessLandscape/gamma.o FitnessLandscape/landscape.o FitnessLandscape/random.o FitnessLandscape/sort.o FitnessLandscape/chain.o FitnessLandscape/input.o FitnessLandscape/genotypes.o FitnessLandscape/ordered_pairs.o FitnessLandscape/calculus.o FitnessLandscape/vector.o FitnessLandscape/generalized_chain.o FitnessLandscape/LinearAlgebra.o FitnessLandscape/summary_statistics.o FitnessLandscape/epistasis_type.o FitnessLandscape/decomposition.o FitnessLandscape/models.o FitnessLandscape/verbose.o ;
ar: creating liblandscape.a
ranlib liblandscape.a;
/opt/ohpc/pub/compiler/gcc/14.2.0/bin/aarch64-unknown-linux-gnu-gcc -O -Wall -o fl_statistics -I/FitnessLandscape/. -L. FitnessLandscape/main_fl_statistics.c -llandscape -lm;
/opt/ohpc/pub/compiler/gcc/14.2.0/bin/aarch64-unknown-linux-gnu-gcc -O -Wall -o fl_generate -I/FitnessLandscape/. -L. FitnessLandscape/main_fl_generate.c -llandscape -lm;
/opt/ohpc/pub/compiler/gcc/14.2.0/bin/aarch64-unknown-linux-gnu-gcc -I"/home/biocbuild/R/R/include" -DNDEBUG  -I'/home/biocbuild/R/R-4.4.2/site-library/Rcpp/include' -I/usr/local/include    -fPIC  -g -O2  -Wall -Werror=format-security -c OncoSimulR_init.c -o OncoSimulR_init.o
/opt/ohpc/pub/compiler/gcc/14.2.0/bin/aarch64-unknown-linux-gnu-g++ -std=gnu++17 -I"/home/biocbuild/R/R/include" -DNDEBUG  -I'/home/biocbuild/R/R-4.4.2/site-library/Rcpp/include' -I/usr/local/include    -fPIC  -g -O2  -Wall -Werror=format-security  -c RcppExports.cpp -o RcppExports.o
/opt/ohpc/pub/compiler/gcc/14.2.0/bin/aarch64-unknown-linux-gnu-g++ -std=gnu++17 -I"/home/biocbuild/R/R/include" -DNDEBUG  -I'/home/biocbuild/R/R-4.4.2/site-library/Rcpp/include' -I/usr/local/include    -fPIC  -g -O2  -Wall -Werror=format-security  -c unity_osimul.cpp -o unity_osimul.o
/opt/ohpc/pub/compiler/gcc/14.2.0/bin/aarch64-unknown-linux-gnu-g++ -std=gnu++17 -shared -L/home/biocbuild/R/R/lib -L/usr/local/lib -o OncoSimulR.so OncoSimulR_init.o RcppExports.o unity_osimul.o -L/home/biocbuild/R/R/lib -lR
installing via 'install.libs.R' to /home/biocbuild/R/R-4.4.2/site-library/00LOCK-OncoSimulR/00new/OncoSimulR
[1] ""
Installing fl_statistics fl_generate to /home/biocbuild/R/R-4.4.2/site-library/00LOCK-OncoSimulR/00new/OncoSimulR/exec
Installing library OncoSimulR.so to /home/biocbuild/R/R-4.4.2/site-library/00LOCK-OncoSimulR/00new/OncoSimulR/libs
** R
** data
** inst
** byte-compile and prepare package for lazy loading
** help
*** installing help indices
** building package indices
** installing vignettes
** testing if installed package can be loaded from temporary location
** checking absolute paths in shared objects and dynamic libraries
** testing if installed package can be loaded from final location
** testing if installed package keeps a record of temporary installation path
* DONE (OncoSimulR)

Tests output

OncoSimulR.Rcheck/tests/testthat.Rout


R version 4.4.2 (2024-10-31) -- "Pile of Leaves"
Copyright (C) 2024 The R Foundation for Statistical Computing
Platform: aarch64-unknown-linux-gnu

R is free software and comes with ABSOLUTELY NO WARRANTY.
You are welcome to redistribute it under certain conditions.
Type 'license()' or 'licence()' for distribution details.

R is a collaborative project with many contributors.
Type 'contributors()' for more information and
'citation()' on how to cite R or R packages in publications.

Type 'demo()' for some demos, 'help()' for on-line help, or
'help.start()' for an HTML browser interface to help.
Type 'q()' to quit R.

> library(testthat)
> library(OncoSimulR)
This is package OncoSimulR. If you are running it on an aarch64 (arm64) platform with a MacOS note that the package fails some tests in that platform + OS that I have no way of debugging. Please read file README_tests_kjohnson3_aarch64-apple-darwin20.txt in the tests directory. As of 2024-10-09, this platform is unsupported until we can properly debug it.
> 
> test_check("OncoSimulR")

 Starting FDF-letter-fitness-order Fri Jan 31 08:52:02 2025 

exprtk parser error: 

Error[00] Position: 00 Type: [  Syntax Error] Msg: ERR202 - Undefined symbol: 'n_2_3' Expression: n_2_3

exprtk parser error: 

Error[00] Position: 00 Type: [  Syntax Error] Msg: ERR202 - Undefined symbol: 'f_2_3' Expression: f_2_3

 Ending FDF-small-fitness-specs Fri Jan 31 08:52:03 2025 
  Took  0.71 


 Starting LOD_POM at Fri Jan 31 08:52:03 2025 

 Ending LOD_POM at Fri Jan 31 08:52:18 2025 
  Took  14.71 


 Starting test.Z-all-fitness at Fri Jan 31 08:52:18 2025 

 Ending test.Z-all-fitness at Fri Jan 31 08:52:18 2025 
  Took  0.13 


 Starting test.Z-driver-counts at Fri Jan 31 08:52:18 2025 

 Ending test.Z-driver-counts at Fri Jan 31 08:52:18 2025 
  Took  0.17 


 Starting test.Z-fixation at Fri Jan 31 08:52:18 2025 

 Ending test.Z-fixation at Fri Jan 31 08:52:19 2025 
  Took  0.36 


 Starting test.Z-magellan at Fri Jan 31 08:52:19 2025 

 Ended test.Z-magellan at Fri Jan 31 08:52:20 2025 

 Starting test.Z-mutator at Fri Jan 31 08:52:20 2025 

 Ending test.Z-mutator at Fri Jan 31 08:52:21 2025 
  Took  0.41 


 Starting test.Z-mutatorFDF at Fri Jan 31 08:52:21 2025 

 Ending test.Z-mutatorFDF at Fri Jan 31 08:52:21 2025 
  Took  0.14 


 Starting test.Z-oncoSimulIndiv at Fri Jan 31 08:52:21 2025 

 Ending test.Z-oncoSimulIndiv at Fri Jan 31 08:52:22 2025 
  Took  0.72 


 Starting test.Z-oncoSimulIndivConstant at Fri Jan 31 08:52:22 2025 

 Ending test.Z-oncoSimulIndivConstant at Fri Jan 31 08:52:24 2025 
  Took  2.61 


 Starting test.Z-oncoSimulIndivDeath at Fri Jan 31 08:52:24 2025 


 Ending test.Z-oncoSimulIndivDeath at Fri Jan 31 08:52:25 2025 
  Took  1.01 


 Starting test.Z-oncoSimulIndivFDF at Fri Jan 31 08:52:25 2025 

 Hitted wall time. Exiting.
 Hitting wall time is regarded as an error. 

 Ending test.Z-oncoSimulIndivFDF at Fri Jan 31 08:52:26 2025 
  Took  0.27 


 Starting test.Z-rfitness-landscape at Fri Jan 31 08:52:26 2025 

 Ending test.Z-rfitness-landscape at Fri Jan 31 08:52:26 2025 
  Took  0.26 


 Starting Z-sample-only-last tests Fri Jan 31 08:52:26 2025 

 Ending Z-sample-only-last tests Fri Jan 31 08:52:26 2025 
  Took  0 


 Starting Z-total-present-drivers tests Fri Jan 31 08:52:26 2025 

 Ending Z-total-present-drivers tests Fri Jan 31 08:52:27 2025 
  Took  0.98 


 Dummy empty test  Fri Jan 31 08:52:27 2025 

 Starting accessible_genotypes at Fri Jan 31 08:52:27 2025 

 Ending accessible_genotypes at Fri Jan 31 08:52:36 2025 
  Took  9.53 


 Starting all fitness at Fri Jan 31 08:52:36 2025
 Ending all-fitness at Fri Jan 31 08:52:43 2025 
  Took  6.28 


 Starting test.allFitnessEffectsFDF at Fri Jan 31 08:52:43 2025 

 Ending test.allFitnessEffectsFDF at Fri Jan 31 08:52:43 2025 
  Took  0.18 


 Starting test.allFitnessEffectsDeath at Fri Jan 31 08:52:43 2025 

 Ending test.allFitnessEffectsDeath at Fri Jan 31 08:52:43 2025 
  Took  0.48 


 Starting test.allFitnessEffectsFDF at Fri Jan 31 08:52:43 2025 

 Ending test.allFitnessEffectsFDF at Fri Jan 31 08:52:44 2025 
  Took  0.5 


 Starting driverCounts at Fri Jan 31 08:52:44 2025
 Ending driverCounts at Fri Jan 31 08:52:55 2025 
  Took  11.53 


 Starting epist-order-modules at Fri Jan 31 08:52:55 2025
 Ending epist-order-modules at Fri Jan 31 08:52:55 2025 
  Took  0.07 


 Starting test.evaluatingGenotypesDeath at Fri Jan 31 08:52:55 2025 

 Ending test.evaluatingGenotypesDeath at Fri Jan 31 08:52:56 2025 
  Took  0.23 


 Starting test.evaluatingGenotypesFDF at Fri Jan 31 08:52:56 2025 

 Ending test.evaluatingGenotypesFDF at Fri Jan 31 08:52:56 2025 
  Took  0.32 


 Starting exercise-plotting-code at Fri Jan 31 08:52:56 2025
 Ending exercise-plotting-code at Fri Jan 31 08:53:01 2025 
  Took  4.78 


 Starting exercise-rfitness at Fri Jan 31 08:53:01 2025 

 Ending exercise-rfitness at Fri Jan 31 08:53:13 2025 
  Took  12.56 


 Starting to_Magella at Fri Jan 31 08:53:13 2025 

 Ending to_Magella at Fri Jan 31 08:53:13 2025 
  Took  0.04 


 Starting fitness preds at Fri Jan 31 08:53:13 2025 

 Observed vs expected, case III

 done tries 1 

 Ending fitness preds long at Fri Jan 31 08:53:23 2025 
  Took  9.91 


 Starting fixation  at Fri Jan 31 08:53:23 2025 

 Ending fixation  at Fri Jan 31 08:53:44 2025 
  Took  20.2 


 Starting test.flfast-additional.R test at Fri Jan 31 08:53:44 2025
 Ending test.flfast-additional.R test at Fri Jan 31 08:53:45 2025 
  Took  1.64 


 Starting test.flfast-mutator.R test at Fri Jan 31 08:53:45 2025
 Finished test.flfast-mutator.R test at Fri Jan 31 08:53:47 2025 
  Took  1.76 


 Starting genotFitness at Fri Jan 31 08:53:47 2025 

 Ending genotFitness at Fri Jan 31 08:53:47 2025 
  Took  0.24 


 Starting genot_fitness_to_epistasis at Fri Jan 31 08:53:47 2025 

 Ending genot_fitness_to_epistasis at Fri Jan 31 08:53:47 2025 
  Took  0.05 


 Starting init-mutant tests Fri Jan 31 08:53:47 2025 

exprtk parser error: 

Error[00] Position: 18 Type: [  Syntax Error] Msg: ERR202 - Undefined symbol: 'f_2' Expression: 1.1 + 0.7*((f_1 + f_2) > 0.3)

 Ending init-mutant tests Fri Jan 31 08:53:55 2025 
  Took  7.85 


 Starting interventions tests Fri Jan 31 08:53:55 2025 
[1] "Checking intervention: intOverA"
[1] "Checking intervention: intOverA"
[1] "Checking intervention: intOverA"
[1] "Checking intervention: intOverA"
[1] "Checking intervention: intOverMultiplicatesA"
In intervention:intOverMultiplicatesA with WhatHappens: n_1 = n_1 * 2. You cannot intervene to generate more population.[1] "Checking intervention: intOverA"
[1] "Checking intervention: intOverA"
[1] "Checking intervention: intOverTotPop"
[1] 0.46 0.46 0.46
[1] "Checking intervention: intOverTotPop"
[1] "Checking intervention: intOverA"
[1] "Checking intervention: intOverB"
[1] "Checking intervention: intOverC"
[1] "Checking intervention: intOverD"
Init Mutant with birth == 1.0
Init Mutant with birth == 1.0
[1] "Checking intervention: intOverA"
[1] "Checking intervention: intOverB"
[1] "Checking intervention: intOverC"
[1] "Checking intervention: intOverD"
Init Mutant with birth == 1.0
Init Mutant with birth == 1.0
[1] "Checking user variable: user_var_1"
[1] "Checking rule: rule_1"
[1] "Checking rule: rule_2"
[1] "Checking rule: rule_3"
[1] "Checking intervention: intOverTotPop"
[1] "Checking intervention: intOverTotPop2"
[1] "Checking intervention: intOverTotPop3"
[1] "Checking user variable: user_var_1"
[1] "Checking rule: rule_1"
[1] "Checking rule: rule_2"
[1] "Checking rule: rule_3"
[1] "Checking intervention: intOverTotPop"

 Ending interventions tests Fri Jan 31 08:54:00 2025 
  Took  4.82 


 Starting test.magellan at Fri Jan 31 08:54:00 2025 

 Ending test.magellan at Fri Jan 31 08:54:00 2025 
  Took  0.16 


 Starting test.modules-root-no-root at Fri Jan 31 08:54:00 2025 

 Ending test.modules-root-no-root at Fri Jan 31 08:54:00 2025 
  Took  0.11 


 Starting at mutPropGrowth  Fri Jan 31 08:54:00 2025 

 Ended test.mutPropGrowth:  Fri Jan 31 08:54:09 2025 
  Took  8.5 


 Starting test.mutator-oncoSimulSample.R test at Fri Jan 31 08:54:09 2025 

 Finished test.mutator-oncoSimulSample.R test at Fri Jan 31 08:54:19 2025 
  Took  10.49 seconds 


 Starting test.mutator.R test at Fri Jan 31 08:54:19 2025[1] 2.694019e-08
[1] 1.657535e-14

 Finished test.mutator.R test at Fri Jan 31 08:54:36 2025 
  Took  16.96 


 Starting test.mutatorFDF.R test at Fri Jan 31 08:54:36 2025
 Starting test.no-v1 at Fri Jan 31 08:54:37 2025 

 Ending test.no-v1 at Fri Jan 31 08:54:37 2025 
  Took  0.02 


 Starting oncoSimulIndiv-miscell tests Fri Jan 31 08:54:37 2025 

 Ending oncoSimulIndiv-miscell tests Fri Jan 31 08:54:49 2025 
  Took  12.58 


 Starting oncoSimulSample-failures tests Fri Jan 31 08:54:49 2025 

 Ending oncoSimulSample-failures tests Fri Jan 31 08:54:54 2025 
  Took  4.08 


 Starting oncoSimulSample-limits tests Fri Jan 31 08:54:54 2025 

 Ending oncoSimulSample-limits tests Fri Jan 31 08:54:54 2025 
  Took  0.33 


 Starting per-gene-mutation rates at Fri Jan 31 08:54:54 2025 

 Ending per-gene-mutation rates at Fri Jan 31 08:55:27 2025 
  Took  33.4 


 Starting plotFitnessLandscape at Fri Jan 31 08:55:27 2025
 Ending plotFitnessLandscape at Fri Jan 31 08:55:31 2025 
  Took  4.07 


 Starting poset-transformations tests Fri Jan 31 08:55:31 2025 

 Ending poset-transformations tests Fri Jan 31 08:55:45 2025 
  Took  13.31 


 Starting sample-prob Fri Jan 31 08:55:45 2025 
[1] 4.159303e-23
[1] 1.244317e-17
[1] 1.47563e-10
[1] 1.31681e-11
[1] 3.282887e-15
[1] 1.3634e-15
[1] 2.827271e-09
[1] 3.322747e-14
[1] 2.445095e-11
[1] 1.78237e-10
[1] 4.204175e-10
[1] 5.249476e-09

 Ending sample-prob tests Fri Jan 31 08:55:54 2025 
 Took  9.65 



 Starting samplePop tests Fri Jan 31 08:55:54 2025 

 Ending samplePop tests Fri Jan 31 08:56:04 2025 
  Took  10.03 


 Starting simuls-runs-examples tests Fri Jan 31 08:56:04 2025 

 Ending simuls-runs-examples tests Fri Jan 31 08:56:13 2025 
  Took  8.37 


 Starting user variable tests Fri Jan 31 08:56:13 2025 
[1] "Checking user variable: user_var_1"
[1] "Checking rule: rule_1"

 Ending user variable tests Fri Jan 31 08:56:13 2025 
  Took  0.11 


 Starting warning-mutPropGrowth tests Fri Jan 31 08:56:13 2025 

 Ending warning-mutPropGrowth tests Fri Jan 31 08:56:14 2025 
  Took  0.65 


 Starting wide2long tests Fri Jan 31 08:56:14 2025 

 Ending wide2long tests Fri Jan 31 08:56:14 2025 
  Took  0.34 

[ FAIL 0 | WARN 19 | SKIP 5 | PASS 8411 ]

══ Skipped tests (5) ═══════════════════════════════════════════════════════════
• empty test (5): 'test.FDF-letter-fitness-order.R:376:1',
  'test.ZZ-dummy-skip-warn-test.R:8:1', 'test.ZZ-dummy-skip-warn-test.R:12:1',
  'test.fixation.R:4:1', 'test.init-mutant.R:1099:1'

[ FAIL 0 | WARN 19 | SKIP 5 | PASS 8411 ]
> 
> proc.time()
   user  system elapsed 
264.785  32.078 256.910 

Example timings

OncoSimulR.Rcheck/OncoSimulR-Ex.timings

nameusersystemelapsed
OncoSimulWide2Long0.2690.0040.285
POM0.7250.0480.671
allFitnessEffects2.2590.0522.342
benchmarks0.0110.0000.010
createInterventions0.3400.0160.356
createUserVars0.5110.0090.521
evalAllGenotypes0.2580.0710.329
example-missing-drivers0.2520.0270.281
examplePosets0.3170.0080.327
examplesFitnessEffects0.0980.0110.109
freq-dep-simul-examples0.0120.0000.011
mcfLs000
oncoSimulIndiv1.2650.1301.356
plot.fitnessEffects0.2620.0280.290
plot.oncosimul0.5960.0160.613
plotClonePhylog1.3860.1161.505
plotFitnessLandscape1.4240.0361.463
plotPoset0.1120.0040.116
poset0.1210.0160.138
rfitness0.7560.0570.818
samplePop0.0460.0650.079
simOGraph0.0610.0120.074
to_Magellan0.1900.0330.226
vignette_pre_computed0.0050.0040.009