Back to Multiple platform build/check report for BioC 3.21:   simplified   long
ABCDEFGHIJKLMN[O]PQRSTUVWXYZ

This page was generated on 2025-10-06 11:42 -0400 (Mon, 06 Oct 2025).

HostnameOSArch (*)R versionInstalled pkgs
nebbiolo1Linux (Ubuntu 24.04.3 LTS)x86_644.5.1 (2025-06-13) -- "Great Square Root" 4832
merida1macOS 12.7.5 Montereyx86_644.5.1 RC (2025-06-05 r88288) -- "Great Square Root" 4613
kjohnson1macOS 13.6.6 Venturaarm644.5.1 Patched (2025-06-14 r88325) -- "Great Square Root" 4554
kunpeng2Linux (openEuler 24.03 LTS)aarch64R Under development (unstable) (2025-02-19 r87757) -- "Unsuffered Consequences" 4585
Click on any hostname to see more info about the system (e.g. compilers)      (*) as reported by 'uname -p', except on Windows and Mac OS X

Package 1490/2341HostnameOS / ArchINSTALLBUILDCHECKBUILD BIN
OncoSimulR 4.10.0  (landing page)
Ramon Diaz-Uriarte
Snapshot Date: 2025-10-02 13:40 -0400 (Thu, 02 Oct 2025)
git_url: https://git.bioconductor.org/packages/OncoSimulR
git_branch: RELEASE_3_21
git_last_commit: 165d213
git_last_commit_date: 2025-04-15 10:32:39 -0400 (Tue, 15 Apr 2025)
nebbiolo1Linux (Ubuntu 24.04.3 LTS) / x86_64  OK    OK    OK  UNNEEDED, same version is already published
merida1macOS 12.7.5 Monterey / x86_64  OK    OK    OK    OK  UNNEEDED, same version is already published
kjohnson1macOS 13.6.6 Ventura / arm64... NOT SUPPORTED ...
kunpeng2Linux (openEuler 24.03 LTS) / aarch64  OK    OK    OK  


CHECK results for OncoSimulR on kunpeng2

To the developers/maintainers of the OncoSimulR package:
- Allow up to 24 hours (and sometimes 48 hours) for your latest push to git@git.bioconductor.org:packages/OncoSimulR.git to reflect on this report. See Troubleshooting Build Report for more information.
- Use the following Renviron settings to reproduce errors and warnings.
- If 'R CMD check' started to fail recently on the Linux builder(s) over a missing dependency, add the missing dependency to 'Suggests:' in your DESCRIPTION file. See Renviron.bioc for more information.
- See Martin Grigorov's blog post for how to debug Linux ARM64 related issues on a x86_64 host.

raw results


Summary

Package: OncoSimulR
Version: 4.10.0
Command: /home/biocbuild/R/R/bin/R CMD check --install=check:OncoSimulR.install-out.txt --library=/home/biocbuild/R/R/site-library --no-vignettes --timings OncoSimulR_4.10.0.tar.gz
StartedAt: 2025-10-03 12:19:23 -0000 (Fri, 03 Oct 2025)
EndedAt: 2025-10-03 12:25:49 -0000 (Fri, 03 Oct 2025)
EllapsedTime: 386.5 seconds
RetCode: 0
Status:   OK  
CheckDir: OncoSimulR.Rcheck
Warnings: 0

Command output

##############################################################################
##############################################################################
###
### Running command:
###
###   /home/biocbuild/R/R/bin/R CMD check --install=check:OncoSimulR.install-out.txt --library=/home/biocbuild/R/R/site-library --no-vignettes --timings OncoSimulR_4.10.0.tar.gz
###
##############################################################################
##############################################################################


* using log directory ‘/home/biocbuild/bbs-3.21-bioc/meat/OncoSimulR.Rcheck’
* using R Under development (unstable) (2025-02-19 r87757)
* using platform: aarch64-unknown-linux-gnu
* R was compiled by
    aarch64-unknown-linux-gnu-gcc (GCC) 14.2.0
    GNU Fortran (GCC) 14.2.0
* running under: openEuler 24.03 (LTS-SP1)
* using session charset: UTF-8
* using option ‘--no-vignettes’
* checking for file ‘OncoSimulR/DESCRIPTION’ ... OK
* checking extension type ... Package
* this is package ‘OncoSimulR’ version ‘4.10.0’
* checking package namespace information ... OK
* checking package dependencies ... OK
* checking if this is a source package ... OK
* checking if there is a namespace ... OK
* checking for hidden files and directories ... NOTE
Found the following hidden files and directories:
  .BBSoptions
These were most likely included in error. See section ‘Package
structure’ in the ‘Writing R Extensions’ manual.
* checking for portable file names ... OK
* checking for sufficient/correct file permissions ... OK
* checking whether package ‘OncoSimulR’ can be installed ... OK
* used C compiler: ‘aarch64-unknown-linux-gnu-gcc (GCC) 14.2.0’
* used C++ compiler: ‘aarch64-unknown-linux-gnu-g++ (GCC) 14.2.0’
* checking installed package size ... INFO
  installed size is 46.6Mb
  sub-directories of 1Mb or more:
    libs  44.9Mb
* checking package directory ... OK
* checking ‘build’ directory ... OK
* checking DESCRIPTION meta-information ... OK
* checking top-level files ... OK
* checking for left-over files ... OK
* checking index information ... OK
* checking package subdirectories ... OK
* checking code files for non-ASCII characters ... OK
* checking R files for syntax errors ... OK
* checking whether the package can be loaded ... OK
* checking whether the package can be loaded with stated dependencies ... OK
* checking whether the package can be unloaded cleanly ... OK
* checking whether the namespace can be loaded with stated dependencies ... OK
* checking whether the namespace can be unloaded cleanly ... OK
* checking loading without being on the library search path ... OK
* checking whether startup messages can be suppressed ... OK
* checking dependencies in R code ... OK
* checking S3 generic/method consistency ... OK
* checking replacement functions ... OK
* checking foreign function calls ... OK
* checking R code for possible problems ... OK
* checking Rd files ... OK
* checking Rd metadata ... OK
* checking Rd cross-references ... OK
* checking for missing documentation entries ... OK
* checking for code/documentation mismatches ... OK
* checking Rd \usage sections ... OK
* checking Rd contents ... OK
* checking for unstated dependencies in examples ... OK
* checking contents of ‘data’ directory ... OK
* checking data for non-ASCII characters ... OK
* checking data for ASCII and uncompressed saves ... OK
* checking line endings in C/C++/Fortran sources/headers ... OK
* checking line endings in Makefiles ... OK
* checking compilation flags in Makevars ... OK
* checking for GNU extensions in Makefiles ... OK
* checking for portable use of $(BLAS_LIBS) and $(LAPACK_LIBS) ... OK
* checking use of PKG_*FLAGS in Makefiles ... OK
* checking include directives in Makefiles ... OK
* checking compiled code ... NOTE
Note: information on .o files is not available
* checking files in ‘vignettes’ ... OK
* checking examples ... OK
* checking for unstated dependencies in ‘tests’ ... OK
* checking tests ...
  Running ‘testthat.R’
 OK
* checking for unstated dependencies in vignettes ... OK
* checking package vignettes ... OK
* checking running R code from vignettes ... SKIPPED
* checking re-building of vignette outputs ... SKIPPED
* checking PDF version of manual ... OK
* DONE

Status: 2 NOTEs
See
  ‘/home/biocbuild/bbs-3.21-bioc/meat/OncoSimulR.Rcheck/00check.log’
for details.


Installation output

OncoSimulR.Rcheck/00install.out

##############################################################################
##############################################################################
###
### Running command:
###
###   /home/biocbuild/R/R/bin/R CMD INSTALL OncoSimulR
###
##############################################################################
##############################################################################


* installing to library ‘/home/biocbuild/R/R-devel_2025-02-19/site-library’
* installing *source* package ‘OncoSimulR’ ...
** this is package ‘OncoSimulR’ version ‘4.10.0’
** using staged installation
** libs
using C compiler: ‘aarch64-unknown-linux-gnu-gcc (GCC) 14.2.0’
using C++ compiler: ‘aarch64-unknown-linux-gnu-g++ (GCC) 14.2.0’
/opt/ohpc/pub/compiler/gcc/14.2.0/bin/aarch64-unknown-linux-gnu-gcc -std=gnu23 -I"/home/biocbuild/R/R/include" -DNDEBUG  -I'/home/biocbuild/R/R-devel_2025-02-19/site-library/Rcpp/include' -I/usr/local/include    -fPIC  -g -O2  -Wall -Werror=format-security -c FitnessLandscape/gamma.c -o FitnessLandscape/gamma.o
/opt/ohpc/pub/compiler/gcc/14.2.0/bin/aarch64-unknown-linux-gnu-gcc -std=gnu23 -I"/home/biocbuild/R/R/include" -DNDEBUG  -I'/home/biocbuild/R/R-devel_2025-02-19/site-library/Rcpp/include' -I/usr/local/include    -fPIC  -g -O2  -Wall -Werror=format-security -c FitnessLandscape/landscape.c -o FitnessLandscape/landscape.o
/opt/ohpc/pub/compiler/gcc/14.2.0/bin/aarch64-unknown-linux-gnu-gcc -std=gnu23 -I"/home/biocbuild/R/R/include" -DNDEBUG  -I'/home/biocbuild/R/R-devel_2025-02-19/site-library/Rcpp/include' -I/usr/local/include    -fPIC  -g -O2  -Wall -Werror=format-security -c FitnessLandscape/random.c -o FitnessLandscape/random.o
/opt/ohpc/pub/compiler/gcc/14.2.0/bin/aarch64-unknown-linux-gnu-gcc -std=gnu23 -I"/home/biocbuild/R/R/include" -DNDEBUG  -I'/home/biocbuild/R/R-devel_2025-02-19/site-library/Rcpp/include' -I/usr/local/include    -fPIC  -g -O2  -Wall -Werror=format-security -c FitnessLandscape/sort.c -o FitnessLandscape/sort.o
/opt/ohpc/pub/compiler/gcc/14.2.0/bin/aarch64-unknown-linux-gnu-gcc -std=gnu23 -I"/home/biocbuild/R/R/include" -DNDEBUG  -I'/home/biocbuild/R/R-devel_2025-02-19/site-library/Rcpp/include' -I/usr/local/include    -fPIC  -g -O2  -Wall -Werror=format-security -c FitnessLandscape/chain.c -o FitnessLandscape/chain.o
/opt/ohpc/pub/compiler/gcc/14.2.0/bin/aarch64-unknown-linux-gnu-gcc -std=gnu23 -I"/home/biocbuild/R/R/include" -DNDEBUG  -I'/home/biocbuild/R/R-devel_2025-02-19/site-library/Rcpp/include' -I/usr/local/include    -fPIC  -g -O2  -Wall -Werror=format-security -c FitnessLandscape/input.c -o FitnessLandscape/input.o
/opt/ohpc/pub/compiler/gcc/14.2.0/bin/aarch64-unknown-linux-gnu-gcc -std=gnu23 -I"/home/biocbuild/R/R/include" -DNDEBUG  -I'/home/biocbuild/R/R-devel_2025-02-19/site-library/Rcpp/include' -I/usr/local/include    -fPIC  -g -O2  -Wall -Werror=format-security -c FitnessLandscape/genotypes.c -o FitnessLandscape/genotypes.o
/opt/ohpc/pub/compiler/gcc/14.2.0/bin/aarch64-unknown-linux-gnu-gcc -std=gnu23 -I"/home/biocbuild/R/R/include" -DNDEBUG  -I'/home/biocbuild/R/R-devel_2025-02-19/site-library/Rcpp/include' -I/usr/local/include    -fPIC  -g -O2  -Wall -Werror=format-security -c FitnessLandscape/ordered_pairs.c -o FitnessLandscape/ordered_pairs.o
/opt/ohpc/pub/compiler/gcc/14.2.0/bin/aarch64-unknown-linux-gnu-gcc -std=gnu23 -I"/home/biocbuild/R/R/include" -DNDEBUG  -I'/home/biocbuild/R/R-devel_2025-02-19/site-library/Rcpp/include' -I/usr/local/include    -fPIC  -g -O2  -Wall -Werror=format-security -c FitnessLandscape/calculus.c -o FitnessLandscape/calculus.o
/opt/ohpc/pub/compiler/gcc/14.2.0/bin/aarch64-unknown-linux-gnu-gcc -std=gnu23 -I"/home/biocbuild/R/R/include" -DNDEBUG  -I'/home/biocbuild/R/R-devel_2025-02-19/site-library/Rcpp/include' -I/usr/local/include    -fPIC  -g -O2  -Wall -Werror=format-security -c FitnessLandscape/vector.c -o FitnessLandscape/vector.o
/opt/ohpc/pub/compiler/gcc/14.2.0/bin/aarch64-unknown-linux-gnu-gcc -std=gnu23 -I"/home/biocbuild/R/R/include" -DNDEBUG  -I'/home/biocbuild/R/R-devel_2025-02-19/site-library/Rcpp/include' -I/usr/local/include    -fPIC  -g -O2  -Wall -Werror=format-security -c FitnessLandscape/generalized_chain.c -o FitnessLandscape/generalized_chain.o
/opt/ohpc/pub/compiler/gcc/14.2.0/bin/aarch64-unknown-linux-gnu-gcc -std=gnu23 -I"/home/biocbuild/R/R/include" -DNDEBUG  -I'/home/biocbuild/R/R-devel_2025-02-19/site-library/Rcpp/include' -I/usr/local/include    -fPIC  -g -O2  -Wall -Werror=format-security -c FitnessLandscape/LinearAlgebra.c -o FitnessLandscape/LinearAlgebra.o
/opt/ohpc/pub/compiler/gcc/14.2.0/bin/aarch64-unknown-linux-gnu-gcc -std=gnu23 -I"/home/biocbuild/R/R/include" -DNDEBUG  -I'/home/biocbuild/R/R-devel_2025-02-19/site-library/Rcpp/include' -I/usr/local/include    -fPIC  -g -O2  -Wall -Werror=format-security -c FitnessLandscape/summary_statistics.c -o FitnessLandscape/summary_statistics.o
/opt/ohpc/pub/compiler/gcc/14.2.0/bin/aarch64-unknown-linux-gnu-gcc -std=gnu23 -I"/home/biocbuild/R/R/include" -DNDEBUG  -I'/home/biocbuild/R/R-devel_2025-02-19/site-library/Rcpp/include' -I/usr/local/include    -fPIC  -g -O2  -Wall -Werror=format-security -c FitnessLandscape/epistasis_type.c -o FitnessLandscape/epistasis_type.o
/opt/ohpc/pub/compiler/gcc/14.2.0/bin/aarch64-unknown-linux-gnu-gcc -std=gnu23 -I"/home/biocbuild/R/R/include" -DNDEBUG  -I'/home/biocbuild/R/R-devel_2025-02-19/site-library/Rcpp/include' -I/usr/local/include    -fPIC  -g -O2  -Wall -Werror=format-security -c FitnessLandscape/decomposition.c -o FitnessLandscape/decomposition.o
/opt/ohpc/pub/compiler/gcc/14.2.0/bin/aarch64-unknown-linux-gnu-gcc -std=gnu23 -I"/home/biocbuild/R/R/include" -DNDEBUG  -I'/home/biocbuild/R/R-devel_2025-02-19/site-library/Rcpp/include' -I/usr/local/include    -fPIC  -g -O2  -Wall -Werror=format-security -c FitnessLandscape/models.c -o FitnessLandscape/models.o
/opt/ohpc/pub/compiler/gcc/14.2.0/bin/aarch64-unknown-linux-gnu-gcc -std=gnu23 -I"/home/biocbuild/R/R/include" -DNDEBUG  -I'/home/biocbuild/R/R-devel_2025-02-19/site-library/Rcpp/include' -I/usr/local/include    -fPIC  -g -O2  -Wall -Werror=format-security -c FitnessLandscape/verbose.c -o FitnessLandscape/verbose.o
ar -r liblandscape.a FitnessLandscape/gamma.o FitnessLandscape/landscape.o FitnessLandscape/random.o FitnessLandscape/sort.o FitnessLandscape/chain.o FitnessLandscape/input.o FitnessLandscape/genotypes.o FitnessLandscape/ordered_pairs.o FitnessLandscape/calculus.o FitnessLandscape/vector.o FitnessLandscape/generalized_chain.o FitnessLandscape/LinearAlgebra.o FitnessLandscape/summary_statistics.o FitnessLandscape/epistasis_type.o FitnessLandscape/decomposition.o FitnessLandscape/models.o FitnessLandscape/verbose.o ;
ar: creating liblandscape.a
ranlib liblandscape.a;
/opt/ohpc/pub/compiler/gcc/14.2.0/bin/aarch64-unknown-linux-gnu-gcc -std=gnu23 -O -Wall -o fl_statistics -I/FitnessLandscape/. -L. FitnessLandscape/main_fl_statistics.c -llandscape -lm;
/opt/ohpc/pub/compiler/gcc/14.2.0/bin/aarch64-unknown-linux-gnu-gcc -std=gnu23 -O -Wall -o fl_generate -I/FitnessLandscape/. -L. FitnessLandscape/main_fl_generate.c -llandscape -lm;
/opt/ohpc/pub/compiler/gcc/14.2.0/bin/aarch64-unknown-linux-gnu-gcc -std=gnu23 -I"/home/biocbuild/R/R/include" -DNDEBUG  -I'/home/biocbuild/R/R-devel_2025-02-19/site-library/Rcpp/include' -I/usr/local/include    -fPIC  -g -O2  -Wall -Werror=format-security -c OncoSimulR_init.c -o OncoSimulR_init.o
/opt/ohpc/pub/compiler/gcc/14.2.0/bin/aarch64-unknown-linux-gnu-g++ -std=gnu++17 -I"/home/biocbuild/R/R/include" -DNDEBUG  -I'/home/biocbuild/R/R-devel_2025-02-19/site-library/Rcpp/include' -I/usr/local/include    -fPIC  -g -O2  -Wall -Werror=format-security  -c RcppExports.cpp -o RcppExports.o
/opt/ohpc/pub/compiler/gcc/14.2.0/bin/aarch64-unknown-linux-gnu-g++ -std=gnu++17 -I"/home/biocbuild/R/R/include" -DNDEBUG  -I'/home/biocbuild/R/R-devel_2025-02-19/site-library/Rcpp/include' -I/usr/local/include    -fPIC  -g -O2  -Wall -Werror=format-security  -c unity_osimul.cpp -o unity_osimul.o
/opt/ohpc/pub/compiler/gcc/14.2.0/bin/aarch64-unknown-linux-gnu-g++ -std=gnu++17 -shared -L/home/biocbuild/R/R/lib -L/usr/local/lib -o OncoSimulR.so OncoSimulR_init.o RcppExports.o unity_osimul.o -L/home/biocbuild/R/R/lib -lR
installing via 'install.libs.R' to /home/biocbuild/R/R-devel_2025-02-19/site-library/00LOCK-OncoSimulR/00new/OncoSimulR
[1] ""
Installing fl_statistics fl_generate to /home/biocbuild/R/R-devel_2025-02-19/site-library/00LOCK-OncoSimulR/00new/OncoSimulR/exec
Installing library OncoSimulR.so to /home/biocbuild/R/R-devel_2025-02-19/site-library/00LOCK-OncoSimulR/00new/OncoSimulR/libs
** R
** data
** inst
** byte-compile and prepare package for lazy loading
** help
*** installing help indices
** building package indices
** installing vignettes
** testing if installed package can be loaded from temporary location
** checking absolute paths in shared objects and dynamic libraries
** testing if installed package can be loaded from final location
** testing if installed package keeps a record of temporary installation path
* DONE (OncoSimulR)

Tests output

OncoSimulR.Rcheck/tests/testthat.Rout


R Under development (unstable) (2025-02-19 r87757) -- "Unsuffered Consequences"
Copyright (C) 2025 The R Foundation for Statistical Computing
Platform: aarch64-unknown-linux-gnu

R is free software and comes with ABSOLUTELY NO WARRANTY.
You are welcome to redistribute it under certain conditions.
Type 'license()' or 'licence()' for distribution details.

R is a collaborative project with many contributors.
Type 'contributors()' for more information and
'citation()' on how to cite R or R packages in publications.

Type 'demo()' for some demos, 'help()' for on-line help, or
'help.start()' for an HTML browser interface to help.
Type 'q()' to quit R.

> library(testthat)
> library(OncoSimulR)
This is package OncoSimulR. If you are running it on an aarch64 (arm64) platform with a MacOS note that the package fails some tests in that platform + OS that I have no way of debugging. Please read file README_tests_kjohnson3_aarch64-apple-darwin20.txt in the tests directory. As of 2024-10-09, this platform is unsupported until we can properly debug it.
> 
> test_check("OncoSimulR")

 Starting FDF-letter-fitness-order Fri Oct  3 12:21:07 2025 

exprtk parser error: 

Error[00] Position: 00 Type: [  Syntax Error] Msg: ERR202 - Undefined symbol: 'n_2_3' Expression: n_2_3

exprtk parser error: 

Error[00] Position: 00 Type: [  Syntax Error] Msg: ERR202 - Undefined symbol: 'f_2_3' Expression: f_2_3

 Ending FDF-small-fitness-specs Fri Oct  3 12:21:07 2025 
  Took  0.8 


 Starting LOD_POM at Fri Oct  3 12:21:07 2025 

 Ending LOD_POM at Fri Oct  3 12:21:22 2025 
  Took  14.64 


 Starting test.Z-all-fitness at Fri Oct  3 12:21:22 2025 

 Ending test.Z-all-fitness at Fri Oct  3 12:21:22 2025 
  Took  0.15 


 Starting test.Z-driver-counts at Fri Oct  3 12:21:22 2025 

 Ending test.Z-driver-counts at Fri Oct  3 12:21:23 2025 
  Took  0.25 


 Starting test.Z-fixation at Fri Oct  3 12:21:23 2025 

 Ending test.Z-fixation at Fri Oct  3 12:21:23 2025 
  Took  0.51 


 Starting test.Z-magellan at Fri Oct  3 12:21:23 2025 

 Ended test.Z-magellan at Fri Oct  3 12:21:25 2025 

 Starting test.Z-mutator at Fri Oct  3 12:21:25 2025 

 Ending test.Z-mutator at Fri Oct  3 12:21:25 2025 
  Took  0.45 


 Starting test.Z-mutatorFDF at Fri Oct  3 12:21:25 2025 

 Ending test.Z-mutatorFDF at Fri Oct  3 12:21:25 2025 
  Took  0.14 


 Starting test.Z-oncoSimulIndiv at Fri Oct  3 12:21:25 2025 

 Ending test.Z-oncoSimulIndiv at Fri Oct  3 12:21:26 2025 
  Took  0.71 


 Starting test.Z-oncoSimulIndivConstant at Fri Oct  3 12:21:26 2025 

 Ending test.Z-oncoSimulIndivConstant at Fri Oct  3 12:21:29 2025 
  Took  2.66 


 Starting test.Z-oncoSimulIndivDeath at Fri Oct  3 12:21:29 2025 


 Ending test.Z-oncoSimulIndivDeath at Fri Oct  3 12:21:30 2025 
  Took  1.1 


 Starting test.Z-oncoSimulIndivFDF at Fri Oct  3 12:21:30 2025 

 Hitted wall time. Exiting.
 Hitting wall time is regarded as an error. 

 Ending test.Z-oncoSimulIndivFDF at Fri Oct  3 12:21:31 2025 
  Took  0.53 


 Starting test.Z-rfitness-landscape at Fri Oct  3 12:21:31 2025 

 Ending test.Z-rfitness-landscape at Fri Oct  3 12:21:31 2025 
  Took  0.3 


 Starting Z-sample-only-last tests Fri Oct  3 12:21:31 2025 

 Ending Z-sample-only-last tests Fri Oct  3 12:21:31 2025 
  Took  0 


 Starting Z-total-present-drivers tests Fri Oct  3 12:21:31 2025 

 Ending Z-total-present-drivers tests Fri Oct  3 12:21:32 2025 
  Took  1.11 


 Dummy empty test  Fri Oct  3 12:21:32 2025 

 Starting accessible_genotypes at Fri Oct  3 12:21:32 2025 

 Ending accessible_genotypes at Fri Oct  3 12:21:43 2025 
  Took  11.47 


 Starting all fitness at Fri Oct  3 12:21:43 2025
 Ending all-fitness at Fri Oct  3 12:21:50 2025 
  Took  6.78 


 Starting test.allFitnessEffectsFDF at Fri Oct  3 12:21:50 2025 

 Ending test.allFitnessEffectsFDF at Fri Oct  3 12:21:50 2025 
  Took  0.17 


 Starting test.allFitnessEffectsDeath at Fri Oct  3 12:21:50 2025 

 Ending test.allFitnessEffectsDeath at Fri Oct  3 12:21:51 2025 
  Took  0.66 


 Starting test.allFitnessEffectsFDF at Fri Oct  3 12:21:51 2025 

 Ending test.allFitnessEffectsFDF at Fri Oct  3 12:21:52 2025 
  Took  0.54 


 Starting driverCounts at Fri Oct  3 12:21:52 2025
 Ending driverCounts at Fri Oct  3 12:22:07 2025 
  Took  15.05 


 Starting epist-order-modules at Fri Oct  3 12:22:07 2025
 Ending epist-order-modules at Fri Oct  3 12:22:07 2025 
  Took  0.07 


 Starting test.evaluatingGenotypesDeath at Fri Oct  3 12:22:07 2025 

 Ending test.evaluatingGenotypesDeath at Fri Oct  3 12:22:07 2025 
  Took  0.25 


 Starting test.evaluatingGenotypesFDF at Fri Oct  3 12:22:07 2025 

 Ending test.evaluatingGenotypesFDF at Fri Oct  3 12:22:07 2025 
  Took  0.29 


 Starting exercise-plotting-code at Fri Oct  3 12:22:07 2025
 Ending exercise-plotting-code at Fri Oct  3 12:22:12 2025 
  Took  4.44 


 Starting exercise-rfitness at Fri Oct  3 12:22:12 2025 

 Ending exercise-rfitness at Fri Oct  3 12:22:25 2025 
  Took  13.56 


 Starting to_Magella at Fri Oct  3 12:22:25 2025 

 Ending to_Magella at Fri Oct  3 12:22:25 2025 
  Took  0.05 


 Starting fitness preds at Fri Oct  3 12:22:25 2025 

 Observed vs expected, case III

 done tries 1 

 Ending fitness preds long at Fri Oct  3 12:22:35 2025 
  Took  9.45 


 Starting fixation  at Fri Oct  3 12:22:35 2025 

 Ending fixation  at Fri Oct  3 12:22:57 2025 
  Took  22.5 


 Starting test.flfast-additional.R test at Fri Oct  3 12:22:57 2025
 Ending test.flfast-additional.R test at Fri Oct  3 12:22:59 2025 
  Took  1.77 


 Starting test.flfast-mutator.R test at Fri Oct  3 12:22:59 2025
 Finished test.flfast-mutator.R test at Fri Oct  3 12:23:01 2025 
  Took  1.59 


 Starting genotFitness at Fri Oct  3 12:23:01 2025 

 Ending genotFitness at Fri Oct  3 12:23:01 2025 
  Took  0.25 


 Starting genot_fitness_to_epistasis at Fri Oct  3 12:23:01 2025 

 Ending genot_fitness_to_epistasis at Fri Oct  3 12:23:01 2025 
  Took  0.05 


 Starting init-mutant tests Fri Oct  3 12:23:01 2025 

exprtk parser error: 

Error[00] Position: 18 Type: [  Syntax Error] Msg: ERR202 - Undefined symbol: 'f_2' Expression: 1.1 + 0.7*((f_1 + f_2) > 0.3)

 Ending init-mutant tests Fri Oct  3 12:23:09 2025 
  Took  8.32 


 Starting interventions tests Fri Oct  3 12:23:09 2025 
[1] "Checking intervention: intOverA"
[1] "Checking intervention: intOverA"
[1] "Checking intervention: intOverA"
[1] "Checking intervention: intOverA"
[1] "Checking intervention: intOverMultiplicatesA"
In intervention:intOverMultiplicatesA with WhatHappens: n_1 = n_1 * 2. You cannot intervene to generate more population.[1] "Checking intervention: intOverA"
[1] "Checking intervention: intOverA"
[1] "Checking intervention: intOverTotPop"
[1] 0.62 0.62 0.62
[1] "Checking intervention: intOverTotPop"
[1] "Checking intervention: intOverA"
[1] "Checking intervention: intOverB"
[1] "Checking intervention: intOverC"
[1] "Checking intervention: intOverD"
Init Mutant with birth == 1.0
Init Mutant with birth == 1.0
[1] "Checking intervention: intOverA"
[1] "Checking intervention: intOverB"
[1] "Checking intervention: intOverC"
[1] "Checking intervention: intOverD"
Init Mutant with birth == 1.0
Init Mutant with birth == 1.0
[1] "Checking user variable: user_var_1"
[1] "Checking rule: rule_1"
[1] "Checking rule: rule_2"
[1] "Checking rule: rule_3"
[1] "Checking intervention: intOverTotPop"
[1] "Checking intervention: intOverTotPop2"
[1] "Checking intervention: intOverTotPop3"
[1] "Checking user variable: user_var_1"
[1] "Checking rule: rule_1"
[1] "Checking rule: rule_2"
[1] "Checking rule: rule_3"
[1] "Checking intervention: intOverTotPop"

 Ending interventions tests Fri Oct  3 12:23:14 2025 
  Took  4.78 


 Starting test.magellan at Fri Oct  3 12:23:14 2025 

 Ending test.magellan at Fri Oct  3 12:23:14 2025 
  Took  0.23 


 Starting test.modules-root-no-root at Fri Oct  3 12:23:14 2025 

 Ending test.modules-root-no-root at Fri Oct  3 12:23:15 2025 
  Took  0.22 


 Starting at mutPropGrowth  Fri Oct  3 12:23:15 2025 

 Ended test.mutPropGrowth:  Fri Oct  3 12:23:24 2025 
  Took  9.1 


 Starting test.mutator-oncoSimulSample.R test at Fri Oct  3 12:23:24 2025 

 Finished test.mutator-oncoSimulSample.R test at Fri Oct  3 12:23:37 2025 
  Took  12.83 seconds 


 Starting test.mutator.R test at Fri Oct  3 12:23:37 2025[1] 1.487192e-08
[1] 3.187324e-12

 Finished test.mutator.R test at Fri Oct  3 12:23:56 2025 
  Took  19.47 


 Starting test.mutatorFDF.R test at Fri Oct  3 12:23:56 2025
 Starting test.no-v1 at Fri Oct  3 12:23:57 2025 

 Ending test.no-v1 at Fri Oct  3 12:23:57 2025 
  Took  0.02 


 Starting oncoSimulIndiv-miscell tests Fri Oct  3 12:23:57 2025 

 Ending oncoSimulIndiv-miscell tests Fri Oct  3 12:24:10 2025 
  Took  12.84 


 Starting oncoSimulSample-failures tests Fri Oct  3 12:24:10 2025 

 Ending oncoSimulSample-failures tests Fri Oct  3 12:24:14 2025 
  Took  3.82 


 Starting oncoSimulSample-limits tests Fri Oct  3 12:24:14 2025 

 Ending oncoSimulSample-limits tests Fri Oct  3 12:24:14 2025 
  Took  0.09 


 Starting per-gene-mutation rates at Fri Oct  3 12:24:14 2025 

 Ending per-gene-mutation rates at Fri Oct  3 12:24:48 2025 
  Took  34.22 


 Starting plotFitnessLandscape at Fri Oct  3 12:24:48 2025
 Ending plotFitnessLandscape at Fri Oct  3 12:24:53 2025 
  Took  4.8 


 Starting poset-transformations tests Fri Oct  3 12:24:53 2025 

 Ending poset-transformations tests Fri Oct  3 12:25:07 2025 
  Took  14.62 


 Starting sample-prob Fri Oct  3 12:25:07 2025 
[1] 6.054834e-25
[1] 2.638891e-11
[1] 1.796191e-08
[1] 1.213752e-11
[1] 4.555596e-14
[1] 3.304345e-14
[1] 5.20729e-13
[1] 2.276204e-11
[1] 2.18459e-08
[1] 1.779653e-10
[1] 1.406334e-05
[1] 8.360974e-10

 Ending sample-prob tests Fri Oct  3 12:25:16 2025 
 Took  8.78 



 Starting samplePop tests Fri Oct  3 12:25:16 2025 

 Ending samplePop tests Fri Oct  3 12:25:24 2025 
  Took  7.97 


 Starting simuls-runs-examples tests Fri Oct  3 12:25:24 2025 

 Ending simuls-runs-examples tests Fri Oct  3 12:25:36 2025 
  Took  11.94 


 Starting user variable tests Fri Oct  3 12:25:36 2025 
[1] "Checking user variable: user_var_1"
[1] "Checking rule: rule_1"

 Ending user variable tests Fri Oct  3 12:25:36 2025 
  Took  0.14 


 Starting warning-mutPropGrowth tests Fri Oct  3 12:25:36 2025 

 Ending warning-mutPropGrowth tests Fri Oct  3 12:25:37 2025 
  Took  0.89 


 Starting wide2long tests Fri Oct  3 12:25:37 2025 

 Ending wide2long tests Fri Oct  3 12:25:37 2025 
  Took  0.32 

[ FAIL 0 | WARN 19 | SKIP 5 | PASS 8403 ]

══ Skipped tests (5) ═══════════════════════════════════════════════════════════
• empty test (5): 'test.FDF-letter-fitness-order.R:376:1',
  'test.ZZ-dummy-skip-warn-test.R:8:1', 'test.ZZ-dummy-skip-warn-test.R:12:1',
  'test.fixation.R:4:1', 'test.init-mutant.R:1099:1'

[ FAIL 0 | WARN 19 | SKIP 5 | PASS 8403 ]
> 
> proc.time()
   user  system elapsed 
280.780  32.726 276.937 

Example timings

OncoSimulR.Rcheck/OncoSimulR-Ex.timings

nameusersystemelapsed
OncoSimulWide2Long0.2610.0040.311
POM0.7270.0440.505
allFitnessEffects2.4310.0362.720
benchmarks0.0070.0040.011
createInterventions0.3290.0040.334
createUserVars0.4950.0000.497
evalAllGenotypes0.2870.0200.308
example-missing-drivers0.2880.0160.305
examplePosets0.3420.0120.355
examplesFitnessEffects0.120.000.12
freq-dep-simul-examples0.0120.0000.011
mcfLs0.0010.0000.000
oncoSimulIndiv1.3270.1171.719
plot.fitnessEffects0.2640.0480.312
plot.oncosimul0.6140.0200.666
plotClonePhylog1.5340.0911.697
plotFitnessLandscape1.6400.0921.790
plotPoset0.1190.0120.132
poset0.1520.0040.156
rfitness0.8760.0030.996
samplePop0.1110.0790.169
simOGraph0.0860.0150.102
to_Magellan0.2260.0250.377
vignette_pre_computed0.0090.0000.018