| Back to Multiple platform build/check report for BioC 3.22: simplified long | 
 | 
This page was generated on 2025-10-31 12:05 -0400 (Fri, 31 Oct 2025).
| Hostname | OS | Arch (*) | R version | Installed pkgs | 
|---|---|---|---|---|
| nebbiolo2 | Linux (Ubuntu 24.04.3 LTS) | x86_64 | 4.5.1 Patched (2025-08-23 r88802) -- "Great Square Root" | 4901 | 
| lconway | macOS 12.7.6 Monterey | x86_64 | 4.5.1 Patched (2025-09-10 r88807) -- "Great Square Root" | 4691 | 
| kjohnson3 | macOS 13.7.7 Ventura | arm64 | 4.5.1 Patched (2025-09-10 r88807) -- "Great Square Root" | 4637 | 
| Click on any hostname to see more info about the system (e.g. compilers) (*) as reported by 'uname -p', except on Windows and Mac OS X | ||||
| Package 1533/2361 | Hostname | OS / Arch | INSTALL | BUILD | CHECK | BUILD BIN | ||||||||
| OUTRIDER 1.28.0  (landing page) Christian Mertes 
 | nebbiolo2 | Linux (Ubuntu 24.04.3 LTS) / x86_64 | OK | OK | OK |  | ||||||||
| lconway | macOS 12.7.6 Monterey / x86_64 | OK | OK | OK | OK |  | ||||||||
| kjohnson3 | macOS 13.7.7 Ventura / arm64 | OK | OK | OK | OK |  | ||||||||
| To the developers/maintainers of the OUTRIDER package: - Allow up to 24 hours (and sometimes 48 hours) for your latest push to git@git.bioconductor.org:packages/OUTRIDER.git to reflect on this report. See Troubleshooting Build Report for more information. - Use the following Renviron settings to reproduce errors and warnings. - If 'R CMD check' started to fail recently on the Linux builder(s) over a missing dependency, add the missing dependency to 'Suggests:' in your DESCRIPTION file. See Renviron.bioc for more information. | 
| Package: OUTRIDER | 
| Version: 1.28.0 | 
| Command: /Library/Frameworks/R.framework/Resources/bin/R CMD check --install=check:OUTRIDER.install-out.txt --library=/Library/Frameworks/R.framework/Resources/library --no-vignettes --timings OUTRIDER_1.28.0.tar.gz | 
| StartedAt: 2025-10-30 21:11:59 -0400 (Thu, 30 Oct 2025) | 
| EndedAt: 2025-10-30 21:15:02 -0400 (Thu, 30 Oct 2025) | 
| EllapsedTime: 183.1 seconds | 
| RetCode: 0 | 
| Status: OK | 
| CheckDir: OUTRIDER.Rcheck | 
| Warnings: 0 | 
##############################################################################
##############################################################################
###
### Running command:
###
###   /Library/Frameworks/R.framework/Resources/bin/R CMD check --install=check:OUTRIDER.install-out.txt --library=/Library/Frameworks/R.framework/Resources/library --no-vignettes --timings OUTRIDER_1.28.0.tar.gz
###
##############################################################################
##############################################################################
* using log directory ‘/Users/biocbuild/bbs-3.22-bioc/meat/OUTRIDER.Rcheck’
* using R version 4.5.1 Patched (2025-09-10 r88807)
* using platform: aarch64-apple-darwin20
* R was compiled by
    Apple clang version 16.0.0 (clang-1600.0.26.6)
    GNU Fortran (GCC) 14.2.0
* running under: macOS Ventura 13.7.7
* using session charset: UTF-8
* using option ‘--no-vignettes’
* checking for file ‘OUTRIDER/DESCRIPTION’ ... OK
* checking extension type ... Package
* this is package ‘OUTRIDER’ version ‘1.28.0’
* package encoding: UTF-8
* checking package namespace information ... OK
* checking package dependencies ... INFO
Imports includes 23 non-default packages.
Importing from so many packages makes the package vulnerable to any of
them becoming unavailable.  Move as many as possible to Suggests and
use conditionally.
* checking if this is a source package ... OK
* checking if there is a namespace ... OK
* checking for hidden files and directories ... OK
* checking for portable file names ... OK
* checking for sufficient/correct file permissions ... OK
* checking whether package ‘OUTRIDER’ can be installed ... OK
* used C++ compiler: ‘Apple clang version 15.0.0 (clang-1500.1.0.2.5)’
* used SDK: ‘MacOSX11.3.1.sdk’
* checking installed package size ... OK
* checking package directory ... OK
* checking ‘build’ directory ... OK
* checking DESCRIPTION meta-information ... OK
* checking top-level files ... OK
* checking for left-over files ... OK
* checking index information ... OK
* checking package subdirectories ... OK
* checking code files for non-ASCII characters ... OK
* checking R files for syntax errors ... OK
* checking whether the package can be loaded ... OK
* checking whether the package can be loaded with stated dependencies ... OK
* checking whether the package can be unloaded cleanly ... OK
* checking whether the namespace can be loaded with stated dependencies ... OK
* checking whether the namespace can be unloaded cleanly ... OK
* checking dependencies in R code ... NOTE
Unexported object imported by a ':::' call: 'ggbio:::.buildFacetsFromArgs'
  See the note in ?`:::` about the use of this operator.
There are ::: calls to the package's namespace in its code. A package
  almost never needs to use ::: for its own objects:
  'checkOutriderDataSet'
* checking S3 generic/method consistency ... OK
* checking replacement functions ... OK
* checking foreign function calls ... OK
* checking R code for possible problems ... NOTE
estimateBestQ: no visible binding for global variable ‘oht’
plotEncDimSearch.OUTRIDER: no visible binding for global variable ‘oht’
plotEncDimSearch.OUTRIDER: no visible binding for global variable
  ‘singular_values’
plotEncDimSearch,OutriderDataSet: no visible binding for global
  variable ‘oht’
plotEncDimSearch,OutriderDataSet: no visible binding for global
  variable ‘singular_values’
Undefined global functions or variables:
  oht singular_values
* checking Rd files ... OK
* checking Rd metadata ... OK
* checking Rd cross-references ... NOTE
Non-topic package-anchored link(s) in Rd file 'getter_setter_functions.Rd':
  ‘[DESeq2]{estimateDispersions}’
Non-topic package-anchored link(s) in Rd file 'sizeFactors.Rd':
  ‘[DESeq2]{estimateSizeFactors}’
See section 'Cross-references' in the 'Writing R Extensions' manual.
* checking for missing documentation entries ... OK
* checking for code/documentation mismatches ... OK
* checking Rd \usage sections ... OK
* checking Rd contents ... OK
* checking for unstated dependencies in examples ... OK
* checking line endings in C/C++/Fortran sources/headers ... OK
* checking line endings in Makefiles ... OK
* checking compilation flags in Makevars ... OK
* checking for GNU extensions in Makefiles ... OK
* checking for portable use of $(BLAS_LIBS) and $(LAPACK_LIBS) ... OK
* checking use of PKG_*FLAGS in Makefiles ... OK
* checking compiled code ... NOTE
Note: information on .o files is not available
* checking sizes of PDF files under ‘inst/doc’ ... OK
* checking files in ‘vignettes’ ... OK
* checking examples ... OK
Examples with CPU (user + system) or elapsed time > 5s
               user system elapsed
OUTRIDER      4.522  1.074   6.970
plotFunctions 5.296  0.196   5.504
* checking for unstated dependencies in ‘tests’ ... OK
* checking tests ...
  Running ‘testthat.R’
 OK
* checking for unstated dependencies in vignettes ... OK
* checking package vignettes ... OK
* checking running R code from vignettes ... SKIPPED
* checking re-building of vignette outputs ... SKIPPED
* checking PDF version of manual ... OK
* DONE
Status: 4 NOTEs
See
  ‘/Users/biocbuild/bbs-3.22-bioc/meat/OUTRIDER.Rcheck/00check.log’
for details.
OUTRIDER.Rcheck/00install.out
############################################################################## ############################################################################## ### ### Running command: ### ### /Library/Frameworks/R.framework/Resources/bin/R CMD INSTALL OUTRIDER ### ############################################################################## ############################################################################## * installing to library ‘/Library/Frameworks/R.framework/Versions/4.5-arm64/Resources/library’ * installing *source* package ‘OUTRIDER’ ... ** this is package ‘OUTRIDER’ version ‘1.28.0’ ** using staged installation ** libs using C++ compiler: ‘Apple clang version 15.0.0 (clang-1500.1.0.2.5)’ using SDK: ‘MacOSX11.3.1.sdk’ clang++ -arch arm64 -std=gnu++17 -I"/Library/Frameworks/R.framework/Resources/include" -DNDEBUG -I'/Library/Frameworks/R.framework/Versions/4.5-arm64/Resources/library/Rcpp/include' -I'/Library/Frameworks/R.framework/Versions/4.5-arm64/Resources/library/RcppArmadillo/include' -I/opt/R/arm64/include -DARMA_DONT_USE_OPENMP -fPIC -falign-functions=64 -Wall -g -O2 -c RcppExports.cpp -o RcppExports.o clang++ -arch arm64 -std=gnu++17 -I"/Library/Frameworks/R.framework/Resources/include" -DNDEBUG -I'/Library/Frameworks/R.framework/Versions/4.5-arm64/Resources/library/Rcpp/include' -I'/Library/Frameworks/R.framework/Versions/4.5-arm64/Resources/library/RcppArmadillo/include' -I/opt/R/arm64/include -DARMA_DONT_USE_OPENMP -fPIC -falign-functions=64 -Wall -g -O2 -c loss_n_gradient_functions.cpp -o loss_n_gradient_functions.o clang++ -arch arm64 -std=gnu++17 -dynamiclib -Wl,-headerpad_max_install_names -undefined dynamic_lookup -L/Library/Frameworks/R.framework/Resources/lib -L/opt/R/arm64/lib -o OUTRIDER.so RcppExports.o loss_n_gradient_functions.o -L/Library/Frameworks/R.framework/Resources/lib -lRlapack -L/Library/Frameworks/R.framework/Resources/lib -lRblas -L/opt/gfortran/lib/gcc/aarch64-apple-darwin20.0/14.2.0 -L/opt/gfortran/lib -lemutls_w -lheapt_w -lgfortran -lquadmath -F/Library/Frameworks/R.framework/.. -framework R installing to /Library/Frameworks/R.framework/Versions/4.5-arm64/Resources/library/00LOCK-OUTRIDER/00new/OUTRIDER/libs ** R ** inst ** byte-compile and prepare package for lazy loading ** help *** installing help indices ** building package indices ** installing vignettes ** testing if installed package can be loaded from temporary location ** checking absolute paths in shared objects and dynamic libraries ** testing if installed package can be loaded from final location ** testing if installed package keeps a record of temporary installation path * DONE (OUTRIDER)
OUTRIDER.Rcheck/tests/testthat.Rout
R version 4.5.1 Patched (2025-09-10 r88807) -- "Great Square Root"
Copyright (C) 2025 The R Foundation for Statistical Computing
Platform: aarch64-apple-darwin20
R is free software and comes with ABSOLUTELY NO WARRANTY.
You are welcome to redistribute it under certain conditions.
Type 'license()' or 'licence()' for distribution details.
R is a collaborative project with many contributors.
Type 'contributors()' for more information and
'citation()' on how to cite R or R packages in publications.
Type 'demo()' for some demos, 'help()' for on-line help, or
'help.start()' for an HTML browser interface to help.
Type 'q()' to quit R.
> library(testthat)
> library(OUTRIDER)
Loading required package: BiocParallel
Loading required package: GenomicFeatures
Loading required package: BiocGenerics
Loading required package: generics
Attaching package: 'generics'
The following objects are masked from 'package:base':
    as.difftime, as.factor, as.ordered, intersect, is.element, setdiff,
    setequal, union
Attaching package: 'BiocGenerics'
The following objects are masked from 'package:stats':
    IQR, mad, sd, var, xtabs
The following objects are masked from 'package:base':
    Filter, Find, Map, Position, Reduce, anyDuplicated, aperm, append,
    as.data.frame, basename, cbind, colnames, dirname, do.call,
    duplicated, eval, evalq, get, grep, grepl, is.unsorted, lapply,
    mapply, match, mget, order, paste, pmax, pmax.int, pmin, pmin.int,
    rank, rbind, rownames, sapply, saveRDS, table, tapply, unique,
    unsplit, which.max, which.min
Loading required package: S4Vectors
Loading required package: stats4
Attaching package: 'S4Vectors'
The following object is masked from 'package:utils':
    findMatches
The following objects are masked from 'package:base':
    I, expand.grid, unname
Loading required package: IRanges
Loading required package: Seqinfo
Loading required package: GenomicRanges
Loading required package: AnnotationDbi
Loading required package: Biobase
Welcome to Bioconductor
    Vignettes contain introductory material; view with
    'browseVignettes()'. To cite Bioconductor, see
    'citation("Biobase")', and for packages 'citation("pkgname")'.
Loading required package: SummarizedExperiment
Loading required package: MatrixGenerics
Loading required package: matrixStats
Attaching package: 'matrixStats'
The following objects are masked from 'package:Biobase':
    anyMissing, rowMedians
Attaching package: 'MatrixGenerics'
The following objects are masked from 'package:matrixStats':
    colAlls, colAnyNAs, colAnys, colAvgsPerRowSet, colCollapse,
    colCounts, colCummaxs, colCummins, colCumprods, colCumsums,
    colDiffs, colIQRDiffs, colIQRs, colLogSumExps, colMadDiffs,
    colMads, colMaxs, colMeans2, colMedians, colMins, colOrderStats,
    colProds, colQuantiles, colRanges, colRanks, colSdDiffs, colSds,
    colSums2, colTabulates, colVarDiffs, colVars, colWeightedMads,
    colWeightedMeans, colWeightedMedians, colWeightedSds,
    colWeightedVars, rowAlls, rowAnyNAs, rowAnys, rowAvgsPerColSet,
    rowCollapse, rowCounts, rowCummaxs, rowCummins, rowCumprods,
    rowCumsums, rowDiffs, rowIQRDiffs, rowIQRs, rowLogSumExps,
    rowMadDiffs, rowMads, rowMaxs, rowMeans2, rowMedians, rowMins,
    rowOrderStats, rowProds, rowQuantiles, rowRanges, rowRanks,
    rowSdDiffs, rowSds, rowSums2, rowTabulates, rowVarDiffs, rowVars,
    rowWeightedMads, rowWeightedMeans, rowWeightedMedians,
    rowWeightedSds, rowWeightedVars
The following object is masked from 'package:Biobase':
    rowMedians
> 
> register(SerialParam())
> 
> test_check("OUTRIDER")
[1] "Thu Oct 30 21:14:33 2025: Initial PCA loss: 6.2016902539045"
[1] "Thu Oct 30 21:14:34 2025: Iteration: 1 loss: 4.36248960081266"
[1] "Thu Oct 30 21:14:34 2025: Iteration: 2 loss: 4.30116555642335"
[1] "Thu Oct 30 21:14:34 2025: Iteration: 3 loss: 4.2774274296804"
[1] "Thu Oct 30 21:14:34 2025: Iteration: 4 loss: 4.27406042199325"
[1] "Thu Oct 30 21:14:34 2025: Iteration: 5 loss: 4.2695598217818"
[1] "Thu Oct 30 21:14:34 2025: Iteration: 6 loss: 4.26950334767152"
Time difference of 1.087197 secs
[1] "Thu Oct 30 21:14:34 2025: 6 Final nb-AE loss: 4.26950334767152"
[1] "Thu Oct 30 21:14:35 2025: Initial PCA loss: 6.2016902539045"
[1] "Thu Oct 30 21:14:35 2025: Iteration: 1 loss: 4.36248960081266"
[1] "Thu Oct 30 21:14:35 2025: Iteration: 2 loss: 4.30116555642335"
[1] "Thu Oct 30 21:14:35 2025: Iteration: 3 loss: 4.2774274296804"
[1] "Thu Oct 30 21:14:36 2025: Iteration: 4 loss: 4.27406042199325"
[1] "Thu Oct 30 21:14:36 2025: Iteration: 5 loss: 4.2695598217818"
[1] "Thu Oct 30 21:14:36 2025: Iteration: 6 loss: 4.26950334767152"
Time difference of 1.073792 secs
[1] "Thu Oct 30 21:14:36 2025: 6 Final nb-AE loss: 4.26950334767152"
class: OutriderDataSet
class: RangedSummarizedExperiment 
dim: 100 50 
metadata(1): version
assays(1): counts
rownames(100): ENSG00000223972.4 ENSG00000227232.4 ...
  ENSG00000107404.13 ENSG00000162576.12
rowData names(0):
colnames(50): GTEX.UPK5.0426.SM.3GAEK GTEX.WFG7.2026.SM.3GIL7 ...
  GTEX.11UD2.2526.SM.5CVNU GTEX.13O61.1426.SM.5KM3D
colData names(1): sampleID
[1] "Thu Oct 30 21:14:37 2025: Initial PCA loss: 4.4762889668609"
[1] "Thu Oct 30 21:14:38 2025: Iteration: 1 loss: 4.14907653321299"
[1] "Thu Oct 30 21:14:38 2025: Iteration: 2 loss: 4.12844143591871"
Time difference of 0.331604 secs
[1] "Thu Oct 30 21:14:38 2025: 2 Final nb-AE loss: 4.12844143591871"
[1] "Evaluation loss: 0.523039201502599 for q=3"
[1] "Thu Oct 30 21:14:38 2025: Initial PCA loss: 4.43486497308704"
[1] "Thu Oct 30 21:14:38 2025: Iteration: 1 loss: 4.0619733962917"
[1] "Thu Oct 30 21:14:39 2025: Iteration: 2 loss: 4.04119525571185"
Time difference of 0.369895 secs
[1] "Thu Oct 30 21:14:39 2025: 2 Final nb-AE loss: 4.04119525571185"
[1] "Evaluation loss: 0.523499774874803 for q=4"
[1] "Thu Oct 30 21:14:39 2025: Initial PCA loss: 4.4053058185925"
[1] "Thu Oct 30 21:14:39 2025: Iteration: 1 loss: 3.99092836439616"
[1] "Thu Oct 30 21:14:39 2025: Iteration: 2 loss: 3.97689487148115"
Time difference of 0.382488 secs
[1] "Thu Oct 30 21:14:39 2025: 2 Final nb-AE loss: 3.97689487148115"
[1] "Evaluation loss: 0.457791639795852 for q=5"
Optimal encoding dimension: 4 
Optimal encoding dimension: 50 
Optimal encoding dimension: 20 
Optimal encoding dimension: 2 
Optimal encoding dimension: 4 
[1] "Thu Oct 30 21:14:51 2025: Initial PCA loss: 7.16457134714849"
[1] "Thu Oct 30 21:14:51 2025: Iteration: 1 loss: 6.82915933030186"
[1] "Thu Oct 30 21:14:51 2025: Iteration: 2 loss: 6.82750282499896"
Time difference of 0.4856901 secs
[1] "Thu Oct 30 21:14:51 2025: 2 Final nb-AE loss: 6.82750282499896"
[ FAIL 0 | WARN 12 | SKIP 0 | PASS 131 ]
[ FAIL 0 | WARN 12 | SKIP 0 | PASS 131 ]
> 
> proc.time()
   user  system elapsed 
 31.849   0.676  32.581 
OUTRIDER.Rcheck/OUTRIDER-Ex.timings
| name | user | system | elapsed | |
| OUTRIDER | 4.522 | 1.074 | 6.970 | |
| OutriderDataSet-class | 0.278 | 0.029 | 0.493 | |
| aberrant | 0.692 | 0.320 | 1.069 | |
| computeGeneLength | 0.523 | 0.083 | 0.756 | |
| computeLatentSpace | 0.221 | 0.004 | 0.225 | |
| computePvalues | 0.685 | 0.635 | 0.880 | |
| computeZscores | 0.247 | 0.065 | 0.313 | |
| controlForConfounders | 0.304 | 0.026 | 0.331 | |
| counts | 0.185 | 0.008 | 0.194 | |
| estimateBestQ | 3.602 | 0.098 | 3.716 | |
| filterExpression | 0.406 | 0.002 | 0.408 | |
| fit | 0.243 | 0.003 | 0.246 | |
| fpkm | 0.225 | 0.004 | 0.228 | |
| getter_setter_functions | 0.819 | 0.002 | 0.821 | |
| makeExampleOutriderDataSet | 0.301 | 0.001 | 0.302 | |
| normalizationFactors | 0.211 | 0.002 | 0.212 | |
| plotFunctions | 5.296 | 0.196 | 5.504 | |
| results | 1.594 | 0.028 | 1.623 | |
| sampleExclusionMask | 0.127 | 0.010 | 0.138 | |
| sizeFactors | 0.183 | 0.003 | 0.186 | |