Back to Multiple platform build/check report for BioC 3.22:   simplified   long
ABCDEFGHIJKLMN[O]PQRSTUVWXYZ

This page was generated on 2025-11-20 12:04 -0500 (Thu, 20 Nov 2025).

HostnameOSArch (*)R versionInstalled pkgs
nebbiolo2Linux (Ubuntu 24.04.3 LTS)x86_644.5.2 (2025-10-31) -- "[Not] Part in a Rumble" 4615
merida1macOS 12.7.6 Montereyx86_644.5.2 Patched (2025-11-05 r88990) -- "[Not] Part in a Rumble" 4610
kjohnson1macOS 13.7.5 Venturaarm644.5.2 Patched (2025-11-04 r88984) -- "[Not] Part in a Rumble" 4598
taishanLinux (openEuler 24.03 LTS)aarch644.5.0 (2025-04-11) -- "How About a Twenty-Six" 4668
Click on any hostname to see more info about the system (e.g. compilers)      (*) as reported by 'uname -p', except on Windows and Mac OS X

Package 1524/2361HostnameOS / ArchINSTALLBUILDCHECKBUILD BIN
ORFik 1.30.0  (landing page)
Haakon Tjeldnes
Snapshot Date: 2025-11-17 13:45 -0500 (Mon, 17 Nov 2025)
git_url: https://git.bioconductor.org/packages/ORFik
git_branch: RELEASE_3_22
git_last_commit: b860267
git_last_commit_date: 2025-10-29 10:45:22 -0500 (Wed, 29 Oct 2025)
nebbiolo2Linux (Ubuntu 24.04.3 LTS) / x86_64  OK    OK    ERROR  
merida1macOS 12.7.6 Monterey / x86_64  OK    OK    ERROR    OK  
kjohnson1macOS 13.7.5 Ventura / arm64  OK    OK    ERROR    OK  
taishanLinux (openEuler 24.03 LTS) / aarch64  OK    OK    OK  


CHECK results for ORFik on nebbiolo2

To the developers/maintainers of the ORFik package:
- Allow up to 24 hours (and sometimes 48 hours) for your latest push to git@git.bioconductor.org:packages/ORFik.git to reflect on this report. See Troubleshooting Build Report for more information.
- Use the following Renviron settings to reproduce errors and warnings.
- If 'R CMD check' started to fail recently on the Linux builder(s) over a missing dependency, add the missing dependency to 'Suggests:' in your DESCRIPTION file. See Renviron.bioc for more information.

raw results


Summary

Package: ORFik
Version: 1.30.0
Command: /home/biocbuild/bbs-3.22-bioc/R/bin/R CMD check --install=check:ORFik.install-out.txt --library=/home/biocbuild/bbs-3.22-bioc/R/site-library --timings ORFik_1.30.0.tar.gz
StartedAt: 2025-11-18 06:50:39 -0500 (Tue, 18 Nov 2025)
EndedAt: 2025-11-18 07:09:55 -0500 (Tue, 18 Nov 2025)
EllapsedTime: 1156.6 seconds
RetCode: 1
Status:   ERROR  
CheckDir: ORFik.Rcheck
Warnings: NA

Command output

##############################################################################
##############################################################################
###
### Running command:
###
###   /home/biocbuild/bbs-3.22-bioc/R/bin/R CMD check --install=check:ORFik.install-out.txt --library=/home/biocbuild/bbs-3.22-bioc/R/site-library --timings ORFik_1.30.0.tar.gz
###
##############################################################################
##############################################################################


* using log directory ‘/home/biocbuild/bbs-3.22-bioc/meat/ORFik.Rcheck’
* using R version 4.5.2 (2025-10-31)
* using platform: x86_64-pc-linux-gnu
* R was compiled by
    gcc (Ubuntu 13.3.0-6ubuntu2~24.04) 13.3.0
    GNU Fortran (Ubuntu 13.3.0-6ubuntu2~24.04) 13.3.0
* running under: Ubuntu 24.04.3 LTS
* using session charset: UTF-8
* checking for file ‘ORFik/DESCRIPTION’ ... OK
* checking extension type ... Package
* this is package ‘ORFik’ version ‘1.30.0’
* package encoding: UTF-8
* checking package namespace information ... OK
* checking package dependencies ... INFO
Imports includes 29 non-default packages.
Importing from so many packages makes the package vulnerable to any of
them becoming unavailable.  Move as many as possible to Suggests and
use conditionally.
* checking if this is a source package ... OK
* checking if there is a namespace ... OK
* checking for hidden files and directories ... OK
* checking for portable file names ... NOTE
Found the following non-portable file path:
  ORFik/inst/extdata/test_processing/contaminants_depletion/LOGS/contaminants_output_template_Log.final.out

Tarballs are only required to store paths of up to 100 bytes and cannot
store those of more than 256 bytes, with restrictions including to 100
bytes for the final component.
See section ‘Package structure’ in the ‘Writing R Extensions’ manual.
* checking for sufficient/correct file permissions ... OK
* checking whether package ‘ORFik’ can be installed ... OK
* used C++ compiler: ‘g++ (Ubuntu 13.3.0-6ubuntu2~24.04) 13.3.0’
* checking installed package size ... INFO
  installed size is  7.6Mb
  sub-directories of 1Mb or more:
    R         1.2Mb
    extdata   1.5Mb
    help      1.0Mb
    libs      3.0Mb
* checking package directory ... OK
* checking ‘build’ directory ... OK
* checking DESCRIPTION meta-information ... NOTE
License stub is invalid DCF.
* checking top-level files ... OK
* checking for left-over files ... OK
* checking index information ... OK
* checking package subdirectories ... OK
* checking code files for non-ASCII characters ... OK
* checking R files for syntax errors ... OK
* checking whether the package can be loaded ... OK
* checking whether the package can be loaded with stated dependencies ... OK
* checking whether the package can be unloaded cleanly ... OK
* checking whether the namespace can be loaded with stated dependencies ... NOTE
Warning: no function found corresponding to methods exports from ‘ORFik’ for: ‘organism’

A namespace must be able to be loaded with just the base namespace
loaded: otherwise if the namespace gets loaded by a saved object, the
session will be unable to start.

Probably some imports need to be declared in the NAMESPACE file.
* checking whether the namespace can be unloaded cleanly ... OK
* checking loading without being on the library search path ... OK
* checking dependencies in R code ... NOTE
Unexported objects imported by ':::' calls:
  ‘GenomicFeatures:::.merge_seqinfo_and_infer_missing_seqlengths’
  ‘IRanges:::regroupBySupergroup’ ‘S4Vectors:::normarg_mcols’
  ‘biomartr:::getENSEMBL.Seq’ ‘biomartr:::getENSEMBL.gtf’
  See the note in ?`:::` about the use of this operator.
There are ::: calls to the package's namespace in its code. A package
  almost never needs to use ::: for its own objects:
  ‘go_analaysis_gorilla’ ‘pseudoIntronsPerGroup’
* checking S3 generic/method consistency ... OK
* checking replacement functions ... OK
* checking foreign function calls ... OK
* checking R code for possible problems ... NOTE
DEG.plot.static: no visible binding for global variable ‘Regulation’
DEG.plot.static: no visible binding for global variable ‘meanCounts’
DEG.plot.static: no visible binding for global variable ‘LFC’
DEG_gorilla: no visible binding for global variable ‘contrast’
DEG_gorilla: no visible binding for global variable ‘Regulation’
DEG_gorilla: no visible binding for global variable
  ‘external_gene_name’
DEG_model_simple: no visible binding for global variable ‘id’
DEG_model_simple: no visible binding for global variable ‘contrast’
DTEG.plot: no visible binding for global variable ‘Regulation’
DTEG.plot: no visible binding for global variable ‘rna.lfc’
DTEG.plot: no visible binding for global variable ‘rfp.lfc’
DTEG_add_regulation_categories: no visible binding for global variable
  ‘te.sign’
DTEG_add_regulation_categories: no visible binding for global variable
  ‘rfp.sign’
DTEG_add_regulation_categories: no visible binding for global variable
  ‘rna.sign’
DTEG_add_regulation_categories: no visible binding for global variable
  ‘Regulation’
DTEG_add_regulation_categories: no visible binding for global variable
  ‘all_models_sign’
DTEG_add_regulation_categories: no visible binding for global variable
  ‘te.lfc’
DTEG_add_regulation_categories: no visible binding for global variable
  ‘rna.lfc’
DTEG_pair_results: no visible binding for global variable ‘rna.sign’
DTEG_pair_results: no visible binding for global variable ‘rna.padj’
DTEG_pair_results: no visible binding for global variable ‘rfp.sign’
DTEG_pair_results: no visible binding for global variable ‘rfp.padj’
DTEG_pair_results: no visible binding for global variable ‘te.sign’
DTEG_pair_results: no visible binding for global variable ‘te.padj’
DTEG_pair_results: no visible binding for global variable
  ‘all_models_sign’
QCstats.plot: no visible binding for global variable ‘variable’
QCstats.plot: no visible binding for global variable ‘sample_total’
QCstats.plot: no visible binding for global variable ‘value’
QCstats.plot: no visible global function definition for ‘.’
QCstats.plot: no visible binding for global variable ‘sample_id’
QCstats.plot: no visible binding for global variable ‘percentage’
QCstats.plot: no visible binding for global variable
  ‘perc_of_counts_per_sample’
QCstats.plot: no visible binding for global variable ‘read length’
RiboQC.plot: no visible binding for global variable ‘variable’
RiboQC.plot: no visible binding for global variable ‘sample_total’
RiboQC.plot: no visible binding for global variable ‘value’
RiboQC.plot: no visible global function definition for ‘.’
RiboQC.plot: no visible binding for global variable ‘sample_id’
RiboQC.plot: no visible binding for global variable ‘percentage’
RiboQC.plot: no visible binding for global variable ‘percent’
RiboQC.plot: no visible binding for global variable ‘frame’
STAR.multiQC_plot: no visible binding for global variable ‘value’
STAR.multiQC_plot: no visible binding for global variable ‘sample_id’
TOP.Motif.ecdf: no visible binding for global variable ‘seq1’
TOP.Motif.ecdf: no visible binding for global variable ‘TOP’
alignmentFeatureStatistics : <anonymous>: no visible binding for global
  variable ‘percentage_mrna_aligned’
alignmentFeatureStatistics : <anonymous>: no visible binding for global
  variable ‘mRNA’
alignmentFeatureStatistics : <anonymous>: no visible binding for global
  variable ‘percentage_tx_aligned’
alignmentFeatureStatistics : <anonymous>: no visible binding for global
  variable ‘Transcript’
alignmentFeatureStatistics : <anonymous>: no visible binding for global
  variable ‘ratio_cds_mrna’
alignmentFeatureStatistics : <anonymous>: no visible binding for global
  variable ‘CDS’
alignmentFeatureStatistics : <anonymous>: no visible binding for global
  variable ‘ratio_cds_leader’
alignmentFeatureStatistics : <anonymous>: no visible binding for global
  variable ‘LEADERS’
allFeaturesHelper: no visible binding for global variable ‘te’
allFeaturesHelper: no visible binding for global variable ‘fpkmRFP’
allFeaturesHelper: no visible binding for global variable ‘fpkmRNA’
allFeaturesHelper: no visible binding for global variable ‘countRFP’
allFeaturesHelper: no visible binding for global variable ‘entropyRFP’
allFeaturesHelper: no visible binding for global variable
  ‘disengagementScores’
allFeaturesHelper: no visible binding for global variable ‘RRS’
allFeaturesHelper: no visible binding for global variable ‘RSS’
allFeaturesHelper: no visible binding for global variable ‘ORFScores’
allFeaturesHelper: no visible binding for global variable ‘ioScore’
allFeaturesHelper: no visible binding for global variable
  ‘startCodonCoverage’
allFeaturesHelper: no visible binding for global variable
  ‘startRegionRelative’
allFeaturesHelper: no visible binding for global variable ‘kozak’
allFeaturesHelper: no visible binding for global variable ‘StartCodons’
allFeaturesHelper: no visible binding for global variable ‘StopCodons’
allFeaturesHelper: no visible binding for global variable
  ‘fractionLengths’
allFeaturesHelper: no visible binding for global variable ‘distORFCDS’
allFeaturesHelper: no visible binding for global variable ‘inFrameCDS’
allFeaturesHelper: no visible binding for global variable
  ‘isOverlappingCds’
allFeaturesHelper: no visible binding for global variable ‘rankInTx’
appendZeroes: no visible binding for global variable ‘frame’
appendZeroes: no visible binding for global variable ‘position’
appendZeroes: no visible binding for global variable ‘count’
append_gene_symbols: no visible binding for global variable
  ‘id_original’
append_gene_symbols: no visible binding for global variable ‘id’
append_gene_symbols: no visible binding for global variable
  ‘external_gene_name’
append_gene_symbols: no visible binding for global variable ‘label’
artificial.orfs: no visible binding for global variable ‘random’
artificial.orfs: no visible binding for global variable ‘pick’
artificial.orfs: no visible global function definition for ‘.’
bamLoadCollapsedScores: no visible global function definition for
  ‘bamTag<-’
bamLoadCollapsedScores: no visible global function definition for
  ‘bamWhat<-’
browseSRA: no visible global function definition for ‘browseURL’
cellTypeNames: missing arguments not allowed in calls to ‘c’
codonSumsPerGroup: no visible binding for global variable ‘genes’
codon_usage: no visible binding for global variable ‘merged’
codon_usage: no visible binding for global variable ‘AA’
codon_usage: no visible binding for global variable ‘codon’
codon_usage_plot: no visible binding for global variable ‘seqs’
collapse.by.scores: no visible global function definition for ‘.’
collapse.fastq.internal: no visible binding for global variable ‘N’
cor_plot: no visible binding for global variable ‘Var2’
cor_plot: no visible binding for global variable ‘Var1’
cor_plot: no visible binding for global variable ‘Cor’
cor_table: no visible binding for global variable ‘Var1’
cor_table: no visible binding for global variable ‘Var2’
cor_table: no visible binding for global variable ‘Cor’
coverageByTranscriptFST: no visible binding for global variable
  ‘file_forward’
coverageByTranscriptFST: no visible binding for global variable
  ‘file_reverse’
coverageByTranscriptFST : <anonymous>: no visible binding for global
  variable ‘chr’
coverageByTranscriptFST : <anonymous>: no visible binding for global
  variable ‘query_id’
coverageByTranscriptFST : <anonymous>: no visible global function
  definition for ‘foverlaps’
coverageByTranscriptFST : <anonymous>: no visible binding for global
  variable ‘start_segment’
coverageByTranscriptFST : <anonymous>: no visible binding for global
  variable ‘i.start’
coverageByTranscriptFST : <anonymous>: no visible binding for global
  variable ‘end_segment’
coverageByTranscriptFST : <anonymous>: no visible binding for global
  variable ‘i.end’
coverageByTranscriptFST : <anonymous>: no visible binding for global
  variable ‘file_forward’
coverageByTranscriptFST : <anonymous>: no visible binding for global
  variable ‘file_reverse’
coverageByTranscriptFST : <anonymous>: no visible global function
  definition for ‘.’
coverageHeatMap: no visible binding for global variable ‘position’
coverageHeatMap: no visible binding for global variable ‘fraction’
coveragePerORFStatistics: no visible global function definition for ‘.’
coveragePerORFStatistics: no visible binding for global variable
  ‘count’
coveragePerORFStatistics: no visible binding for global variable
  ‘genes’
coverageScorings: no visible binding for global variable ‘count’
coverageScorings: no visible binding for global variable ‘zscore’
coverageScorings: no visible binding for global variable ‘windowMean’
coverageScorings: no visible binding for global variable ‘windowSD’
coverageScorings: no visible global function definition for ‘.’
coverageScorings: no visible binding for global variable ‘modzscore’
coverageScorings: no visible binding for global variable ‘windowMedian’
coverageScorings: no visible binding for global variable ‘windowMAD’
coverageScorings: no visible binding for global variable ‘gene_sum’
coverageScorings: no visible binding for global variable ‘fraction’
coverage_random_access_file: no visible binding for global variable
  ‘count’
coverage_random_access_file: no visible binding for global variable
  ‘genes’
coverage_random_access_file: no visible binding for global variable
  ‘position’
coverage_random_access_file: no visible binding for global variable
  ‘frame’
coverage_to_dt: no visible binding for global variable ‘frame’
coverage_to_dt: no visible binding for global variable ‘genes’
coverage_to_dt: no visible binding for global variable ‘position’
detectRibosomeShifts: no visible global function definition for ‘.’
detectRibosomeShifts: no visible binding for global variable ‘size’
detectRibosomeShifts: no visible binding for global variable ‘fraction’
detectRibosomeShifts: no visible binding for global variable ‘pShifted’
detectRibosomeShifts: no visible binding for global variable
  ‘sum.count’
detectRibosomeShifts: no visible binding for global variable ‘count’
detectRibosomeShifts: no visible binding for global variable ‘genes’
detectRibosomeShifts: no visible binding for global variable
  ‘frac.score’
detect_ribo_orfs: no visible global function definition for ‘organism’
download_gene_homologues: no visible binding for global variable
  ‘species’
entropy: no visible binding for global variable ‘Hx’
entropy: no visible binding for global variable ‘codonSums’
entropy: no visible global function definition for ‘.’
entropy: no visible binding for global variable ‘genes’
experiment_parse_list_info: no visible binding for global variable
  ‘index’
fetch_xml_attributes: no visible binding for global variable
  ‘..to_keep’
filterExtremePeakGenes: no visible binding for global variable ‘count’
filterExtremePeakGenes: no visible binding for global variable
  ‘median_per_gene’
filterExtremePeakGenes: no visible binding for global variable ‘genes’
filterExtremePeakGenes: no visible global function definition for ‘.’
filterTranscripts: no visible binding for global variable ‘utr5_len’
filterTranscripts: no visible binding for global variable ‘utr3_len’
filter_empty_runs: no visible binding for global variable ‘spots’
findNGSPairs: no visible global function definition for ‘.’
findNGSPairs: no visible binding for global variable ‘forward’
findPeaksPerGene: no visible binding for global variable ‘sum_per_gene’
findPeaksPerGene: no visible binding for global variable ‘count’
findPeaksPerGene: no visible binding for global variable ‘genes’
findPeaksPerGene: no visible binding for global variable
  ‘mean_per_gene’
findPeaksPerGene: no visible binding for global variable
  ‘median_per_gene’
findPeaksPerGene: no visible binding for global variable ‘sd_per_gene’
findPeaksPerGene: no visible binding for global variable ‘mad_per_gene’
findPeaksPerGene: no visible binding for global variable ‘zscore’
findPeaksPerGene: no visible binding for global variable ‘modzscore’
findPeaksPerGene: no visible binding for global variable ‘gene_id’
find_url_ebi_safe: no visible binding for global variable
  ‘run_accession’
floss: no visible binding for global variable ‘ORFGrouping’
floss: no visible binding for global variable ‘widths’
floss: no visible global function definition for ‘.’
floss: no visible binding for global variable ‘CDSGrouping’
floss: no visible binding for global variable ‘fraction.x’
floss: no visible binding for global variable ‘fraction.y’
gSort: no visible binding for global variable ‘grnames’
geneToSymbol: no visible global function definition for ‘organism’
geneToSymbol: no visible binding for global variable ‘ensembl_gene_id’
geneToSymbol: no visible binding for global variable
  ‘external_gene_name’
geneToSymbol: no visible binding for global variable
  ‘ensembl_transcript_id’
geneToSymbol: no visible binding for global variable ‘uniprotswissprot’
getNGenesCoverage: no visible global function definition for ‘.’
getNGenesCoverage: no visible binding for global variable ‘genes’
getNGenesCoverage: no visible binding for global variable ‘fraction’
get_phix_genome: no visible binding for global variable ‘phix.url’
go_analaysis_gorilla: no visible global function definition for
  ‘browseURL’
grl_has_any_valid_lengths: no visible binding for global variable ‘grl’
initiationScore: no visible global function definition for ‘.’
initiationScore: no visible binding for global variable ‘dif’
initiationScore: no visible binding for global variable ‘fraction’
initiationScore: no visible binding for global variable ‘genes’
initiationScore: no visible binding for global variable ‘difPer’
install.sratoolkit: no visible binding for global variable ‘osVersion’
isPeriodic: no visible binding for global variable ‘spec’
kozakHeatmap: no visible global function definition for ‘.’
kozakHeatmap: no visible binding for global variable ‘variable’
kozakHeatmap: no visible binding for global variable ‘value’
kozakHeatmap: no visible binding for global variable
  ‘count_seq_pos_with_count’
kozakHeatmap: no visible binding for global variable ‘median_score’
kozak_IR_ranking: no visible global function definition for ‘.’
kozak_IR_ranking: no visible binding for global variable ‘IR’
kozak_IR_ranking: no visible binding for global variable
  ‘upstream_kozak_strength’
kozak_IR_ranking: no visible binding for global variable ‘count’
kozak_IR_ranking: no visible binding for global variable ‘mean_IR’
list.genomes: no visible binding for global variable ‘STAR_index’
longestORFs: no visible global function definition for ‘.’
metaWindow: no visible binding for global variable ‘position’
metaWindow: no visible binding for global variable ‘frame’
metadata.autnaming: no visible binding for global variable
  ‘LIBRARYTYPE’
metadata.autnaming: no visible binding for global variable
  ‘LibraryStrategy’
ofst_merge_internal : <anonymous>: no visible global function
  definition for ‘.’
orfFrameDistributions : <anonymous>: no visible binding for global
  variable ‘fraction’
orfFrameDistributions: no visible binding for global variable ‘percent’
orfFrameDistributions: no visible binding for global variable
  ‘fraction’
orfFrameDistributions: no visible binding for global variable
  ‘percent_length’
orfFrameDistributions: no visible global function definition for ‘.’
orfFrameDistributions: no visible binding for global variable
  ‘best_frame’
orfScore: no visible binding for global variable ‘genes’
orfScore: no visible binding for global variable ‘frame’
orfScore: no visible binding for global variable ‘frame_one_RP’
orfScore: no visible binding for global variable ‘frame_two_RP’
pSitePlot: no visible binding for global variable ‘count’
pSitePlot: no visible binding for global variable ‘frame’
pSitePlot: no visible binding for global variable ‘position’
readLengthTable: no visible binding for global variable
  ‘counts_per_sample’
readLengthTable: no visible binding for global variable ‘sample_id’
readLengthTable: no visible binding for global variable
  ‘perc_of_counts_per_sample’
regionPerReadLength : <anonymous>: no visible binding for global
  variable ‘fraction’
remakeTxdbExonIds: no visible global function definition for ‘.’
remakeTxdbExonIds: no visible binding for global variable ‘chr’
removeTxdbExons: no visible binding for global variable ‘exon_rank’
removeTxdbExons: no visible binding for global variable ‘ranks’
riboORFsFolder: no visible global function definition for ‘organism’
ribo_fft: no visible binding for global variable ‘fraction’
ribo_fft_plot: no visible binding for global variable ‘periods’
ribo_fft_plot: no visible binding for global variable ‘amplitude’
rnaNormalize: no visible binding for global variable ‘genes’
rnaNormalize: no visible binding for global variable ‘feature’
sample_info_append_SRA: no visible binding for global variable ‘GEO’
scaledWindowPositions: no visible binding for global variable
  ‘scalingFactor’
scaledWindowPositions: no visible binding for global variable ‘genes’
scaledWindowPositions: no visible binding for global variable
  ‘position’
scaledWindowPositions: no visible global function definition for ‘.’
scoreSummarizedExperiment: no visible global function definition for
  ‘rowSums2’
seq_usage: no visible binding for global variable ‘variable’
seq_usage: no visible binding for global variable ‘codon_sum’
seq_usage: no visible global function definition for ‘.’
seq_usage: no visible binding for global variable ‘gene_sum’
seq_usage: no visible binding for global variable
  ‘N_AA_of_type_per_gene’
seq_usage: no visible binding for global variable ‘as_prob_normalized’
seq_usage: no visible binding for global variable ‘N_total’
seq_usage: no visible binding for global variable ‘N’
seq_usage: no visible binding for global variable ‘mean_txNorm’
seq_usage: no visible binding for global variable ‘sum_txNorm’
seq_usage: no visible binding for global variable ‘dispersion’
seq_usage: no visible binding for global variable ‘dispersion_txNorm’
seq_usage: no visible binding for global variable ‘var_txNorm’
seq_usage: no visible binding for global variable ‘mean_percentage’
seq_usage: no visible binding for global variable ‘mean_txNorm_prob’
seq_usage: no visible binding for global variable
  ‘mean_txNorm_percentage’
seq_usage: no visible binding for global variable
  ‘relative_to_max_score’
shiftPlots : <anonymous>: no visible binding for global variable
  ‘frame’
shiftPlots : <anonymous>: no visible binding for global variable
  ‘position’
te.plot: no visible global function definition for ‘rowMin’
te.plot: no visible binding for global variable ‘variable’
te.plot: no visible binding for global variable ‘LFC_TE’
te.plot: no visible binding for global variable ‘rfp_log2’
te.plot: no visible binding for global variable ‘rna_log2’
te.plot: no visible binding for global variable ‘rna_log10’
te.table: no visible global function definition for ‘rowMin’
te.table: no visible binding for global variable ‘variable’
te.table: no visible binding for global variable ‘TE_log2’
te.table: no visible binding for global variable ‘rfp_log2’
te.table: no visible binding for global variable ‘rna_log2’
te_rna.plot: no visible binding for global variable ‘subtitle’
te_rna.plot: no visible binding for global variable ‘rna_log10’
te_rna.plot: no visible binding for global variable ‘TE_log2’
topMotif: no visible binding for global variable ‘seq1’
topMotif: no visible binding for global variable ‘seq2’
topMotif: no visible binding for global variable ‘seq3’
topMotif: no visible binding for global variable ‘seq4’
topMotif: no visible binding for global variable ‘seq5’
transcriptWindow: no visible binding for global variable ‘fractions’
transcriptWindow: no visible binding for global variable ‘feature’
unlistToExtremities: no visible binding for global variable
  ‘group_name’
unlistToExtremities: no visible global function definition for ‘.’
unlistToExtremities: no visible binding for global variable ‘group’
windowCoveragePlot: no visible binding for global variable ‘feature’
windowCoveragePlot: no visible binding for global variable ‘fraction’
windowCoveragePlot: no visible binding for global variable
  ‘fraction_min’
windowCoveragePlot: no visible binding for global variable ‘position’
as.character,GRangesList: no visible global function definition for
  ‘unstrsplit’
collapseDuplicatedReads,GAlignmentPairs: no visible global function
  definition for ‘.’
collapseDuplicatedReads,GAlignmentPairs: no visible binding for global
  variable ‘start1’
collapseDuplicatedReads,GAlignmentPairs: no visible binding for global
  variable ‘start2’
collapseDuplicatedReads,GAlignmentPairs: no visible binding for global
  variable ‘cigar1’
collapseDuplicatedReads,GAlignmentPairs: no visible binding for global
  variable ‘cigar2’
collapseDuplicatedReads,GAlignments: no visible global function
  definition for ‘.’
collapseDuplicatedReads,GRanges: no visible binding for global variable
  ‘size’
collapseDuplicatedReads,GRanges: no visible global function definition
  for ‘.’
collapseDuplicatedReads,data.table: no visible global function
  definition for ‘.’
design,experiment: no visible binding for global variable ‘..formula’
seqlevels,experiment: no visible binding for global variable ‘df’
show,covRleList: no visible global function definition for ‘head’
show,experiment: no visible global function definition for ‘organism’
Undefined global functions or variables:
  . ..formula ..to_keep AA CDS CDSGrouping Cor GEO Hx IR LEADERS LFC
  LFC_TE LIBRARYTYPE LibraryStrategy N N_AA_of_type_per_gene N_total
  ORFGrouping ORFScores RRS RSS Regulation STAR_index StartCodons
  StopCodons TE_log2 TOP Transcript Var1 Var2 all_models_sign amplitude
  as_prob_normalized bamTag<- bamWhat<- best_frame browseURL chr cigar1
  cigar2 codon codonSums codon_sum contrast count countRFP
  count_seq_pos_with_count counts_per_sample df dif difPer
  disengagementScores dispersion dispersion_txNorm distORFCDS
  end_segment ensembl_gene_id ensembl_transcript_id entropyRFP
  exon_rank external_gene_name feature file_forward file_reverse
  forward foverlaps fpkmRFP fpkmRNA frac.score fraction fraction.x
  fraction.y fractionLengths fraction_min fractions frame frame_one_RP
  frame_two_RP gene_id gene_sum genes grl grnames group group_name head
  i.end i.start id id_original inFrameCDS index ioScore
  isOverlappingCds kozak label mRNA mad_per_gene meanCounts mean_IR
  mean_per_gene mean_percentage mean_txNorm mean_txNorm_percentage
  mean_txNorm_prob median_per_gene median_score merged modzscore
  organism osVersion pShifted perc_of_counts_per_sample percent
  percent_length percentage percentage_mrna_aligned
  percentage_tx_aligned periods phix.url pick position query_id random
  rankInTx ranks ratio_cds_leader ratio_cds_mrna read length
  relative_to_max_score rfp.lfc rfp.padj rfp.sign rfp_log2 rna.lfc
  rna.padj rna.sign rna_log10 rna_log2 rowMin rowSums2 run_accession
  sample_id sample_total scalingFactor sd_per_gene seq1 seq2 seq3 seq4
  seq5 seqs size spec species spots start1 start2 startCodonCoverage
  startRegionRelative start_segment subtitle sum.count sum_per_gene
  sum_txNorm te te.lfc te.padj te.sign uniprotswissprot unstrsplit
  upstream_kozak_strength utr3_len utr5_len value var_txNorm variable
  widths windowMAD windowMean windowMedian windowSD zscore
Consider adding
  importFrom("base", "length")
  importFrom("graphics", "frame")
  importFrom("stats", "df")
  importFrom("utils", "browseURL", "head", "osVersion")
to your NAMESPACE file.
* checking Rd files ... NOTE
checkRd: (-1) countTable_regions.Rd:78: Lost braces; missing escapes or markup?
    78 | if (!is.null(out.dir) {pasteDir(file.path(out.dir, rel.dir, "countTable_"))} else NULL,
       |                       ^
* checking Rd metadata ... OK
* checking Rd cross-references ... NOTE
Found the following Rd file(s) with Rd \link{} targets missing package
anchors:
  DEG.analysis.Rd: estimateDispersions
  DEG_model.Rd: estimateDispersions
  DTEG.analysis.Rd: SummarizedExperiment, estimateDispersions
  ORFikQC.Rd: SummarizedExperiment
  QCreport.Rd: SummarizedExperiment
  allFeaturesHelper.Rd: GRangesList, GAlignments, GRanges, FaFile
  as.character-GRangesList-method.Rd: GRangesList
  asTX.Rd: GRangesList
  assignFirstExonsStartSite.Rd: GRangesList
  assignLastExonsStopSite.Rd: GRangesList
  bedToGR.Rd: GRanges
  codonSumsPerGroup.Rd: GRangesList, GAlignments, GRanges
  codon_usage_exp.Rd: FaFile
  computeFeatures.Rd: GRangesList, GAlignments, GRanges, FaFile
  computeFeaturesCage.Rd: GRangesList, GAlignments, GRanges, FaFile
  coverageByTranscriptC.Rd: coverageByTranscript, GRangesList
  coverageByTranscriptW.Rd: coverageByTranscript, GRanges, GAlignments,
    GRangesList
  coveragePerTiling.Rd: GRangesList, GAlignments, GRanges
  detectRibosomeShifts.Rd: GAlignments
  disengagementScore.Rd: GRangesList, TxDb
  distToCds.Rd: GRangesList
  distToTSS.Rd: GRangesList
  downstreamFromPerGroup.Rd: GRangesList
  downstreamOfPerGroup.Rd: GRangesList
  entropy.Rd: GRangesList, GRanges, GAlignments
  experiment-class.Rd: SummarizedExperiment
  export.ofst-GAlignmentPairs-method.Rd: fst-package
  export.ofst-GAlignments-method.Rd: fst-package
  export.ofst-GRanges-method.Rd: fst-package
  export.ofst.Rd: fst-package
  extendLeaders.Rd: GRangesList
  extendTrailers.Rd: GRangesList
  fimport.Rd: seqlevelsStyle, Seqinfo, GAlignments, GRanges
  findFa.Rd: FaFile
  findMapORFs.Rd: GRangesList, FaFile
  findORFs.Rd: IRanges, IRangesList, FaFile
  findUORFs.Rd: FaFile
  firstEndPerGroup.Rd: GRangesList
  firstExonPerGroup.Rd: GRangesList
  firstStartPerGroup.Rd: GRangesList
  flankPerGroup.Rd: GRangesList
  floss.Rd: GRangesList, GRanges, GAlignments
  fpkm.Rd: GRangesList, GRanges, GAlignments
  fractionLength.Rd: GRangesList
  fread.bed.Rd: import.bed, seqlevelsStyle, Seqinfo, GRanges
  gSort.Rd: GRangesList
  hasHits.Rd: GRangesList
  heatMapL.Rd: GRangesList
  heatMapRegion.Rd: GRanges, GAlignments
  heatMap_single.Rd: GRangesList, GAlignments, GRanges
  import.ofst.Rd: fst-package, GAlignmentPairs
  initiationScore.Rd: GRangesList, GAlignments
  insideOutsideORF.Rd: GRangesList, TxDb
  kozakSequenceScore.Rd: GRangesList, FaFile
  kozak_IR_ranking.Rd: FaFile
  lastExonEndPerGroup.Rd: GRangesList
  lastExonPerGroup.Rd: GRangesList
  lastExonStartPerGroup.Rd: GRangesList
  loadTxdb.Rd: seqlevelsStyle, Seqinfo
  longestORFs.Rd: GRangesList
  makeExonRanks.Rd: GRangesList
  makeORFNames.Rd: GRangesList
  makeSummarizedExperimentFromBam.Rd: GRangesList, SummarizedExperiment
  mapToGRanges.Rd: GRangesList
  matchNaming.Rd: GRangesList
  matchSeqStyle.Rd: seqlevelsStyle, Seqinfo
  numCodons.Rd: GRangesList
  numExonsPerGroup.Rd: GRangesList
  optimizeReads.Rd: GRangesList
  optimizedTranscriptLengths.Rd: transcriptLengths
  orfID.Rd: GRangesList
  orfScore.Rd: GRangesList, GAlignments, GRanges
  outputLibs.Rd: seqlevelsStyle, Seqinfo
  rankOrder.Rd: GRangesList
  readBam.Rd: readGAlignments, seqlevelsStyle, Seqinfo, GAlignments,
    GAlignmentPairs
  readBigWig.Rd: seqlevelsStyle, Seqinfo, GRanges
  readWig.Rd: seqlevelsStyle, Seqinfo, GRanges
  reduceKeepAttr.Rd: GRangesList, reduce
  regionPerReadLength.Rd: GRangesList, GAlignments, GRanges
  removeMetaCols.Rd: GRangesList
  reverseMinusStrandPerGroup.Rd: GRangesList
  ribo_fft.Rd: GAlignments, GRanges, GRangesList
  ribosomeReleaseScore.Rd: GRangesList, GAlignments, GRanges
  ribosomeStallingScore.Rd: GRangesList
  rnaNormalize.Rd: GRangesList
  scaledWindowPositions.Rd: GRangesList, GAlignments, GRanges
  seqnamesPerGroup.Rd: GRangesList
  shiftFootprints.Rd: GAlignments, GRanges
  sortPerGroup.Rd: sort.GenomicRanges, GRangesList
  splitIn3Tx.Rd: GRangesList
  startCodons.Rd: GRangesList
  startRegion.Rd: GRangesList
  startRegionCoverage.Rd: GRangesList
  startRegionString.Rd: GRangesList, FaFile
  startSites.Rd: GRangesList
  stopCodons.Rd: GRangesList
  stopRegion.Rd: GRangesList
  stopSites.Rd: GRangesList
  strandBool.Rd: GRangesList
  strandPerGroup.Rd: GRangesList
  tile1.Rd: GRangesList
  transcriptWindow.Rd: GRangesList
  transcriptWindowPer.Rd: GRangesList
  translationalEff.Rd: GRangesList, GRanges, GAlignments
  txNames.Rd: GRangesList
  txSeqsFromFa.Rd: GRangesList, FaFile, extractTranscriptSeqs,
    DNAStringSet
  uniqueGroups.Rd: GRangesList
  uniqueOrder.Rd: GRangesList, GRanges
  unlistToExtremities.Rd: GRangesList
  upstreamFromPerGroup.Rd: GRangesList
  upstreamOfPerGroup.Rd: GRangesList
  validSeqlevels.Rd: GRangesList
  widthPerGroup.Rd: GRangesList
  windowPerGroup.Rd: GRangesList
  windowPerReadLength.Rd: GRangesList, GAlignments, GRanges
Please provide package anchors for all Rd \link{} targets not in the
package itself and the base packages.
* checking for missing documentation entries ... OK
* checking for code/documentation mismatches ... OK
* checking Rd \usage sections ... OK
* checking Rd contents ... OK
* checking for unstated dependencies in examples ... OK
* checking line endings in C/C++/Fortran sources/headers ... OK
* checking compiled code ... NOTE
Note: information on .o files is not available
* checking files in ‘vignettes’ ... OK
* checking examples ... OK
Examples with CPU (user + system) or elapsed time > 5s
                              user system elapsed
orfFrameDistributions       72.229  9.572  31.138
orfScore                    28.009  3.055   1.500
makeTxdbFromGenome          22.884  0.939  23.824
codon_usage_exp             15.965  0.658  17.154
STAR.allsteps.multiQC       15.144  0.126  15.555
DEG.analysis                11.098  0.526  17.461
codon_usage_plot             6.050  0.584   7.423
computeFeatures              6.444  0.063   7.467
STAR.multiQC                 6.318  0.043   6.806
detect_ribo_orfs             5.725  0.473   6.014
ribo_fft_plot                5.498  0.409   7.435
shiftPlots                   4.231  1.639   0.743
pcaExperiment                4.992  0.542   5.534
shiftFootprintsByExperiment  2.031  0.190   7.155
* checking for unstated dependencies in ‘tests’ ... OK
* checking tests ...
  Running ‘testthat.R’
 ERROR
Running the tests in ‘tests/testthat.R’ failed.
Last 13 lines of output:
   3.     └─testthat:::stop_input_type(...)
   4.       └─rlang::abort(message, ..., call = call, arg = arg)
  ── Error ('test_report.R:40:3'): QCreport work as intended ─────────────────────
  Error in `expect(file.exists(file.path(tempdir(), "QC_STATS", "STATS.csv")), TRUE)`: `failure_message` must be a character vector, not `TRUE`.
  Backtrace:
      ▆
   1. └─testthat::expect(failure_message = TRUE) at test_report.R:40:3
   2.   └─testthat:::check_character(failure_message)
   3.     └─testthat:::stop_input_type(...)
   4.       └─rlang::abort(message, ..., call = call, arg = arg)
  
  [ FAIL 2 | WARN 13 | SKIP 0 | PASS 439 ]
  Error:
  ! Test failures.
  Execution halted
* checking for unstated dependencies in vignettes ... OK
* checking package vignettes ... OK
* checking re-building of vignette outputs ... OK
* checking PDF version of manual ... OK
* DONE

Status: 1 ERROR, 8 NOTEs
See
  ‘/home/biocbuild/bbs-3.22-bioc/meat/ORFik.Rcheck/00check.log’
for details.


Installation output

ORFik.Rcheck/00install.out

##############################################################################
##############################################################################
###
### Running command:
###
###   /home/biocbuild/bbs-3.22-bioc/R/bin/R CMD INSTALL ORFik
###
##############################################################################
##############################################################################


* installing to library ‘/home/biocbuild/bbs-3.22-bioc/R/site-library’
* installing *source* package ‘ORFik’ ...
** this is package ‘ORFik’ version ‘1.30.0’
** using staged installation
** libs
using C++ compiler: ‘g++ (Ubuntu 13.3.0-6ubuntu2~24.04) 13.3.0’
g++ -std=gnu++17 -I"/home/biocbuild/bbs-3.22-bioc/R/include" -DNDEBUG  -I'/home/biocbuild/bbs-3.22-bioc/R/site-library/Rcpp/include' -I/usr/local/include    -fpic  -g -O2  -Wall -Werror=format-security  -c RcppExports.cpp -o RcppExports.o
g++ -std=gnu++17 -I"/home/biocbuild/bbs-3.22-bioc/R/include" -DNDEBUG  -I'/home/biocbuild/bbs-3.22-bioc/R/site-library/Rcpp/include' -I/usr/local/include    -fpic  -g -O2  -Wall -Werror=format-security  -c findORFsHelpers.cpp -o findORFsHelpers.o
findORFsHelpers.cpp: In function ‘Rcpp::IntegerMatrix orfs_as_matrix(std::string&, std::string, std::string, int)’:
findORFsHelpers.cpp:214:21: warning: comparison of integer expressions of different signedness: ‘int’ and ‘size_t’ {aka ‘long unsigned int’} [-Wsign-compare]
  214 |   for (int i = 0; i < uorfSize/2; i++) {
      |                   ~~^~~~~~~~~~~~
g++ -std=gnu++17 -I"/home/biocbuild/bbs-3.22-bioc/R/include" -DNDEBUG  -I'/home/biocbuild/bbs-3.22-bioc/R/site-library/Rcpp/include' -I/usr/local/include    -fpic  -g -O2  -Wall -Werror=format-security  -c findOrfs.cpp -o findOrfs.o
g++ -std=gnu++17 -I"/home/biocbuild/bbs-3.22-bioc/R/include" -DNDEBUG  -I'/home/biocbuild/bbs-3.22-bioc/R/site-library/Rcpp/include' -I/usr/local/include    -fpic  -g -O2  -Wall -Werror=format-security  -c findOrfsFasta.cpp -o findOrfsFasta.o
g++ -std=gnu++17 -I"/home/biocbuild/bbs-3.22-bioc/R/include" -DNDEBUG  -I'/home/biocbuild/bbs-3.22-bioc/R/site-library/Rcpp/include' -I/usr/local/include    -fpic  -g -O2  -Wall -Werror=format-security  -c pmapFromTranscripts.cpp -o pmapFromTranscripts.o
pmapFromTranscripts.cpp: In function ‘Rcpp::List pmapFromTranscriptsCPP(const std::vector<int>&, const std::vector<int>&, const std::vector<int>&, const std::vector<int>&, const std::vector<int>&, const char&, bool)’:
pmapFromTranscripts.cpp:151:20: warning: comparison of integer expressions of different signedness: ‘int’ and ‘size_t’ {aka ‘long unsigned int’} [-Wsign-compare]
  151 |   for(auto i = 0;i < xSize; i++){
      |                  ~~^~~~~~~
pmapFromTranscripts.cpp:155:21: warning: comparison of integer expressions of different signedness: ‘int’ and ‘size_t’ {aka ‘long unsigned int’} [-Wsign-compare]
  155 |   for(auto i = 0; i < indexSize; i++){
      |                   ~~^~~~~~~~~~~
pmapFromTranscripts.cpp:161:21: warning: comparison of integer expressions of different signedness: ‘int’ and ‘size_t’ {aka ‘long unsigned int’} [-Wsign-compare]
  161 |   for(auto i = 1; i < indexSize; i++){
      |                   ~~^~~~~~~~~~~
g++ -std=gnu++17 -I"/home/biocbuild/bbs-3.22-bioc/R/include" -DNDEBUG  -I'/home/biocbuild/bbs-3.22-bioc/R/site-library/Rcpp/include' -I/usr/local/include    -fpic  -g -O2  -Wall -Werror=format-security  -c pmapToTranscripts.cpp -o pmapToTranscripts.o
pmapToTranscripts.cpp: In function ‘void pmapToPositive(vi&, const int&, int&, const vi&, const vi&, const vi&, const vi&, const vi&, const vi&, const vi&, const vi&)’:
pmapToTranscripts.cpp:22:7: warning: variable ‘currentWidth’ set but not used [-Wunused-but-set-variable]
   22 |   int currentWidth = 0;
      |       ^~~~~~~~~~~~
pmapToTranscripts.cpp: In function ‘void pmapToNegative(vi&, const int&, int&, const vi&, const vi&, const vi&, const vi&, const vi&, const vi&, const vi&, const vi&)’:
pmapToTranscripts.cpp:68:7: warning: variable ‘currentWidth’ set but not used [-Wunused-but-set-variable]
   68 |   int currentWidth = 0;
      |       ^~~~~~~~~~~~
pmapToTranscripts.cpp: In function ‘Rcpp::List pmapToTranscriptsCPP(const std::vector<int>&, const std::vector<int>&, const std::vector<int>&, const std::vector<int>&, const std::vector<int>&, const char&, const std::vector<int>&)’:
pmapToTranscripts.cpp:126:20: warning: comparison of integer expressions of different signedness: ‘int’ and ‘size_t’ {aka ‘long unsigned int’} [-Wsign-compare]
  126 |   for(auto i = 0;i < xSize; i++){ // Width per exon in x
      |                  ~~^~~~~~~
pmapToTranscripts.cpp:130:21: warning: comparison of integer expressions of different signedness: ‘int’ and ‘size_t’ {aka ‘long unsigned int’} [-Wsign-compare]
  130 |   for(auto i = 0; i < indexSize; i++){ // Width per exon in tx
      |                   ~~^~~~~~~~~~~
pmapToTranscripts.cpp:136:21: warning: comparison of integer expressions of different signedness: ‘int’ and ‘size_t’ {aka ‘long unsigned int’} [-Wsign-compare]
  136 |   for(auto i = 1; i < indexSize; i++){
      |                   ~~^~~~~~~~~~~
pmapToTranscripts.cpp:147:22: warning: comparison of integer expressions of different signedness: ‘int’ and ‘size_t’ {aka ‘long unsigned int’} [-Wsign-compare]
  147 |   for (auto i = 1; i < 2 * xSize; i = i + 2) {
      |                    ~~^~~~~~~~~~~
g++ -std=gnu++17 -shared -L/home/biocbuild/bbs-3.22-bioc/R/lib -L/usr/local/lib -o ORFik.so RcppExports.o findORFsHelpers.o findOrfs.o findOrfsFasta.o pmapFromTranscripts.o pmapToTranscripts.o -L/home/biocbuild/bbs-3.22-bioc/R/lib -lR
installing to /home/biocbuild/bbs-3.22-bioc/R/site-library/00LOCK-ORFik/00new/ORFik/libs
** R
** inst
** byte-compile and prepare package for lazy loading
Creating a new generic function for ‘symbols’ in package ‘ORFik’
** help
*** installing help indices
** building package indices
** installing vignettes
** testing if installed package can be loaded from temporary location
** checking absolute paths in shared objects and dynamic libraries
** testing if installed package can be loaded from final location
** testing if installed package keeps a record of temporary installation path
* DONE (ORFik)

Tests output

ORFik.Rcheck/tests/testthat.Rout.fail


R version 4.5.2 (2025-10-31) -- "[Not] Part in a Rumble"
Copyright (C) 2025 The R Foundation for Statistical Computing
Platform: x86_64-pc-linux-gnu

R is free software and comes with ABSOLUTELY NO WARRANTY.
You are welcome to redistribute it under certain conditions.
Type 'license()' or 'licence()' for distribution details.

R is a collaborative project with many contributors.
Type 'contributors()' for more information and
'citation()' on how to cite R or R packages in publications.

Type 'demo()' for some demos, 'help()' for on-line help, or
'help.start()' for an HTML browser interface to help.
Type 'q()' to quit R.

> library(testthat)
> library(ORFik)
Loading required package: IRanges
Loading required package: BiocGenerics
Loading required package: generics

Attaching package: 'generics'

The following objects are masked from 'package:base':

    as.difftime, as.factor, as.ordered, intersect, is.element, setdiff,
    setequal, union


Attaching package: 'BiocGenerics'

The following objects are masked from 'package:stats':

    IQR, mad, sd, var, xtabs

The following objects are masked from 'package:base':

    Filter, Find, Map, Position, Reduce, anyDuplicated, aperm, append,
    as.data.frame, basename, cbind, colnames, dirname, do.call,
    duplicated, eval, evalq, get, grep, grepl, is.unsorted, lapply,
    mapply, match, mget, order, paste, pmax, pmax.int, pmin, pmin.int,
    rank, rbind, rownames, sapply, saveRDS, table, tapply, unique,
    unsplit, which.max, which.min

Loading required package: S4Vectors
Loading required package: stats4

Attaching package: 'S4Vectors'

The following object is masked from 'package:utils':

    findMatches

The following objects are masked from 'package:base':

    I, expand.grid, unname

Loading required package: GenomicRanges
Loading required package: Seqinfo
Loading required package: GenomicAlignments
Loading required package: SummarizedExperiment
Loading required package: MatrixGenerics
Loading required package: matrixStats

Attaching package: 'MatrixGenerics'

The following objects are masked from 'package:matrixStats':

    colAlls, colAnyNAs, colAnys, colAvgsPerRowSet, colCollapse,
    colCounts, colCummaxs, colCummins, colCumprods, colCumsums,
    colDiffs, colIQRDiffs, colIQRs, colLogSumExps, colMadDiffs,
    colMads, colMaxs, colMeans2, colMedians, colMins, colOrderStats,
    colProds, colQuantiles, colRanges, colRanks, colSdDiffs, colSds,
    colSums2, colTabulates, colVarDiffs, colVars, colWeightedMads,
    colWeightedMeans, colWeightedMedians, colWeightedSds,
    colWeightedVars, rowAlls, rowAnyNAs, rowAnys, rowAvgsPerColSet,
    rowCollapse, rowCounts, rowCummaxs, rowCummins, rowCumprods,
    rowCumsums, rowDiffs, rowIQRDiffs, rowIQRs, rowLogSumExps,
    rowMadDiffs, rowMads, rowMaxs, rowMeans2, rowMedians, rowMins,
    rowOrderStats, rowProds, rowQuantiles, rowRanges, rowRanks,
    rowSdDiffs, rowSds, rowSums2, rowTabulates, rowVarDiffs, rowVars,
    rowWeightedMads, rowWeightedMeans, rowWeightedMedians,
    rowWeightedSds, rowWeightedVars

Loading required package: Biobase
Welcome to Bioconductor

    Vignettes contain introductory material; view with
    'browseVignettes()'. To cite Bioconductor, see
    'citation("Biobase")', and for packages 'citation("pkgname")'.


Attaching package: 'Biobase'

The following object is masked from 'package:MatrixGenerics':

    rowMedians

The following objects are masked from 'package:matrixStats':

    anyMissing, rowMedians

Loading required package: Biostrings
Loading required package: XVector

Attaching package: 'Biostrings'

The following object is masked from 'package:base':

    strsplit

Loading required package: Rsamtools

Attaching package: 'ORFik'

The following object is masked from 'package:graphics':

    symbols

> 
> test_check("ORFik")
Saving _problems/test_report-30.R
Saving _problems/test_report-40.R
[ FAIL 2 | WARN 13 | SKIP 0 | PASS 439 ]

══ Failed tests ════════════════════════════════════════════════════════════════
── Error ('test_report.R:30:3'): transcriptWindow plots correctly ──────────────
Error in `expect(exists("leaders", mode = "S4"), TRUE)`: `failure_message` must be a character vector, not `TRUE`.
Backtrace:
    ▆
 1. └─testthat::expect(failure_message = TRUE) at test_report.R:30:3
 2.   └─testthat:::check_character(failure_message)
 3.     └─testthat:::stop_input_type(...)
 4.       └─rlang::abort(message, ..., call = call, arg = arg)
── Error ('test_report.R:40:3'): QCreport work as intended ─────────────────────
Error in `expect(file.exists(file.path(tempdir(), "QC_STATS", "STATS.csv")), TRUE)`: `failure_message` must be a character vector, not `TRUE`.
Backtrace:
    ▆
 1. └─testthat::expect(failure_message = TRUE) at test_report.R:40:3
 2.   └─testthat:::check_character(failure_message)
 3.     └─testthat:::stop_input_type(...)
 4.       └─rlang::abort(message, ..., call = call, arg = arg)

[ FAIL 2 | WARN 13 | SKIP 0 | PASS 439 ]
Error:
! Test failures.
Execution halted

Example timings

ORFik.Rcheck/ORFik-Ex.timings

nameusersystemelapsed
DEG.analysis11.098 0.52617.461
DEG.plot.static0.6130.0060.669
DEG_model0.6460.0120.971
DEG_model_results0.5480.0080.926
DEG_model_simple0.6000.0191.032
DTEG.analysis0.7590.0331.437
DTEG.plot0.8140.0201.725
ORFik.template.experiment0.8150.0901.286
ORFik.template.experiment.zf0.1140.0060.127
ORFikQC0.5200.0320.553
QCreport0.6130.0200.634
QCstats0.5930.1670.936
QCstats.plot0.5860.1490.924
RiboQC.plot0.5510.0630.657
STAR.align.folder0.0010.0000.001
STAR.align.single0.0000.0000.001
STAR.allsteps.multiQC15.144 0.12615.555
STAR.index0.0000.0000.001
STAR.install000
STAR.multiQC6.3180.0436.806
STAR.remove.crashed.genome000
TOP.Motif.ecdf000
append_gene_symbols1.5830.0281.700
artificial.orfs0.4890.0020.511
asTX0.9550.0181.005
assignTSSByCage0.0040.0010.004
bamVarName0.6150.0040.618
browseSRA000
canonical_isoforms-experiment-method1.3950.0091.403
canonical_isoforms2.5010.1152.620
codon_usage4.6010.0674.763
codon_usage_exp15.965 0.65817.154
codon_usage_plot6.0500.5847.423
collapse.by.scores0.1980.0000.201
collapse.fastq0.0000.0010.001
collapseDuplicatedReads-GAlignmentPairs-method0.1120.0020.119
collapseDuplicatedReads-GAlignments-method0.0460.0000.047
collapseDuplicatedReads-GRanges-method0.0490.0000.076
collapseDuplicatedReads-data.table-method0.0520.0000.054
collapseDuplicatedReads0.0490.0000.051
combn.pairs0.5790.0060.615
computeFeatures6.4440.0637.467
computeFeaturesCage000
config000
config.exper0.1350.0030.139
config.save000
config_file0.1760.0020.179
convertLibs0.2980.0000.299
convertToOneBasedRanges0.1130.0000.114
convert_bam_to_ofst0.2670.0220.274
convert_to_bigWig0.8270.0060.827
convert_to_covRle0.4240.0040.427
convert_to_covRleList0.6450.0090.653
countOverlapsW0.0720.0000.072
countTable0.3010.0000.301
countTable_regions3.2441.0552.842
covRle2.1170.8990.058
covRleFromGR0.1220.0110.209
covRleList0.0250.0020.049
coverageByTranscriptFST0.2420.0290.328
coverageHeatMap1.5340.1041.627
coveragePerTiling0.7000.0330.733
coverageScorings0.0140.0000.009
create.experiment0.6670.0490.711
defineTrailer0.1590.0280.187
design-experiment-method0.3460.0370.383
detectRibosomeShifts0.0020.0000.003
detect_drive0.0060.0050.013
detect_ribo_orfs5.7250.4736.014
disengagementScore0.4650.0080.473
distToCds0.2010.0000.201
distToTSS0.1610.0020.163
download.SRA000
download.SRA.metadata0.2970.0310.745
download_gene_info0.1710.0150.368
entropy1.5650.1261.650
exonsWithPseudoIntronsPerGroup2.1660.1412.289
experiment-class0.3750.0220.397
export.bed120.0200.0010.021
export.bigWig0.0350.0030.038
export.fstwig0.0590.0030.062
export.ofst-GAlignmentPairs-method0.0630.0000.064
export.ofst-GAlignments-method0.0600.0030.062
export.ofst-GRanges-method0.0640.0020.066
export.ofst0.0810.0240.105
export.wiggle0.0320.0040.035
extendLeaders0.9860.0251.011
extendLeadersUntil1.5030.0301.502
extendTrailers0.6100.0690.678
extendTrailersUntil1.4930.0601.531
extract_run_id0.0010.0000.000
file_ext_without_compression000
filepath0.3780.0060.383
filterTranscripts1.3360.0321.368
fimport0.3200.0180.338
findFa0.0030.0000.003
findMapORFs0.4720.0010.472
findORFs0.1670.0020.168
findORFsFasta0.0880.0010.083
findPeaksPerGene1.0400.0041.030
findUORFs0.0010.0000.001
findUORFs_exp4.8020.0184.820
find_url_ebi0.1710.0221.973
firstEndPerGroup0.090.000.09
firstExonPerGroup0.0660.0000.066
firstStartPerGroup0.0580.0000.058
fix_malformed_gff000
flankPerGroup0.1310.0010.126
floss0.3510.0270.362
fpkm0.1250.0150.139
fractionLength0.0740.0010.075
fread.bed0.0330.0020.036
gcContent0.4490.0640.513
geneToSymbol000
getGenomeAndAnnotation000
get_bioproject_candidates000
get_genome_fasta0.0000.0000.001
get_genome_gtf000
get_noncoding_rna000
get_phix_genome000
get_silva_rRNA000
get_system_usage0.1260.0860.402
go_analaysis_gorilla0.0010.0020.003
groupGRangesBy0.0620.0130.074
groupings0.0390.0020.041
heatMapRegion0.3000.0260.326
import.ofst0.0600.0020.061
initiationScore1.0070.0321.028
insideOutsideORF0.8160.0550.868
install.fastp0.0000.0000.001
install.sratoolkit000
isInFrame0.2320.0270.259
isOverlapping0.2550.0390.293
kozakHeatmap000
kozakSequenceScore0.4920.0280.521
lastExonEndPerGroup0.0640.0020.065
lastExonPerGroup0.0780.0040.082
lastExonStartPerGroup0.0720.0010.073
libraryTypes0.3310.0120.342
list.experiments0.3120.0120.323
list.genomes0.0010.0000.001
loadRegion1.4020.0411.443
loadRegions0.6070.0230.631
loadTranscriptType000
loadTxdb0.1210.0100.131
longestORFs0.1250.0060.130
makeGRangesListFromCharacter0.0730.0050.077
makeORFNames0.0770.0050.083
makeSummarizedExperimentFromBam0.3050.0160.322
makeTxdbFromGenome22.884 0.93923.824
mergeFastq0.0000.0000.001
mergeLibs0.6810.0960.688
metaWindow0.1690.0420.208
model.matrix-experiment-method1.0040.0241.024
numExonsPerGroup0.0380.0060.044
optimizedTranscriptLengths0.8680.0430.911
orfFrameDistributions72.229 9.57231.138
orfScore28.009 3.055 1.500
organism-experiment-method1.8840.2012.398
outputLibs1.8162.5813.432
pSitePlot1.6890.1291.968
pcaExperiment4.9920.5425.534
pcaPlot2.1580.0102.169
pmapFromTranscriptF0.2090.0000.209
pmapToTranscriptF1.2840.0031.289
pseudoIntronsPerGroup1.9770.1932.153
rankOrder0.0740.0000.074
read.experiment0.3220.0010.323
readBam0.1020.0080.111
readBamIsUniqueMapper0.0820.0160.098
readBamSeqs0.0830.0040.087
readWidths0.0180.0000.017
read_RDSQS0.3240.0080.332
reassignTSSbyCage0.5850.0030.588
reassignTxDbByCage000
reduceKeepAttr0.1220.0000.122
regionPerReadLength0.3200.2960.804
remove.experiments0.7540.2110.612
riboORFs0.4550.0200.516
riboORFsFolder0.4860.0230.518
ribo_fft3.8780.3814.212
ribo_fft_plot5.4980.4097.435
ribosomeReleaseScore2.9860.7993.786
ribosomeStallingScore0.2660.0090.275
save.experiment0.5010.0020.504
save_RDSQS0.0060.0140.019
scaledWindowPositions0.6410.0060.641
seqnamesPerGroup0.1900.0060.196
shiftFootprints0.0040.0000.003
shiftFootprintsByExperiment2.0310.1907.155
shiftPlots4.2311.6390.743
shifts_load0.5990.0410.894
shifts_save0.0870.0080.099
simpleLibs0.6540.0501.204
sortPerGroup1.1340.1241.398
startCodons1.0010.0711.071
startDefinition0.0010.0000.001
startRegion1.1910.0951.286
startRegionCoverage0.9280.0741.139
startSites0.7510.0411.551
stopCodons0.9280.0621.019
stopDefinition0.0010.0000.000
stopRegion0.8650.0410.906
stopSites0.2810.0150.295
strandBool0.0080.0010.009
strandPerGroup0.0430.0020.046
subsetToFrame0.0150.0020.018
symbols0.4230.0390.463
te.plot000
te.table0.3960.0100.405
te_rna.plot0.3620.0080.370
template_shift_table0.3740.0140.387
tile10.1840.0070.190
topMotif000
transcriptWindow1.5080.0331.557
translationalEff0.3220.0000.323
trimming.table0.0580.0010.059
txNames0.0940.0020.097
txNamesToGeneNames2.2870.0552.687
uORFSearchSpace0.9820.0501.225
uniqueGroups0.2300.0200.281
uniqueOrder0.3750.0060.381
unlistGrl0.0810.0000.084
widthPerGroup0.0940.0010.094
windowCoveragePlot2.3430.0622.753
windowPerGroup1.9330.0932.129
windowPerReadLength0.9110.0250.927