| Back to Multiple platform build/check report for BioC 3.21: simplified long |
|
This page was generated on 2025-10-16 11:41 -0400 (Thu, 16 Oct 2025).
| Hostname | OS | Arch (*) | R version | Installed pkgs |
|---|---|---|---|---|
| nebbiolo1 | Linux (Ubuntu 24.04.3 LTS) | x86_64 | 4.5.1 (2025-06-13) -- "Great Square Root" | 4833 |
| merida1 | macOS 12.7.6 Monterey | x86_64 | 4.5.1 RC (2025-06-05 r88288) -- "Great Square Root" | 4614 |
| kjohnson1 | macOS 13.7.5 Ventura | arm64 | 4.5.1 Patched (2025-06-14 r88325) -- "Great Square Root" | 4555 |
| kunpeng2 | Linux (openEuler 24.03 LTS) | aarch64 | R Under development (unstable) (2025-02-19 r87757) -- "Unsuffered Consequences" | 4586 |
| Click on any hostname to see more info about the system (e.g. compilers) (*) as reported by 'uname -p', except on Windows and Mac OS X | ||||
| Package 1480/2341 | Hostname | OS / Arch | INSTALL | BUILD | CHECK | BUILD BIN | ||||||||
| OMICsPCA 1.26.0 (landing page) Subhadeep Das
| nebbiolo1 | Linux (Ubuntu 24.04.3 LTS) / x86_64 | OK | OK | OK | |||||||||
| merida1 | macOS 12.7.6 Monterey / x86_64 | OK | OK | OK | OK | |||||||||
| kjohnson1 | macOS 13.7.5 Ventura / arm64 | OK | OK | OK | OK | |||||||||
| kunpeng2 | Linux (openEuler 24.03 LTS) / aarch64 | OK | OK | OK | ||||||||||
|
To the developers/maintainers of the OMICsPCA package: - Allow up to 24 hours (and sometimes 48 hours) for your latest push to git@git.bioconductor.org:packages/OMICsPCA.git to reflect on this report. See Troubleshooting Build Report for more information. - Use the following Renviron settings to reproduce errors and warnings. - If 'R CMD check' started to fail recently on the Linux builder(s) over a missing dependency, add the missing dependency to 'Suggests:' in your DESCRIPTION file. See Renviron.bioc for more information. - See Martin Grigorov's blog post for how to debug Linux ARM64 related issues on a x86_64 host. |
| Package: OMICsPCA |
| Version: 1.26.0 |
| Command: /home/biocbuild/R/R/bin/R CMD check --install=check:OMICsPCA.install-out.txt --library=/home/biocbuild/R/R/site-library --no-vignettes --timings OMICsPCA_1.26.0.tar.gz |
| StartedAt: 2025-10-14 12:07:25 -0000 (Tue, 14 Oct 2025) |
| EndedAt: 2025-10-14 12:17:04 -0000 (Tue, 14 Oct 2025) |
| EllapsedTime: 578.8 seconds |
| RetCode: 0 |
| Status: OK |
| CheckDir: OMICsPCA.Rcheck |
| Warnings: 0 |
##############################################################################
##############################################################################
###
### Running command:
###
### /home/biocbuild/R/R/bin/R CMD check --install=check:OMICsPCA.install-out.txt --library=/home/biocbuild/R/R/site-library --no-vignettes --timings OMICsPCA_1.26.0.tar.gz
###
##############################################################################
##############################################################################
* using log directory ‘/home/biocbuild/bbs-3.21-bioc/meat/OMICsPCA.Rcheck’
* using R Under development (unstable) (2025-02-19 r87757)
* using platform: aarch64-unknown-linux-gnu
* R was compiled by
aarch64-unknown-linux-gnu-gcc (GCC) 14.2.0
GNU Fortran (GCC) 14.2.0
* running under: openEuler 24.03 (LTS-SP1)
* using session charset: UTF-8
* using option ‘--no-vignettes’
* checking for file ‘OMICsPCA/DESCRIPTION’ ... OK
* checking extension type ... Package
* this is package ‘OMICsPCA’ version ‘1.26.0’
* package encoding: UTF-8
* checking package namespace information ... OK
* checking package dependencies ... INFO
Imports includes 24 non-default packages.
Importing from so many packages makes the package vulnerable to any of
them becoming unavailable. Move as many as possible to Suggests and
use conditionally.
* checking if this is a source package ... OK
* checking if there is a namespace ... OK
* checking for hidden files and directories ... OK
* checking for portable file names ... OK
* checking for sufficient/correct file permissions ... OK
* checking whether package ‘OMICsPCA’ can be installed ... OK
* checking installed package size ... OK
* checking package directory ... OK
* checking ‘build’ directory ... OK
* checking DESCRIPTION meta-information ... OK
* checking top-level files ... OK
* checking for left-over files ... OK
* checking index information ... OK
* checking package subdirectories ... NOTE
Problems with news in ‘NEWS’:
Cannot process chunk/lines:
version 0.99.0
* checking code files for non-ASCII characters ... OK
* checking R files for syntax errors ... OK
* checking whether the package can be loaded ... OK
* checking whether the package can be loaded with stated dependencies ... OK
* checking whether the package can be unloaded cleanly ... OK
* checking whether the namespace can be loaded with stated dependencies ... OK
* checking whether the namespace can be unloaded cleanly ... OK
* checking loading without being on the library search path ... OK
* checking dependencies in R code ... OK
* checking S3 generic/method consistency ... OK
* checking replacement functions ... OK
* checking foreign function calls ... OK
* checking R code for possible problems ... OK
* checking Rd files ... OK
* checking Rd metadata ... OK
* checking Rd cross-references ... OK
* checking for missing documentation entries ... OK
* checking for code/documentation mismatches ... OK
* checking Rd \usage sections ... OK
* checking Rd contents ... NOTE
Argument items with no description in Rd file 'cluster_boxplot.Rd':
‘name’
* checking for unstated dependencies in examples ... OK
* checking files in ‘vignettes’ ... OK
* checking examples ... OK
Examples with CPU (user + system) or elapsed time > 5s
user system elapsed
analyse_individuals 8.985 0.455 11.515
analyse_integrated_individuals 4.684 0.196 7.459
* checking for unstated dependencies in ‘tests’ ... OK
* checking tests ...
Running ‘runTests.R’
OK
* checking for unstated dependencies in vignettes ... OK
* checking package vignettes ... OK
* checking running R code from vignettes ... SKIPPED
* checking re-building of vignette outputs ... SKIPPED
* checking PDF version of manual ... OK
* DONE
Status: 2 NOTEs
See
‘/home/biocbuild/bbs-3.21-bioc/meat/OMICsPCA.Rcheck/00check.log’
for details.
OMICsPCA.Rcheck/00install.out
############################################################################## ############################################################################## ### ### Running command: ### ### /home/biocbuild/R/R/bin/R CMD INSTALL OMICsPCA ### ############################################################################## ############################################################################## * installing to library ‘/home/biocbuild/R/R-devel_2025-02-19/site-library’ * installing *source* package ‘OMICsPCA’ ... ** this is package ‘OMICsPCA’ version ‘1.26.0’ ** using staged installation ** R ** inst ** byte-compile and prepare package for lazy loading ** help *** installing help indices ** building package indices ** installing vignettes ** testing if installed package can be loaded from temporary location ** testing if installed package can be loaded from final location ** testing if installed package keeps a record of temporary installation path * DONE (OMICsPCA)
OMICsPCA.Rcheck/tests/runTests.Rout
R Under development (unstable) (2025-02-19 r87757) -- "Unsuffered Consequences"
Copyright (C) 2025 The R Foundation for Statistical Computing
Platform: aarch64-unknown-linux-gnu
R is free software and comes with ABSOLUTELY NO WARRANTY.
You are welcome to redistribute it under certain conditions.
Type 'license()' or 'licence()' for distribution details.
R is a collaborative project with many contributors.
Type 'contributors()' for more information and
'citation()' on how to cite R or R packages in publications.
Type 'demo()' for some demos, 'help()' for on-line help, or
'help.start()' for an HTML browser interface to help.
Type 'q()' to quit R.
> #library(OMICsPCAdata)
> BiocGenerics:::testPackage("OMICsPCA")
Attaching package: 'MatrixGenerics'
The following objects are masked from 'package:matrixStats':
colAlls, colAnyNAs, colAnys, colAvgsPerRowSet, colCollapse,
colCounts, colCummaxs, colCummins, colCumprods, colCumsums,
colDiffs, colIQRDiffs, colIQRs, colLogSumExps, colMadDiffs,
colMads, colMaxs, colMeans2, colMedians, colMins, colOrderStats,
colProds, colQuantiles, colRanges, colRanks, colSdDiffs, colSds,
colSums2, colTabulates, colVarDiffs, colVars, colWeightedMads,
colWeightedMeans, colWeightedMedians, colWeightedSds,
colWeightedVars, rowAlls, rowAnyNAs, rowAnys, rowAvgsPerColSet,
rowCollapse, rowCounts, rowCummaxs, rowCummins, rowCumprods,
rowCumsums, rowDiffs, rowIQRDiffs, rowIQRs, rowLogSumExps,
rowMadDiffs, rowMads, rowMaxs, rowMeans2, rowMedians, rowMins,
rowOrderStats, rowProds, rowQuantiles, rowRanges, rowRanks,
rowSdDiffs, rowSds, rowSums2, rowTabulates, rowVarDiffs, rowVars,
rowWeightedMads, rowWeightedMeans, rowWeightedMedians,
rowWeightedSds, rowWeightedVars
Attaching package: 'generics'
The following objects are masked from 'package:base':
as.difftime, as.factor, as.ordered, intersect, is.element, setdiff,
setequal, union
Attaching package: 'BiocGenerics'
The following objects are masked from 'package:stats':
IQR, mad, sd, var, xtabs
The following objects are masked from 'package:base':
Filter, Find, Map, Position, Reduce, anyDuplicated, aperm, append,
as.data.frame, basename, cbind, colnames, dirname, do.call,
duplicated, eval, evalq, get, grep, grepl, is.unsorted, lapply,
mapply, match, mget, order, paste, pmax, pmax.int, pmin, pmin.int,
rank, rbind, rownames, sapply, saveRDS, table, tapply, unique,
unsplit, which.max, which.min
Attaching package: 'S4Vectors'
The following object is masked from 'package:utils':
findMatches
The following objects are masked from 'package:base':
I, expand.grid, unname
Welcome to Bioconductor
Vignettes contain introductory material; view with
'browseVignettes()'. To cite Bioconductor, see
'citation("Biobase")', and for packages 'citation("pkgname")'.
Attaching package: 'Biobase'
The following object is masked from 'package:MatrixGenerics':
rowMedians
The following objects are masked from 'package:matrixStats':
anyMissing, rowMedians
Attaching package: 'OMICsPCA'
The following object is masked from 'package:GenomicRanges':
intersect
The following object is masked from 'package:GenomeInfoDb':
intersect
The following object is masked from 'package:IRanges':
intersect
The following object is masked from 'package:S4Vectors':
intersect
The following object is masked from 'package:BiocGenerics':
intersect
The following object is masked from 'package:generics':
intersect
The following object is masked from 'package:base':
intersect
[1] "Running intersect... This may take some time"
[1] "Merging cell lines... This may take some time"
[1] "Total time taken is: 1.07917547225952"
[1] "time taken to run intersect() is: 1.07014036178589"
[1] "time taken to run merge_cells() is: 0.00903511047363281"
RUNIT TEST PROTOCOL -- Tue Oct 14 12:16:57 2025
***********************************************
Number of test functions: 1
Number of errors: 0
Number of failures: 0
1 Test Suite :
OMICsPCA RUnit Tests - 1 test function, 0 errors, 0 failures
Number of test functions: 1
Number of errors: 0
Number of failures: 0
>
> proc.time()
user system elapsed
22.024 0.582 26.434
OMICsPCA.Rcheck/OMICsPCA-Ex.timings
| name | user | system | elapsed | |
| analyse_individuals | 8.985 | 0.455 | 11.515 | |
| analyse_integrated_individuals | 4.684 | 0.196 | 7.459 | |
| analyse_integrated_variables | 2.727 | 0.160 | 3.563 | |
| analyse_variables | 0.893 | 0.059 | 1.089 | |
| chart_correlation | 0.033 | 0.004 | 0.036 | |
| cluster | 2.395 | 0.140 | 3.085 | |
| cluster_boxplot | 1.159 | 0.072 | 1.577 | |
| cluster_parameters | 2.732 | 0.083 | 2.972 | |
| create_group | 1.210 | 0.030 | 1.458 | |
| descriptor | 1.767 | 0.064 | 1.911 | |
| extract | 3.541 | 0.231 | 4.214 | |
| extract_assay | 0.607 | 0.170 | 1.132 | |
| integrate_pca | 2.143 | 0.036 | 2.623 | |
| integrate_variables | 0.338 | 0.020 | 0.422 | |
| intersect | 0.595 | 0.016 | 0.990 | |
| merge_cells | 0.266 | 0.016 | 0.291 | |
| plot_density | 0.909 | 0.056 | 0.987 | |
| plot_density_3D | 0.826 | 0.012 | 1.059 | |
| plot_integrated_density | 2.982 | 0.036 | 3.976 | |
| plot_integrated_density_3D | 3.622 | 0.032 | 4.746 | |
| prepare_dataset | 0.283 | 0.008 | 0.575 | |