| Back to Multiple platform build/check report for BioC 3.22: simplified long |
|
This page was generated on 2025-11-20 12:03 -0500 (Thu, 20 Nov 2025).
| Hostname | OS | Arch (*) | R version | Installed pkgs |
|---|---|---|---|---|
| nebbiolo2 | Linux (Ubuntu 24.04.3 LTS) | x86_64 | 4.5.2 (2025-10-31) -- "[Not] Part in a Rumble" | 4615 |
| merida1 | macOS 12.7.6 Monterey | x86_64 | 4.5.2 Patched (2025-11-05 r88990) -- "[Not] Part in a Rumble" | 4610 |
| kjohnson1 | macOS 13.7.5 Ventura | arm64 | 4.5.2 Patched (2025-11-04 r88984) -- "[Not] Part in a Rumble" | 4598 |
| taishan | Linux (openEuler 24.03 LTS) | aarch64 | 4.5.0 (2025-04-11) -- "How About a Twenty-Six" | 4668 |
| Click on any hostname to see more info about the system (e.g. compilers) (*) as reported by 'uname -p', except on Windows and Mac OS X | ||||
| Package 1430/2361 | Hostname | OS / Arch | INSTALL | BUILD | CHECK | BUILD BIN | ||||||||
| MutationalPatterns 3.20.0 (landing page) Mark van Roosmalen
| nebbiolo2 | Linux (Ubuntu 24.04.3 LTS) / x86_64 | OK | OK | ERROR | |||||||||
| merida1 | macOS 12.7.6 Monterey / x86_64 | OK | ERROR | skipped | skipped | |||||||||
| kjohnson1 | macOS 13.7.5 Ventura / arm64 | OK | ERROR | skipped | skipped | |||||||||
| taishan | Linux (openEuler 24.03 LTS) / aarch64 | OK | OK | ERROR | ||||||||||
|
To the developers/maintainers of the MutationalPatterns package: - Allow up to 24 hours (and sometimes 48 hours) for your latest push to git@git.bioconductor.org:packages/MutationalPatterns.git to reflect on this report. See Troubleshooting Build Report for more information. - Use the following Renviron settings to reproduce errors and warnings. - If 'R CMD check' started to fail recently on the Linux builder(s) over a missing dependency, add the missing dependency to 'Suggests:' in your DESCRIPTION file. See Renviron.bioc for more information. |
| Package: MutationalPatterns |
| Version: 3.20.0 |
| Command: /home/biocbuild/bbs-3.22-bioc/R/bin/R CMD check --install=check:MutationalPatterns.install-out.txt --library=/home/biocbuild/bbs-3.22-bioc/R/site-library --timings MutationalPatterns_3.20.0.tar.gz |
| StartedAt: 2025-11-18 06:30:48 -0500 (Tue, 18 Nov 2025) |
| EndedAt: 2025-11-18 06:50:53 -0500 (Tue, 18 Nov 2025) |
| EllapsedTime: 1204.5 seconds |
| RetCode: 1 |
| Status: ERROR |
| CheckDir: MutationalPatterns.Rcheck |
| Warnings: NA |
##############################################################################
##############################################################################
###
### Running command:
###
### /home/biocbuild/bbs-3.22-bioc/R/bin/R CMD check --install=check:MutationalPatterns.install-out.txt --library=/home/biocbuild/bbs-3.22-bioc/R/site-library --timings MutationalPatterns_3.20.0.tar.gz
###
##############################################################################
##############################################################################
* using log directory ‘/home/biocbuild/bbs-3.22-bioc/meat/MutationalPatterns.Rcheck’
* using R version 4.5.2 (2025-10-31)
* using platform: x86_64-pc-linux-gnu
* R was compiled by
gcc (Ubuntu 13.3.0-6ubuntu2~24.04) 13.3.0
GNU Fortran (Ubuntu 13.3.0-6ubuntu2~24.04) 13.3.0
* running under: Ubuntu 24.04.3 LTS
* using session charset: UTF-8
* checking for file ‘MutationalPatterns/DESCRIPTION’ ... OK
* checking extension type ... Package
* this is package ‘MutationalPatterns’ version ‘3.20.0’
* package encoding: UTF-8
* checking package namespace information ... OK
* checking package dependencies ... OK
* checking if this is a source package ... OK
* checking if there is a namespace ... OK
* checking for hidden files and directories ... OK
* checking for portable file names ... OK
* checking for sufficient/correct file permissions ... OK
* checking whether package ‘MutationalPatterns’ can be installed ... OK
* checking installed package size ... OK
* checking package directory ... OK
* checking ‘build’ directory ... OK
* checking DESCRIPTION meta-information ... NOTE
License stub is invalid DCF.
* checking top-level files ... OK
* checking for left-over files ... OK
* checking index information ... OK
* checking package subdirectories ... OK
* checking code files for non-ASCII characters ... OK
* checking R files for syntax errors ... OK
* checking whether the package can be loaded ... OK
* checking whether the package can be loaded with stated dependencies ... OK
* checking whether the package can be unloaded cleanly ... OK
* checking whether the namespace can be loaded with stated dependencies ... OK
* checking whether the namespace can be unloaded cleanly ... OK
* checking loading without being on the library search path ... OK
* checking dependencies in R code ... OK
* checking S3 generic/method consistency ... OK
* checking replacement functions ... OK
* checking foreign function calls ... OK
* checking R code for possible problems ... OK
* checking Rd files ... OK
* checking Rd metadata ... OK
* checking Rd cross-references ... OK
* checking for missing documentation entries ... OK
* checking for code/documentation mismatches ... OK
* checking Rd \usage sections ... OK
* checking Rd contents ... OK
* checking for unstated dependencies in examples ... OK
* checking files in ‘vignettes’ ... OK
* checking examples ... OK
Examples with CPU (user + system) or elapsed time > 5s
user system elapsed
context_potential_damage_analysis 25.150 0.715 25.866
read_vcfs_as_granges 19.358 0.357 25.269
plot_lesion_segregation 17.061 0.067 17.128
get_mut_type 11.195 0.011 11.206
calculate_lesion_segregation 10.794 0.233 11.031
plot_compare_indels 10.917 0.009 10.926
plot_indel_contexts 10.434 0.098 10.532
bin_mutation_density 9.981 0.520 10.501
genomic_distribution 10.285 0.192 10.478
plot_compare_dbs 6.919 0.054 6.974
get_indel_context 6.524 0.353 6.878
fit_to_signatures_bootstrapped 6.296 0.056 6.351
plot_river 6.105 0.122 6.227
plot_profile_heatmap 5.675 0.031 5.707
plot_spectrum_region 5.460 0.086 5.547
plot_spectrum 5.410 0.041 5.452
plot_dbs_contexts 5.187 0.033 5.221
mut_matrix_stranded 4.883 0.174 5.058
fit_to_signatures_strict 4.918 0.138 5.056
* checking for unstated dependencies in ‘tests’ ... OK
* checking tests ...
Running ‘testthat.R’
ERROR
Running the tests in ‘tests/testthat.R’ failed.
Last 13 lines of output:
[68] 2 - 1 == 1
[69] 4 - 3 == 1
[70] 5 - 6 == -1
[71] 2 - 1 == 1
[72] 1 - 0 == 1
[74] 3 - 2 == 1
[77] 4 - 3 == 1
[78] 2 - 1 == 1
[79] 1 - 0 == 1
...
[ FAIL 3 | WARN 41 | SKIP 0 | PASS 471 ]
Error:
! Test failures.
Execution halted
* checking for unstated dependencies in vignettes ... OK
* checking package vignettes ... OK
* checking re-building of vignette outputs ... OK
* checking PDF version of manual ... OK
* DONE
Status: 1 ERROR, 1 NOTE
See
‘/home/biocbuild/bbs-3.22-bioc/meat/MutationalPatterns.Rcheck/00check.log’
for details.
MutationalPatterns.Rcheck/00install.out
############################################################################## ############################################################################## ### ### Running command: ### ### /home/biocbuild/bbs-3.22-bioc/R/bin/R CMD INSTALL MutationalPatterns ### ############################################################################## ############################################################################## * installing to library ‘/home/biocbuild/bbs-3.22-bioc/R/site-library’ * installing *source* package ‘MutationalPatterns’ ... ** this is package ‘MutationalPatterns’ version ‘3.20.0’ ** using staged installation ** R ** inst ** byte-compile and prepare package for lazy loading ** help *** installing help indices ** building package indices ** installing vignettes ** testing if installed package can be loaded from temporary location ** testing if installed package can be loaded from final location ** testing if installed package keeps a record of temporary installation path * DONE (MutationalPatterns)
MutationalPatterns.Rcheck/tests/testthat.Rout.fail
R version 4.5.2 (2025-10-31) -- "[Not] Part in a Rumble"
Copyright (C) 2025 The R Foundation for Statistical Computing
Platform: x86_64-pc-linux-gnu
R is free software and comes with ABSOLUTELY NO WARRANTY.
You are welcome to redistribute it under certain conditions.
Type 'license()' or 'licence()' for distribution details.
R is a collaborative project with many contributors.
Type 'contributors()' for more information and
'citation()' on how to cite R or R packages in publications.
Type 'demo()' for some demos, 'help()' for on-line help, or
'help.start()' for an HTML browser interface to help.
Type 'q()' to quit R.
> library(testthat)
> library(MutationalPatterns)
Loading required package: GenomicRanges
Loading required package: stats4
Loading required package: BiocGenerics
Loading required package: generics
Attaching package: 'generics'
The following objects are masked from 'package:base':
as.difftime, as.factor, as.ordered, intersect, is.element, setdiff,
setequal, union
Attaching package: 'BiocGenerics'
The following objects are masked from 'package:stats':
IQR, mad, sd, var, xtabs
The following objects are masked from 'package:base':
Filter, Find, Map, Position, Reduce, anyDuplicated, aperm, append,
as.data.frame, basename, cbind, colnames, dirname, do.call,
duplicated, eval, evalq, get, grep, grepl, is.unsorted, lapply,
mapply, match, mget, order, paste, pmax, pmax.int, pmin, pmin.int,
rank, rbind, rownames, sapply, saveRDS, table, tapply, unique,
unsplit, which.max, which.min
Loading required package: S4Vectors
Attaching package: 'S4Vectors'
The following object is masked from 'package:utils':
findMatches
The following objects are masked from 'package:base':
I, expand.grid, unname
Loading required package: IRanges
Loading required package: Seqinfo
Loading required package: NMF
Loading required package: registry
Loading required package: rngtools
Loading required package: cluster
NMF - BioConductor layer [OK] | Shared memory capabilities [NO: bigmemory] | Cores 2/2
To enable shared memory capabilities, try: install.extras('
NMF
')
Attaching package: 'NMF'
The following object is masked from 'package:S4Vectors':
nrun
The following object is masked from 'package:generics':
fit
The following object is masked from 'package:testthat':
compare
>
> test_check("MutationalPatterns")
Saving _problems/test-context_potential_damage_analysis-46.R
Saving _problems/test-mut_matrix_stranded-20.R
Saving _problems/test-mut_matrix_stranded-29.R
[ FAIL 3 | WARN 41 | SKIP 0 | PASS 471 ]
══ Failed tests ════════════════════════════════════════════════════════════════
── Failure ('test-context_potential_damage_analysis.R:46:3'): Output is equal to expected ──
Expected `output` to equal `expected`.
Differences:
Component "n": Mean relative difference: 0.09452736
Component "ratio": Mean relative difference: 0.06150134
Component "blosum62": Mean relative difference: 0.2656804
── Failure ('test-mut_matrix_stranded.R:20:3'): transforms correctly ───────────
Expected `output` to equal `expected`.
Differences:
382/1728 mismatches (average diff: 1.45)
[68] 2 - 1 == 1
[69] 4 - 3 == 1
[70] 5 - 6 == -1
[71] 2 - 1 == 1
[72] 1 - 0 == 1
[74] 3 - 2 == 1
[77] 4 - 3 == 1
[78] 2 - 1 == 1
[79] 1 - 0 == 1
...
── Failure ('test-mut_matrix_stranded.R:29:3'): a list is also acceptable input ──
Expected `output_list` to equal `expected`.
Differences:
382/1728 mismatches (average diff: 1.45)
[68] 2 - 1 == 1
[69] 4 - 3 == 1
[70] 5 - 6 == -1
[71] 2 - 1 == 1
[72] 1 - 0 == 1
[74] 3 - 2 == 1
[77] 4 - 3 == 1
[78] 2 - 1 == 1
[79] 1 - 0 == 1
...
[ FAIL 3 | WARN 41 | SKIP 0 | PASS 471 ]
Error:
! Test failures.
Execution halted
MutationalPatterns.Rcheck/MutationalPatterns-Ex.timings
| name | user | system | elapsed | |
| bin_mutation_density | 9.981 | 0.520 | 10.501 | |
| binomial_test | 0.009 | 0.000 | 0.008 | |
| calculate_lesion_segregation | 10.794 | 0.233 | 11.031 | |
| cluster_signatures | 0.044 | 0.002 | 0.047 | |
| context_potential_damage_analysis | 25.150 | 0.715 | 25.866 | |
| convert_sigs_to_ref | 0.040 | 0.001 | 0.040 | |
| cos_sim | 0.001 | 0.000 | 0.000 | |
| cos_sim_matrix | 0.017 | 0.003 | 0.019 | |
| count_dbs_contexts | 0.083 | 0.001 | 0.084 | |
| count_indel_contexts | 0.104 | 0.002 | 0.106 | |
| count_mbs_contexts | 0.137 | 0.000 | 0.137 | |
| determine_regional_similarity | 2.936 | 0.146 | 3.082 | |
| enrichment_depletion_test | 0.130 | 0.001 | 0.132 | |
| extract_signatures | 0.001 | 0.000 | 0.002 | |
| fit_to_signatures | 0.081 | 0.014 | 0.095 | |
| fit_to_signatures_bootstrapped | 6.296 | 0.056 | 6.351 | |
| fit_to_signatures_strict | 4.918 | 0.138 | 5.056 | |
| genomic_distribution | 10.285 | 0.192 | 10.478 | |
| get_dbs_context | 0.252 | 0.001 | 0.253 | |
| get_indel_context | 6.524 | 0.353 | 6.878 | |
| get_known_signatures | 0.193 | 0.052 | 0.246 | |
| get_mut_type | 11.195 | 0.011 | 11.206 | |
| lengthen_mut_matrix | 0.010 | 0.000 | 0.011 | |
| merge_signatures | 1.114 | 0.067 | 1.182 | |
| mut_context | 1.042 | 0.064 | 1.107 | |
| mut_matrix | 1.85 | 0.09 | 1.94 | |
| mut_matrix_stranded | 4.883 | 0.174 | 5.058 | |
| mut_strand | 1.799 | 0.007 | 1.806 | |
| mut_type | 0.026 | 0.001 | 0.028 | |
| mut_type_occurrences | 0.887 | 0.038 | 0.926 | |
| mutations_from_vcf | 0.030 | 0.001 | 0.031 | |
| plot_192_profile | 3.541 | 0.020 | 3.561 | |
| plot_96_profile | 2.941 | 0.029 | 2.970 | |
| plot_bootstrapped_contribution | 2.559 | 0.017 | 2.576 | |
| plot_compare_dbs | 6.919 | 0.054 | 6.974 | |
| plot_compare_indels | 10.917 | 0.009 | 10.926 | |
| plot_compare_mbs | 1.400 | 0.001 | 1.401 | |
| plot_compare_profiles | 2.727 | 0.019 | 2.745 | |
| plot_contribution | 2.310 | 0.002 | 2.312 | |
| plot_contribution_heatmap | 2.324 | 0.005 | 2.330 | |
| plot_correlation_bootstrap | 1.856 | 0.022 | 1.878 | |
| plot_cosine_heatmap | 2.726 | 0.006 | 2.733 | |
| plot_dbs_contexts | 5.187 | 0.033 | 5.221 | |
| plot_enrichment_depletion | 4.822 | 0.003 | 4.826 | |
| plot_indel_contexts | 10.434 | 0.098 | 10.532 | |
| plot_lesion_segregation | 17.061 | 0.067 | 17.128 | |
| plot_main_dbs_contexts | 0.876 | 0.004 | 0.881 | |
| plot_main_indel_contexts | 0.886 | 0.001 | 0.887 | |
| plot_mbs_contexts | 0.737 | 0.003 | 0.739 | |
| plot_original_vs_reconstructed | 0.973 | 0.003 | 0.977 | |
| plot_profile_heatmap | 5.675 | 0.031 | 5.707 | |
| plot_profile_region | 1.23 | 0.00 | 1.23 | |
| plot_rainfall | 2.205 | 0.023 | 2.228 | |
| plot_regional_similarity | 2.569 | 0.005 | 2.575 | |
| plot_river | 6.105 | 0.122 | 6.227 | |
| plot_signature_strand_bias | 0.942 | 0.002 | 0.944 | |
| plot_spectrum | 5.410 | 0.041 | 5.452 | |
| plot_spectrum_region | 5.460 | 0.086 | 5.547 | |
| plot_strand | 0.338 | 0.003 | 0.340 | |
| plot_strand_bias | 0.945 | 0.001 | 0.947 | |
| pool_mut_mat | 0.033 | 0.002 | 0.035 | |
| read_vcfs_as_granges | 19.358 | 0.357 | 25.269 | |
| rename_nmf_signatures | 0.025 | 0.008 | 0.033 | |
| signature_potential_damage_analysis | 0.083 | 0.001 | 0.084 | |
| split_muts_region | 4.059 | 0.069 | 4.128 | |
| strand_bias_test | 0.113 | 0.002 | 0.115 | |
| strand_occurrences | 0.148 | 0.005 | 0.154 | |
| type_context | 1.244 | 0.069 | 1.313 | |