Back to Multiple platform build/check report for BioC 3.22:   simplified   long
ABCDEFGHIJKL[M]NOPQRSTUVWXYZ

This page was generated on 2025-10-31 12:03 -0400 (Fri, 31 Oct 2025).

HostnameOSArch (*)R versionInstalled pkgs
nebbiolo2Linux (Ubuntu 24.04.3 LTS)x86_644.5.1 Patched (2025-08-23 r88802) -- "Great Square Root" 4901
lconwaymacOS 12.7.6 Montereyx86_644.5.1 Patched (2025-09-10 r88807) -- "Great Square Root" 4691
kjohnson3macOS 13.7.7 Venturaarm644.5.1 Patched (2025-09-10 r88807) -- "Great Square Root" 4637
Click on any hostname to see more info about the system (e.g. compilers)      (*) as reported by 'uname -p', except on Windows and Mac OS X

Package 1420/2361HostnameOS / ArchINSTALLBUILDCHECKBUILD BIN
MultiRNAflow 1.8.0  (landing page)
Rodolphe Loubaton
Snapshot Date: 2025-10-30 13:45 -0400 (Thu, 30 Oct 2025)
git_url: https://git.bioconductor.org/packages/MultiRNAflow
git_branch: RELEASE_3_22
git_last_commit: 6e77950
git_last_commit_date: 2025-10-29 11:24:54 -0400 (Wed, 29 Oct 2025)
nebbiolo2Linux (Ubuntu 24.04.3 LTS) / x86_64  OK    OK    OK  UNNEEDED, same version is already published
lconwaymacOS 12.7.6 Monterey / x86_64  OK    OK    OK    OK  UNNEEDED, same version is already published
kjohnson3macOS 13.7.7 Ventura / arm64  OK    OK    OK    OK  UNNEEDED, same version is already published


CHECK results for MultiRNAflow on nebbiolo2

To the developers/maintainers of the MultiRNAflow package:
- Allow up to 24 hours (and sometimes 48 hours) for your latest push to git@git.bioconductor.org:packages/MultiRNAflow.git to reflect on this report. See Troubleshooting Build Report for more information.
- Use the following Renviron settings to reproduce errors and warnings.
- If 'R CMD check' started to fail recently on the Linux builder(s) over a missing dependency, add the missing dependency to 'Suggests:' in your DESCRIPTION file. See Renviron.bioc for more information.

raw results


Summary

Package: MultiRNAflow
Version: 1.8.0
Command: /home/biocbuild/bbs-3.22-bioc/R/bin/R CMD check --install=check:MultiRNAflow.install-out.txt --library=/home/biocbuild/bbs-3.22-bioc/R/site-library --timings MultiRNAflow_1.8.0.tar.gz
StartedAt: 2025-10-31 01:56:59 -0400 (Fri, 31 Oct 2025)
EndedAt: 2025-10-31 02:11:46 -0400 (Fri, 31 Oct 2025)
EllapsedTime: 887.0 seconds
RetCode: 0
Status:   OK  
CheckDir: MultiRNAflow.Rcheck
Warnings: 0

Command output

##############################################################################
##############################################################################
###
### Running command:
###
###   /home/biocbuild/bbs-3.22-bioc/R/bin/R CMD check --install=check:MultiRNAflow.install-out.txt --library=/home/biocbuild/bbs-3.22-bioc/R/site-library --timings MultiRNAflow_1.8.0.tar.gz
###
##############################################################################
##############################################################################


* using log directory ‘/home/biocbuild/bbs-3.22-bioc/meat/MultiRNAflow.Rcheck’
* using R version 4.5.1 Patched (2025-08-23 r88802)
* using platform: x86_64-pc-linux-gnu
* R was compiled by
    gcc (Ubuntu 13.3.0-6ubuntu2~24.04) 13.3.0
    GNU Fortran (Ubuntu 13.3.0-6ubuntu2~24.04) 13.3.0
* running under: Ubuntu 24.04.3 LTS
* using session charset: UTF-8
* checking for file ‘MultiRNAflow/DESCRIPTION’ ... OK
* this is package ‘MultiRNAflow’ version ‘1.8.0’
* package encoding: UTF-8
* checking package namespace information ... OK
* checking package dependencies ... OK
* checking if this is a source package ... OK
* checking if there is a namespace ... OK
* checking for hidden files and directories ... OK
* checking for portable file names ... OK
* checking for sufficient/correct file permissions ... OK
* checking whether package ‘MultiRNAflow’ can be installed ... OK
* checking installed package size ... OK
* checking package directory ... OK
* checking ‘build’ directory ... OK
* checking DESCRIPTION meta-information ... OK
* checking top-level files ... OK
* checking for left-over files ... OK
* checking index information ... OK
* checking package subdirectories ... OK
* checking code files for non-ASCII characters ... OK
* checking R files for syntax errors ... OK
* checking whether the package can be loaded ... OK
* checking whether the package can be loaded with stated dependencies ... OK
* checking whether the package can be unloaded cleanly ... OK
* checking whether the namespace can be loaded with stated dependencies ... OK
* checking whether the namespace can be unloaded cleanly ... OK
* checking loading without being on the library search path ... OK
* checking dependencies in R code ... OK
* checking S3 generic/method consistency ... OK
* checking replacement functions ... OK
* checking foreign function calls ... OK
* checking R code for possible problems ... OK
* checking Rd files ... OK
* checking Rd metadata ... OK
* checking Rd cross-references ... OK
* checking for missing documentation entries ... OK
* checking for code/documentation mismatches ... OK
* checking Rd \usage sections ... OK
* checking Rd contents ... OK
* checking for unstated dependencies in examples ... OK
* checking contents of ‘data’ directory ... OK
* checking data for non-ASCII characters ... OK
* checking data for ASCII and uncompressed saves ... OK
* checking files in ‘vignettes’ ... OK
* checking examples ... OK
Examples with CPU (user + system) or elapsed time > 5s
                         user system elapsed
PCAanalysis            11.464  0.437  11.916
DEanalysisTimeAndGroup 10.467  1.091  11.606
DEplotHeatmaps          9.242  1.315  10.603
PCAgraphics             5.692  0.263   5.966
DEanalysisTime          5.287  0.648   5.960
* checking for unstated dependencies in ‘tests’ ... OK
* checking tests ...
  Running ‘testthat.R’
 OK
* checking for unstated dependencies in vignettes ... OK
* checking package vignettes ... OK
* checking re-building of vignette outputs ... OK
* checking PDF version of manual ... OK
* DONE

Status: OK


Installation output

MultiRNAflow.Rcheck/00install.out

##############################################################################
##############################################################################
###
### Running command:
###
###   /home/biocbuild/bbs-3.22-bioc/R/bin/R CMD INSTALL MultiRNAflow
###
##############################################################################
##############################################################################


* installing to library ‘/home/biocbuild/bbs-3.22-bioc/R/site-library’
* installing *source* package ‘MultiRNAflow’ ...
** this is package ‘MultiRNAflow’ version ‘1.8.0’
** using staged installation
** R
** data
** inst
** byte-compile and prepare package for lazy loading
** help
*** installing help indices
** building package indices
** installing vignettes
** testing if installed package can be loaded from temporary location
** testing if installed package can be loaded from final location
** testing if installed package keeps a record of temporary installation path
* DONE (MultiRNAflow)

Tests output

MultiRNAflow.Rcheck/tests/testthat.Rout


R version 4.5.1 Patched (2025-08-23 r88802) -- "Great Square Root"
Copyright (C) 2025 The R Foundation for Statistical Computing
Platform: x86_64-pc-linux-gnu

R is free software and comes with ABSOLUTELY NO WARRANTY.
You are welcome to redistribute it under certain conditions.
Type 'license()' or 'licence()' for distribution details.

R is a collaborative project with many contributors.
Type 'contributors()' for more information and
'citation()' on how to cite R or R packages in publications.

Type 'demo()' for some demos, 'help()' for on-line help, or
'help.start()' for an HTML browser interface to help.
Type 'q()' to quit R.

> # This file is part of the standard setup for testthat.
> # It is recommended that you do not modify it.
> #
> # Where should you do additional test configuration?
> # Learn more about the roles of various files in:
> # * https://r-pkgs.org/tests.html
> # * https://testthat.r-lib.org/reference/test_package.html#special-files
> 
> library(testthat)
> library(MultiRNAflow)
Loading required package: Mfuzz
Loading required package: Biobase
Loading required package: BiocGenerics
Loading required package: generics

Attaching package: 'generics'

The following objects are masked from 'package:base':

    as.difftime, as.factor, as.ordered, intersect, is.element, setdiff,
    setequal, union


Attaching package: 'BiocGenerics'

The following objects are masked from 'package:stats':

    IQR, mad, sd, var, xtabs

The following objects are masked from 'package:base':

    Filter, Find, Map, Position, Reduce, anyDuplicated, aperm, append,
    as.data.frame, basename, cbind, colnames, dirname, do.call,
    duplicated, eval, evalq, get, grep, grepl, is.unsorted, lapply,
    mapply, match, mget, order, paste, pmax, pmax.int, pmin, pmin.int,
    rank, rbind, rownames, sapply, saveRDS, table, tapply, unique,
    unsplit, which.max, which.min

Welcome to Bioconductor

    Vignettes contain introductory material; view with
    'browseVignettes()'. To cite Bioconductor, see
    'citation("Biobase")', and for packages 'citation("pkgname")'.

Loading required package: e1071

Attaching package: 'e1071'

The following object is masked from 'package:generics':

    interpolate


Attaching package: 'DynDoc'

The following object is masked from 'package:BiocGenerics':

    path

> 
> test_check("MultiRNAflow")
[1] "3 genes deleted."
converting counts to integer mode
converting counts to integer mode
converting counts to integer mode
converting counts to integer mode
converting counts to integer mode
converting counts to integer mode
[1] "3 genes deleted."
[1] "Preprocessing"
[1] "Differential expression step with DESeq2::DESeq()"
estimating size factors
estimating dispersions
gene-wise dispersion estimates
mean-dispersion relationship
final dispersion estimates
fitting model and testing
[1] "Case 1 analysis : Biological conditions only"
[1] "Preprocessing"
[1] "Differential expression step with DESeq2::DESeq()"
estimating size factors
estimating dispersions
gene-wise dispersion estimates
mean-dispersion relationship
final dispersion estimates
fitting model and testing
[1] "Case 2 analysis : Time only"
estimating size factors
estimating dispersions
gene-wise dispersion estimates
mean-dispersion relationship
final dispersion estimates
fitting model and testing
estimating size factors
estimating dispersions
gene-wise dispersion estimates
mean-dispersion relationship
final dispersion estimates
fitting model and testing
[1] "DE time analysis for each biological condition."
[1] "DE group analysis for each time measurement."
[1] "Combined time and group results."
[1] "DE time analysis for each biological condition."
[1] "DE group analysis for each time measurement."
[1] "Combined time and group results."
[1] "DE time analysis for each biological condition."
[1] "DE group analysis for each time measurement."
[1] "Combined time and group results."
[1] "DE time analysis for each biological condition."
[1] "DE group analysis for each time measurement."
[1] "Combined time and group results."
estimating size factors
estimating dispersions
gene-wise dispersion estimates
mean-dispersion relationship
final dispersion estimates
fitting model and testing
estimating size factors
estimating dispersions
gene-wise dispersion estimates
mean-dispersion relationship
final dispersion estimates
fitting model and testing
converting counts to integer mode
converting counts to integer mode
0 genes excluded.
0 genes excluded.
0 genes excluded.
0 genes excluded.
0 genes excluded.
0 genes excluded.
0 genes excluded.
0 genes excluded.
0 genes excluded.
0 genes excluded.
converting counts to integer mode
converting counts to integer mode
converting counts to integer mode
converting counts to integer mode
[ FAIL 0 | WARN 3 | SKIP 0 | PASS 324 ]

[ FAIL 0 | WARN 3 | SKIP 0 | PASS 324 ]
> 
> proc.time()
   user  system elapsed 
228.510  25.426 254.813 

Example timings

MultiRNAflow.Rcheck/MultiRNAflow-Ex.timings

nameusersystemelapsed
CharacterNumbers0.0010.0000.000
ColnamesToFactors0.0100.0030.013
DATAnormalization1.8200.2622.087
DATAplotBoxplotSamples0.8760.1441.023
DATAplotExpression1Gene0.8370.0750.914
DATAplotExpressionGenes1.4570.1321.594
DATAprepSE0.2120.0390.253
DEanalysisGlobal2.8390.4153.270
DEanalysisGroup2.5810.4173.019
DEanalysisSubData0.5860.0760.667
DEanalysisTime5.2870.6485.960
DEanalysisTimeAndGroup10.467 1.09111.606
DEplotAlluvial0.8130.0380.853
DEplotBarplot0.4720.0220.495
DEplotBarplotFacetGrid1.1440.0411.187
DEplotBarplotTime0.4880.0130.501
DEplotHeatmaps 9.242 1.31510.603
DEplotVennBarplotGroup1.3660.0681.439
DEplotVennBarplotTime1.5160.0631.583
DEplotVolcanoMA4.2110.4124.644
DEresultGroup2.3920.3782.792
DEresultGroupPerTime3.5310.4554.017
GSEAQuickAnalysis0.2270.0310.261
GSEApreprocessing3.3650.3813.777
HCPCanalysis3.4480.2253.679
MFUZZanalysis2.3010.2072.518
MFUZZclustersNumber0.9800.0931.081
PCAanalysis11.464 0.43711.916
PCAgraphics5.6920.2635.966
PCApreprocessing0.6260.1260.758
PCArealization0.6570.0890.751
RawCountsSimulation0.0590.0070.066
RawCounts_Antoszewski2022_MOUSEsub5000.0050.0010.005
RawCounts_Leong2014_FISSIONsub500wt0.0070.0000.007
RawCounts_Schleiss2021_CLLsub5000.0130.0000.013
RawCounts_Weger2021_MOUSEsub5000.0180.0020.019
Results_DEanalysis_sub5000.0950.0010.096
Transcript_HomoSapiens_Database0.0840.0030.088