| Back to Multiple platform build/check report for BioC 3.21: simplified long |
|
This page was generated on 2025-10-16 11:40 -0400 (Thu, 16 Oct 2025).
| Hostname | OS | Arch (*) | R version | Installed pkgs |
|---|---|---|---|---|
| nebbiolo1 | Linux (Ubuntu 24.04.3 LTS) | x86_64 | 4.5.1 (2025-06-13) -- "Great Square Root" | 4833 |
| merida1 | macOS 12.7.6 Monterey | x86_64 | 4.5.1 RC (2025-06-05 r88288) -- "Great Square Root" | 4614 |
| kjohnson1 | macOS 13.7.5 Ventura | arm64 | 4.5.1 Patched (2025-06-14 r88325) -- "Great Square Root" | 4555 |
| kunpeng2 | Linux (openEuler 24.03 LTS) | aarch64 | R Under development (unstable) (2025-02-19 r87757) -- "Unsuffered Consequences" | 4586 |
| Click on any hostname to see more info about the system (e.g. compilers) (*) as reported by 'uname -p', except on Windows and Mac OS X | ||||
| Package 1378/2341 | Hostname | OS / Arch | INSTALL | BUILD | CHECK | BUILD BIN | ||||||||
| MsQuality 1.8.3 (landing page) Thomas Naake
| nebbiolo1 | Linux (Ubuntu 24.04.3 LTS) / x86_64 | OK | OK | OK | |||||||||
| merida1 | macOS 12.7.6 Monterey / x86_64 | OK | OK | OK | OK | |||||||||
| kjohnson1 | macOS 13.7.5 Ventura / arm64 | OK | OK | OK | OK | |||||||||
| kunpeng2 | Linux (openEuler 24.03 LTS) / aarch64 | ERROR | ERROR | skipped | ||||||||||
|
To the developers/maintainers of the MsQuality package: - Allow up to 24 hours (and sometimes 48 hours) for your latest push to git@git.bioconductor.org:packages/MsQuality.git to reflect on this report. See Troubleshooting Build Report for more information. - Use the following Renviron settings to reproduce errors and warnings. - If 'R CMD check' started to fail recently on the Linux builder(s) over a missing dependency, add the missing dependency to 'Suggests:' in your DESCRIPTION file. See Renviron.bioc for more information. |
| Package: MsQuality |
| Version: 1.8.3 |
| Command: /Library/Frameworks/R.framework/Resources/bin/R CMD check --install=check:MsQuality.install-out.txt --library=/Library/Frameworks/R.framework/Resources/library --no-vignettes --timings MsQuality_1.8.3.tar.gz |
| StartedAt: 2025-10-15 05:12:22 -0400 (Wed, 15 Oct 2025) |
| EndedAt: 2025-10-15 05:19:58 -0400 (Wed, 15 Oct 2025) |
| EllapsedTime: 456.5 seconds |
| RetCode: 0 |
| Status: OK |
| CheckDir: MsQuality.Rcheck |
| Warnings: 0 |
##############################################################################
##############################################################################
###
### Running command:
###
### /Library/Frameworks/R.framework/Resources/bin/R CMD check --install=check:MsQuality.install-out.txt --library=/Library/Frameworks/R.framework/Resources/library --no-vignettes --timings MsQuality_1.8.3.tar.gz
###
##############################################################################
##############################################################################
* using log directory ‘/Users/biocbuild/bbs-3.21-bioc/meat/MsQuality.Rcheck’
* using R version 4.5.1 Patched (2025-06-14 r88325)
* using platform: aarch64-apple-darwin20
* R was compiled by
Apple clang version 16.0.0 (clang-1600.0.26.6)
GNU Fortran (GCC) 14.2.0
* running under: macOS Ventura 13.7.5
* using session charset: UTF-8
* using option ‘--no-vignettes’
* checking for file ‘MsQuality/DESCRIPTION’ ... OK
* checking extension type ... Package
* this is package ‘MsQuality’ version ‘1.8.3’
* package encoding: UTF-8
* checking package namespace information ... OK
* checking package dependencies ... OK
* checking if this is a source package ... OK
* checking if there is a namespace ... OK
* checking for hidden files and directories ... OK
* checking for portable file names ... OK
* checking for sufficient/correct file permissions ... OK
* checking whether package ‘MsQuality’ can be installed ... OK
* checking installed package size ... OK
* checking package directory ... OK
* checking ‘build’ directory ... OK
* checking DESCRIPTION meta-information ... OK
* checking top-level files ... OK
* checking for left-over files ... OK
* checking index information ... OK
* checking package subdirectories ... OK
* checking code files for non-ASCII characters ... OK
* checking R files for syntax errors ... OK
* checking whether the package can be loaded ... OK
* checking whether the package can be loaded with stated dependencies ... OK
* checking whether the package can be unloaded cleanly ... OK
* checking whether the namespace can be loaded with stated dependencies ... OK
* checking whether the namespace can be unloaded cleanly ... OK
* checking dependencies in R code ... OK
* checking S3 generic/method consistency ... OK
* checking replacement functions ... OK
* checking foreign function calls ... OK
* checking R code for possible problems ... OK
* checking Rd files ... OK
* checking Rd metadata ... OK
* checking Rd cross-references ... OK
* checking for missing documentation entries ... OK
* checking for code/documentation mismatches ... OK
* checking Rd \usage sections ... OK
* checking Rd contents ... OK
* checking for unstated dependencies in examples ... OK
* checking contents of ‘data’ directory ... OK
* checking data for non-ASCII characters ... OK
* checking data for ASCII and uncompressed saves ... OK
* checking files in ‘vignettes’ ... OK
* checking examples ... OK
Examples with CPU (user + system) or elapsed time > 5s
user system elapsed
calculateMetricsFromSpectra 14.255 3.279 11.598
calculateMetrics 8.533 1.247 8.048
calculateMetricsFromMsExperiment 5.154 1.322 4.566
plotMetric 3.838 1.311 4.228
* checking for unstated dependencies in ‘tests’ ... OK
* checking tests ...
Running ‘testthat.R’
OK
* checking for unstated dependencies in vignettes ... OK
* checking package vignettes ... OK
* checking running R code from vignettes ... SKIPPED
* checking re-building of vignette outputs ... SKIPPED
* checking PDF version of manual ... OK
* DONE
Status: OK
MsQuality.Rcheck/00install.out
############################################################################## ############################################################################## ### ### Running command: ### ### /Library/Frameworks/R.framework/Resources/bin/R CMD INSTALL MsQuality ### ############################################################################## ############################################################################## * installing to library ‘/Library/Frameworks/R.framework/Versions/4.5-arm64/Resources/library’ * installing *source* package ‘MsQuality’ ... ** this is package ‘MsQuality’ version ‘1.8.3’ ** using staged installation ** R ** data ** inst ** byte-compile and prepare package for lazy loading ** help *** installing help indices ** building package indices ** installing vignettes ** testing if installed package can be loaded from temporary location ** testing if installed package can be loaded from final location ** testing if installed package keeps a record of temporary installation path * DONE (MsQuality)
MsQuality.Rcheck/tests/testthat.Rout
R version 4.5.1 Patched (2025-06-14 r88325) -- "Great Square Root"
Copyright (C) 2025 The R Foundation for Statistical Computing
Platform: aarch64-apple-darwin20
R is free software and comes with ABSOLUTELY NO WARRANTY.
You are welcome to redistribute it under certain conditions.
Type 'license()' or 'licence()' for distribution details.
R is a collaborative project with many contributors.
Type 'contributors()' for more information and
'citation()' on how to cite R or R packages in publications.
Type 'demo()' for some demos, 'help()' for on-line help, or
'help.start()' for an HTML browser interface to help.
Type 'q()' to quit R.
> library("testthat")
> library("MsQuality")
> library("Spectra")
Loading required package: S4Vectors
Loading required package: stats4
Loading required package: BiocGenerics
Loading required package: generics
Attaching package: 'generics'
The following objects are masked from 'package:base':
as.difftime, as.factor, as.ordered, intersect, is.element, setdiff,
setequal, union
Attaching package: 'BiocGenerics'
The following objects are masked from 'package:stats':
IQR, mad, sd, var, xtabs
The following objects are masked from 'package:base':
Filter, Find, Map, Position, Reduce, anyDuplicated, aperm, append,
as.data.frame, basename, cbind, colnames, dirname, do.call,
duplicated, eval, evalq, get, grep, grepl, is.unsorted, lapply,
mapply, match, mget, order, paste, pmax, pmax.int, pmin, pmin.int,
rank, rbind, rownames, sapply, saveRDS, table, tapply, unique,
unsplit, which.max, which.min
Attaching package: 'S4Vectors'
The following object is masked from 'package:utils':
findMatches
The following objects are masked from 'package:base':
I, expand.grid, unname
Loading required package: BiocParallel
> library("MsExperiment")
Loading required package: ProtGenerics
Attaching package: 'ProtGenerics'
The following object is masked from 'package:stats':
smooth
> library("msdata")
> library("S4Vectors")
>
> test_check("MsQuality")
trying URL 'https://api.github.com/repos/HUPO-PSI/psi-ms-CV/releases/latest'
Content type 'application/json; charset=utf-8' length 7692 bytes
==================================================
downloaded 7692 bytes
trying URL 'https://github.com/HUPO-PSI/psi-ms-CV/releases/download/v4.1.205/psi-ms.obo'
Content type 'application/octet-stream' length 1053531 bytes (1.0 MB)
==================================================
downloaded 1.0 MB
[ FAIL 0 | WARN 0 | SKIP 0 | PASS 866 ]
>
> proc.time()
user system elapsed
163.685 29.503 127.048
MsQuality.Rcheck/MsQuality-Ex.timings
| name | user | system | elapsed | |
| MsQuality-package | 0.000 | 0.001 | 0.000 | |
| areaUnderTic | 0.188 | 0.008 | 0.198 | |
| areaUnderTicRtQuantiles | 0.203 | 0.011 | 0.215 | |
| calculateMetrics | 8.533 | 1.247 | 8.048 | |
| calculateMetricsFromMsExperiment | 5.154 | 1.322 | 4.566 | |
| calculateMetricsFromOneSampleSpectra | 3.162 | 0.449 | 3.659 | |
| calculateMetricsFromSpectra | 14.255 | 3.279 | 11.598 | |
| chromatographyDuration | 0.132 | 0.040 | 0.173 | |
| dot-rtOrderSpectra | 0.152 | 0.039 | 0.194 | |
| extentIdentifiedPrecursorIntensity | 0.122 | 0.020 | 0.142 | |
| meanCharge | 0.127 | 0.020 | 0.149 | |
| medianCharge | 0.124 | 0.021 | 0.148 | |
| medianPrecursorMz | 0.233 | 0.109 | 0.349 | |
| medianTicOfRtRange | 0.128 | 0.007 | 0.136 | |
| medianTicRtIqr | 0.127 | 0.007 | 0.135 | |
| msSignal10xChange | 0.129 | 0.012 | 0.147 | |
| mzAcquisitionRange | 0.116 | 0.007 | 0.125 | |
| numberEmptyScans | 0.136 | 0.008 | 0.146 | |
| numberSpectra | 0.120 | 0.007 | 0.127 | |
| plotMetric | 3.838 | 1.311 | 4.228 | |
| plotMetricTibble | 2.875 | 0.839 | 2.161 | |
| precursorIntensityMean | 0.135 | 0.020 | 0.156 | |
| precursorIntensityQuartiles | 0.131 | 0.015 | 0.147 | |
| precursorIntensityRange | 0.127 | 0.014 | 0.141 | |
| precursorIntensitySd | 0.126 | 0.012 | 0.139 | |
| qualityMetrics | 0.133 | 0.012 | 0.146 | |
| ratioCharge1over2 | 0.134 | 0.014 | 0.149 | |
| ratioCharge3over2 | 0.130 | 0.012 | 0.147 | |
| ratioCharge4over2 | 0.134 | 0.016 | 0.151 | |
| rtAcquisitionRange | 0.132 | 0.014 | 0.146 | |
| rtIqr | 0.135 | 0.019 | 0.154 | |
| rtIqrRate | 0.132 | 0.015 | 0.148 | |
| rtOverMsQuarters | 0.144 | 0.023 | 0.167 | |
| shinyMsQuality | 0.497 | 0.244 | 2.410 | |
| ticQuantileRtFraction | 0.140 | 0.033 | 0.174 | |
| ticQuartileToQuartileLogRatio | 0.133 | 0.015 | 0.148 | |
| transformIntoMzQC | 3.400 | 1.041 | 2.505 | |