| Back to Multiple platform build/check report for BioC 3.22: simplified long |
|
This page was generated on 2025-11-06 12:01 -0500 (Thu, 06 Nov 2025).
| Hostname | OS | Arch (*) | R version | Installed pkgs |
|---|---|---|---|---|
| nebbiolo2 | Linux (Ubuntu 24.04.3 LTS) | x86_64 | 4.5.1 Patched (2025-08-23 r88802) -- "Great Square Root" | 4902 |
| kjohnson3 | macOS 13.7.7 Ventura | arm64 | 4.5.1 Patched (2025-09-10 r88807) -- "Great Square Root" | 4638 |
| Click on any hostname to see more info about the system (e.g. compilers) (*) as reported by 'uname -p', except on Windows and Mac OS X | ||||
| Package 1375/2361 | Hostname | OS / Arch | INSTALL | BUILD | CHECK | BUILD BIN | ||||||||
| MsBackendMetaboLights 1.4.2 (landing page) Johannes Rainer
| nebbiolo2 | Linux (Ubuntu 24.04.3 LTS) / x86_64 | OK | OK | OK | |||||||||
| kjohnson3 | macOS 13.7.7 Ventura / arm64 | OK | OK | OK | OK | |||||||||
|
To the developers/maintainers of the MsBackendMetaboLights package: - Allow up to 24 hours (and sometimes 48 hours) for your latest push to git@git.bioconductor.org:packages/MsBackendMetaboLights.git to reflect on this report. See Troubleshooting Build Report for more information. - Use the following Renviron settings to reproduce errors and warnings. - If 'R CMD check' started to fail recently on the Linux builder(s) over a missing dependency, add the missing dependency to 'Suggests:' in your DESCRIPTION file. See Renviron.bioc for more information. |
| Package: MsBackendMetaboLights |
| Version: 1.4.2 |
| Command: /Library/Frameworks/R.framework/Resources/bin/R CMD check --install=check:MsBackendMetaboLights.install-out.txt --library=/Library/Frameworks/R.framework/Resources/library --no-vignettes --timings MsBackendMetaboLights_1.4.2.tar.gz |
| StartedAt: 2025-11-05 21:25:15 -0500 (Wed, 05 Nov 2025) |
| EndedAt: 2025-11-05 21:35:25 -0500 (Wed, 05 Nov 2025) |
| EllapsedTime: 609.8 seconds |
| RetCode: 0 |
| Status: OK |
| CheckDir: MsBackendMetaboLights.Rcheck |
| Warnings: 0 |
##############################################################################
##############################################################################
###
### Running command:
###
### /Library/Frameworks/R.framework/Resources/bin/R CMD check --install=check:MsBackendMetaboLights.install-out.txt --library=/Library/Frameworks/R.framework/Resources/library --no-vignettes --timings MsBackendMetaboLights_1.4.2.tar.gz
###
##############################################################################
##############################################################################
* using log directory ‘/Users/biocbuild/bbs-3.22-bioc/meat/MsBackendMetaboLights.Rcheck’
* using R version 4.5.1 Patched (2025-09-10 r88807)
* using platform: aarch64-apple-darwin20
* R was compiled by
Apple clang version 16.0.0 (clang-1600.0.26.6)
GNU Fortran (GCC) 14.2.0
* running under: macOS Ventura 13.7.7
* using session charset: UTF-8
* using option ‘--no-vignettes’
* checking for file ‘MsBackendMetaboLights/DESCRIPTION’ ... OK
* this is package ‘MsBackendMetaboLights’ version ‘1.4.2’
* package encoding: UTF-8
* checking package namespace information ... OK
* checking package dependencies ... OK
* checking if this is a source package ... OK
* checking if there is a namespace ... OK
* checking for hidden files and directories ... OK
* checking for portable file names ... OK
* checking for sufficient/correct file permissions ... OK
* checking whether package ‘MsBackendMetaboLights’ can be installed ... OK
* checking installed package size ... OK
* checking package directory ... OK
* checking ‘build’ directory ... OK
* checking DESCRIPTION meta-information ... OK
* checking top-level files ... OK
* checking for left-over files ... OK
* checking index information ... OK
* checking package subdirectories ... OK
* checking code files for non-ASCII characters ... OK
* checking R files for syntax errors ... OK
* checking whether the package can be loaded ... OK
* checking whether the package can be loaded with stated dependencies ... OK
* checking whether the package can be unloaded cleanly ... OK
* checking whether the namespace can be loaded with stated dependencies ... OK
* checking whether the namespace can be unloaded cleanly ... OK
* checking dependencies in R code ... OK
* checking S3 generic/method consistency ... OK
* checking replacement functions ... OK
* checking foreign function calls ... OK
* checking R code for possible problems ... OK
* checking Rd files ... OK
* checking Rd metadata ... OK
* checking Rd cross-references ... OK
* checking for missing documentation entries ... OK
* checking for code/documentation mismatches ... OK
* checking Rd \usage sections ... OK
* checking Rd contents ... OK
* checking for unstated dependencies in examples ... OK
* checking files in ‘vignettes’ ... OK
* checking examples ... OK
Examples with CPU (user + system) or elapsed time > 5s
user system elapsed
MsBackendMetaboLights 2.910 0.568 11.697
MetaboLights-utils 0.134 0.015 14.863
* checking for unstated dependencies in ‘tests’ ... OK
* checking tests ...
Running ‘testthat.R’
OK
* checking for unstated dependencies in vignettes ... OK
* checking package vignettes ... OK
* checking running R code from vignettes ... SKIPPED
* checking re-building of vignette outputs ... SKIPPED
* checking PDF version of manual ... OK
* DONE
Status: OK
MsBackendMetaboLights.Rcheck/00install.out
############################################################################## ############################################################################## ### ### Running command: ### ### /Library/Frameworks/R.framework/Resources/bin/R CMD INSTALL MsBackendMetaboLights ### ############################################################################## ############################################################################## * installing to library ‘/Library/Frameworks/R.framework/Versions/4.5-arm64/Resources/library’ * installing *source* package ‘MsBackendMetaboLights’ ... ** this is package ‘MsBackendMetaboLights’ version ‘1.4.2’ ** using staged installation ** R ** byte-compile and prepare package for lazy loading ** help *** installing help indices *** copying figures ** building package indices ** installing vignettes ** testing if installed package can be loaded from temporary location ** testing if installed package can be loaded from final location ** testing if installed package keeps a record of temporary installation path * DONE (MsBackendMetaboLights)
MsBackendMetaboLights.Rcheck/tests/testthat.Rout
R version 4.5.1 Patched (2025-09-10 r88807) -- "Great Square Root"
Copyright (C) 2025 The R Foundation for Statistical Computing
Platform: aarch64-apple-darwin20
R is free software and comes with ABSOLUTELY NO WARRANTY.
You are welcome to redistribute it under certain conditions.
Type 'license()' or 'licence()' for distribution details.
R is a collaborative project with many contributors.
Type 'contributors()' for more information and
'citation()' on how to cite R or R packages in publications.
Type 'demo()' for some demos, 'help()' for on-line help, or
'help.start()' for an HTML browser interface to help.
Type 'q()' to quit R.
> #' MetaboLights ID: MTBLS8735
> #' ftp://ftp.ebi.ac.uk/pub/databases/metabolights/studies/public/MTBLS8735
>
> library(testthat)
> library(MsBackendMetaboLights)
Loading required package: Spectra
Loading required package: S4Vectors
Loading required package: stats4
Loading required package: BiocGenerics
Loading required package: generics
Attaching package: 'generics'
The following objects are masked from 'package:base':
as.difftime, as.factor, as.ordered, intersect, is.element, setdiff,
setequal, union
Attaching package: 'BiocGenerics'
The following objects are masked from 'package:stats':
IQR, mad, sd, var, xtabs
The following objects are masked from 'package:base':
Filter, Find, Map, Position, Reduce, anyDuplicated, aperm, append,
as.data.frame, basename, cbind, colnames, dirname, do.call,
duplicated, eval, evalq, get, grep, grepl, is.unsorted, lapply,
mapply, match, mget, order, paste, pmax, pmax.int, pmin, pmin.int,
rank, rbind, rownames, sapply, saveRDS, table, tapply, unique,
unsplit, which.max, which.min
Attaching package: 'S4Vectors'
The following object is masked from 'package:utils':
findMatches
The following objects are masked from 'package:base':
I, expand.grid, unname
Loading required package: BiocParallel
>
> test_check("MsBackendMetaboLights")
[ FAIL 0 | WARN 0 | SKIP 0 | PASS 78 ]
>
> ## Run tests with the unit test suite defined in the Spectra package to ensure
> ## compliance with the definitions of the MsBackend interface/class.
> be <- backendInitialize(MsBackendMetaboLights(), mtblsId = "MTBLS39",
+ filePattern = "63A.cdf")
Used data files from the assay's column "Raw Spectral Data File" since none were available in column "Derived Spectral Data File".
>
> library(Spectra)
> test_suite <- system.file("test_backends", "test_MsBackend",
+ package = "Spectra")
> res <- test_dir(test_suite, stop_on_failure = TRUE)
✔ | F W S OK | Context
⠏ | 0 | peaks_variables
⠙ | 2 | peaks_variables
⠸ | 4 | peaks_variables
✔ | 4 | peaks_variables
⠏ | 0 | spectra_subsetting
⠋ | 1 | spectra_subsetting
⠧ | 38 | spectra_subsetting
⠸ | 74 | spectra_subsetting
⠏ | 110 | spectra_subsetting
⠧ | 148 | spectra_subsetting
⠸ | 184 | spectra_subsetting
⠋ | 221 | spectra_subsetting
⠹ | 253 | spectra_subsetting
⠴ | 286 | spectra_subsetting
⠹ | 323 | spectra_subsetting
⠋ | 361 | spectra_subsetting
⠏ | 400 | spectra_subsetting
⠋ | 421 | spectra_subsetting
⠦ | 457 | spectra_subsetting
⠹ | 493 | spectra_subsetting
⠇ | 529 | spectra_subsetting
⠧ | 568 | spectra_subsetting
⠼ | 605 | spectra_subsetting
⠼ | 645 | spectra_subsetting
⠙ | 682 | spectra_subsetting
⠇ | 719 | spectra_subsetting
⠦ | 757 | spectra_subsetting
⠼ | 795 | spectra_subsetting
⠋ | 831 | spectra_subsetting
⠧ | 868 | spectra_subsetting
⠸ | 904 | spectra_subsetting
⠏ | 940 | spectra_subsetting
⠴ | 976 | spectra_subsetting
⠙ | 1012 | spectra_subsetting
⠇ | 1049 | spectra_subsetting
⠦ | 1087 | spectra_subsetting
⠴ | 1126 | spectra_subsetting
⠙ | 1162 | spectra_subsetting
⠧ | 1198 | spectra_subsetting
⠏ | 1240 | spectra_subsetting
⠇ | 1279 | spectra_subsetting
⠴ | 1316 | spectra_subsetting
⠸ | 1354 | spectra_subsetting
⠋ | 1391 | spectra_subsetting
⠧ | 1428 | spectra_subsetting
⠼ | 1465 | spectra_subsetting
⠋ | 1501 | spectra_subsetting
⠦ | 1537 | spectra_subsetting
⠏ | 1570 | spectra_subsetting
⠴ | 1606 | spectra_subsetting
⠼ | 1645 | spectra_subsetting
⠴ | 1666 | spectra_subsetting
⠼ | 1705 | spectra_subsetting
⠸ | 1744 | spectra_subsetting
⠹ | 1783 | spectra_subsetting
⠙ | 1822 | spectra_subsetting
⠋ | 1861 | spectra_subsetting
⠏ | 1900 | spectra_subsetting
⠴ | 1936 | spectra_subsetting
⠙ | 1972 | spectra_subsetting
⠋ | 2011 | spectra_subsetting
⠴ | 2046 | spectra_subsetting
⠹ | 2083 | spectra_subsetting
⠇ | 2119 | spectra_subsetting
⠴ | 2156 | spectra_subsetting
⠸ | 2194 | spectra_subsetting
⠏ | 2230 | spectra_subsetting
⠇ | 2269 | spectra_subsetting
⠼ | 2305 | spectra_subsetting
⠸ | 2344 | spectra_subsetting
⠴ | 2386 | spectra_subsetting
⠼ | 2425 | spectra_subsetting
⠸ | 2464 | spectra_subsetting
⠹ | 2503 | spectra_subsetting
⠇ | 2539 | spectra_subsetting
⠼ | 2575 | spectra_subsetting
⠸ | 2614 | spectra_subsetting
⠹ | 2653 | spectra_subsetting
⠙ | 2692 | spectra_subsetting
⠸ | 2734 | spectra_subsetting
⠹ | 2773 | spectra_subsetting
⠙ | 2812 | spectra_subsetting
⠋ | 2851 | spectra_subsetting
⠦ | 2887 | spectra_subsetting
⠴ | 2926 | spectra_subsetting
⠧ | 2958 | spectra_subsetting
⠙ | 2992 | spectra_subsetting
⠙ | 3032 | spectra_subsetting
⠏ | 3070 | spectra_subsetting
⠴ | 3106 | spectra_subsetting
⠙ | 3142 | spectra_subsetting
⠇ | 3179 | spectra_subsetting
⠦ | 3217 | spectra_subsetting
⠹ | 3253 | spectra_subsetting
⠙ | 3292 | spectra_subsetting
⠋ | 3331 | spectra_subsetting
⠏ | 3370 | spectra_subsetting
⠇ | 3409 | spectra_subsetting
⠧ | 3448 | spectra_subsetting
⠦ | 3487 | spectra_subsetting
⠴ | 3526 | spectra_subsetting
⠹ | 3563 | spectra_subsetting
⠋ | 3601 | spectra_subsetting
⠹ | 3643 | spectra_subsetting
⠇ | 3679 | spectra_subsetting
⠼ | 3715 | spectra_subsetting
⠹ | 3753 | spectra_subsetting
⠧ | 3788 | spectra_subsetting
⠴ | 3826 | spectra_subsetting
⠙ | 3862 | spectra_subsetting
⠧ | 3898 | spectra_subsetting
⠦ | 3937 | spectra_subsetting
⠹ | 3973 | spectra_subsetting
⠇ | 4009 | spectra_subsetting
⠧ | 4048 | spectra_subsetting
⠸ | 4084 | spectra_subsetting
⠏ | 4120 | spectra_subsetting
⠴ | 4156 | spectra_subsetting
⠙ | 4192 | spectra_subsetting
⠋ | 4231 | spectra_subsetting
⠦ | 4267 | spectra_subsetting
⠴ | 4306 | spectra_subsetting
⠼ | 4345 | spectra_subsetting
⠙ | 4382 | spectra_subsetting
⠏ | 4420 | spectra_subsetting
⠇ | 4459 | spectra_subsetting
⠴ | 4496 | spectra_subsetting
⠴ | 4536 | spectra_subsetting
⠹ | 4573 | spectra_subsetting
⠏ | 4610 | spectra_subsetting
⠧ | 4648 | spectra_subsetting
⠙ | 4682 | spectra_subsetting
⠏ | 4720 | spectra_subsetting
⠴ | 4756 | spectra_subsetting
⠙ | 4792 | spectra_subsetting
⠏ | 4830 | spectra_subsetting
⠦ | 4867 | spectra_subsetting
⠴ | 4906 | spectra_subsetting
⠼ | 4945 | spectra_subsetting
⠋ | 4981 | spectra_subsetting
⠦ | 4997 | spectra_subsetting
⠇ | 4999 | spectra_subsetting
⠋ | 5001 | spectra_subsetting
⠹ | 5003 | spectra_subsetting
⠼ | 5005 | spectra_subsetting
⠦ | 5007 | spectra_subsetting
⠇ | 5009 | spectra_subsetting
⠋ | 5011 | spectra_subsetting
⠹ | 5013 | spectra_subsetting
⠼ | 5015 | spectra_subsetting
⠦ | 5017 | spectra_subsetting
⠇ | 5019 | spectra_subsetting
⠋ | 5021 | spectra_subsetting
⠹ | 5023 | spectra_subsetting
⠼ | 5025 | spectra_subsetting
⠦ | 5027 | spectra_subsetting
⠇ | 5029 | spectra_subsetting
⠋ | 5031 | spectra_subsetting
⠹ | 5033 | spectra_subsetting
⠼ | 5035 | spectra_subsetting
⠦ | 5037 | spectra_subsetting
⠇ | 5039 | spectra_subsetting
⠋ | 5041 | spectra_subsetting
⠹ | 5043 | spectra_subsetting
⠼ | 5045 | spectra_subsetting
⠦ | 5047 | spectra_subsetting
⠇ | 5049 | spectra_subsetting
⠋ | 5051 | spectra_subsetting
⠹ | 5053 | spectra_subsetting
⠼ | 5055 | spectra_subsetting
⠦ | 5057 | spectra_subsetting
⠇ | 5059 | spectra_subsetting
⠋ | 5061 | spectra_subsetting
⠹ | 5063 | spectra_subsetting
⠼ | 5065 | spectra_subsetting
⠦ | 5067 | spectra_subsetting
⠇ | 5069 | spectra_subsetting
⠋ | 5071 | spectra_subsetting
⠹ | 5073 | spectra_subsetting
⠼ | 5075 | spectra_subsetting
⠦ | 5077 | spectra_subsetting
⠇ | 5079 | spectra_subsetting
⠋ | 5081 | spectra_subsetting
⠹ | 5083 | spectra_subsetting
⠼ | 5085 | spectra_subsetting
⠦ | 5087 | spectra_subsetting
⠇ | 5089 | spectra_subsetting
⠋ | 5091 | spectra_subsetting
⠹ | 5093 | spectra_subsetting
⠼ | 5095 | spectra_subsetting
⠦ | 5097 | spectra_subsetting
⠇ | 5099 | spectra_subsetting
⠏ | 5100 | spectra_subsetting
⠙ | 5102 | spectra_subsetting
⠸ | 5104 | spectra_subsetting
⠴ | 5106 | spectra_subsetting
⠧ | 5108 | spectra_subsetting
⠏ | 5110 | spectra_subsetting
⠙ | 5112 | spectra_subsetting
⠸ | 5114 | spectra_subsetting
⠴ | 5116 | spectra_subsetting
⠧ | 5118 | spectra_subsetting
⠏ | 5120 | spectra_subsetting
⠙ | 5122 | spectra_subsetting
⠸ | 5124 | spectra_subsetting
⠴ | 5126 | spectra_subsetting
⠧ | 5128 | spectra_subsetting
⠏ | 5130 | spectra_subsetting
⠙ | 5132 | spectra_subsetting
⠸ | 5134 | spectra_subsetting
⠴ | 5136 | spectra_subsetting
⠧ | 5138 | spectra_subsetting
⠏ | 5140 | spectra_subsetting
⠙ | 5142 | spectra_subsetting
⠸ | 5144 | spectra_subsetting
⠴ | 5146 | spectra_subsetting
⠧ | 5148 | spectra_subsetting
⠏ | 5150 | spectra_subsetting
⠙ | 5152 | spectra_subsetting
⠸ | 5154 | spectra_subsetting
⠴ | 5156 | spectra_subsetting
⠧ | 5158 | spectra_subsetting
⠏ | 5160 | spectra_subsetting
⠙ | 5162 | spectra_subsetting
⠸ | 5164 | spectra_subsetting
⠴ | 5166 | spectra_subsetting
⠧ | 5168 | spectra_subsetting
⠏ | 5170 | spectra_subsetting
⠙ | 5172 | spectra_subsetting
⠸ | 5174 | spectra_subsetting
⠴ | 5176 | spectra_subsetting
⠧ | 5178 | spectra_subsetting
⠏ | 5180 | spectra_subsetting
⠙ | 5182 | spectra_subsetting
⠸ | 5184 | spectra_subsetting
⠴ | 5186 | spectra_subsetting
⠧ | 5188 | spectra_subsetting
⠏ | 5190 | spectra_subsetting
⠙ | 5192 | spectra_subsetting
⠸ | 5194 | spectra_subsetting
⠴ | 5196 | spectra_subsetting
⠧ | 5198 | spectra_subsetting
⠏ | 5200 | spectra_subsetting
⠙ | 5202 | spectra_subsetting
⠸ | 5204 | spectra_subsetting
⠴ | 5206 | spectra_subsetting
⠧ | 5208 | spectra_subsetting
⠏ | 5210 | spectra_subsetting
⠙ | 5212 | spectra_subsetting
⠸ | 5214 | spectra_subsetting
⠴ | 5216 | spectra_subsetting
⠧ | 5218 | spectra_subsetting
⠏ | 5220 | spectra_subsetting
⠙ | 5222 | spectra_subsetting
⠸ | 5224 | spectra_subsetting
⠴ | 5226 | spectra_subsetting
⠧ | 5228 | spectra_subsetting
⠏ | 5230 | spectra_subsetting
⠙ | 5232 | spectra_subsetting
⠸ | 5234 | spectra_subsetting
⠴ | 5236 | spectra_subsetting
⠧ | 5238 | spectra_subsetting
⠏ | 5240 | spectra_subsetting
⠙ | 5242 | spectra_subsetting
⠸ | 5244 | spectra_subsetting
⠴ | 5246 | spectra_subsetting
⠧ | 5248 | spectra_subsetting
⠏ | 5250 | spectra_subsetting
⠋ | 5251 | spectra_subsetting
⠹ | 5253 | spectra_subsetting
⠼ | 5255 | spectra_subsetting
⠦ | 5257 | spectra_subsetting
⠇ | 5259 | spectra_subsetting
⠋ | 5261 | spectra_subsetting
⠹ | 5263 | spectra_subsetting
⠸ | 5264 | spectra_subsetting
⠴ | 5266 | spectra_subsetting
⠧ | 5268 | spectra_subsetting
⠏ | 5270 | spectra_subsetting
⠙ | 5272 | spectra_subsetting
⠸ | 5274 | spectra_subsetting
⠴ | 5276 | spectra_subsetting
⠧ | 5278 | spectra_subsetting
⠏ | 5280 | spectra_subsetting
⠙ | 5282 | spectra_subsetting
⠸ | 5284 | spectra_subsetting
⠴ | 5286 | spectra_subsetting
⠧ | 5288 | spectra_subsetting
⠏ | 5290 | spectra_subsetting
⠙ | 5292 | spectra_subsetting
⠸ | 5294 | spectra_subsetting
⠴ | 5296 | spectra_subsetting
⠧ | 5298 | spectra_subsetting
⠏ | 5300 | spectra_subsetting
⠙ | 5302 | spectra_subsetting
⠸ | 5304 | spectra_subsetting
⠴ | 5306 | spectra_subsetting
⠧ | 5308 | spectra_subsetting
⠏ | 5310 | spectra_subsetting
⠙ | 5312 | spectra_subsetting
⠸ | 5314 | spectra_subsetting
⠴ | 5316 | spectra_subsetting
⠧ | 5318 | spectra_subsetting
⠏ | 5320 | spectra_subsetting
⠙ | 5322 | spectra_subsetting
⠸ | 5324 | spectra_subsetting
⠴ | 5326 | spectra_subsetting
⠧ | 5328 | spectra_subsetting
⠏ | 5330 | spectra_subsetting
⠙ | 5332 | spectra_subsetting
⠸ | 5334 | spectra_subsetting
⠴ | 5336 | spectra_subsetting
⠧ | 5338 | spectra_subsetting
⠏ | 5340 | spectra_subsetting
⠙ | 5342 | spectra_subsetting
⠸ | 5344 | spectra_subsetting
⠴ | 5346 | spectra_subsetting
⠧ | 5348 | spectra_subsetting
⠏ | 5350 | spectra_subsetting
⠙ | 5352 | spectra_subsetting
⠸ | 5354 | spectra_subsetting
⠴ | 5356 | spectra_subsetting
⠧ | 5358 | spectra_subsetting
⠏ | 5360 | spectra_subsetting
⠋ | 5361 | spectra_subsetting
⠹ | 5363 | spectra_subsetting
⠼ | 5365 | spectra_subsetting
⠴ | 5366 | spectra_subsetting
⠧ | 5368 | spectra_subsetting
⠏ | 5370 | spectra_subsetting
⠙ | 5372 | spectra_subsetting
⠸ | 5374 | spectra_subsetting
⠴ | 5376 | spectra_subsetting
⠧ | 5378 | spectra_subsetting
⠏ | 5380 | spectra_subsetting
⠋ | 5381 | spectra_subsetting
⠹ | 5383 | spectra_subsetting
⠼ | 5385 | spectra_subsetting
⠦ | 5387 | spectra_subsetting
⠇ | 5389 | spectra_subsetting
⠋ | 5391 | spectra_subsetting
⠹ | 5393 | spectra_subsetting
⠼ | 5395 | spectra_subsetting
⠦ | 5397 | spectra_subsetting
⠇ | 5399 | spectra_subsetting
⠋ | 5401 | spectra_subsetting
⠹ | 5403 | spectra_subsetting
⠼ | 5405 | spectra_subsetting
⠦ | 5407 | spectra_subsetting
⠇ | 5409 | spectra_subsetting
⠏ | 5410 | spectra_subsetting
⠙ | 5412 | spectra_subsetting
⠸ | 5414 | spectra_subsetting
⠴ | 5416 | spectra_subsetting
⠧ | 5418 | spectra_subsetting
⠏ | 5420 | spectra_subsetting
⠙ | 5422 | spectra_subsetting
⠸ | 5424 | spectra_subsetting
⠼ | 5425 | spectra_subsetting
⠦ | 5427 | spectra_subsetting
⠇ | 5429 | spectra_subsetting
⠋ | 5431 | spectra_subsetting
⠹ | 5433 | spectra_subsetting
⠼ | 5435 | spectra_subsetting
⠦ | 5437 | spectra_subsetting
⠇ | 5439 | spectra_subsetting
⠋ | 5441 | spectra_subsetting
⠹ | 5443 | spectra_subsetting
⠼ | 5445 | spectra_subsetting
⠦ | 5447 | spectra_subsetting
⠇ | 5449 | spectra_subsetting
⠋ | 5451 | spectra_subsetting
⠹ | 5453 | spectra_subsetting
⠼ | 5455 | spectra_subsetting
⠦ | 5457 | spectra_subsetting
⠇ | 5459 | spectra_subsetting
⠋ | 5461 | spectra_subsetting
⠹ | 5463 | spectra_subsetting
⠼ | 5465 | spectra_subsetting
⠦ | 5467 | spectra_subsetting
⠇ | 5469 | spectra_subsetting
⠋ | 5471 | spectra_subsetting
⠹ | 5473 | spectra_subsetting
⠼ | 5475 | spectra_subsetting
⠦ | 5477 | spectra_subsetting
⠇ | 5479 | spectra_subsetting
⠋ | 5481 | spectra_subsetting
⠹ | 5483 | spectra_subsetting
⠼ | 5485 | spectra_subsetting
⠦ | 5487 | spectra_subsetting
⠇ | 5489 | spectra_subsetting
⠋ | 5491 | spectra_subsetting
⠹ | 5493 | spectra_subsetting
⠼ | 5495 | spectra_subsetting
⠦ | 5497 | spectra_subsetting
⠇ | 5499 | spectra_subsetting
⠋ | 5501 | spectra_subsetting
⠹ | 5503 | spectra_subsetting
⠼ | 5505 | spectra_subsetting
⠦ | 5507 | spectra_subsetting
⠇ | 5509 | spectra_subsetting
⠋ | 5511 | spectra_subsetting
⠹ | 5513 | spectra_subsetting
⠼ | 5515 | spectra_subsetting
⠦ | 5517 | spectra_subsetting
⠇ | 5519 | spectra_subsetting
⠋ | 5521 | spectra_subsetting
⠹ | 5523 | spectra_subsetting
⠸ | 5524 | spectra_subsetting
⠴ | 5526 | spectra_subsetting
⠧ | 5528 | spectra_subsetting
⠏ | 5530 | spectra_subsetting
⠋ | 5531 | spectra_subsetting
⠹ | 5533 | spectra_subsetting
⠼ | 5535 | spectra_subsetting
⠦ | 5537 | spectra_subsetting
⠇ | 5539 | spectra_subsetting
⠋ | 5541 | spectra_subsetting
⠙ | 5542 | spectra_subsetting
⠸ | 5544 | spectra_subsetting
⠴ | 5546 | spectra_subsetting
⠧ | 5548 | spectra_subsetting
⠏ | 5550 | spectra_subsetting
⠙ | 5552 | spectra_subsetting
⠸ | 5554 | spectra_subsetting
⠴ | 5556 | spectra_subsetting
⠧ | 5558 | spectra_subsetting
⠏ | 5560 | spectra_subsetting
⠙ | 5562 | spectra_subsetting
⠸ | 5564 | spectra_subsetting
⠴ | 5566 | spectra_subsetting
⠧ | 5568 | spectra_subsetting
⠏ | 5570 | spectra_subsetting
⠙ | 5572 | spectra_subsetting
⠸ | 5574 | spectra_subsetting
⠴ | 5576 | spectra_subsetting
⠧ | 5578 | spectra_subsetting
⠏ | 5580 | spectra_subsetting
⠙ | 5582 | spectra_subsetting
⠸ | 5584 | spectra_subsetting
⠴ | 5586 | spectra_subsetting
⠧ | 5588 | spectra_subsetting
⠏ | 5590 | spectra_subsetting
⠙ | 5592 | spectra_subsetting
⠸ | 5594 | spectra_subsetting
⠴ | 5596 | spectra_subsetting
⠧ | 5598 | spectra_subsetting
⠏ | 5600 | spectra_subsetting
⠙ | 5602 | spectra_subsetting
⠸ | 5604 | spectra_subsetting
⠴ | 5606 | spectra_subsetting
⠧ | 5608 | spectra_subsetting
⠏ | 5610 | spectra_subsetting
⠙ | 5612 | spectra_subsetting
⠸ | 5614 | spectra_subsetting
⠴ | 5616 | spectra_subsetting
⠧ | 5618 | spectra_subsetting
⠏ | 5620 | spectra_subsetting
⠙ | 5622 | spectra_subsetting
⠹ | 5623 | spectra_subsetting
⠼ | 5625 | spectra_subsetting
⠦ | 5627 | spectra_subsetting
⠧ | 5628 | spectra_subsetting
⠏ | 5630 | spectra_subsetting
⠙ | 5632 | spectra_subsetting
⠸ | 5634 | spectra_subsetting
⠴ | 5636 | spectra_subsetting
⠧ | 5638 | spectra_subsetting
⠏ | 5640 | spectra_subsetting
⠙ | 5642 | spectra_subsetting
⠸ | 5644 | spectra_subsetting
⠴ | 5646 | spectra_subsetting
⠧ | 5648 | spectra_subsetting
⠏ | 5650 | spectra_subsetting
⠙ | 5652 | spectra_subsetting
⠸ | 5654 | spectra_subsetting
⠴ | 5656 | spectra_subsetting
⠧ | 5658 | spectra_subsetting
⠏ | 5660 | spectra_subsetting
⠙ | 5662 | spectra_subsetting
⠸ | 5664 | spectra_subsetting
⠴ | 5666 | spectra_subsetting
⠧ | 5668 | spectra_subsetting
⠏ | 5670 | spectra_subsetting
⠙ | 5672 | spectra_subsetting
⠸ | 5674 | spectra_subsetting
⠴ | 5676 | spectra_subsetting
⠧ | 5678 | spectra_subsetting
⠏ | 5680 | spectra_subsetting
⠙ | 5682 | spectra_subsetting
⠸ | 5684 | spectra_subsetting
⠴ | 5686 | spectra_subsetting
⠧ | 5688 | spectra_subsetting
⠏ | 5690 | spectra_subsetting
⠙ | 5692 | spectra_subsetting
⠸ | 5694 | spectra_subsetting
⠴ | 5696 | spectra_subsetting
⠧ | 5698 | spectra_subsetting
⠏ | 5700 | spectra_subsetting
⠙ | 5702 | spectra_subsetting
⠸ | 5704 | spectra_subsetting
⠴ | 5706 | spectra_subsetting
⠧ | 5708 | spectra_subsetting
⠏ | 5710 | spectra_subsetting
⠙ | 5712 | spectra_subsetting
⠸ | 5714 | spectra_subsetting
⠴ | 5716 | spectra_subsetting
⠧ | 5718 | spectra_subsetting
⠏ | 5720 | spectra_subsetting
⠙ | 5722 | spectra_subsetting
⠸ | 5724 | spectra_subsetting
⠴ | 5726 | spectra_subsetting
⠧ | 5728 | spectra_subsetting
⠏ | 5730 | spectra_subsetting
⠋ | 5731 | spectra_subsetting
⠹ | 5733 | spectra_subsetting
⠼ | 5735 | spectra_subsetting
⠦ | 5737 | spectra_subsetting
⠇ | 5739 | spectra_subsetting
⠋ | 5741 | spectra_subsetting
⠹ | 5743 | spectra_subsetting
⠼ | 5745 | spectra_subsetting
⠦ | 5747 | spectra_subsetting
⠇ | 5749 | spectra_subsetting
⠋ | 5751 | spectra_subsetting
⠹ | 5753 | spectra_subsetting
⠼ | 5755 | spectra_subsetting
⠦ | 5757 | spectra_subsetting
⠇ | 5759 | spectra_subsetting
⠋ | 5761 | spectra_subsetting
⠙ | 5762 | spectra_subsetting
⠸ | 5764 | spectra_subsetting
⠴ | 5766 | spectra_subsetting
⠧ | 5768 | spectra_subsetting
⠏ | 5770 | spectra_subsetting
⠙ | 5772 | spectra_subsetting
⠸ | 5774 | spectra_subsetting
⠴ | 5776 | spectra_subsetting
⠧ | 5778 | spectra_subsetting
⠏ | 5780 | spectra_subsetting
⠙ | 5782 | spectra_subsetting
⠹ | 5783 | spectra_subsetting
⠼ | 5785 | spectra_subsetting
⠦ | 5787 | spectra_subsetting
⠇ | 5789 | spectra_subsetting
⠋ | 5791 | spectra_subsetting
⠹ | 5793 | spectra_subsetting
⠼ | 5795 | spectra_subsetting
⠦ | 5797 | spectra_subsetting
⠇ | 5799 | spectra_subsetting
⠋ | 5801 | spectra_subsetting
⠹ | 5803 | spectra_subsetting
⠼ | 5805 | spectra_subsetting
⠦ | 5807 | spectra_subsetting
⠇ | 5809 | spectra_subsetting
⠋ | 5811 | spectra_subsetting
⠹ | 5813 | spectra_subsetting
⠼ | 5815 | spectra_subsetting
⠦ | 5817 | spectra_subsetting
⠇ | 5819 | spectra_subsetting
⠋ | 5821 | spectra_subsetting
⠹ | 5823 | spectra_subsetting
⠼ | 5825 | spectra_subsetting
⠦ | 5827 | spectra_subsetting
⠇ | 5829 | spectra_subsetting
⠋ | 5831 | spectra_subsetting
⠙ | 5832 | spectra_subsetting
⠸ | 5834 | spectra_subsetting
⠴ | 5836 | spectra_subsetting
⠧ | 5838 | spectra_subsetting
⠏ | 5840 | spectra_subsetting
⠙ | 5842 | spectra_subsetting
⠸ | 5844 | spectra_subsetting
⠴ | 5846 | spectra_subsetting
⠧ | 5848 | spectra_subsetting
⠏ | 5850 | spectra_subsetting
⠙ | 5852 | spectra_subsetting
⠸ | 5854 | spectra_subsetting
⠴ | 5856 | spectra_subsetting
⠧ | 5858 | spectra_subsetting
⠏ | 5860 | spectra_subsetting
⠙ | 5862 | spectra_subsetting
⠸ | 5864 | spectra_subsetting
⠴ | 5866 | spectra_subsetting
⠧ | 5868 | spectra_subsetting
⠏ | 5870 | spectra_subsetting
⠙ | 5872 | spectra_subsetting
⠸ | 5874 | spectra_subsetting
⠴ | 5876 | spectra_subsetting
⠧ | 5878 | spectra_subsetting
⠏ | 5880 | spectra_subsetting
⠙ | 5882 | spectra_subsetting
⠸ | 5884 | spectra_subsetting
⠴ | 5886 | spectra_subsetting
⠧ | 5888 | spectra_subsetting
⠏ | 5890 | spectra_subsetting
⠙ | 5892 | spectra_subsetting
⠸ | 5894 | spectra_subsetting
⠴ | 5896 | spectra_subsetting
⠧ | 5898 | spectra_subsetting
⠏ | 5900 | spectra_subsetting
⠙ | 5902 | spectra_subsetting
⠸ | 5904 | spectra_subsetting
⠴ | 5906 | spectra_subsetting
⠧ | 5908 | spectra_subsetting
⠏ | 5910 | spectra_subsetting
⠙ | 5912 | spectra_subsetting
⠸ | 5914 | spectra_subsetting
⠴ | 5916 | spectra_subsetting
⠧ | 5918 | spectra_subsetting
⠏ | 5920 | spectra_subsetting
⠙ | 5922 | spectra_subsetting
⠸ | 5924 | spectra_subsetting
⠴ | 5926 | spectra_subsetting
⠧ | 5928 | spectra_subsetting
⠏ | 5930 | spectra_subsetting
⠙ | 5932 | spectra_subsetting
⠸ | 5934 | spectra_subsetting
⠴ | 5936 | spectra_subsetting
⠧ | 5938 | spectra_subsetting
⠏ | 5940 | spectra_subsetting
⠙ | 5942 | spectra_subsetting
⠸ | 5944 | spectra_subsetting
⠴ | 5946 | spectra_subsetting
⠧ | 5948 | spectra_subsetting
⠏ | 5950 | spectra_subsetting
⠙ | 5952 | spectra_subsetting
⠸ | 5954 | spectra_subsetting
⠴ | 5956 | spectra_subsetting
⠧ | 5958 | spectra_subsetting
⠏ | 5960 | spectra_subsetting
⠙ | 5962 | spectra_subsetting
⠸ | 5964 | spectra_subsetting
⠴ | 5966 | spectra_subsetting
⠧ | 5968 | spectra_subsetting
⠏ | 5970 | spectra_subsetting
⠙ | 5972 | spectra_subsetting
⠸ | 5974 | spectra_subsetting
⠴ | 5976 | spectra_subsetting
⠧ | 5978 | spectra_subsetting
⠏ | 5980 | spectra_subsetting
⠙ | 5982 | spectra_subsetting
⠸ | 5984 | spectra_subsetting
⠴ | 5986 | spectra_subsetting
⠧ | 5988 | spectra_subsetting
⠏ | 5990 | spectra_subsetting
⠙ | 5992 | spectra_subsetting
⠸ | 5994 | spectra_subsetting
⠴ | 5996 | spectra_subsetting
⠧ | 5998 | spectra_subsetting
⠏ | 6000 | spectra_subsetting
⠙ | 6002 | spectra_subsetting
⠸ | 6004 | spectra_subsetting
⠴ | 6006 | spectra_subsetting
⠧ | 6008 | spectra_subsetting
⠏ | 6010 | spectra_subsetting
⠙ | 6012 | spectra_subsetting
⠸ | 6014 | spectra_subsetting
⠴ | 6016 | spectra_subsetting
⠧ | 6018 | spectra_subsetting
⠏ | 6020 | spectra_subsetting
⠙ | 6022 | spectra_subsetting
⠸ | 6024 | spectra_subsetting
⠴ | 6026 | spectra_subsetting
⠧ | 6028 | spectra_subsetting
⠏ | 6030 | spectra_subsetting
⠙ | 6032 | spectra_subsetting
⠸ | 6034 | spectra_subsetting
⠴ | 6036 | spectra_subsetting
⠧ | 6038 | spectra_subsetting
⠏ | 6040 | spectra_subsetting
⠙ | 6042 | spectra_subsetting
⠸ | 6044 | spectra_subsetting
⠴ | 6046 | spectra_subsetting
⠧ | 6048 | spectra_subsetting
⠏ | 6050 | spectra_subsetting
⠙ | 6052 | spectra_subsetting
⠸ | 6054 | spectra_subsetting
⠴ | 6056 | spectra_subsetting
⠧ | 6058 | spectra_subsetting
⠏ | 6060 | spectra_subsetting
⠙ | 6062 | spectra_subsetting
⠸ | 6064 | spectra_subsetting
⠴ | 6066 | spectra_subsetting
⠧ | 6068 | spectra_subsetting
⠏ | 6070 | spectra_subsetting
⠙ | 6072 | spectra_subsetting
⠸ | 6074 | spectra_subsetting
⠴ | 6076 | spectra_subsetting
⠧ | 6078 | spectra_subsetting
⠏ | 6080 | spectra_subsetting
⠙ | 6082 | spectra_subsetting
⠸ | 6084 | spectra_subsetting
⠴ | 6086 | spectra_subsetting
⠧ | 6088 | spectra_subsetting
⠏ | 6090 | spectra_subsetting
⠙ | 6092 | spectra_subsetting
⠸ | 6094 | spectra_subsetting
⠴ | 6096 | spectra_subsetting
⠧ | 6098 | spectra_subsetting
⠏ | 6100 | spectra_subsetting
⠙ | 6102 | spectra_subsetting
⠸ | 6104 | spectra_subsetting
⠴ | 6106 | spectra_subsetting
⠧ | 6108 | spectra_subsetting
⠏ | 6110 | spectra_subsetting
⠙ | 6112 | spectra_subsetting
⠸ | 6114 | spectra_subsetting
⠴ | 6116 | spectra_subsetting
⠧ | 6118 | spectra_subsetting
⠏ | 6120 | spectra_subsetting
⠙ | 6122 | spectra_subsetting
⠸ | 6124 | spectra_subsetting
⠴ | 6126 | spectra_subsetting
⠧ | 6128 | spectra_subsetting
⠏ | 6130 | spectra_subsetting
⠙ | 6132 | spectra_subsetting
⠸ | 6134 | spectra_subsetting
⠴ | 6136 | spectra_subsetting
⠧ | 6138 | spectra_subsetting
⠏ | 6140 | spectra_subsetting
⠋ | 6141 | spectra_subsetting
⠹ | 6143 | spectra_subsetting
⠼ | 6145 | spectra_subsetting
⠦ | 6147 | spectra_subsetting
⠇ | 6149 | spectra_subsetting
⠋ | 6151 | spectra_subsetting
⠹ | 6153 | spectra_subsetting
⠼ | 6155 | spectra_subsetting
⠦ | 6157 | spectra_subsetting
⠇ | 6159 | spectra_subsetting
⠋ | 6161 | spectra_subsetting
⠹ | 6163 | spectra_subsetting
⠼ | 6165 | spectra_subsetting
⠦ | 6167 | spectra_subsetting
⠇ | 6169 | spectra_subsetting
⠋ | 6171 | spectra_subsetting
⠹ | 6173 | spectra_subsetting
⠼ | 6175 | spectra_subsetting
⠦ | 6177 | spectra_subsetting
⠇ | 6179 | spectra_subsetting
⠋ | 6181 | spectra_subsetting
⠹ | 6183 | spectra_subsetting
⠼ | 6185 | spectra_subsetting
⠦ | 6187 | spectra_subsetting
⠇ | 6189 | spectra_subsetting
⠋ | 6191 | spectra_subsetting
⠹ | 6193 | spectra_subsetting
⠼ | 6195 | spectra_subsetting
⠦ | 6197 | spectra_subsetting
⠇ | 6199 | spectra_subsetting
⠋ | 6201 | spectra_subsetting
⠹ | 6203 | spectra_subsetting
⠼ | 6205 | spectra_subsetting
⠦ | 6207 | spectra_subsetting
⠇ | 6209 | spectra_subsetting
⠋ | 6211 | spectra_subsetting
⠹ | 6213 | spectra_subsetting
⠼ | 6215 | spectra_subsetting
⠦ | 6217 | spectra_subsetting
⠇ | 6219 | spectra_subsetting
⠋ | 6221 | spectra_subsetting
⠹ | 6223 | spectra_subsetting
⠼ | 6225 | spectra_subsetting
⠦ | 6227 | spectra_subsetting
⠇ | 6229 | spectra_subsetting
⠋ | 6231 | spectra_subsetting
⠹ | 6233 | spectra_subsetting
⠼ | 6235 | spectra_subsetting
⠦ | 6237 | spectra_subsetting
⠇ | 6239 | spectra_subsetting
⠋ | 6241 | spectra_subsetting
⠹ | 6243 | spectra_subsetting
⠼ | 6245 | spectra_subsetting
⠦ | 6247 | spectra_subsetting
⠇ | 6249 | spectra_subsetting
⠋ | 6251 | spectra_subsetting
⠹ | 6253 | spectra_subsetting
⠼ | 6255 | spectra_subsetting
⠦ | 6257 | spectra_subsetting
⠇ | 6259 | spectra_subsetting
⠋ | 6261 | spectra_subsetting
⠹ | 6263 | spectra_subsetting
⠼ | 6265 | spectra_subsetting
⠦ | 6267 | spectra_subsetting
⠇ | 6269 | spectra_subsetting
⠋ | 6271 | spectra_subsetting
⠹ | 6273 | spectra_subsetting
⠼ | 6275 | spectra_subsetting
⠦ | 6277 | spectra_subsetting
⠇ | 6279 | spectra_subsetting
⠋ | 6281 | spectra_subsetting
⠹ | 6283 | spectra_subsetting
⠼ | 6285 | spectra_subsetting
⠦ | 6287 | spectra_subsetting
⠇ | 6289 | spectra_subsetting
⠋ | 6291 | spectra_subsetting
⠹ | 6293 | spectra_subsetting
⠼ | 6295 | spectra_subsetting
⠦ | 6297 | spectra_subsetting
⠇ | 6299 | spectra_subsetting
⠋ | 6301 | spectra_subsetting
⠹ | 6303 | spectra_subsetting
⠼ | 6305 | spectra_subsetting
⠦ | 6307 | spectra_subsetting
⠇ | 6309 | spectra_subsetting
⠋ | 6311 | spectra_subsetting
⠹ | 6313 | spectra_subsetting
⠼ | 6315 | spectra_subsetting
⠦ | 6317 | spectra_subsetting
⠇ | 6319 | spectra_subsetting
⠋ | 6321 | spectra_subsetting
⠹ | 6323 | spectra_subsetting
⠸ | 6324 | spectra_subsetting
⠴ | 6326 | spectra_subsetting
⠧ | 6328 | spectra_subsetting
⠏ | 6330 | spectra_subsetting
⠙ | 6332 | spectra_subsetting
⠸ | 6334 | spectra_subsetting
⠴ | 6336 | spectra_subsetting
⠧ | 6338 | spectra_subsetting
⠏ | 6340 | spectra_subsetting
⠙ | 6342 | spectra_subsetting
⠸ | 6344 | spectra_subsetting
⠴ | 6346 | spectra_subsetting
⠧ | 6348 | spectra_subsetting
⠏ | 6350 | spectra_subsetting
⠙ | 6352 | spectra_subsetting
⠸ | 6354 | spectra_subsetting
⠴ | 6356 | spectra_subsetting
⠧ | 6358 | spectra_subsetting
⠏ | 6360 | spectra_subsetting
⠙ | 6362 | spectra_subsetting
⠸ | 6364 | spectra_subsetting
⠴ | 6366 | spectra_subsetting
⠧ | 6368 | spectra_subsetting
⠏ | 6370 | spectra_subsetting
⠙ | 6372 | spectra_subsetting
⠸ | 6374 | spectra_subsetting
⠴ | 6376 | spectra_subsetting
⠧ | 6378 | spectra_subsetting
⠏ | 6380 | spectra_subsetting
⠙ | 6382 | spectra_subsetting
⠸ | 6384 | spectra_subsetting
⠴ | 6386 | spectra_subsetting
⠧ | 6388 | spectra_subsetting
⠏ | 6390 | spectra_subsetting
⠙ | 6392 | spectra_subsetting
⠸ | 6394 | spectra_subsetting
⠴ | 6396 | spectra_subsetting
⠧ | 6398 | spectra_subsetting
⠏ | 6400 | spectra_subsetting
⠙ | 6402 | spectra_subsetting
⠸ | 6404 | spectra_subsetting
⠴ | 6406 | spectra_subsetting
⠧ | 6408 | spectra_subsetting
⠇ | 6409 | spectra_subsetting
⠋ | 6411 | spectra_subsetting
⠹ | 6413 | spectra_subsetting
⠼ | 6415 | spectra_subsetting
⠦ | 6417 | spectra_subsetting
⠇ | 6419 | spectra_subsetting
⠋ | 6421 | spectra_subsetting
⠹ | 6423 | spectra_subsetting
⠼ | 6425 | spectra_subsetting
⠦ | 6427 | spectra_subsetting
⠇ | 6429 | spectra_subsetting
⠋ | 6431 | spectra_subsetting
⠹ | 6433 | spectra_subsetting
⠼ | 6435 | spectra_subsetting
⠦ | 6437 | spectra_subsetting
⠇ | 6439 | spectra_subsetting
⠋ | 6441 | spectra_subsetting
⠹ | 6443 | spectra_subsetting
⠼ | 6445 | spectra_subsetting
⠦ | 6447 | spectra_subsetting
⠇ | 6449 | spectra_subsetting
⠋ | 6451 | spectra_subsetting
⠹ | 6453 | spectra_subsetting
⠼ | 6455 | spectra_subsetting
⠦ | 6457 | spectra_subsetting
⠇ | 6459 | spectra_subsetting
⠋ | 6461 | spectra_subsetting
⠹ | 6463 | spectra_subsetting
⠼ | 6465 | spectra_subsetting
⠦ | 6467 | spectra_subsetting
⠇ | 6469 | spectra_subsetting
⠋ | 6471 | spectra_subsetting
⠹ | 6473 | spectra_subsetting
⠼ | 6475 | spectra_subsetting
⠦ | 6477 | spectra_subsetting
⠇ | 6479 | spectra_subsetting
⠋ | 6481 | spectra_subsetting
⠹ | 6483 | spectra_subsetting
⠼ | 6485 | spectra_subsetting
⠦ | 6487 | spectra_subsetting
⠇ | 6489 | spectra_subsetting
⠋ | 6491 | spectra_subsetting
⠹ | 6493 | spectra_subsetting
⠼ | 6495 | spectra_subsetting
⠦ | 6497 | spectra_subsetting
⠇ | 6499 | spectra_subsetting
⠋ | 6501 | spectra_subsetting
⠹ | 6503 | spectra_subsetting
⠼ | 6505 | spectra_subsetting
⠦ | 6507 | spectra_subsetting
⠇ | 6509 | spectra_subsetting
⠋ | 6511 | spectra_subsetting
⠹ | 6513 | spectra_subsetting
⠼ | 6515 | spectra_subsetting
⠦ | 6517 | spectra_subsetting
⠇ | 6519 | spectra_subsetting
⠋ | 6521 | spectra_subsetting
⠹ | 6523 | spectra_subsetting
⠼ | 6525 | spectra_subsetting
⠦ | 6527 | spectra_subsetting
⠇ | 6529 | spectra_subsetting
⠋ | 6531 | spectra_subsetting
⠹ | 6533 | spectra_subsetting
⠼ | 6535 | spectra_subsetting
⠦ | 6537 | spectra_subsetting
⠇ | 6539 | spectra_subsetting
⠋ | 6541 | spectra_subsetting
⠹ | 6543 | spectra_subsetting
⠼ | 6545 | spectra_subsetting
⠦ | 6547 | spectra_subsetting
⠇ | 6549 | spectra_subsetting
⠋ | 6551 | spectra_subsetting
⠹ | 6553 | spectra_subsetting
⠼ | 6555 | spectra_subsetting
⠦ | 6557 | spectra_subsetting
⠇ | 6559 | spectra_subsetting
⠋ | 6561 | spectra_subsetting
⠹ | 6563 | spectra_subsetting
⠼ | 6565 | spectra_subsetting
⠦ | 6567 | spectra_subsetting
⠇ | 6569 | spectra_subsetting
⠋ | 6571 | spectra_subsetting
⠹ | 6573 | spectra_subsetting
⠼ | 6575 | spectra_subsetting
⠦ | 6577 | spectra_subsetting
⠇ | 6579 | spectra_subsetting
⠋ | 6581 | spectra_subsetting
⠹ | 6583 | spectra_subsetting
⠸ | 6584 | spectra_subsetting
⠴ | 6586 | spectra_subsetting
⠧ | 6588 | spectra_subsetting
⠏ | 6590 | spectra_subsetting
⠙ | 6592 | spectra_subsetting
⠸ | 6594 | spectra_subsetting
⠴ | 6596 | spectra_subsetting
⠧ | 6598 | spectra_subsetting
⠏ | 6600 | spectra_subsetting
⠙ | 6602 | spectra_subsetting
⠸ | 6604 | spectra_subsetting
⠴ | 6606 | spectra_subsetting
⠧ | 6608 | spectra_subsetting
⠏ | 6610 | spectra_subsetting
⠙ | 6612 | spectra_subsetting
⠸ | 6614 | spectra_subsetting
⠴ | 6616 | spectra_subsetting
⠧ | 6618 | spectra_subsetting
⠏ | 6620 | spectra_subsetting
⠙ | 6622 | spectra_subsetting
⠸ | 6624 | spectra_subsetting
⠴ | 6626 | spectra_subsetting
⠧ | 6628 | spectra_subsetting
⠏ | 6630 | spectra_subsetting
⠙ | 6632 | spectra_subsetting
⠸ | 6634 | spectra_subsetting
⠴ | 6636 | spectra_subsetting
⠧ | 6638 | spectra_subsetting
⠏ | 6640 | spectra_subsetting
⠙ | 6642 | spectra_subsetting
⠸ | 6644 | spectra_subsetting
⠴ | 6646 | spectra_subsetting
⠧ | 6648 | spectra_subsetting
⠏ | 6650 | spectra_subsetting
⠙ | 6652 | spectra_subsetting
⠸ | 6654 | spectra_subsetting
⠴ | 6656 | spectra_subsetting
⠧ | 6658 | spectra_subsetting
⠏ | 6660 | spectra_subsetting
⠸ | 6664 | spectra_subsetting
⠹ | 6673 | spectra_subsetting
⠇ | 6679 | spectra_subsetting
⠙ | 6682 | spectra_subsetting
⠸ | 6694 | spectra_subsetting
✔ | 6702 | spectra_subsetting [152.0s]
⠏ | 0 | spectra_variables
⠙ | 12 | spectra_variables
⠸ | 14 | spectra_variables
⠴ | 16 | spectra_variables
⠦ | 27 | spectra_variables
⠇ | 29 | spectra_variables
⠋ | 31 | spectra_variables
⠹ | 43 | spectra_variables
⠸ | 54 | spectra_variables
✔ | 1 62 | spectra_variables [1.8s]
══ Results ═════════════════════════════════════════════════════════════════════
Duration: 154.2 s
── Skipped tests (1) ───────────────────────────────────────────────────────────
• empty test (1): 'test_spectra_variables.R:262:1'
[ FAIL 0 | WARN 0 | SKIP 1 | PASS 6768 ]
>
> proc.time()
user system elapsed
151.078 12.776 548.860
MsBackendMetaboLights.Rcheck/MsBackendMetaboLights-Ex.timings
| name | user | system | elapsed | |
| MetaboLights-utils | 0.134 | 0.015 | 14.863 | |
| MsBackendMetaboLights | 2.910 | 0.568 | 11.697 | |