Back to Multiple platform build/check report for BioC 3.21:   simplified   long
ABCDEFGHIJKL[M]NOPQRSTUVWXYZ

This page was generated on 2025-05-19 11:47 -0400 (Mon, 19 May 2025).

HostnameOSArch (*)R versionInstalled pkgs
nebbiolo1Linux (Ubuntu 24.04.1 LTS)x86_644.5.0 RC (2025-04-04 r88126) -- "How About a Twenty-Six" 4835
palomino7Windows Server 2022 Datacenterx644.5.0 RC (2025-04-04 r88126 ucrt) -- "How About a Twenty-Six" 4575
merida1macOS 12.7.5 Montereyx86_644.5.0 RC (2025-04-04 r88126) -- "How About a Twenty-Six" 4600
kjohnson1macOS 13.6.6 Venturaarm644.5.0 RC (2025-04-04 r88129) -- "How About a Twenty-Six" 4554
kunpeng2Linux (openEuler 24.03 LTS)aarch64R Under development (unstable) (2025-02-19 r87757) -- "Unsuffered Consequences" 4571
Click on any hostname to see more info about the system (e.g. compilers)      (*) as reported by 'uname -p', except on Windows and Mac OS X

Package 1293/2341HostnameOS / ArchINSTALLBUILDCHECKBUILD BIN
MinimumDistance 1.52.1  (landing page)
Robert Scharpf
Snapshot Date: 2025-05-15 13:40 -0400 (Thu, 15 May 2025)
git_url: https://git.bioconductor.org/packages/MinimumDistance
git_branch: RELEASE_3_21
git_last_commit: 3c4f502
git_last_commit_date: 2025-05-08 12:28:52 -0400 (Thu, 08 May 2025)
nebbiolo1Linux (Ubuntu 24.04.1 LTS) / x86_64  OK    OK    WARNINGS  UNNEEDED, same version is already published
palomino7Windows Server 2022 Datacenter / x64  OK    ERROR  skippedskipped
merida1macOS 12.7.5 Monterey / x86_64  OK    OK    WARNINGS    OK  UNNEEDED, same version is already published
kjohnson1macOS 13.6.6 Ventura / arm64  OK    OK    WARNINGS    OK  UNNEEDED, same version is already published
kunpeng2Linux (openEuler 24.03 LTS) / aarch64  OK    OK    WARNINGS  


INSTALL results for MinimumDistance on kunpeng2

To the developers/maintainers of the MinimumDistance package:
- Allow up to 24 hours (and sometimes 48 hours) for your latest push to git@git.bioconductor.org:packages/MinimumDistance.git to reflect on this report. See Troubleshooting Build Report for more information.
- Use the following Renviron settings to reproduce errors and warnings.
- If 'R CMD check' started to fail recently on the Linux builder(s) over a missing dependency, add the missing dependency to 'Suggests:' in your DESCRIPTION file. See Renviron.bioc for more information.
- See Martin Grigorov's blog post for how to debug Linux ARM64 related issues on a x86_64 host.

raw results


Summary

Package: MinimumDistance
Version: 1.52.1
Command: /home/biocbuild/R/R/bin/R CMD INSTALL MinimumDistance
StartedAt: 2025-05-15 20:50:15 -0000 (Thu, 15 May 2025)
EndedAt: 2025-05-15 20:51:24 -0000 (Thu, 15 May 2025)
EllapsedTime: 69.5 seconds
RetCode: 0
Status:   OK  

Command output

##############################################################################
##############################################################################
###
### Running command:
###
###   /home/biocbuild/R/R/bin/R CMD INSTALL MinimumDistance
###
##############################################################################
##############################################################################


* installing to library ‘/home/biocbuild/R/R-devel_2025-02-19/site-library’
* installing *source* package ‘MinimumDistance’ ...
** this is package ‘MinimumDistance’ version ‘1.52.1’
** using staged installation
** R
** data
** inst
** byte-compile and prepare package for lazy loading
No methods found in package ‘oligoClasses’ for request: ‘mean’ when loading ‘crlmm’
Warning: replacing previous import ‘ff::pattern’ by ‘grid::pattern’ when loading ‘MinimumDistance’
Creating a new generic function for ‘allNames’ in package ‘MinimumDistance’
in method for ‘coerce’ with signature ‘"RangedDataCNV","GRanges"’: no definition for class “RangedDataCNV”
in method for ‘todf’ with signature ‘object="TrioSet",rangeData="RangedData"’: no definition for class “RangedData”
in method for ‘prune’ with signature ‘object="TrioSet",ranges="RangedDataCNV"’: no definition for class “RangedDataCNV”
in method for ‘prune’ with signature ‘object="TrioSetList",ranges="RangedDataCNV"’: no definition for class “RangedDataCNV”
** help
*** installing help indices
** building package indices
** installing vignettes
** testing if installed package can be loaded from temporary location
No methods found in package ‘oligoClasses’ for request: ‘mean’ when loading ‘crlmm’
Warning: replacing previous import ‘ff::pattern’ by ‘grid::pattern’ when loading ‘MinimumDistance’
** testing if installed package can be loaded from final location
No methods found in package ‘oligoClasses’ for request: ‘mean’ when loading ‘crlmm’
Warning: replacing previous import ‘ff::pattern’ by ‘grid::pattern’ when loading ‘MinimumDistance’
** testing if installed package keeps a record of temporary installation path
* DONE (MinimumDistance)