Back to Multiple platform build/check report for BioC 3.22:   simplified   long
ABCDEFGHIJKL[M]NOPQRSTUVWXYZ

This page was generated on 2025-11-05 12:40 -0500 (Wed, 05 Nov 2025).

HostnameOSArch (*)R versionInstalled pkgs
nebbiolo2Linux (Ubuntu 24.04.3 LTS)x86_644.5.1 Patched (2025-08-23 r88802) -- "Great Square Root" 4902
kjohnson3macOS 13.7.7 Venturaarm644.5.1 Patched (2025-09-10 r88807) -- "Great Square Root" 4638
Click on any hostname to see more info about the system (e.g. compilers)      (*) as reported by 'uname -p', except on Windows and Mac OS X

Package 1246/2361HostnameOS / ArchINSTALLBUILDCHECKBUILD BIN
MetaCyto 1.32.0  (landing page)
Zicheng Hu
Snapshot Date: 2025-11-04 13:45 -0500 (Tue, 04 Nov 2025)
git_url: https://git.bioconductor.org/packages/MetaCyto
git_branch: RELEASE_3_22
git_last_commit: f3c39a8
git_last_commit_date: 2025-10-29 10:42:00 -0500 (Wed, 29 Oct 2025)
nebbiolo2Linux (Ubuntu 24.04.3 LTS) / x86_64  OK    OK    OK  UNNEEDED, same version is already published
kjohnson3macOS 13.7.7 Ventura / arm64  OK    OK    OK    OK  UNNEEDED, same version is already published


CHECK results for MetaCyto on nebbiolo2

To the developers/maintainers of the MetaCyto package:
- Allow up to 24 hours (and sometimes 48 hours) for your latest push to git@git.bioconductor.org:packages/MetaCyto.git to reflect on this report. See Troubleshooting Build Report for more information.
- Use the following Renviron settings to reproduce errors and warnings.
- If 'R CMD check' started to fail recently on the Linux builder(s) over a missing dependency, add the missing dependency to 'Suggests:' in your DESCRIPTION file. See Renviron.bioc for more information.

raw results


Summary

Package: MetaCyto
Version: 1.32.0
Command: /home/biocbuild/bbs-3.22-bioc/R/bin/R CMD check --install=check:MetaCyto.install-out.txt --library=/home/biocbuild/bbs-3.22-bioc/R/site-library --timings MetaCyto_1.32.0.tar.gz
StartedAt: 2025-11-05 01:14:59 -0500 (Wed, 05 Nov 2025)
EndedAt: 2025-11-05 01:23:46 -0500 (Wed, 05 Nov 2025)
EllapsedTime: 526.5 seconds
RetCode: 0
Status:   OK  
CheckDir: MetaCyto.Rcheck
Warnings: 0

Command output

##############################################################################
##############################################################################
###
### Running command:
###
###   /home/biocbuild/bbs-3.22-bioc/R/bin/R CMD check --install=check:MetaCyto.install-out.txt --library=/home/biocbuild/bbs-3.22-bioc/R/site-library --timings MetaCyto_1.32.0.tar.gz
###
##############################################################################
##############################################################################


* using log directory ‘/home/biocbuild/bbs-3.22-bioc/meat/MetaCyto.Rcheck’
* using R version 4.5.1 Patched (2025-08-23 r88802)
* using platform: x86_64-pc-linux-gnu
* R was compiled by
    gcc (Ubuntu 13.3.0-6ubuntu2~24.04) 13.3.0
    GNU Fortran (Ubuntu 13.3.0-6ubuntu2~24.04) 13.3.0
* running under: Ubuntu 24.04.3 LTS
* using session charset: UTF-8
* checking for file ‘MetaCyto/DESCRIPTION’ ... OK
* checking extension type ... Package
* this is package ‘MetaCyto’ version ‘1.32.0’
* checking package namespace information ... OK
* checking package dependencies ... OK
* checking if this is a source package ... OK
* checking if there is a namespace ... OK
* checking for hidden files and directories ... OK
* checking for portable file names ... OK
* checking for sufficient/correct file permissions ... OK
* checking whether package ‘MetaCyto’ can be installed ... OK
* checking installed package size ... OK
* checking package directory ... OK
* checking ‘build’ directory ... OK
* checking DESCRIPTION meta-information ... OK
* checking top-level files ... OK
* checking for left-over files ... OK
* checking index information ... OK
* checking package subdirectories ... OK
* checking code files for non-ASCII characters ... OK
* checking R files for syntax errors ... OK
* checking whether the package can be loaded ... OK
* checking whether the package can be loaded with stated dependencies ... OK
* checking whether the package can be unloaded cleanly ... OK
* checking whether the namespace can be loaded with stated dependencies ... OK
* checking whether the namespace can be unloaded cleanly ... OK
* checking loading without being on the library search path ... OK
* checking dependencies in R code ... OK
* checking S3 generic/method consistency ... OK
* checking replacement functions ... OK
* checking foreign function calls ... OK
* checking R code for possible problems ... NOTE
collectData: no visible binding for global variable ‘parameter_name’
collectData: no visible binding for global variable ‘value’
panelSummary: no visible binding for global variable ‘antibodies’
panelSummary: no visible binding for global variable ‘value’
plotGA: no visible binding for global variable ‘lower’
plotGA: no visible binding for global variable ‘upper’
searchCluster : <anonymous>: no visible binding for global variable
  ‘triS’
Undefined global functions or variables:
  antibodies lower parameter_name triS upper value
* checking Rd files ... OK
* checking Rd metadata ... OK
* checking Rd cross-references ... OK
* checking for missing documentation entries ... OK
* checking for code/documentation mismatches ... OK
* checking Rd \usage sections ... OK
* checking Rd contents ... OK
* checking for unstated dependencies in examples ... OK
* checking files in ‘vignettes’ ... OK
* checking examples ... OK
Examples with CPU (user + system) or elapsed time > 5s
                      user system elapsed
autoCluster.batch   80.606 11.893  92.502
labelCluster        67.019  9.446  76.467
searchCluster.batch 22.255  4.152  26.409
flowSOM.MC          10.313  0.061  10.376
searchCluster        7.630  0.991   8.621
densityPlot          7.243  1.304   8.547
clusterStats         6.353  0.459   6.812
* checking for unstated dependencies in vignettes ... OK
* checking package vignettes ... OK
* checking re-building of vignette outputs ... OK
* checking PDF version of manual ... OK
* DONE

Status: 1 NOTE
See
  ‘/home/biocbuild/bbs-3.22-bioc/meat/MetaCyto.Rcheck/00check.log’
for details.


Installation output

MetaCyto.Rcheck/00install.out

##############################################################################
##############################################################################
###
### Running command:
###
###   /home/biocbuild/bbs-3.22-bioc/R/bin/R CMD INSTALL MetaCyto
###
##############################################################################
##############################################################################


* installing to library ‘/home/biocbuild/bbs-3.22-bioc/R/site-library’
* installing *source* package ‘MetaCyto’ ...
** this is package ‘MetaCyto’ version ‘1.32.0’
** using staged installation
** R
** inst
** byte-compile and prepare package for lazy loading
** help
*** installing help indices
** building package indices
** installing vignettes
** testing if installed package can be loaded from temporary location
** testing if installed package can be loaded from final location
** testing if installed package keeps a record of temporary installation path
* DONE (MetaCyto)

Tests output


Example timings

MetaCyto.Rcheck/MetaCyto-Ex.timings

nameusersystemelapsed
autoCluster.batch80.60611.89392.502
clusterStats6.3530.4596.812
collectData0.0240.0010.026
densityPlot7.2431.3048.547
fcsInfoParser0.080.000.08
filterLabels0.0010.0010.001
findCutoff1.8230.3032.126
flowHC1.9410.0712.012
flowSOM.MC10.313 0.06110.376
glmAnalysis0.2550.0030.258
labelCluster67.019 9.44676.467
labelSummary0.2810.0030.284
markerFinder0.0280.0000.028
metaAnalysis0.1280.0010.130
nameUpdator1.2580.0111.270
panelSummary0.0120.0010.014
plotGA0.7040.0040.708
preprocessing0.4460.0000.446
preprocessing.batch1.1100.0061.116
sampleInfoParser0.0030.0010.003
searchCluster7.6300.9918.621
searchCluster.batch22.255 4.15226.409
set2Frame0.1120.0020.115