Back to Multiple platform build/check report for BioC 3.21:   simplified   long
ABCDEFGHIJKL[M]NOPQRSTUVWXYZ

This page was generated on 2025-04-22 13:16 -0400 (Tue, 22 Apr 2025).

HostnameOSArch (*)R versionInstalled pkgs
nebbiolo1Linux (Ubuntu 24.04.1 LTS)x86_644.5.0 RC (2025-04-04 r88126) -- "How About a Twenty-Six" 4831
palomino7Windows Server 2022 Datacenterx644.5.0 RC (2025-04-04 r88126 ucrt) -- "How About a Twenty-Six" 4573
lconwaymacOS 12.7.1 Montereyx86_644.5.0 RC (2025-04-04 r88126) -- "How About a Twenty-Six" 4599
kjohnson3macOS 13.7.1 Venturaarm644.5.0 RC (2025-04-04 r88126) -- "How About a Twenty-Six" 4553
kunpeng2Linux (openEuler 24.03 LTS)aarch64R Under development (unstable) (2025-02-19 r87757) -- "Unsuffered Consequences" 4570
Click on any hostname to see more info about the system (e.g. compilers)      (*) as reported by 'uname -p', except on Windows and Mac OS X

Package 1265/2341HostnameOS / ArchINSTALLBUILDCHECKBUILD BIN
MetMashR 1.2.0  (landing page)
Gavin Rhys Lloyd
Snapshot Date: 2025-04-21 13:40 -0400 (Mon, 21 Apr 2025)
git_url: https://git.bioconductor.org/packages/MetMashR
git_branch: RELEASE_3_21
git_last_commit: 3afdc89
git_last_commit_date: 2025-04-15 13:42:42 -0400 (Tue, 15 Apr 2025)
nebbiolo1Linux (Ubuntu 24.04.1 LTS) / x86_64  OK    OK    OK  NO, package depends on 'struct' which is not available
palomino7Windows Server 2022 Datacenter / x64  OK    OK    OK    OK  NO, package depends on 'struct' which is not available
lconwaymacOS 12.7.1 Monterey / x86_64  OK    OK    OK    OK  NO, package depends on 'struct' which is not available
kjohnson3macOS 13.7.1 Ventura / arm64  OK    ERROR  skippedskipped
kunpeng2Linux (openEuler 24.03 LTS) / aarch64  OK    ERROR  skipped


CHECK results for MetMashR on lconway

To the developers/maintainers of the MetMashR package:
- Allow up to 24 hours (and sometimes 48 hours) for your latest push to git@git.bioconductor.org:packages/MetMashR.git to reflect on this report. See Troubleshooting Build Report for more information.
- Use the following Renviron settings to reproduce errors and warnings.
- If 'R CMD check' started to fail recently on the Linux builder(s) over a missing dependency, add the missing dependency to 'Suggests:' in your DESCRIPTION file. See Renviron.bioc for more information.

raw results


Summary

Package: MetMashR
Version: 1.2.0
Command: /Library/Frameworks/R.framework/Resources/bin/R CMD check --install=check:MetMashR.install-out.txt --library=/Library/Frameworks/R.framework/Resources/library --no-vignettes --timings MetMashR_1.2.0.tar.gz
StartedAt: 2025-04-21 21:49:57 -0400 (Mon, 21 Apr 2025)
EndedAt: 2025-04-21 21:53:48 -0400 (Mon, 21 Apr 2025)
EllapsedTime: 230.4 seconds
RetCode: 0
Status:   OK  
CheckDir: MetMashR.Rcheck
Warnings: 0

Command output

##############################################################################
##############################################################################
###
### Running command:
###
###   /Library/Frameworks/R.framework/Resources/bin/R CMD check --install=check:MetMashR.install-out.txt --library=/Library/Frameworks/R.framework/Resources/library --no-vignettes --timings MetMashR_1.2.0.tar.gz
###
##############################################################################
##############################################################################


* using log directory ‘/Users/biocbuild/bbs-3.21-bioc/meat/MetMashR.Rcheck’
* using R version 4.5.0 RC (2025-04-04 r88126)
* using platform: x86_64-apple-darwin20
* R was compiled by
    Apple clang version 14.0.0 (clang-1400.0.29.202)
    GNU Fortran (GCC) 14.2.0
* running under: macOS Monterey 12.7.6
* using session charset: UTF-8
* using option ‘--no-vignettes’
* checking for file ‘MetMashR/DESCRIPTION’ ... OK
* checking extension type ... Package
* this is package ‘MetMashR’ version ‘1.2.0’
* package encoding: UTF-8
* checking package namespace information ... OK
* checking package dependencies ... OK
* checking if this is a source package ... OK
* checking if there is a namespace ... OK
* checking for hidden files and directories ... OK
* checking for portable file names ... NOTE
Found the following non-portable file paths:
  MetMashR/tests/testthat/lp/lm/compound/abbrev_chains/PE%2816%3A0_18%3A1%29/inchi_key%2Chmdb_id/json.json
  MetMashR/tests/testthat/lp/lm/compound/abbrev_chains/TG%2816%3A0_16%3A1_18%3A2%29/inchi_key%2Chmdb_id/json.json
  MetMashR/tests/testthat/lp/lm/compound/abbrev_chains/TG%2816%3A0_16%3A1_18%3A2%29/inchi_key%2Chmdb_id

Tarballs are only required to store paths of up to 100 bytes and cannot
store those of more than 256 bytes, with restrictions including to 100
bytes for the final component.
See section ‘Package structure’ in the ‘Writing R Extensions’ manual.
* checking for sufficient/correct file permissions ... OK
* checking whether package ‘MetMashR’ can be installed ... OK
* checking installed package size ... INFO
  installed size is  6.8Mb
  sub-directories of 1Mb or more:
    extdata   5.6Mb
* checking package directory ... OK
* checking ‘build’ directory ... OK
* checking DESCRIPTION meta-information ... OK
* checking top-level files ... OK
* checking for left-over files ... OK
* checking index information ... OK
* checking package subdirectories ... OK
* checking code files for non-ASCII characters ... OK
* checking R files for syntax errors ... OK
* checking whether the package can be loaded ... OK
* checking whether the package can be loaded with stated dependencies ... OK
* checking whether the package can be unloaded cleanly ... OK
* checking whether the namespace can be loaded with stated dependencies ... OK
* checking whether the namespace can be unloaded cleanly ... OK
* checking dependencies in R code ... OK
* checking S3 generic/method consistency ... OK
* checking replacement functions ... OK
* checking foreign function calls ... OK
* checking R code for possible problems ... OK
* checking Rd files ... OK
* checking Rd metadata ... OK
* checking Rd cross-references ... NOTE
Non-topic package-anchored link(s) in Rd file 'GO_database.Rd':
  ‘[GO.db:GOBASE]{GO.db::GO()}’

See section 'Cross-references' in the 'Writing R Extensions' manual.
* checking for missing documentation entries ... OK
* checking for code/documentation mismatches ... OK
* checking Rd \usage sections ... OK
* checking Rd contents ... OK
* checking for unstated dependencies in examples ... OK
* checking R/sysdata.rda ... OK
* checking files in ‘vignettes’ ... OK
* checking examples ... OK
* checking for unstated dependencies in ‘tests’ ... OK
* checking tests ...
  Running ‘testthat.R’
 OK
* checking for unstated dependencies in vignettes ... OK
* checking package vignettes ... OK
* checking running R code from vignettes ... SKIPPED
* checking re-building of vignette outputs ... SKIPPED
* checking PDF version of manual ... OK
* DONE

Status: 2 NOTEs
See
  ‘/Users/biocbuild/bbs-3.21-bioc/meat/MetMashR.Rcheck/00check.log’
for details.


Installation output

MetMashR.Rcheck/00install.out

##############################################################################
##############################################################################
###
### Running command:
###
###   /Library/Frameworks/R.framework/Resources/bin/R CMD INSTALL MetMashR
###
##############################################################################
##############################################################################


* installing to library ‘/Library/Frameworks/R.framework/Versions/4.5-x86_64/Resources/library’
* installing *source* package ‘MetMashR’ ...
** this is package ‘MetMashR’ version ‘1.2.0’
** using staged installation
** R
** inst
** byte-compile and prepare package for lazy loading
** help
*** installing help indices
** building package indices
** installing vignettes
** testing if installed package can be loaded from temporary location
** testing if installed package can be loaded from final location
** testing if installed package keeps a record of temporary installation path
* DONE (MetMashR)

Tests output

MetMashR.Rcheck/tests/testthat.Rout


R version 4.5.0 RC (2025-04-04 r88126) -- "How About a Twenty-Six"
Copyright (C) 2025 The R Foundation for Statistical Computing
Platform: x86_64-apple-darwin20

R is free software and comes with ABSOLUTELY NO WARRANTY.
You are welcome to redistribute it under certain conditions.
Type 'license()' or 'licence()' for distribution details.

R is a collaborative project with many contributors.
Type 'contributors()' for more information and
'citation()' on how to cite R or R packages in publications.

Type 'demo()' for some demos, 'help()' for on-line help, or
'help.start()' for an HTML browser interface to help.
Type 'q()' to quit R.

> # This file is part of the standard setup for testthat.
> # It is recommended that you do not modify it.
> #
> # Where should you do additional test configuration?
> # Learn more about the roles of various files in:
> # * https://r-pkgs.org/tests.html
> # * https://testthat.r-lib.org/reference/test_package.html#special-files
> 
> library(testthat)
> library(MetMashR)
Loading required package: struct
> 
> test_check("MetMashR")
No encoding supplied: defaulting to UTF-8.
No encoding supplied: defaulting to UTF-8.
[ FAIL 0 | WARN 0 | SKIP 0 | PASS 249 ]
> 
> proc.time()
   user  system elapsed 
 17.348   1.284  29.986 

Example timings

MetMashR.Rcheck/MetMashR-Ex.timings

nameusersystemelapsed
AnnotationDb_database0.0200.0010.020
AnnotationDb_select0.0110.0010.013
BiocFileCache_database0.0160.0000.016
CompoundDb_source0.0090.0000.009
GO_database0.0090.0000.008
MTox700plus_database0.0200.0010.021
PathBank_metabolite_database0.0180.0010.019
add_columns0.0080.0010.009
add_labels0.0110.0010.011
annotation_bar_chart0.0090.0000.010
annotation_database0.0100.0000.011
annotation_histogram0.0130.0010.013
annotation_histogram2d0.0110.0010.013
annotation_pie_chart0.0140.0020.018
annotation_source0.0070.0010.009
annotation_table0.0100.0010.011
annotation_upset_chart0.0230.0030.026
annotation_venn_chart0.0130.0030.016
cache_as_is0.0140.0020.016
calc_ppm_diff0.0100.0010.011
calc_rt_diff0.0080.0010.009
cd_source0.0190.0030.021
chart_plot0.0140.0020.016
check_for_columns0.0090.0010.011
classyfire_lookup0.0170.0030.021
combine_columns0.0110.0020.013
combine_records0.0080.0010.008
combine_records_helper_functions0.0440.0070.052
combine_sources0.0190.0020.022
compute_column0.0080.0010.009
compute_record0.0060.0010.007
database_lookup0.0140.0030.017
eutils_lookup0.0170.0030.020
excel_database0.0160.0030.019
filter_labels0.0120.0020.013
filter_na0.0050.0010.006
filter_range0.0090.0020.012
filter_records0.0060.0020.007
filter_venn0.0140.0020.016
github_file0.0240.0040.028
greek_dictionary0.0080.0010.009
hmdb_lookup0.0190.0020.022
id_counts0.0080.0010.008
import_source0.0010.0000.001
is_writable0.0060.0010.008
kegg_lookup0.0080.0010.010
lcms_table0.0130.0010.014
lipidmaps_lookup0.0200.0030.023
ls_source0.0160.0020.019
model_apply0.1870.0040.193
mspurity_source0.0080.0000.009
mwb_compound_lookup0.0140.0000.015
mwb_refmet_database0.0110.0010.012
mwb_structure0.0070.0010.008
mz_match0.0110.0000.011
mzrt_match0.0140.0000.014
normalise_lipids0.0090.0000.010
normalise_strings0.0060.0010.006
openbabel_structure0.0200.0010.020
opsin_lookup0.0140.0000.015
pivot_columns0.0070.0000.007
prioritise_columns0.0120.0000.013
pubchem_compound_lookup0.0160.0010.016
pubchem_property_lookup0.0200.0010.020
pubchem_structure0.0100.0000.011
pubchem_widget0.0180.0010.019
racemic_dictionary0.0080.0010.009
rdata_database0.0140.0000.015
rds_cache0.010.000.01
rds_database0.0090.0000.008
read_database0.0070.0010.007
read_source0.0130.0010.013
remove_columns0.0060.0010.007
rename_columns0.0060.0010.006
required_cols0.0140.0010.015
rest_api0.0170.0000.017
rt_match0.0100.0000.009
select_columns0.0050.0010.006
split_column0.0090.0000.009
split_records0.0090.0000.010
sqlite_database0.010.000.01
trim_whitespace0.0060.0010.006
tripeptide_dictionary0.0070.0010.007
unique_records0.0010.0000.001
unzip_before_cache0.0140.0000.015
vertical_join0.1380.0070.146
wherever0.0400.0010.041
write_database0.0060.0000.006