| Back to Multiple platform build/check report for BioC 3.22: simplified long | 
  | 
This page was generated on 2025-11-03 12:04 -0500 (Mon, 03 Nov 2025).
| Hostname | OS | Arch (*) | R version | Installed pkgs | 
|---|---|---|---|---|
| nebbiolo2 | Linux (Ubuntu 24.04.3 LTS) | x86_64 | 4.5.1 Patched (2025-08-23 r88802) -- "Great Square Root" | 4902 | 
| lconway | macOS 12.7.6 Monterey | x86_64 | 4.5.1 Patched (2025-09-10 r88807) -- "Great Square Root" | 4692 | 
| kjohnson3 | macOS 13.7.7 Ventura | arm64 | 4.5.1 Patched (2025-09-10 r88807) -- "Great Square Root" | 4638 | 
| Click on any hostname to see more info about the system (e.g. compilers) (*) as reported by 'uname -p', except on Windows and Mac OS X | ||||
| Package 1204/2361 | Hostname | OS / Arch | INSTALL | BUILD | CHECK | BUILD BIN | ||||||||
| MatrixQCvis 1.18.0  (landing page) Thomas Naake 
  | nebbiolo2 | Linux (Ubuntu 24.04.3 LTS) / x86_64 | OK | OK | OK | |||||||||
| lconway | macOS 12.7.6 Monterey / x86_64 | OK | OK | OK | OK | |||||||||
| kjohnson3 | macOS 13.7.7 Ventura / arm64 | OK | OK | OK | OK | |||||||||
| 
To the developers/maintainers of the MatrixQCvis package: - Allow up to 24 hours (and sometimes 48 hours) for your latest push to git@git.bioconductor.org:packages/MatrixQCvis.git to reflect on this report. See Troubleshooting Build Report for more information. - Use the following Renviron settings to reproduce errors and warnings. - If 'R CMD check' started to fail recently on the Linux builder(s) over a missing dependency, add the missing dependency to 'Suggests:' in your DESCRIPTION file. See Renviron.bioc for more information.  | 
| Package: MatrixQCvis | 
| Version: 1.18.0 | 
| Command: /Library/Frameworks/R.framework/Resources/bin/R CMD check --install=check:MatrixQCvis.install-out.txt --library=/Library/Frameworks/R.framework/Resources/library --no-vignettes --timings MatrixQCvis_1.18.0.tar.gz | 
| StartedAt: 2025-11-02 22:17:07 -0500 (Sun, 02 Nov 2025) | 
| EndedAt: 2025-11-02 22:22:55 -0500 (Sun, 02 Nov 2025) | 
| EllapsedTime: 348.2 seconds | 
| RetCode: 0 | 
| Status: OK | 
| CheckDir: MatrixQCvis.Rcheck | 
| Warnings: 0 | 
##############################################################################
##############################################################################
###
### Running command:
###
###   /Library/Frameworks/R.framework/Resources/bin/R CMD check --install=check:MatrixQCvis.install-out.txt --library=/Library/Frameworks/R.framework/Resources/library --no-vignettes --timings MatrixQCvis_1.18.0.tar.gz
###
##############################################################################
##############################################################################
* using log directory ‘/Users/biocbuild/bbs-3.22-bioc/meat/MatrixQCvis.Rcheck’
* using R version 4.5.1 Patched (2025-09-10 r88807)
* using platform: x86_64-apple-darwin20
* R was compiled by
    Apple clang version 14.0.0 (clang-1400.0.29.202)
    GNU Fortran (GCC) 14.2.0
* running under: macOS Monterey 12.7.6
* using session charset: UTF-8
* using option ‘--no-vignettes’
* checking for file ‘MatrixQCvis/DESCRIPTION’ ... OK
* checking extension type ... Package
* this is package ‘MatrixQCvis’ version ‘1.18.0’
* package encoding: UTF-8
* checking package namespace information ... OK
* checking package dependencies ... INFO
Imports includes 24 non-default packages.
Importing from so many packages makes the package vulnerable to any of
them becoming unavailable.  Move as many as possible to Suggests and
use conditionally.
* checking if this is a source package ... OK
* checking if there is a namespace ... OK
* checking for hidden files and directories ... OK
* checking for portable file names ... OK
* checking for sufficient/correct file permissions ... OK
* checking whether package ‘MatrixQCvis’ can be installed ... OK
* checking installed package size ... OK
* checking package directory ... OK
* checking ‘build’ directory ... OK
* checking DESCRIPTION meta-information ... OK
* checking top-level files ... OK
* checking for left-over files ... OK
* checking index information ... OK
* checking package subdirectories ... OK
* checking code files for non-ASCII characters ... OK
* checking R files for syntax errors ... OK
* checking whether the package can be loaded ... OK
* checking whether the package can be loaded with stated dependencies ... OK
* checking whether the package can be unloaded cleanly ... OK
* checking whether the namespace can be loaded with stated dependencies ... OK
* checking whether the namespace can be unloaded cleanly ... OK
* checking dependencies in R code ... OK
* checking S3 generic/method consistency ... OK
* checking replacement functions ... OK
* checking foreign function calls ... OK
* checking R code for possible problems ... OK
* checking Rd files ... OK
* checking Rd metadata ... OK
* checking Rd cross-references ... OK
* checking for missing documentation entries ... OK
* checking for code/documentation mismatches ... OK
* checking Rd \usage sections ... OK
* checking Rd contents ... OK
* checking for unstated dependencies in examples ... OK
* checking files in ‘vignettes’ ... OK
* checking examples ... OK
* checking for unstated dependencies in ‘tests’ ... OK
* checking tests ...
  Running ‘testthat.R’
 OK
* checking for unstated dependencies in vignettes ... OK
* checking package vignettes ... OK
* checking running R code from vignettes ... SKIPPED
* checking re-building of vignette outputs ... SKIPPED
* checking PDF version of manual ... OK
* DONE
Status: OK
MatrixQCvis.Rcheck/00install.out
############################################################################## ############################################################################## ### ### Running command: ### ### /Library/Frameworks/R.framework/Resources/bin/R CMD INSTALL MatrixQCvis ### ############################################################################## ############################################################################## * installing to library ‘/Library/Frameworks/R.framework/Versions/4.5-x86_64/Resources/library’ * installing *source* package ‘MatrixQCvis’ ... ** this is package ‘MatrixQCvis’ version ‘1.18.0’ ** using staged installation ** R ** inst ** byte-compile and prepare package for lazy loading ** help *** installing help indices ** building package indices ** installing vignettes ** testing if installed package can be loaded from temporary location ** testing if installed package can be loaded from final location ** testing if installed package keeps a record of temporary installation path * DONE (MatrixQCvis)
MatrixQCvis.Rcheck/tests/testthat.Rout
R version 4.5.1 Patched (2025-09-10 r88807) -- "Great Square Root"
Copyright (C) 2025 The R Foundation for Statistical Computing
Platform: x86_64-apple-darwin20
R is free software and comes with ABSOLUTELY NO WARRANTY.
You are welcome to redistribute it under certain conditions.
Type 'license()' or 'licence()' for distribution details.
R is a collaborative project with many contributors.
Type 'contributors()' for more information and
'citation()' on how to cite R or R packages in publications.
Type 'demo()' for some demos, 'help()' for on-line help, or
'help.start()' for an HTML browser interface to help.
Type 'q()' to quit R.
> library(testthat)
> library(MatrixQCvis)
Loading required package: DT
Loading required package: SummarizedExperiment
Loading required package: MatrixGenerics
Loading required package: matrixStats
Attaching package: 'MatrixGenerics'
The following objects are masked from 'package:matrixStats':
    colAlls, colAnyNAs, colAnys, colAvgsPerRowSet, colCollapse,
    colCounts, colCummaxs, colCummins, colCumprods, colCumsums,
    colDiffs, colIQRDiffs, colIQRs, colLogSumExps, colMadDiffs,
    colMads, colMaxs, colMeans2, colMedians, colMins, colOrderStats,
    colProds, colQuantiles, colRanges, colRanks, colSdDiffs, colSds,
    colSums2, colTabulates, colVarDiffs, colVars, colWeightedMads,
    colWeightedMeans, colWeightedMedians, colWeightedSds,
    colWeightedVars, rowAlls, rowAnyNAs, rowAnys, rowAvgsPerColSet,
    rowCollapse, rowCounts, rowCummaxs, rowCummins, rowCumprods,
    rowCumsums, rowDiffs, rowIQRDiffs, rowIQRs, rowLogSumExps,
    rowMadDiffs, rowMads, rowMaxs, rowMeans2, rowMedians, rowMins,
    rowOrderStats, rowProds, rowQuantiles, rowRanges, rowRanks,
    rowSdDiffs, rowSds, rowSums2, rowTabulates, rowVarDiffs, rowVars,
    rowWeightedMads, rowWeightedMeans, rowWeightedMedians,
    rowWeightedSds, rowWeightedVars
Loading required package: GenomicRanges
Loading required package: stats4
Loading required package: BiocGenerics
Loading required package: generics
Attaching package: 'generics'
The following objects are masked from 'package:base':
    as.difftime, as.factor, as.ordered, intersect, is.element, setdiff,
    setequal, union
Attaching package: 'BiocGenerics'
The following objects are masked from 'package:stats':
    IQR, mad, sd, var, xtabs
The following objects are masked from 'package:base':
    Filter, Find, Map, Position, Reduce, anyDuplicated, aperm, append,
    as.data.frame, basename, cbind, colnames, dirname, do.call,
    duplicated, eval, evalq, get, grep, grepl, is.unsorted, lapply,
    mapply, match, mget, order, paste, pmax, pmax.int, pmin, pmin.int,
    rank, rbind, rownames, sapply, saveRDS, table, tapply, unique,
    unsplit, which.max, which.min
Loading required package: S4Vectors
Attaching package: 'S4Vectors'
The following object is masked from 'package:utils':
    findMatches
The following objects are masked from 'package:base':
    I, expand.grid, unname
Loading required package: IRanges
Loading required package: Seqinfo
Loading required package: Biobase
Welcome to Bioconductor
    Vignettes contain introductory material; view with
    'browseVignettes()'. To cite Bioconductor, see
    'citation("Biobase")', and for packages 'citation("pkgname")'.
Attaching package: 'Biobase'
The following object is masked from 'package:MatrixGenerics':
    rowMedians
The following objects are masked from 'package:matrixStats':
    anyMissing, rowMedians
Loading required package: plotly
Loading required package: ggplot2
Attaching package: 'plotly'
The following object is masked from 'package:ggplot2':
    last_plot
The following object is masked from 'package:IRanges':
    slice
The following object is masked from 'package:S4Vectors':
    rename
The following object is masked from 'package:stats':
    filter
The following object is masked from 'package:graphics':
    layout
Loading required package: shiny
Attaching package: 'shiny'
The following objects are masked from 'package:DT':
    dataTableOutput, renderDataTable
> testthat::test_check("MatrixQCvis")
initial  value 0.091643 
final  value 0.091636 
converged
initial  value 0.091643 
final  value 0.091636 
converged
[1] "Perform batch correction using 100 features."
[1] 28.64894
[ FAIL 0 | WARN 6 | SKIP 0 | PASS 504 ]
[ FAIL 0 | WARN 6 | SKIP 0 | PASS 504 ]
> 
> proc.time()
   user  system elapsed 
 39.182   1.679  41.118 
MatrixQCvis.Rcheck/MatrixQCvis-Ex.timings
| name | user | system | elapsed | |
| ECDF | 0.554 | 0.010 | 0.565 | |
| MAplot | 2.532 | 0.125 | 2.669 | |
| MAvalues | 0.088 | 0.005 | 0.092 | |
| barplotSamplesMeasuredMissing | 0.850 | 0.087 | 0.951 | |
| batchCorrectionAssay | 3.755 | 0.062 | 3.830 | |
| createBoxplot | 0.529 | 0.004 | 0.534 | |
| createDfFeature | 0.004 | 0.001 | 0.003 | |
| cv | 0.001 | 0.001 | 0.000 | |
| cvFeaturePlot | 0.480 | 0.046 | 0.531 | |
| dimensionReduction | 1.131 | 0.153 | 1.288 | |
| dimensionReductionPlot | 0.378 | 0.045 | 0.434 | |
| distSample | 0.818 | 0.020 | 0.840 | |
| distShiny | 0.001 | 0.001 | 0.002 | |
| driftPlot | 0.677 | 0.035 | 0.714 | |
| explVar | 0.006 | 0.001 | 0.007 | |
| extractComb | 0.024 | 0.001 | 0.025 | |
| featurePlot | 0.432 | 0.002 | 0.435 | |
| histFeature | 0.330 | 0.035 | 0.367 | |
| histFeatureCategory | 0.361 | 0.032 | 0.395 | |
| hist_sample | 0.430 | 0.034 | 0.468 | |
| hist_sample_num | 0.031 | 0.000 | 0.032 | |
| hoeffDPlot | 1.220 | 0.074 | 1.302 | |
| hoeffDValues | 0.210 | 0.002 | 0.212 | |
| imputeAssay | 0.006 | 0.002 | 0.008 | |
| measuredCategory | 0.022 | 0.000 | 0.022 | |
| mosaic | 0.493 | 0.003 | 0.498 | |
| normalizeAssay | 0.000 | 0.000 | 0.002 | |
| permuteExplVar | 0.010 | 0.001 | 0.012 | |
| plotCV | 0.324 | 0.002 | 0.327 | |
| plotPCALoadings | 0.376 | 0.036 | 0.413 | |
| plotPCAVar | 0.464 | 0.003 | 0.469 | |
| plotPCAVarPvalue | 0.370 | 0.002 | 0.373 | |
| samplesMeasuredMissing | 0.043 | 0.000 | 0.043 | |
| shinyQC | 0.041 | 0.001 | 0.042 | |
| sumDistSample | 0.394 | 0.034 | 0.429 | |
| tblPCALoadings | 0.126 | 0.001 | 0.128 | |
| transformAssay | 0.052 | 0.019 | 0.073 | |
| upsetCategory | 0.928 | 0.009 | 0.939 | |
| volcanoPlot | 0.383 | 0.040 | 0.426 | |