| Back to Multiple platform build/check report for BioC 3.22: simplified long | 
  | 
This page was generated on 2025-10-21 12:07 -0400 (Tue, 21 Oct 2025).
| Hostname | OS | Arch (*) | R version | Installed pkgs | 
|---|---|---|---|---|
| nebbiolo2 | Linux (Ubuntu 24.04.3 LTS) | x86_64 | 4.5.1 Patched (2025-08-23 r88802) -- "Great Square Root" | 4887 | 
| lconway | macOS 12.7.6 Monterey | x86_64 | 4.5.1 Patched (2025-09-10 r88807) -- "Great Square Root" | 4677 | 
| kjohnson3 | macOS 13.7.7 Ventura | arm64 | 4.5.1 Patched (2025-09-10 r88807) -- "Great Square Root" | 4622 | 
| taishan | Linux (openEuler 24.03 LTS) | aarch64 | 4.5.0 (2025-04-11) -- "How About a Twenty-Six" | 4642 | 
| Click on any hostname to see more info about the system (e.g. compilers) (*) as reported by 'uname -p', except on Windows and Mac OS X | ||||
| Package 1400/2353 | Hostname | OS / Arch | INSTALL | BUILD | CHECK | BUILD BIN | ||||||||
| MSstatsTMT 2.17.0  (landing page) Devon Kohler 
  | nebbiolo2 | Linux (Ubuntu 24.04.3 LTS) / x86_64 | OK | OK | OK | |||||||||
| lconway | macOS 12.7.6 Monterey / x86_64 | OK | OK | OK | OK | |||||||||
| kjohnson3 | macOS 13.7.7 Ventura / arm64 | OK | OK | OK | OK | |||||||||
| taishan | Linux (openEuler 24.03 LTS) / aarch64 | OK | OK | OK | ||||||||||
| 
To the developers/maintainers of the MSstatsTMT package: - Allow up to 24 hours (and sometimes 48 hours) for your latest push to git@git.bioconductor.org:packages/MSstatsTMT.git to reflect on this report. See Troubleshooting Build Report for more information. - Use the following Renviron settings to reproduce errors and warnings. - If 'R CMD check' started to fail recently on the Linux builder(s) over a missing dependency, add the missing dependency to 'Suggests:' in your DESCRIPTION file. See Renviron.bioc for more information. - See Martin Grigorov's blog post for how to debug Linux ARM64 related issues on a x86_64 host.  | 
| Package: MSstatsTMT | 
| Version: 2.17.0 | 
| Command: /home/biocbuild/R/R/bin/R CMD check --install=check:MSstatsTMT.install-out.txt --library=/home/biocbuild/R/R/site-library --no-vignettes --timings MSstatsTMT_2.17.0.tar.gz | 
| StartedAt: 2025-10-17 11:28:42 -0000 (Fri, 17 Oct 2025) | 
| EndedAt: 2025-10-17 11:31:42 -0000 (Fri, 17 Oct 2025) | 
| EllapsedTime: 180.1 seconds | 
| RetCode: 0 | 
| Status: OK | 
| CheckDir: MSstatsTMT.Rcheck | 
| Warnings: 0 | 
##############################################################################
##############################################################################
###
### Running command:
###
###   /home/biocbuild/R/R/bin/R CMD check --install=check:MSstatsTMT.install-out.txt --library=/home/biocbuild/R/R/site-library --no-vignettes --timings MSstatsTMT_2.17.0.tar.gz
###
##############################################################################
##############################################################################
* using log directory ‘/home/biocbuild/bbs-3.22-bioc/meat/MSstatsTMT.Rcheck’
* using R version 4.5.0 (2025-04-11)
* using platform: aarch64-unknown-linux-gnu
* R was compiled by
    aarch64-unknown-linux-gnu-gcc (GCC) 14.2.0
    GNU Fortran (GCC) 14.2.0
* running under: openEuler 24.03 (LTS)
* using session charset: UTF-8
* using option ‘--no-vignettes’
* checking for file ‘MSstatsTMT/DESCRIPTION’ ... OK
* this is package ‘MSstatsTMT’ version ‘2.17.0’
* package encoding: UTF-8
* checking package namespace information ... OK
* checking package dependencies ... OK
* checking if this is a source package ... OK
* checking if there is a namespace ... OK
* checking for hidden files and directories ... OK
* checking for portable file names ... OK
* checking for sufficient/correct file permissions ... OK
* checking whether package ‘MSstatsTMT’ can be installed ... OK
* checking installed package size ... OK
* checking package directory ... OK
* checking ‘build’ directory ... OK
* checking DESCRIPTION meta-information ... OK
* checking top-level files ... OK
* checking for left-over files ... OK
* checking index information ... OK
* checking package subdirectories ... OK
* checking code files for non-ASCII characters ... OK
* checking R files for syntax errors ... OK
* checking whether the package can be loaded ... OK
* checking whether the package can be loaded with stated dependencies ... OK
* checking whether the package can be unloaded cleanly ... OK
* checking whether the namespace can be loaded with stated dependencies ... OK
* checking whether the namespace can be unloaded cleanly ... OK
* checking loading without being on the library search path ... OK
* checking dependencies in R code ... OK
* checking S3 generic/method consistency ... OK
* checking replacement functions ... OK
* checking foreign function calls ... OK
* checking R code for possible problems ... NOTE
.checkRepeatedMeasures: no visible global function definition for ‘.’
.checkSingleSubject: no visible global function definition for ‘.’
.checkTechReplicate: no visible global function definition for ‘.’
.getGroupLabel: no visible binding for global variable ‘Condition’
.getVarComponentTMT : <anonymous>: no visible global function
  definition for ‘is’
.handleSingleContrastTMT: no visible global function definition for
  ‘.mygrad’
.plotProfileTMT: no visible global function definition for ‘.’
.plotProfileTMT: no visible binding for global variable ‘censored’
.savePlotlyPlotHTML: no visible global function definition for ‘zip’
Undefined global functions or variables:
  . .mygrad Condition censored is zip
Consider adding
  importFrom("methods", "is")
  importFrom("utils", "zip")
to your NAMESPACE file (and ensure that your DESCRIPTION Imports field
contains 'methods').
* checking Rd files ... OK
* checking Rd metadata ... OK
* checking Rd cross-references ... OK
* checking for missing documentation entries ... OK
* checking for code/documentation mismatches ... OK
* checking Rd \usage sections ... NOTE
Documented arguments not in \usage in Rd file 'dot-documentFunction.Rd':
  ‘removeProtein_with1Peptide’ ‘use_log_file’ ‘append’ ‘verbose’
  ‘log_file_path’
Functions with \usage entries need to have the appropriate \alias
entries, and all their arguments documented.
The \usage entries must correspond to syntactically valid R code.
See chapter ‘Writing R documentation files’ in the ‘Writing R
Extensions’ manual.
* checking Rd contents ... OK
* checking for unstated dependencies in examples ... OK
* checking contents of ‘data’ directory ... OK
* checking data for non-ASCII characters ... OK
* checking LazyData ... OK
* checking data for ASCII and uncompressed saves ... OK
* checking files in ‘vignettes’ ... OK
* checking examples ... OK
Examples with CPU (user + system) or elapsed time > 5s
                       user system elapsed
dataProcessPlotsTMT  43.896  0.372  44.209
groupComparisonTMT    7.432  0.148   7.438
designSampleSizeTMT   7.078  0.100   7.036
proteinSummarization  5.232  0.056   5.144
* checking for unstated dependencies in ‘tests’ ... OK
* checking tests ...
  Running ‘testthat.R’
 OK
* checking for unstated dependencies in vignettes ... OK
* checking package vignettes ... OK
* checking running R code from vignettes ... SKIPPED
* checking re-building of vignette outputs ... SKIPPED
* checking PDF version of manual ... OK
* DONE
Status: 2 NOTEs
See
  ‘/home/biocbuild/bbs-3.22-bioc/meat/MSstatsTMT.Rcheck/00check.log’
for details.
MSstatsTMT.Rcheck/00install.out
############################################################################## ############################################################################## ### ### Running command: ### ### /home/biocbuild/R/R/bin/R CMD INSTALL MSstatsTMT ### ############################################################################## ############################################################################## * installing to library ‘/home/biocbuild/R/R-4.5.0/site-library’ * installing *source* package ‘MSstatsTMT’ ... ** this is package ‘MSstatsTMT’ version ‘2.17.0’ ** using staged installation ** R ** data *** moving datasets to lazyload DB ** inst ** byte-compile and prepare package for lazy loading ** help *** installing help indices ** building package indices ** installing vignettes ** testing if installed package can be loaded from temporary location ** testing if installed package can be loaded from final location ** testing if installed package keeps a record of temporary installation path * DONE (MSstatsTMT)
MSstatsTMT.Rcheck/tests/testthat.Rout
R version 4.5.0 (2025-04-11) -- "How About a Twenty-Six"
Copyright (C) 2025 The R Foundation for Statistical Computing
Platform: aarch64-unknown-linux-gnu
R is free software and comes with ABSOLUTELY NO WARRANTY.
You are welcome to redistribute it under certain conditions.
Type 'license()' or 'licence()' for distribution details.
R is a collaborative project with many contributors.
Type 'contributors()' for more information and
'citation()' on how to cite R or R packages in publications.
Type 'demo()' for some demos, 'help()' for on-line help, or
'help.start()' for an HTML browser interface to help.
Type 'q()' to quit R.
> library(testthat)
> library(MSstatsTMT)
> 
> test_check("MSstatsTMT")
INFO  [2025-10-17 11:31:27] ** Raw data from ProteomeDiscoverer imported successfully.
INFO  [2025-10-17 11:31:28] ** Raw data from ProteomeDiscoverer cleaned successfully.
INFO  [2025-10-17 11:31:28] ** Using provided annotation.
INFO  [2025-10-17 11:31:28] ** Raw data from MaxQuant imported successfully.
INFO  [2025-10-17 11:31:28] ** Rows with values of Potentialcontaminant equal to + are removed 
INFO  [2025-10-17 11:31:28] ** Rows with values of Reverse equal to + are removed 
INFO  [2025-10-17 11:31:28] ** Rows with values of Potentialcontaminant equal to + are removed 
INFO  [2025-10-17 11:31:28] ** Rows with values of Reverse equal to + are removed 
INFO  [2025-10-17 11:31:28] ** + Contaminant, + Reverse, + Potential.contaminant proteins are removed.
INFO  [2025-10-17 11:31:28] ** Features with all missing measurements across channels within each run are removed.
INFO  [2025-10-17 11:31:28] ** Raw data from MaxQuant cleaned successfully.
INFO  [2025-10-17 11:31:28] ** Using provided annotation.
INFO  [2025-10-17 11:31:28] ** Run and Channel labels were standardized to remove symbols such as '.' or '%'.
INFO  [2025-10-17 11:31:28] ** The following options are used:
  - Features will be defined by the columns: PeptideSequence, PrecursorCharge
  - Shared peptides will be removed.
  - Proteins with single feature will not be removed.
  - Features with less than 3 measurements within each run will be removed.
INFO  [2025-10-17 11:31:28] ** Features with all missing measurements across channels within each run are removed.
INFO  [2025-10-17 11:31:28] ** Shared peptides are removed.
INFO  [2025-10-17 11:31:28] ** Features with one or two measurements across channels within each run are removed.
INFO  [2025-10-17 11:31:28] ** PSMs have been aggregated to peptide ions.
INFO  [2025-10-17 11:31:28] ** Raw data from SpectroMine imported successfully.
INFO  [2025-10-17 11:31:28] ** Raw data from SpectroMine cleaned successfully.
INFO  [2025-10-17 11:31:28] ** Using provided annotation.
INFO  [2025-10-17 11:31:28] ** Run and Channel labels were standardized to remove symbols such as '.' or '%'.
INFO  [2025-10-17 11:31:28] Design: 5 mixtures.
INFO  [2025-10-17 11:31:28] Design: 3 technical replicated MS runs per mixture.
INFO  [2025-10-17 11:31:28] Design: 1 subject per condition (No biological variation).
INFO  [2025-10-17 11:31:28] Model fitting for 10 proteins.
  |                                                                            
  |                                                                      |   0%
  |                                                                            
  |=======                                                               |  10%
  |                                                                            
  |==============                                                        |  20%
  |                                                                            
  |=====================                                                 |  30%
  |                                                                            
  |============================                                          |  40%
  |                                                                            
  |===================================                                   |  50%
  |                                                                            
  |==========================================                            |  60%
  |                                                                            
  |=================================================                     |  70%
  |                                                                            
  |========================================================              |  80%
  |                                                                            
  |===============================================================       |  90%
  |                                                                            
  |======================================================================| 100%
INFO  [2025-10-17 11:31:29] Testing for 10 proteins:
  |                                                                            
  |                                                                      |   0%
  |                                                                            
  |=======                                                               |  10%
  |                                                                            
  |==============                                                        |  20%
  |                                                                            
  |=====================                                                 |  30%
  |                                                                            
  |============================                                          |  40%
  |                                                                            
  |===================================                                   |  50%
  |                                                                            
  |==========================================                            |  60%
  |                                                                            
  |=================================================                     |  70%
  |                                                                            
  |========================================================              |  80%
  |                                                                            
  |===============================================================       |  90%
  |                                                                            
  |======================================================================| 100%
INFO  [2025-10-17 11:31:29] Design: 5 mixtures.
INFO  [2025-10-17 11:31:29] Design: 3 technical replicated MS runs per mixture.
INFO  [2025-10-17 11:31:29] Design: 1 subject per condition (No biological variation).
INFO  [2025-10-17 11:31:29] Model fitting for 10 proteins.
  |                                                                            
  |                                                                      |   0%
  |                                                                            
  |=======                                                               |  10%
  |                                                                            
  |==============                                                        |  20%
  |                                                                            
  |=====================                                                 |  30%
  |                                                                            
  |============================                                          |  40%
  |                                                                            
  |===================================                                   |  50%
  |                                                                            
  |==========================================                            |  60%
  |                                                                            
  |=================================================                     |  70%
  |                                                                            
  |========================================================              |  80%
  |                                                                            
  |===============================================================       |  90%
  |                                                                            
  |======================================================================| 100%
INFO  [2025-10-17 11:31:31] ** MSstatsTMT - proteinSummarization function
INFO  [2025-10-17 11:31:31] Summarizing for Run : 161117_SILAC_HeLa_UPS1_TMT10_Mixture1_01raw ( 1  of  15 )
  |                                                                            
  |                                                                      |   0%
  |                                                                            
  |=======                                                               |  10%
  |                                                                            
  |==============                                                        |  20%
  |                                                                            
  |=====================                                                 |  30%
  |                                                                            
  |============================                                          |  40%
  |                                                                            
  |===================================                                   |  50%
  |                                                                            
  |==========================================                            |  60%
  |                                                                            
  |=================================================                     |  70%
  |                                                                            
  |========================================================              |  80%
  |                                                                            
  |===============================================================       |  90%
  |                                                                            
  |======================================================================| 100%
INFO  [2025-10-17 11:31:31] Summarizing for Run : 161117_SILAC_HeLa_UPS1_TMT10_Mixture1_02raw ( 2  of  15 )
  |                                                                            
  |                                                                      |   0%
  |                                                                            
  |=======                                                               |  10%
  |                                                                            
  |==============                                                        |  20%
  |                                                                            
  |=====================                                                 |  30%
  |                                                                            
  |============================                                          |  40%
  |                                                                            
  |===================================                                   |  50%
  |                                                                            
  |==========================================                            |  60%
  |                                                                            
  |=================================================                     |  70%
  |                                                                            
  |========================================================              |  80%
  |                                                                            
  |===============================================================       |  90%
  |                                                                            
  |======================================================================| 100%
INFO  [2025-10-17 11:31:32] Summarizing for Run : 161117_SILAC_HeLa_UPS1_TMT10_Mixture2_01raw ( 3  of  15 )
  |                                                                            
  |                                                                      |   0%
  |                                                                            
  |=======                                                               |  10%
  |                                                                            
  |==============                                                        |  20%
  |                                                                            
  |=====================                                                 |  30%
  |                                                                            
  |============================                                          |  40%
  |                                                                            
  |===================================                                   |  50%
  |                                                                            
  |==========================================                            |  60%
  |                                                                            
  |=================================================                     |  70%
  |                                                                            
  |========================================================              |  80%
  |                                                                            
  |===============================================================       |  90%
  |                                                                            
  |======================================================================| 100%
INFO  [2025-10-17 11:31:32] Summarizing for Run : 161117_SILAC_HeLa_UPS1_TMT10_Mixture2_02raw ( 4  of  15 )
  |                                                                            
  |                                                                      |   0%
  |                                                                            
  |=======                                                               |  10%
  |                                                                            
  |==============                                                        |  20%
  |                                                                            
  |=====================                                                 |  30%
  |                                                                            
  |============================                                          |  40%
  |                                                                            
  |===================================                                   |  50%
  |                                                                            
  |==========================================                            |  60%
  |                                                                            
  |=================================================                     |  70%
  |                                                                            
  |========================================================              |  80%
  |                                                                            
  |===============================================================       |  90%
  |                                                                            
  |======================================================================| 100%
INFO  [2025-10-17 11:31:32] Summarizing for Run : 161117_SILAC_HeLa_UPS1_TMT10_Mixture2_03raw ( 5  of  15 )
  |                                                                            
  |                                                                      |   0%
  |                                                                            
  |=======                                                               |  10%
  |                                                                            
  |==============                                                        |  20%
  |                                                                            
  |=====================                                                 |  30%
  |                                                                            
  |============================                                          |  40%
  |                                                                            
  |===================================                                   |  50%
  |                                                                            
  |==========================================                            |  60%
  |                                                                            
  |=================================================                     |  70%
  |                                                                            
  |========================================================              |  80%
  |                                                                            
  |===============================================================       |  90%
  |                                                                            
  |======================================================================| 100%
INFO  [2025-10-17 11:31:33] Summarizing for Run : 161117_SILAC_HeLa_UPS1_TMT10_Mixture3_01raw ( 6  of  15 )
  |                                                                            
  |                                                                      |   0%
  |                                                                            
  |=======                                                               |  10%
  |                                                                            
  |==============                                                        |  20%
  |                                                                            
  |=====================                                                 |  30%
  |                                                                            
  |============================                                          |  40%
  |                                                                            
  |===================================                                   |  50%
  |                                                                            
  |==========================================                            |  60%
  |                                                                            
  |=================================================                     |  70%
  |                                                                            
  |========================================================              |  80%
  |                                                                            
  |===============================================================       |  90%
  |                                                                            
  |======================================================================| 100%
INFO  [2025-10-17 11:31:33] Summarizing for Run : 161117_SILAC_HeLa_UPS1_TMT10_Mixture3_02raw ( 7  of  15 )
  |                                                                            
  |                                                                      |   0%
  |                                                                            
  |=======                                                               |  10%
  |                                                                            
  |==============                                                        |  20%
  |                                                                            
  |=====================                                                 |  30%
  |                                                                            
  |============================                                          |  40%
  |                                                                            
  |===================================                                   |  50%
  |                                                                            
  |==========================================                            |  60%
  |                                                                            
  |=================================================                     |  70%
  |                                                                            
  |========================================================              |  80%
  |                                                                            
  |===============================================================       |  90%
  |                                                                            
  |======================================================================| 100%
INFO  [2025-10-17 11:31:33] Summarizing for Run : 161117_SILAC_HeLa_UPS1_TMT10_Mixture4_01raw ( 8  of  15 )
  |                                                                            
  |                                                                      |   0%
  |                                                                            
  |=======                                                               |  10%
  |                                                                            
  |==============                                                        |  20%
  |                                                                            
  |=====================                                                 |  30%
  |                                                                            
  |============================                                          |  40%
  |                                                                            
  |===================================                                   |  50%
  |                                                                            
  |==========================================                            |  60%
  |                                                                            
  |=================================================                     |  70%
  |                                                                            
  |========================================================              |  80%
  |                                                                            
  |===============================================================       |  90%
  |                                                                            
  |======================================================================| 100%
INFO  [2025-10-17 11:31:34] Summarizing for Run : 161117_SILAC_HeLa_UPS1_TMT10_Mixture4_02raw ( 9  of  15 )
  |                                                                            
  |                                                                      |   0%
  |                                                                            
  |=======                                                               |  10%
  |                                                                            
  |==============                                                        |  20%
  |                                                                            
  |=====================                                                 |  30%
  |                                                                            
  |============================                                          |  40%
  |                                                                            
  |===================================                                   |  50%
  |                                                                            
  |==========================================                            |  60%
  |                                                                            
  |=================================================                     |  70%
  |                                                                            
  |========================================================              |  80%
  |                                                                            
  |===============================================================       |  90%
  |                                                                            
  |======================================================================| 100%
INFO  [2025-10-17 11:31:34] Summarizing for Run : 161117_SILAC_HeLa_UPS1_TMT10_Mixture5_01raw ( 10  of  15 )
  |                                                                            
  |                                                                      |   0%
  |                                                                            
  |=======                                                               |  10%
  |                                                                            
  |==============                                                        |  20%
  |                                                                            
  |=====================                                                 |  30%
  |                                                                            
  |============================                                          |  40%
  |                                                                            
  |===================================                                   |  50%
  |                                                                            
  |==========================================                            |  60%
  |                                                                            
  |=================================================                     |  70%
  |                                                                            
  |========================================================              |  80%
  |                                                                            
  |===============================================================       |  90%
  |                                                                            
  |======================================================================| 100%
INFO  [2025-10-17 11:31:35] Summarizing for Run : 161117_SILAC_HeLa_UPS1_TMT10_Mixture5_02raw ( 11  of  15 )
  |                                                                            
  |                                                                      |   0%
  |                                                                            
  |=======                                                               |  10%
  |                                                                            
  |==============                                                        |  20%
  |                                                                            
  |=====================                                                 |  30%
  |                                                                            
  |============================                                          |  40%
  |                                                                            
  |===================================                                   |  50%
  |                                                                            
  |==========================================                            |  60%
  |                                                                            
  |=================================================                     |  70%
  |                                                                            
  |========================================================              |  80%
  |                                                                            
  |===============================================================       |  90%
  |                                                                            
  |======================================================================| 100%
INFO  [2025-10-17 11:31:35] Summarizing for Run : 161117_SILAC_HeLa_UPS1_TMT10_Mixture4_03raw ( 12  of  15 )
  |                                                                            
  |                                                                      |   0%
  |                                                                            
  |=======                                                               |  10%
  |                                                                            
  |==============                                                        |  20%
  |                                                                            
  |=====================                                                 |  30%
  |                                                                            
  |============================                                          |  40%
  |                                                                            
  |===================================                                   |  50%
  |                                                                            
  |==========================================                            |  60%
  |                                                                            
  |=================================================                     |  70%
  |                                                                            
  |========================================================              |  80%
  |                                                                            
  |===============================================================       |  90%
  |                                                                            
  |======================================================================| 100%
INFO  [2025-10-17 11:31:35] Summarizing for Run : 161117_SILAC_HeLa_UPS1_TMT10_Mixture5_03raw ( 13  of  15 )
  |                                                                            
  |                                                                      |   0%
  |                                                                            
  |=======                                                               |  10%
  |                                                                            
  |==============                                                        |  20%
  |                                                                            
  |=====================                                                 |  30%
  |                                                                            
  |============================                                          |  40%
  |                                                                            
  |===================================                                   |  50%
  |                                                                            
  |==========================================                            |  60%
  |                                                                            
  |=================================================                     |  70%
  |                                                                            
  |========================================================              |  80%
  |                                                                            
  |===============================================================       |  90%
  |                                                                            
  |======================================================================| 100%
INFO  [2025-10-17 11:31:36] Summarizing for Run : 161117_SILAC_HeLa_UPS1_TMT10_Mixture1_03raw ( 14  of  15 )
  |                                                                            
  |                                                                      |   0%
  |                                                                            
  |=======                                                               |  10%
  |                                                                            
  |==============                                                        |  20%
  |                                                                            
  |=====================                                                 |  30%
  |                                                                            
  |============================                                          |  40%
  |                                                                            
  |===================================                                   |  50%
  |                                                                            
  |==========================================                            |  60%
  |                                                                            
  |=================================================                     |  70%
  |                                                                            
  |========================================================              |  80%
  |                                                                            
  |===============================================================       |  90%
  |                                                                            
  |======================================================================| 100%
INFO  [2025-10-17 11:31:36] Summarizing for Run : 161117_SILAC_HeLa_UPS1_TMT10_Mixture3_03raw ( 15  of  15 )
  |                                                                            
  |                                                                      |   0%
  |                                                                            
  |=======                                                               |  10%
  |                                                                            
  |==============                                                        |  20%
  |                                                                            
  |=====================                                                 |  30%
  |                                                                            
  |============================                                          |  40%
  |                                                                            
  |===================================                                   |  50%
  |                                                                            
  |==========================================                            |  60%
  |                                                                            
  |=================================================                     |  70%
  |                                                                            
  |========================================================              |  80%
  |                                                                            
  |===============================================================       |  90%
  |                                                                            
  |======================================================================| 100%
INFO  [2025-10-17 11:31:36] ** Protein-level summarization done by MSstats.
INFO  [2025-10-17 11:31:37] ** MSstatsTMT - proteinSummarization function
INFO  [2025-10-17 11:31:37] ** MSstatsTMT - proteinSummarization function
INFO  [2025-10-17 11:31:37] ** MSstatsTMT - proteinSummarization function
INFO  [2025-10-17 11:31:37] ** MSstatsTMT - proteinSummarization function
INFO  [2025-10-17 11:31:37] ** MSstatsTMT - proteinSummarization function
INFO  [2025-10-17 11:31:37] ** MSstatsTMT - proteinSummarization function
INFO  [2025-10-17 11:31:37] ** MSstatsTMT - proteinSummarization function
INFO  [2025-10-17 11:31:37] ** MSstatsTMT - proteinSummarization function
INFO  [2025-10-17 11:31:37] ** MSstatsTMT - proteinSummarization function
INFO  [2025-10-17 11:31:37] ** MSstatsTMT - proteinSummarization function
INFO  [2025-10-17 11:31:37] ** MSstatsTMT - proteinSummarization function
INFO  [2025-10-17 11:31:37] ** MSstatsTMT - proteinSummarization function
INFO  [2025-10-17 11:31:37] ** MSstatsTMT - proteinSummarization function
INFO  [2025-10-17 11:31:37] ** MSstatsTMT - proteinSummarization function
INFO  [2025-10-17 11:31:37] ** MSstatsTMT - proteinSummarization function
INFO  [2025-10-17 11:31:37] Summarizing for Run : 161117_SILAC_HeLa_UPS1_TMT10_Mixture1_01raw ( 1  of  15 )
[ FAIL 0 | WARN 0 | SKIP 0 | PASS 27 ]
> 
> proc.time()
   user  system elapsed 
 14.013   0.586  14.432 
MSstatsTMT.Rcheck/MSstatsTMT-Ex.timings
| name | user | system | elapsed | |
| MaxQtoMSstatsTMTFormat | 0.733 | 0.064 | 0.777 | |
| OpenMStoMSstatsTMTFormat | 0.172 | 0.000 | 0.172 | |
| PDtoMSstatsTMTFormat | 2.176 | 0.030 | 2.178 | |
| SpectroMinetoMSstatsTMTFormat | 0.299 | 0.005 | 0.305 | |
| annotation.mine | 0.002 | 0.000 | 0.002 | |
| annotation.mq | 0.002 | 0.000 | 0.002 | |
| annotation.pd | 0.002 | 0.000 | 0.002 | |
| dataProcessPlotsTMT | 43.896 | 0.372 | 44.209 | |
| designSampleSizeTMT | 7.078 | 0.100 | 7.036 | |
| evidence | 0.032 | 0.000 | 0.032 | |
| groupComparisonTMT | 7.432 | 0.148 | 7.438 | |
| input.pd | 0.029 | 0.004 | 0.033 | |
| proteinGroups | 0.194 | 0.008 | 0.203 | |
| proteinSummarization | 5.232 | 0.056 | 5.144 | |
| quant.pd.msstats | 0.028 | 0.000 | 0.028 | |
| raw.mine | 0.006 | 0.000 | 0.006 | |
| raw.om | 0.003 | 0.000 | 0.003 | |
| raw.pd | 0.016 | 0.000 | 0.016 | |
| test.pairwise | 0.004 | 0.000 | 0.003 | |