| Back to Multiple platform build/check report for BioC 3.21: simplified long | 
 | 
This page was generated on 2025-04-22 13:18 -0400 (Tue, 22 Apr 2025).
| Hostname | OS | Arch (*) | R version | Installed pkgs | 
|---|---|---|---|---|
| nebbiolo1 | Linux (Ubuntu 24.04.1 LTS) | x86_64 | 4.5.0 RC (2025-04-04 r88126) -- "How About a Twenty-Six" | 4831 | 
| palomino7 | Windows Server 2022 Datacenter | x64 | 4.5.0 RC (2025-04-04 r88126 ucrt) -- "How About a Twenty-Six" | 4573 | 
| lconway | macOS 12.7.1 Monterey | x86_64 | 4.5.0 RC (2025-04-04 r88126) -- "How About a Twenty-Six" | 4599 | 
| kjohnson3 | macOS 13.7.1 Ventura | arm64 | 4.5.0 RC (2025-04-04 r88126) -- "How About a Twenty-Six" | 4553 | 
| kunpeng2 | Linux (openEuler 24.03 LTS) | aarch64 | R Under development (unstable) (2025-02-19 r87757) -- "Unsuffered Consequences" | 4570 | 
| Click on any hostname to see more info about the system (e.g. compilers) (*) as reported by 'uname -p', except on Windows and Mac OS X | ||||
| Package 1385/2341 | Hostname | OS / Arch | INSTALL | BUILD | CHECK | BUILD BIN | ||||||||
| MSstatsPTM 2.10.0  (landing page) Devon Kohler 
 | nebbiolo1 | Linux (Ubuntu 24.04.1 LTS) / x86_64 | OK | OK | OK |  | ||||||||
| palomino7 | Windows Server 2022 Datacenter / x64 | OK | OK | OK | OK |  | ||||||||
| lconway | macOS 12.7.1 Monterey / x86_64 | OK | OK | OK | OK |  | ||||||||
| kjohnson3 | macOS 13.7.1 Ventura / arm64 | OK | OK | OK | OK |  | ||||||||
| kunpeng2 | Linux (openEuler 24.03 LTS) / aarch64 | OK | OK | OK | ||||||||||
| To the developers/maintainers of the MSstatsPTM package: - Allow up to 24 hours (and sometimes 48 hours) for your latest push to git@git.bioconductor.org:packages/MSstatsPTM.git to reflect on this report. See Troubleshooting Build Report for more information. - Use the following Renviron settings to reproduce errors and warnings. - If 'R CMD check' started to fail recently on the Linux builder(s) over a missing dependency, add the missing dependency to 'Suggests:' in your DESCRIPTION file. See Renviron.bioc for more information. | 
| Package: MSstatsPTM | 
| Version: 2.10.0 | 
| Command: /Library/Frameworks/R.framework/Resources/bin/R CMD check --install=check:MSstatsPTM.install-out.txt --library=/Library/Frameworks/R.framework/Resources/library --no-vignettes --timings MSstatsPTM_2.10.0.tar.gz | 
| StartedAt: 2025-04-21 20:33:39 -0400 (Mon, 21 Apr 2025) | 
| EndedAt: 2025-04-21 20:34:57 -0400 (Mon, 21 Apr 2025) | 
| EllapsedTime: 77.9 seconds | 
| RetCode: 0 | 
| Status: OK | 
| CheckDir: MSstatsPTM.Rcheck | 
| Warnings: 0 | 
##############################################################################
##############################################################################
###
### Running command:
###
###   /Library/Frameworks/R.framework/Resources/bin/R CMD check --install=check:MSstatsPTM.install-out.txt --library=/Library/Frameworks/R.framework/Resources/library --no-vignettes --timings MSstatsPTM_2.10.0.tar.gz
###
##############################################################################
##############################################################################
* using log directory ‘/Users/biocbuild/bbs-3.21-bioc/meat/MSstatsPTM.Rcheck’
* using R version 4.5.0 RC (2025-04-04 r88126)
* using platform: aarch64-apple-darwin20
* R was compiled by
    Apple clang version 14.0.0 (clang-1400.0.29.202)
    GNU Fortran (GCC) 14.2.0
* running under: macOS Ventura 13.7.1
* using session charset: UTF-8
* using option ‘--no-vignettes’
* checking for file ‘MSstatsPTM/DESCRIPTION’ ... OK
* checking extension type ... Package
* this is package ‘MSstatsPTM’ version ‘2.10.0’
* package encoding: UTF-8
* checking package namespace information ... OK
* checking package dependencies ... OK
* checking if this is a source package ... OK
* checking if there is a namespace ... OK
* checking for hidden files and directories ... NOTE
Found the following hidden files and directories:
  .travis.yml
These were most likely included in error. See section ‘Package
structure’ in the ‘Writing R Extensions’ manual.
* checking for portable file names ... OK
* checking for sufficient/correct file permissions ... OK
* checking whether package ‘MSstatsPTM’ can be installed ... OK
* used C++ compiler: ‘Apple clang version 15.0.0 (clang-1500.1.0.2.5)’
* used SDK: ‘MacOSX11.3.sdk’
* checking installed package size ... OK
* checking package directory ... OK
* checking ‘build’ directory ... OK
* checking DESCRIPTION meta-information ... OK
* checking top-level files ... OK
* checking for left-over files ... OK
* checking index information ... OK
* checking package subdirectories ... OK
* checking code files for non-ASCII characters ... OK
* checking R files for syntax errors ... OK
* checking whether the package can be loaded ... OK
* checking whether the package can be loaded with stated dependencies ... OK
* checking whether the package can be unloaded cleanly ... OK
* checking whether the namespace can be loaded with stated dependencies ... OK
* checking whether the namespace can be unloaded cleanly ... OK
* checking dependencies in R code ... NOTE
Unexported objects imported by ':::' calls:
  ‘MSstats:::.getMedianSigmaSubject’ ‘MSstats:::.getVarComponent’
  ‘MSstatsConvert:::.filterFewMeasurements’
  ‘MSstatsConvert:::.filterManyColumns’
  ‘MSstatsConvert:::.getChannelColumns’
  ‘MSstatsConvert:::.standardizeColnames’
  See the note in ?`:::` about the use of this operator.
* checking S3 generic/method consistency ... OK
* checking replacement functions ... OK
* checking foreign function calls ... OK
* checking R code for possible problems ... NOTE
.extract_pd_mods: no visible binding for global variable
  ‘..sequence_col’
.format.data.process.plots: no visible binding for global variable
  ‘ABUNDANCE’
.pivotPS: no visible binding for global variable ‘..keep_cols’
.plot.model.volcano: no visible binding for global variable
  ‘text.angle’
.progensis.add.sites: no visible binding for global variable
  ‘..col_order’
.qc.all.plot.lf: no visible binding for global variable ‘text.angle’
.qc.single.plot.lf: no visible binding for global variable ‘text.angle’
.removeCutoffSites: no visible binding for global variable
  ‘..mod_pep_col’
.rmConfounded: no visible binding for global variable ‘..col_res’
DIANNtoMSstatsPTMFormat: no visible binding for global variable
  ‘..protein_id_col’
FragPipetoMSstatsPTMFormat: no visible binding for global variable
  ‘..msstats_cols’
MSstatsPTMSiteLocator: no visible binding for global variable
  ‘..mod_pep_col’
MaxQtoMSstatsPTMFormat: no visible binding for global variable
  ‘TMT.keyword’
MaxQtoMSstatsPTMFormat: no visible binding for global variable
  ‘ptm.keyword’
MaxQtoMSstatsPTMFormat: no visible binding for global variable
  ‘mod.num’
MaxQtoMSstatsPTMFormat: no visible binding for global variable
  ‘which.proteinid.ptm’
MaxQtoMSstatsPTMFormat: no visible binding for global variable
  ‘PeptideSequence’
MetamorpheusToMSstatsPTMFormat: no visible binding for global variable
  ‘..protein_id_col’
PStoMSstatsPTMFormat: no visible binding for global variable
  ‘Intensity’
ProgenesistoMSstatsPTMFormat: no visible binding for global variable
  ‘Type’
SkylinetoMSstatsPTMFormat: no visible binding for global variable
  ‘annotation_prot’
dataProcessPlotsPTM: no visible binding for global variable
  ‘PROTEINNAME’
dataProcessPlotsPTM: no visible binding for global variable
  ‘GLOBALPROTEIN’
dataSummarizationPTM: no visible binding for global variable ‘address’
locatePTM: no visible binding for global variable ‘..col_seq’
locatePTM: no visible binding for global variable ‘..col_fasta’
Undefined global functions or variables:
  ..col_fasta ..col_order ..col_res ..col_seq ..keep_cols ..mod_pep_col
  ..msstats_cols ..protein_id_col ..sequence_col ABUNDANCE
  GLOBALPROTEIN Intensity PROTEINNAME PeptideSequence TMT.keyword Type
  address annotation_prot mod.num ptm.keyword text.angle
  which.proteinid.ptm
* checking Rd files ... OK
* checking Rd metadata ... OK
* checking Rd cross-references ... OK
* checking for missing documentation entries ... OK
* checking for code/documentation mismatches ... OK
* checking Rd \usage sections ... NOTE
Documented arguments not in \usage in Rd file 'dot-fixTerminus.Rd':
  ‘fasta_file’
Functions with \usage entries need to have the appropriate \alias
entries, and all their arguments documented.
The \usage entries must correspond to syntactically valid R code.
See chapter ‘Writing R documentation files’ in the ‘Writing R
Extensions’ manual.
* checking Rd contents ... OK
* checking for unstated dependencies in examples ... OK
* checking contents of ‘data’ directory ... OK
* checking data for non-ASCII characters ... OK
* checking LazyData ... OK
* checking data for ASCII and uncompressed saves ... OK
* checking line endings in C/C++/Fortran sources/headers ... OK
* checking compiled code ... NOTE
Note: information on .o files is not available
* checking files in ‘vignettes’ ... OK
* checking examples ... OK
* checking for unstated dependencies in ‘tests’ ... OK
* checking tests ...
  Running ‘testthat.R’
  Running ‘tinytest.R’
 OK
* checking for unstated dependencies in vignettes ... OK
* checking package vignettes ... OK
* checking running R code from vignettes ... SKIPPED
* checking re-building of vignette outputs ... SKIPPED
* checking PDF version of manual ... OK
* DONE
Status: 5 NOTEs
See
  ‘/Users/biocbuild/bbs-3.21-bioc/meat/MSstatsPTM.Rcheck/00check.log’
for details.
MSstatsPTM.Rcheck/00install.out
############################################################################## ############################################################################## ### ### Running command: ### ### /Library/Frameworks/R.framework/Resources/bin/R CMD INSTALL MSstatsPTM ### ############################################################################## ############################################################################## * installing to library ‘/Library/Frameworks/R.framework/Versions/4.5-arm64/Resources/library’ * installing *source* package ‘MSstatsPTM’ ... ** this is package ‘MSstatsPTM’ version ‘2.10.0’ ** using staged installation ** libs using C++ compiler: ‘Apple clang version 15.0.0 (clang-1500.1.0.2.5)’ using SDK: ‘MacOSX11.3.sdk’ clang++ -arch arm64 -std=gnu++17 -I"/Library/Frameworks/R.framework/Resources/include" -DNDEBUG -I'/Library/Frameworks/R.framework/Versions/4.5-arm64/Resources/library/Rcpp/include' -I/opt/R/arm64/include -fPIC -falign-functions=64 -Wall -g -O2 -c RcppExports.cpp -o RcppExports.o clang++ -arch arm64 -std=gnu++17 -I"/Library/Frameworks/R.framework/Resources/include" -DNDEBUG -I'/Library/Frameworks/R.framework/Versions/4.5-arm64/Resources/library/Rcpp/include' -I/opt/R/arm64/include -fPIC -falign-functions=64 -Wall -g -O2 -c model_adjustment.cpp -o model_adjustment.o clang++ -arch arm64 -std=gnu++17 -dynamiclib -Wl,-headerpad_max_install_names -undefined dynamic_lookup -L/Library/Frameworks/R.framework/Resources/lib -L/opt/R/arm64/lib -o MSstatsPTM.so RcppExports.o model_adjustment.o -F/Library/Frameworks/R.framework/.. -framework R installing to /Library/Frameworks/R.framework/Versions/4.5-arm64/Resources/library/00LOCK-MSstatsPTM/00new/MSstatsPTM/libs ** R ** data *** moving datasets to lazyload DB ** inst ** byte-compile and prepare package for lazy loading ** help *** installing help indices ** building package indices ** installing vignettes ** testing if installed package can be loaded from temporary location ** checking absolute paths in shared objects and dynamic libraries ** testing if installed package can be loaded from final location ** testing if installed package keeps a record of temporary installation path * DONE (MSstatsPTM)
MSstatsPTM.Rcheck/tests/testthat.Rout
R version 4.5.0 RC (2025-04-04 r88126) -- "How About a Twenty-Six"
Copyright (C) 2025 The R Foundation for Statistical Computing
Platform: aarch64-apple-darwin20
R is free software and comes with ABSOLUTELY NO WARRANTY.
You are welcome to redistribute it under certain conditions.
Type 'license()' or 'licence()' for distribution details.
R is a collaborative project with many contributors.
Type 'contributors()' for more information and
'citation()' on how to cite R or R packages in publications.
Type 'demo()' for some demos, 'help()' for on-line help, or
'help.start()' for an HTML browser interface to help.
Type 'q()' to quit R.
> # This file is part of the standard setup for testthat.
> # It is recommended that you do not modify it.
> #
> # Where should you do additional test configuration?
> # Learn more about the roles of various files in:
> # * https://r-pkgs.org/testing-design.html#sec-tests-files-overview
> # * https://testthat.r-lib.org/articles/special-files.html
> 
> library(testthat)
> library(mockery)
> library(MSstatsPTM)
> 
> test_check("MSstatsPTM")
Drew the Quality Contol plot(boxplot) for all ptms/proteins.
[ FAIL 0 | WARN 0 | SKIP 0 | PASS 16 ]
> 
> proc.time()
   user  system elapsed 
  2.266   0.134   2.334 
MSstatsPTM.Rcheck/tests/tinytest.Rout
R version 4.5.0 RC (2025-04-04 r88126) -- "How About a Twenty-Six"
Copyright (C) 2025 The R Foundation for Statistical Computing
Platform: aarch64-apple-darwin20
R is free software and comes with ABSOLUTELY NO WARRANTY.
You are welcome to redistribute it under certain conditions.
Type 'license()' or 'licence()' for distribution details.
R is a collaborative project with many contributors.
Type 'contributors()' for more information and
'citation()' on how to cite R or R packages in publications.
Type 'demo()' for some demos, 'help()' for on-line help, or
'help.start()' for an HTML browser interface to help.
Type 'q()' to quit R.
> 
> if ( requireNamespace("tinytest", quietly=TRUE) ){
+   tinytest::test_package("MSstatsPTM")
+ }
test_converters.R.............    0 tests    
test_converters.R.............    0 tests    
test_converters.R.............    0 tests    
test_converters.R.............    0 tests    
test_converters.R.............    0 tests    
test_converters.R.............    1 tests [0;32mOK[0m 
test_converters.R.............    2 tests [0;32mOK[0m 
test_converters.R.............    3 tests [0;32mOK[0m 
test_converters.R.............    4 tests [0;32mOK[0m 
test_converters.R.............    5 tests [0;32mOK[0m INFO  [2025-04-21 20:34:44] ** Raw data from MaxQuant imported successfully.
INFO  [2025-04-21 20:34:44] ** Rows with values of Potentialcontaminant equal to + are removed 
INFO  [2025-04-21 20:34:44] ** Rows with values of Reverse equal to + are removed 
INFO  [2025-04-21 20:34:44] ** Features with all missing measurements across channels within each run are removed.
INFO  [2025-04-21 20:34:44] ** Using provided annotation.
INFO  [2025-04-21 20:34:44] ** Run and Channel labels were standardized to remove symbols such as '.' or '%'.
INFO  [2025-04-21 20:34:44] ** The following options are used:
  - Features will be defined by the columns: PeptideSequence, PrecursorCharge
  - Shared peptides will be removed.
  - Proteins with single feature will not be removed.
  - Features with less than 3 measurements within each run will be kept.
INFO  [2025-04-21 20:34:44] ** Features with all missing measurements across channels within each run are removed.
INFO  [2025-04-21 20:34:44] ** Shared peptides are removed.
INFO  [2025-04-21 20:34:44] ** Features with all missing measurements across channels within each run are removed.
INFO  [2025-04-21 20:34:44] ** PSMs have been aggregated to peptide ions.
INFO  [2025-04-21 20:34:44] ** Run annotation merged with quantification data.
INFO  [2025-04-21 20:34:44] ** Features with one or two measurements across channels within each run are removed.
INFO  [2025-04-21 20:34:44] ** Fractionation handled.
INFO  [2025-04-21 20:34:44] ** Updated quantification data to make balanced design. Missing values are marked by NA
INFO  [2025-04-21 20:34:44] ** Finished preprocessing. The dataset is ready to be processed by the proteinSummarization function.
test_converters.R.............    5 tests [0;32mOK[0m 
test_converters.R.............    7 tests [0;32mOK[0m 
test_converters.R.............    8 tests [0;32mOK[0m 
test_converters.R.............    9 tests [0;32mOK[0m 
test_converters.R.............   10 tests [0;32mOK[0m 
test_converters.R.............   11 tests [0;32mOK[0m 
test_converters.R.............   12 tests [0;32mOK[0m 
test_converters.R.............   12 tests [0;32mOK[0m 
test_converters.R.............   12 tests [0;32mOK[0m 
test_converters.R.............   13 tests [0;32mOK[0m 
test_converters.R.............   14 tests [0;32mOK[0m 
test_converters.R.............   15 tests [0;32mOK[0m 
test_converters.R.............   16 tests [0;32mOK[0m 
test_converters.R.............   17 tests [0;32mOK[0m INFO  [2025-04-21 20:34:44] ** Raw data from MaxQuant imported successfully.
INFO  [2025-04-21 20:34:44] ** Rows with values of Potentialcontaminant equal to + are removed 
INFO  [2025-04-21 20:34:44] ** Rows with values of Reverse equal to + are removed 
INFO  [2025-04-21 20:34:44] ** Using provided annotation.
INFO  [2025-04-21 20:34:44] ** Run labels were standardized to remove symbols such as '.' or '%'.
INFO  [2025-04-21 20:34:44] ** The following options are used:
  - Features will be defined by the columns: PeptideSequence, PrecursorCharge
  - Shared peptides will be removed.
  - Proteins with single feature will not be removed.
  - Features with less than 3 measurements across runs will be removed.
INFO  [2025-04-21 20:34:44] ** Features with all missing measurements across runs are removed.
INFO  [2025-04-21 20:34:44] ** Shared peptides are removed.
INFO  [2025-04-21 20:34:44] ** Multiple measurements in a feature and a run are summarized by summaryforMultipleRows: max
INFO  [2025-04-21 20:34:44] ** Features with one or two measurements across runs are removed.
INFO  [2025-04-21 20:34:44] ** Run annotation merged with quantification data.
INFO  [2025-04-21 20:34:44] ** Features with one or two measurements across runs are removed.
INFO  [2025-04-21 20:34:44] ** Fractionation handled.
INFO  [2025-04-21 20:34:44] ** Updated quantification data to make balanced design. Missing values are marked by NA
INFO  [2025-04-21 20:34:44] ** Finished preprocessing. The dataset is ready to be processed by the dataProcess function.
test_converters.R.............   17 tests [0;32mOK[0m 
test_converters.R.............   19 tests [0;32mOK[0m 
test_converters.R.............   20 tests [0;32mOK[0m 
test_converters.R.............   21 tests [0;32mOK[0m 
test_converters.R.............   22 tests [0;32mOK[0m 
test_converters.R.............   23 tests [0;32mOK[0m 
test_converters.R.............   24 tests [0;32mOK[0m 
test_converters.R.............   24 tests [0;32mOK[0m 
test_converters.R.............   24 tests [0;32mOK[0m 
test_converters.R.............   25 tests [0;32mOK[0m 
test_converters.R.............   26 tests [0;32mOK[0m 
test_converters.R.............   27 tests [0;32mOK[0m 
test_converters.R.............   28 tests [0;32mOK[0m INFO  [2025-04-21 20:34:45] ** Raw data from Spectronaut imported successfully.
INFO  [2025-04-21 20:34:45] ** Raw data from Spectronaut cleaned successfully.
INFO  [2025-04-21 20:34:45] ** Using provided annotation.
INFO  [2025-04-21 20:34:45] ** Run labels were standardized to remove symbols such as '.' or '%'.
INFO  [2025-04-21 20:34:45] ** The following options are used:
  - Features will be defined by the columns: PeptideSequence, PrecursorCharge, FragmentIon, ProductCharge
  - Shared peptides will be removed.
  - Proteins with single feature will not be removed.
  - Features with less than 3 measurements across runs will be removed.
WARN  [2025-04-21 20:34:45] ** PGQvalue not found in input columns.
WARN  [2025-04-21 20:34:45] ** EGQvalue not found in input columns.
INFO  [2025-04-21 20:34:45] ** Features with all missing measurements across runs are removed.
INFO  [2025-04-21 20:34:45] ** Shared peptides are removed.
INFO  [2025-04-21 20:34:45] ** Multiple measurements in a feature and a run are summarized by summaryforMultipleRows: max
INFO  [2025-04-21 20:34:45] ** Features with one or two measurements across runs are removed.
INFO  [2025-04-21 20:34:45] ** Run annotation merged with quantification data.
INFO  [2025-04-21 20:34:45] ** Features with one or two measurements across runs are removed.
INFO  [2025-04-21 20:34:45] ** Fractionation handled.
INFO  [2025-04-21 20:34:45] ** Updated quantification data to make balanced design. Missing values are marked by NA
INFO  [2025-04-21 20:34:45] ** Finished preprocessing. The dataset is ready to be processed by the dataProcess function.
test_converters.R.............   28 tests [0;32mOK[0m 
test_converters.R.............   30 tests [0;32mOK[0m 
test_converters.R.............   31 tests [0;32mOK[0m 
test_converters.R.............   32 tests [0;32mOK[0m 
test_converters.R.............   33 tests [0;32mOK[0m 
test_converters.R.............   34 tests [0;32mOK[0m 
test_converters.R.............   35 tests [0;32mOK[0m 
test_converters.R.............   35 tests [0;32mOK[0m 
test_converters.R.............   35 tests [0;32mOK[0m 
test_converters.R.............   35 tests [0;32mOK[0m INFO  [2025-04-21 20:34:45] ** Raw data from ProteomeDiscoverer imported successfully.
INFO  [2025-04-21 20:34:45] ** Raw data from ProteomeDiscoverer cleaned successfully.
INFO  [2025-04-21 20:34:45] ** Using provided annotation.
INFO  [2025-04-21 20:34:45] ** Run labels were standardized to remove symbols such as '.' or '%'.
INFO  [2025-04-21 20:34:45] ** The following options are used:
  - Features will be defined by the columns: PeptideSequence, PrecursorCharge
  - Shared peptides will be removed.
  - Proteins with single feature will not be removed.
  - Features with less than 3 measurements across runs will be removed.
INFO  [2025-04-21 20:34:45] ** Features with all missing measurements across runs are removed.
INFO  [2025-04-21 20:34:45] ** Shared peptides are removed.
INFO  [2025-04-21 20:34:45] ** Multiple measurements in a feature and a run are summarized by summaryforMultipleRows: max
INFO  [2025-04-21 20:34:45] ** Features with one or two measurements across runs are removed.
INFO  [2025-04-21 20:34:45] ** Run annotation merged with quantification data.
INFO  [2025-04-21 20:34:45] ** Features with one or two measurements across runs are removed.
INFO  [2025-04-21 20:34:45] ** Fractionation handled.
INFO  [2025-04-21 20:34:45] ** Updated quantification data to make balanced design. Missing values are marked by NA
INFO  [2025-04-21 20:34:45] ** Finished preprocessing. The dataset is ready to be processed by the dataProcess function.
test_converters.R.............   36 tests [0;32mOK[0m INFO: Extracting modifications
INFO  [2025-04-21 20:34:46] ** Raw data from ProteomeDiscoverer imported successfully.
INFO  [2025-04-21 20:34:46] ** Raw data from ProteomeDiscoverer cleaned successfully.
INFO  [2025-04-21 20:34:46] ** Using provided annotation.
INFO  [2025-04-21 20:34:46] ** Run labels were standardized to remove symbols such as '.' or '%'.
INFO  [2025-04-21 20:34:46] ** The following options are used:
  - Features will be defined by the columns: PeptideSequence, PrecursorCharge
  - Shared peptides will be removed.
  - Proteins with single feature will not be removed.
  - Features with less than 3 measurements across runs will be removed.
INFO  [2025-04-21 20:34:46] ** Features with all missing measurements across runs are removed.
INFO  [2025-04-21 20:34:46] ** Shared peptides are removed.
INFO  [2025-04-21 20:34:46] ** Multiple measurements in a feature and a run are summarized by summaryforMultipleRows: max
INFO  [2025-04-21 20:34:46] ** Features with one or two measurements across runs are removed.
INFO  [2025-04-21 20:34:46] ** Run annotation merged with quantification data.
INFO  [2025-04-21 20:34:46] ** Features with one or two measurements across runs are removed.
INFO  [2025-04-21 20:34:46] ** Fractionation handled.
INFO  [2025-04-21 20:34:46] ** Updated quantification data to make balanced design. Missing values are marked by NA
INFO  [2025-04-21 20:34:46] ** Finished preprocessing. The dataset is ready to be processed by the dataProcess function.
test_converters.R.............   37 tests [0;32mOK[0m INFO: Extracting modifications
INFO  [2025-04-21 20:34:46] ** Raw data from ProteomeDiscoverer imported successfully.
INFO  [2025-04-21 20:34:46] ** Raw data from ProteomeDiscoverer cleaned successfully.
INFO  [2025-04-21 20:34:46] ** Using provided annotation.
INFO  [2025-04-21 20:34:46] ** Run labels were standardized to remove symbols such as '.' or '%'.
INFO  [2025-04-21 20:34:46] ** The following options are used:
  - Features will be defined by the columns: PeptideSequence, PrecursorCharge
  - Shared peptides will be removed.
  - Proteins with single feature will not be removed.
  - Features with less than 3 measurements across runs will be removed.
INFO  [2025-04-21 20:34:46] ** Features with all missing measurements across runs are removed.
INFO  [2025-04-21 20:34:46] ** Shared peptides are removed.
INFO  [2025-04-21 20:34:46] ** Multiple measurements in a feature and a run are summarized by summaryforMultipleRows: max
INFO  [2025-04-21 20:34:46] ** Features with one or two measurements across runs are removed.
INFO  [2025-04-21 20:34:46] ** Run annotation merged with quantification data.
INFO  [2025-04-21 20:34:46] ** Features with one or two measurements across runs are removed.
INFO  [2025-04-21 20:34:46] ** Fractionation handled.
INFO  [2025-04-21 20:34:46] ** Updated quantification data to make balanced design. Missing values are marked by NA
INFO  [2025-04-21 20:34:46] ** Finished preprocessing. The dataset is ready to be processed by the dataProcess function.
test_converters.R.............   38 tests [0;32mOK[0m INFO  [2025-04-21 20:34:46] ** Raw data from ProteomeDiscoverer imported successfully.
INFO  [2025-04-21 20:34:46] ** Raw data from ProteomeDiscoverer cleaned successfully.
INFO  [2025-04-21 20:34:46] ** Using provided annotation.
INFO  [2025-04-21 20:34:46] ** Run labels were standardized to remove symbols such as '.' or '%'.
INFO  [2025-04-21 20:34:46] ** The following options are used:
  - Features will be defined by the columns: PeptideSequence, PrecursorCharge
  - Shared peptides will be removed.
  - Proteins with single feature will not be removed.
  - Features with less than 3 measurements across runs will be removed.
INFO  [2025-04-21 20:34:46] ** Features with all missing measurements across runs are removed.
INFO  [2025-04-21 20:34:46] ** Shared peptides are removed.
INFO  [2025-04-21 20:34:46] ** Multiple measurements in a feature and a run are summarized by summaryforMultipleRows: max
INFO  [2025-04-21 20:34:46] ** Features with one or two measurements across runs are removed.
INFO  [2025-04-21 20:34:46] ** Run annotation merged with quantification data.
INFO  [2025-04-21 20:34:46] ** Features with one or two measurements across runs are removed.
INFO  [2025-04-21 20:34:46] ** Fractionation handled.
INFO  [2025-04-21 20:34:46] ** Updated quantification data to make balanced design. Missing values are marked by NA
INFO  [2025-04-21 20:34:46] ** Finished preprocessing. The dataset is ready to be processed by the dataProcess function.
test_converters.R.............   39 tests [0;32mOK[0m 
test_converters.R.............   40 tests [0;32mOK[0m INFO  [2025-04-21 20:34:46] ** Raw data from ProteomeDiscoverer imported successfully.
INFO  [2025-04-21 20:34:46] ** Raw data from ProteomeDiscoverer cleaned successfully.
INFO  [2025-04-21 20:34:46] ** Using provided annotation.
INFO  [2025-04-21 20:34:46] ** Run labels were standardized to remove symbols such as '.' or '%'.
INFO  [2025-04-21 20:34:46] ** The following options are used:
  - Features will be defined by the columns: PeptideSequence, PrecursorCharge
  - Shared peptides will be removed.
  - Proteins with single feature will not be removed.
  - Features with less than 3 measurements across runs will be removed.
INFO  [2025-04-21 20:34:46] ** Features with all missing measurements across runs are removed.
INFO  [2025-04-21 20:34:46] ** Shared peptides are removed.
INFO  [2025-04-21 20:34:46] ** Multiple measurements in a feature and a run are summarized by summaryforMultipleRows: max
INFO  [2025-04-21 20:34:46] ** Features with one or two measurements across runs are removed.
INFO  [2025-04-21 20:34:46] ** Run annotation merged with quantification data.
INFO  [2025-04-21 20:34:46] ** Features with one or two measurements across runs are removed.
INFO  [2025-04-21 20:34:46] ** Fractionation handled.
INFO  [2025-04-21 20:34:46] ** Updated quantification data to make balanced design. Missing values are marked by NA
INFO  [2025-04-21 20:34:46] ** Finished preprocessing. The dataset is ready to be processed by the dataProcess function.
test_converters.R.............   41 tests [0;32mOK[0m 
test_converters.R.............   42 tests [0;32mOK[0m 
test_converters.R.............   43 tests [0;32mOK[0m 
test_converters.R.............   43 tests [0;32mOK[0m 
test_converters.R.............   43 tests [0;32mOK[0m 
test_converters.R.............   43 tests [0;32mOK[0m 
test_converters.R.............   43 tests [0;32mOK[0m 
test_converters.R.............   43 tests [0;32mOK[0m 
test_converters.R.............   43 tests [0;32mOK[0m 
test_converters.R.............   43 tests [0;32mOK[0m 
test_converters.R.............   43 tests [0;32mOK[0m 
test_converters.R.............   43 tests [0;32mOK[0m INFO: Extracting modifications
INFO  [2025-04-21 20:34:46] ** Raw data from ProteomeDiscoverer imported successfully.
INFO  [2025-04-21 20:34:46] ** Raw data from ProteomeDiscoverer cleaned successfully.
INFO  [2025-04-21 20:34:46] ** Using provided annotation.
INFO  [2025-04-21 20:34:46] ** Run and Channel labels were standardized to remove symbols such as '.' or '%'.
INFO  [2025-04-21 20:34:46] ** The following options are used:
  - Features will be defined by the columns: PeptideSequence, PrecursorCharge
  - Shared peptides will be removed.
  - Proteins with single feature will not be removed.
  - Features with less than 3 measurements within each run will be removed.
INFO  [2025-04-21 20:34:46] ** Features with all missing measurements across channels within each run are removed.
INFO  [2025-04-21 20:34:46] ** Shared peptides are removed.
INFO  [2025-04-21 20:34:46] ** Features with one or two measurements across channels within each run are removed.
INFO  [2025-04-21 20:34:46] ** PSMs have been aggregated to peptide ions.
INFO  [2025-04-21 20:34:46] ** Run annotation merged with quantification data.
INFO  [2025-04-21 20:34:46] ** Features with one or two measurements across channels within each run are removed.
INFO  [2025-04-21 20:34:46] ** Fractionation handled.
INFO  [2025-04-21 20:34:46] ** Updated quantification data to make balanced design. Missing values are marked by NA
INFO  [2025-04-21 20:34:46] ** Finished preprocessing. The dataset is ready to be processed by the proteinSummarization function.
INFO  [2025-04-21 20:34:46] ** Raw data from ProteomeDiscoverer imported successfully.
INFO  [2025-04-21 20:34:46] ** Raw data from ProteomeDiscoverer cleaned successfully.
INFO  [2025-04-21 20:34:46] ** Using provided annotation.
INFO  [2025-04-21 20:34:46] ** Run and Channel labels were standardized to remove symbols such as '.' or '%'.
INFO  [2025-04-21 20:34:46] ** The following options are used:
  - Features will be defined by the columns: PeptideSequence, PrecursorCharge
  - Shared peptides will be removed.
  - Proteins with single feature will not be removed.
  - Features with less than 3 measurements within each run will be removed.
INFO  [2025-04-21 20:34:46] ** Features with all missing measurements across channels within each run are removed.
INFO  [2025-04-21 20:34:46] ** Shared peptides are removed.
INFO  [2025-04-21 20:34:46] ** Features with one or two measurements across channels within each run are removed.
INFO  [2025-04-21 20:34:46] ** PSMs have been aggregated to peptide ions.
INFO  [2025-04-21 20:34:46] ** Run annotation merged with quantification data.
INFO  [2025-04-21 20:34:46] ** For peptides overlapped between fractions of mixture1_1 use the fraction with maximal average abundance.
INFO  [2025-04-21 20:34:46] ** Fractions belonging to same mixture have been combined.
INFO  [2025-04-21 20:34:46] ** Features with one or two measurements across channels within each run are removed.
INFO  [2025-04-21 20:34:46] ** Fractionation handled.
INFO  [2025-04-21 20:34:47] ** Updated quantification data to make balanced design. Missing values are marked by NA
INFO  [2025-04-21 20:34:47] ** Finished preprocessing. The dataset is ready to be processed by the proteinSummarization function.
test_converters.R.............   43 tests [0;32mOK[0m 
test_converters.R.............   45 tests [0;32mOK[0m 
test_converters.R.............   46 tests [0;32mOK[0m 
test_converters.R.............   47 tests [0;32mOK[0m 
test_converters.R.............   48 tests [0;32mOK[0m 
test_converters.R.............   49 tests [0;32mOK[0m 
test_converters.R.............   50 tests [0;32mOK[0m 
test_converters.R.............   50 tests [0;32mOK[0m 
test_converters.R.............   50 tests [0;32mOK[0m 
test_converters.R.............   50 tests [0;32mOK[0m 
test_converters.R.............   50 tests [0;32mOK[0m 
test_converters.R.............   50 tests [0;32mOK[0m 
test_converters.R.............   50 tests [0;32mOK[0m 
test_converters.R.............   50 tests [0;32mOK[0m 
test_converters.R.............   50 tests [0;32mOK[0m 
test_converters.R.............   50 tests [0;32mOK[0m 
test_converters.R.............   51 tests [0;32mOK[0m 
test_converters.R.............   52 tests [0;32mOK[0m 
test_converters.R.............   53 tests [0;32mOK[0m 
test_converters.R.............   54 tests [0;32mOK[0m 
test_converters.R.............   55 tests [0;32mOK[0m [1] "FASTA file missing 3 Proteins. These will be removed. This may be due to non-unique identifications."
INFO  [2025-04-21 20:34:47] ** Raw data from Metamorpheus imported successfully.
INFO  [2025-04-21 20:34:47] ** Raw data from Metamorpheus cleaned successfully.
INFO  [2025-04-21 20:34:47] ** Using provided annotation.
INFO  [2025-04-21 20:34:47] ** Run labels were standardized to remove symbols such as '.' or '%'.
INFO  [2025-04-21 20:34:47] ** The following options are used:
  - Features will be defined by the columns: PeptideSequence, PrecursorCharge
  - Shared peptides will be removed.
  - Proteins with single feature will not be removed.
  - Features with less than 3 measurements across runs will be removed.
INFO  [2025-04-21 20:34:47] ** Features with all missing measurements across runs are removed.
INFO  [2025-04-21 20:34:47] ** Shared peptides are removed.
INFO  [2025-04-21 20:34:47] ** Multiple measurements in a feature and a run are summarized by summaryforMultipleRows: max
INFO  [2025-04-21 20:34:47] ** Features with one or two measurements across runs are removed.
INFO  [2025-04-21 20:34:47] ** Run annotation merged with quantification data.
INFO  [2025-04-21 20:34:47] ** Features with one or two measurements across runs are removed.
INFO  [2025-04-21 20:34:47] ** Fractionation handled.
INFO  [2025-04-21 20:34:47] ** Updated quantification data to make balanced design. Missing values are marked by NA
INFO  [2025-04-21 20:34:47] ** Finished preprocessing. The dataset is ready to be processed by the dataProcess function.
INFO  [2025-04-21 20:34:47] ** Raw data from Metamorpheus imported successfully.
INFO  [2025-04-21 20:34:47] ** Raw data from Metamorpheus cleaned successfully.
INFO  [2025-04-21 20:34:47] ** Using provided annotation.
INFO  [2025-04-21 20:34:47] ** Run labels were standardized to remove symbols such as '.' or '%'.
INFO  [2025-04-21 20:34:47] ** The following options are used:
  - Features will be defined by the columns: PeptideSequence, PrecursorCharge
  - Shared peptides will be removed.
  - Proteins with single feature will not be removed.
  - Features with less than 3 measurements across runs will be removed.
INFO  [2025-04-21 20:34:47] ** Features with all missing measurements across runs are removed.
INFO  [2025-04-21 20:34:47] ** Shared peptides are removed.
INFO  [2025-04-21 20:34:47] ** Multiple measurements in a feature and a run are summarized by summaryforMultipleRows: max
INFO  [2025-04-21 20:34:47] ** Features with one or two measurements across runs are removed.
INFO  [2025-04-21 20:34:47] ** Run annotation merged with quantification data.
INFO  [2025-04-21 20:34:47] ** Features with one or two measurements across runs are removed.
INFO  [2025-04-21 20:34:47] ** Fractionation handled.
INFO  [2025-04-21 20:34:47] ** Updated quantification data to make balanced design. Missing values are marked by NA
INFO  [2025-04-21 20:34:47] ** Finished preprocessing. The dataset is ready to be processed by the dataProcess function.
test_converters.R.............   55 tests [0;32mOK[0m 
test_converters.R.............   57 tests [0;32mOK[0m 
test_converters.R.............   58 tests [0;32mOK[0m 
test_converters.R.............   59 tests [0;32mOK[0m 
test_converters.R.............   60 tests [0;32mOK[0m 
test_converters.R.............   61 tests [0;32mOK[0m 
test_converters.R.............   62 tests [0;32mOK[0m [1] "FASTA file missing 3 Proteins. These will be removed. This may be due to non-unique identifications."
INFO  [2025-04-21 20:34:47] ** Raw data from Metamorpheus imported successfully.
INFO  [2025-04-21 20:34:47] ** Raw data from Metamorpheus cleaned successfully.
INFO  [2025-04-21 20:34:47] ** Using provided annotation.
INFO  [2025-04-21 20:34:47] ** Run labels were standardized to remove symbols such as '.' or '%'.
INFO  [2025-04-21 20:34:47] ** The following options are used:
  - Features will be defined by the columns: PeptideSequence, PrecursorCharge
  - Shared peptides will be removed.
  - Proteins with single feature will not be removed.
  - Features with less than 3 measurements across runs will be removed.
INFO  [2025-04-21 20:34:47] ** Features with all missing measurements across runs are removed.
INFO  [2025-04-21 20:34:47] ** Shared peptides are removed.
INFO  [2025-04-21 20:34:47] ** Multiple measurements in a feature and a run are summarized by summaryforMultipleRows: max
INFO  [2025-04-21 20:34:47] ** Features with one or two measurements across runs are removed.
INFO  [2025-04-21 20:34:47] ** Run annotation merged with quantification data.
INFO  [2025-04-21 20:34:47] ** Features with one or two measurements across runs are removed.
INFO  [2025-04-21 20:34:47] ** Fractionation handled.
INFO  [2025-04-21 20:34:47] ** Updated quantification data to make balanced design. Missing values are marked by NA
INFO  [2025-04-21 20:34:47] ** Finished preprocessing. The dataset is ready to be processed by the dataProcess function.
INFO  [2025-04-21 20:34:47] ** Raw data from Metamorpheus imported successfully.
INFO  [2025-04-21 20:34:47] ** Raw data from Metamorpheus cleaned successfully.
INFO  [2025-04-21 20:34:47] ** Using provided annotation.
INFO  [2025-04-21 20:34:47] ** Run labels were standardized to remove symbols such as '.' or '%'.
INFO  [2025-04-21 20:34:47] ** The following options are used:
  - Features will be defined by the columns: PeptideSequence, PrecursorCharge
  - Shared peptides will be removed.
  - Proteins with single feature will not be removed.
  - Features with less than 3 measurements across runs will be removed.
INFO  [2025-04-21 20:34:47] ** Features with all missing measurements across runs are removed.
INFO  [2025-04-21 20:34:47] ** Shared peptides are removed.
INFO  [2025-04-21 20:34:47] ** Multiple measurements in a feature and a run are summarized by summaryforMultipleRows: max
INFO  [2025-04-21 20:34:47] ** Features with one or two measurements across runs are removed.
INFO  [2025-04-21 20:34:47] ** Run annotation merged with quantification data.
INFO  [2025-04-21 20:34:47] ** Features with one or two measurements across runs are removed.
INFO  [2025-04-21 20:34:47] ** Fractionation handled.
INFO  [2025-04-21 20:34:47] ** Updated quantification data to make balanced design. Missing values are marked by NA
INFO  [2025-04-21 20:34:47] ** Finished preprocessing. The dataset is ready to be processed by the dataProcess function.
test_converters.R.............   62 tests [0;32mOK[0m 
test_converters.R.............   64 tests [0;32mOK[0m 
test_converters.R.............   65 tests [0;32mOK[0m 
test_converters.R.............   66 tests [0;32mOK[0m 
test_converters.R.............   67 tests [0;32mOK[0m 
test_converters.R.............   68 tests [0;32mOK[0m 
test_converters.R.............   69 tests [0;32mOK[0m 
test_converters.R.............   69 tests [0;32mOK[0m 
test_converters.R.............   69 tests [0;32mOK[0m 
test_converters.R.............   69 tests [0;32mOK[0m 
test_converters.R.............   69 tests [0;32mOK[0m 
test_converters.R.............   69 tests [0;32mOK[0m 
test_converters.R.............   69 tests [0;32mOK[0m 
test_converters.R.............   70 tests [0;32mOK[0m 
test_converters.R.............   71 tests [0;32mOK[0m INFO  [2025-04-21 20:34:47] ** Raw data from Progenesis imported successfully.
INFO  [2025-04-21 20:34:47] ** Raw data from Progenesis cleaned successfully.
INFO  [2025-04-21 20:34:47] ** Using provided annotation.
INFO  [2025-04-21 20:34:47] ** Run labels were standardized to remove symbols such as '.' or '%'.
INFO  [2025-04-21 20:34:47] ** The following options are used:
  - Features will be defined by the columns: PeptideSequence, PrecursorCharge
  - Shared peptides will be removed.
  - Proteins with single feature will not be removed.
  - Features with less than 3 measurements across runs will be removed.
INFO  [2025-04-21 20:34:47] ** Features with all missing measurements across runs are removed.
INFO  [2025-04-21 20:34:47] ** Shared peptides are removed.
INFO  [2025-04-21 20:34:47] ** Multiple measurements in a feature and a run are summarized by summaryforMultipleRows: max
INFO  [2025-04-21 20:34:47] ** Features with one or two measurements across runs are removed.
INFO  [2025-04-21 20:34:47] ** Run annotation merged with quantification data.
INFO  [2025-04-21 20:34:47] ** Features with one or two measurements across runs are removed.
INFO  [2025-04-21 20:34:47] ** Fractionation handled.
INFO  [2025-04-21 20:34:47] ** Updated quantification data to make balanced design. Missing values are marked by NA
INFO  [2025-04-21 20:34:47] ** Finished preprocessing. The dataset is ready to be processed by the dataProcess function.
test_converters.R.............   71 tests [0;32mOK[0m 
test_converters.R.............   72 tests [0;32mOK[0m 
test_converters.R.............   73 tests [0;32mOK[0m 
test_converters.R.............   74 tests [0;32mOK[0m INFO  [2025-04-21 20:34:47] ** Raw data from Philosopher imported successfully.
INFO  [2025-04-21 20:34:47] ** Using provided annotation.
INFO  [2025-04-21 20:34:47] ** Run and Channel labels were standardized to remove symbols such as '.' or '%'.
INFO  [2025-04-21 20:34:47] ** The following options are used:
  - Features will be defined by the columns: PeptideSequence, PrecursorCharge
  - Shared peptides will be removed.
  - Proteins with single feature will not be removed.
  - Features with less than 3 measurements within each run will be kept.
INFO  [2025-04-21 20:34:47] ** Rows with values not greater than 0.6 in Purity are removed 
WARN  [2025-04-21 20:34:47] ** PeptideProphetProbability not found in input columns.
INFO  [2025-04-21 20:34:47] ** Sequences containing Oxidation are removed.
INFO  [2025-04-21 20:34:47] ** Features with all missing measurements across channels within each run are removed.
INFO  [2025-04-21 20:34:47] ** Shared peptides are removed.
INFO  [2025-04-21 20:34:47] ** Features with all missing measurements across channels within each run are removed.
INFO  [2025-04-21 20:34:47] ** PSMs have been aggregated to peptide ions.
INFO  [2025-04-21 20:34:47] ** Run annotation merged with quantification data.
INFO  [2025-04-21 20:34:47] ** Features with one or two measurements across channels within each run are removed.
INFO  [2025-04-21 20:34:47] ** Fractionation handled.
INFO  [2025-04-21 20:34:47] ** Updated quantification data to make balanced design. Missing values are marked by NA
INFO  [2025-04-21 20:34:47] ** Finished preprocessing. The dataset is ready to be processed by the proteinSummarization function.
INFO  [2025-04-21 20:34:47] ** Raw data from Philosopher imported successfully.
test_converters.R.............   75 tests [0;32mOK[0m 
test_converters.R.............   76 tests [0;32mOK[0m INFO  [2025-04-21 20:34:47] ** Raw data from Philosopher imported successfully.
INFO  [2025-04-21 20:34:47] ** Using provided annotation.
INFO  [2025-04-21 20:34:47] ** Run and Channel labels were standardized to remove symbols such as '.' or '%'.
INFO  [2025-04-21 20:34:47] ** The following options are used:
  - Features will be defined by the columns: PeptideSequence, PrecursorCharge
  - Shared peptides will be removed.
  - Proteins with single feature will not be removed.
  - Features with less than 3 measurements within each run will be kept.
INFO  [2025-04-21 20:34:47] ** Rows with values not greater than 0.6 in Purity are removed 
WARN  [2025-04-21 20:34:47] ** PeptideProphetProbability not found in input columns.
INFO  [2025-04-21 20:34:47] ** Sequences containing Oxidation are removed.
INFO  [2025-04-21 20:34:47] ** Features with all missing measurements across channels within each run are removed.
INFO  [2025-04-21 20:34:47] ** Shared peptides are removed.
INFO  [2025-04-21 20:34:47] ** Features with all missing measurements across channels within each run are removed.
INFO  [2025-04-21 20:34:47] ** PSMs have been aggregated to peptide ions.
INFO  [2025-04-21 20:34:47] ** Run annotation merged with quantification data.
INFO  [2025-04-21 20:34:47] ** Features with one or two measurements across channels within each run are removed.
INFO  [2025-04-21 20:34:47] ** Fractionation handled.
INFO  [2025-04-21 20:34:47] ** Updated quantification data to make balanced design. Missing values are marked by NA
INFO  [2025-04-21 20:34:47] ** Finished preprocessing. The dataset is ready to be processed by the proteinSummarization function.
INFO  [2025-04-21 20:34:47] ** Raw data from Philosopher imported successfully.
INFO  [2025-04-21 20:34:47] ** Using provided annotation.
INFO  [2025-04-21 20:34:47] ** Run and Channel labels were standardized to remove symbols such as '.' or '%'.
INFO  [2025-04-21 20:34:47] ** The following options are used:
  - Features will be defined by the columns: PeptideSequence, PrecursorCharge
  - Shared peptides will be removed.
  - Proteins with single feature will not be removed.
  - Features with less than 3 measurements within each run will be kept.
INFO  [2025-04-21 20:34:47] ** Rows with values not greater than 0.6 in Purity are removed 
WARN  [2025-04-21 20:34:47] ** PeptideProphetProbability not found in input columns.
INFO  [2025-04-21 20:34:47] ** Sequences containing Oxidation are removed.
INFO  [2025-04-21 20:34:47] ** Features with all missing measurements across channels within each run are removed.
INFO  [2025-04-21 20:34:47] ** Shared peptides are removed.
INFO  [2025-04-21 20:34:47] ** Features with all missing measurements across channels within each run are removed.
INFO  [2025-04-21 20:34:47] ** PSMs have been aggregated to peptide ions.
INFO  [2025-04-21 20:34:47] ** Run annotation merged with quantification data.
INFO  [2025-04-21 20:34:47] ** Features with one or two measurements across channels within each run are removed.
INFO  [2025-04-21 20:34:47] ** Fractionation handled.
INFO  [2025-04-21 20:34:47] ** Updated quantification data to make balanced design. Missing values are marked by NA
INFO  [2025-04-21 20:34:47] ** Finished preprocessing. The dataset is ready to be processed by the proteinSummarization function.
test_converters.R.............   76 tests [0;32mOK[0m 
test_converters.R.............   78 tests [0;32mOK[0m 
test_converters.R.............   79 tests [0;32mOK[0m 
test_converters.R.............   80 tests [0;32mOK[0m 
test_converters.R.............   81 tests [0;32mOK[0m 
test_converters.R.............   82 tests [0;32mOK[0m 
test_converters.R.............   83 tests [0;32mOK[0m 
test_converters.R.............   83 tests [0;32mOK[0m 
test_converters.R.............   83 tests [0;32mOK[0m 
test_converters.R.............   83 tests [0;32mOK[0m 
test_converters.R.............   83 tests [0;32mOK[0m 
test_converters.R.............   84 tests [0;32mOK[0m 
test_converters.R.............   85 tests [0;32mOK[0m INFO  [2025-04-21 20:34:47] ** Raw data from FragPipe imported successfully.
INFO  [2025-04-21 20:34:47] ** Using annotation extracted from quantification data.
INFO  [2025-04-21 20:34:47] ** Run labels were standardized to remove symbols such as '.' or '%'.
INFO  [2025-04-21 20:34:47] ** The following options are used:
  - Features will be defined by the columns: PeptideSequence, PrecursorCharge, FragmentIon, ProductCharge
  - Shared peptides will be removed.
  - Proteins with single feature will not be removed.
  - Features with less than 3 measurements across runs will be kept.
INFO  [2025-04-21 20:34:47] ** Features with all missing measurements across runs are removed.
INFO  [2025-04-21 20:34:47] ** Shared peptides are removed.
INFO  [2025-04-21 20:34:47] ** Multiple measurements in a feature and a run are summarized by summaryforMultipleRows: sum
INFO  [2025-04-21 20:34:47] ** Features with all missing measurements across runs are removed.
INFO  [2025-04-21 20:34:47] ** Run annotation merged with quantification data.
INFO  [2025-04-21 20:34:47] ** Features with all missing measurements across runs are removed.
INFO  [2025-04-21 20:34:47] ** Fractionation handled.
INFO  [2025-04-21 20:34:47] ** Updated quantification data to make balanced design. Missing values are marked by NA
INFO  [2025-04-21 20:34:47] ** Finished preprocessing. The dataset is ready to be processed by the dataProcess function.
test_converters.R.............   85 tests [0;32mOK[0m 
test_converters.R.............   86 tests [0;32mOK[0m 
test_converters.R.............   87 tests [0;32mOK[0m 
test_converters.R.............   88 tests [0;32mOK[0m [0;34m3.9s[0m
test_dataSummarizationPTM.R...    0 tests    
test_dataSummarizationPTM.R...    1 tests [0;32mOK[0m 
test_dataSummarizationPTM.R...    2 tests [0;32mOK[0m 
test_dataSummarizationPTM.R...    3 tests [0;32mOK[0m 
test_dataSummarizationPTM.R...    4 tests [0;32mOK[0m 
test_dataSummarizationPTM.R...    5 tests [0;32mOK[0m 
test_dataSummarizationPTM.R...    6 tests [0;32mOK[0m 
test_dataSummarizationPTM.R...    7 tests [0;32mOK[0m 
test_dataSummarizationPTM.R...    8 tests [0;32mOK[0m 
test_dataSummarizationPTM.R...    9 tests [0;32mOK[0m 
test_dataSummarizationPTM.R...   10 tests [0;32mOK[0m 
test_dataSummarizationPTM.R...   11 tests [0;32mOK[0m 
test_dataSummarizationPTM.R...   12 tests [0;32mOK[0m 
test_dataSummarizationPTM.R...   13 tests [0;32mOK[0m 
test_dataSummarizationPTM.R...   14 tests [0;32mOK[0m 
test_dataSummarizationPTM.R...   15 tests [0;32mOK[0m 
test_dataSummarizationPTM.R...   16 tests [0;32mOK[0m 
test_dataSummarizationPTM.R...   17 tests [0;32mOK[0m 
test_dataSummarizationPTM.R...   18 tests [0;32mOK[0m 
test_dataSummarizationPTM.R...   19 tests [0;32mOK[0m 
test_dataSummarizationPTM.R...   20 tests [0;32mOK[0m 
test_dataSummarizationPTM.R...   21 tests [0;32mOK[0m 
test_dataSummarizationPTM.R...   22 tests [0;32mOK[0m 
test_dataSummarizationPTM.R...   23 tests [0;32mOK[0m 
test_dataSummarizationPTM.R...   24 tests [0;32mOK[0m 
test_dataSummarizationPTM.R...   25 tests [0;32mOK[0m 
test_dataSummarizationPTM.R...   26 tests [0;32mOK[0m 
test_dataSummarizationPTM.R...   27 tests [0;32mOK[0m 
test_dataSummarizationPTM.R...   28 tests [0;32mOK[0m 
test_dataSummarizationPTM.R...   29 tests [0;32mOK[0m 
test_dataSummarizationPTM.R...   30 tests [0;32mOK[0m Starting PTM summarization...
test_dataSummarizationPTM.R...   31 tests [0;32mOK[0m [0;36m63ms[0m
test_dataSummarizationPTM_TMT.R    0 tests    
test_dataSummarizationPTM_TMT.R    1 tests [0;32mOK[0m 
test_dataSummarizationPTM_TMT.R    2 tests [0;32mOK[0m 
test_dataSummarizationPTM_TMT.R    3 tests [0;32mOK[0m 
test_dataSummarizationPTM_TMT.R    4 tests [0;32mOK[0m 
test_dataSummarizationPTM_TMT.R    5 tests [0;32mOK[0m 
test_dataSummarizationPTM_TMT.R    6 tests [0;32mOK[0m 
test_dataSummarizationPTM_TMT.R    7 tests [0;32mOK[0m 
test_dataSummarizationPTM_TMT.R    8 tests [0;32mOK[0m 
test_dataSummarizationPTM_TMT.R    9 tests [0;32mOK[0m 
test_dataSummarizationPTM_TMT.R   10 tests [0;32mOK[0m 
test_dataSummarizationPTM_TMT.R   11 tests [0;32mOK[0m 
test_dataSummarizationPTM_TMT.R   12 tests [0;32mOK[0m 
test_dataSummarizationPTM_TMT.R   13 tests [0;32mOK[0m 
test_dataSummarizationPTM_TMT.R   14 tests [0;32mOK[0m 
test_dataSummarizationPTM_TMT.R   15 tests [0;32mOK[0m 
test_dataSummarizationPTM_TMT.R   16 tests [0;32mOK[0m 
test_dataSummarizationPTM_TMT.R   17 tests [0;32mOK[0m 
test_dataSummarizationPTM_TMT.R   18 tests [0;32mOK[0m 
test_dataSummarizationPTM_TMT.R   19 tests [0;32mOK[0m 
test_dataSummarizationPTM_TMT.R   20 tests [0;32mOK[0m 
test_dataSummarizationPTM_TMT.R   21 tests [0;32mOK[0m 
test_dataSummarizationPTM_TMT.R   22 tests [0;32mOK[0m 
test_dataSummarizationPTM_TMT.R   23 tests [0;32mOK[0m 
test_dataSummarizationPTM_TMT.R   24 tests [0;32mOK[0m 
test_dataSummarizationPTM_TMT.R   25 tests [0;32mOK[0m 
test_dataSummarizationPTM_TMT.R   26 tests [0;32mOK[0m 
test_dataSummarizationPTM_TMT.R   27 tests [0;32mOK[0m 
test_dataSummarizationPTM_TMT.R   28 tests [0;32mOK[0m 
test_dataSummarizationPTM_TMT.R   29 tests [0;32mOK[0m 
test_dataSummarizationPTM_TMT.R   30 tests [0;32mOK[0m 
test_dataSummarizationPTM_TMT.R   31 tests [0;32mOK[0m [0;36m93ms[0m
test_groupComparisonPTM.R.....    0 tests    
test_groupComparisonPTM.R.....    0 tests    
test_groupComparisonPTM.R.....    1 tests [0;32mOK[0m 
test_groupComparisonPTM.R.....    2 tests [0;32mOK[0m Starting PTM modeling...
test_groupComparisonPTM.R.....    3 tests [0;32mOK[0m Starting PTM modeling...
INFO  [2025-04-21 20:34:49]  == Start to test and get inference in whole plot ...
  |                                                                            
  |                                                                      |   0%
  |                                                                            
  |=                                                                     |   1%
  |                                                                            
  |=                                                                     |   2%
  |                                                                            
  |==                                                                    |   2%
  |                                                                            
  |==                                                                    |   3%
  |                                                                            
  |===                                                                   |   4%
  |                                                                            
  |===                                                                   |   5%
  |                                                                            
  |====                                                                  |   6%
  |                                                                            
  |=====                                                                 |   7%
  |                                                                            
  |======                                                                |   8%
  |                                                                            
  |======                                                                |   9%
  |                                                                            
  |=======                                                               |  10%
  |                                                                            
  |========                                                              |  11%
  |                                                                            
  |========                                                              |  12%
  |                                                                            
  |=========                                                             |  12%
  |                                                                            
  |=========                                                             |  13%
  |                                                                            
  |==========                                                            |  14%
  |                                                                            
  |==========                                                            |  15%
  |                                                                            
  |===========                                                           |  16%
  |                                                                            
  |============                                                          |  17%
  |                                                                            
  |=============                                                         |  18%
  |                                                                            
  |=============                                                         |  19%
  |                                                                            
  |==============                                                        |  20%
  |                                                                            
  |==============                                                        |  21%
  |                                                                            
  |===============                                                       |  21%
  |                                                                            
  |================                                                      |  22%
  |                                                                            
  |================                                                      |  23%
  |                                                                            
  |=================                                                     |  24%
  |                                                                            
  |=================                                                     |  25%
  |                                                                            
  |==================                                                    |  26%
  |                                                                            
  |===================                                                   |  26%
  |                                                                            
  |===================                                                   |  27%
  |                                                                            
  |====================                                                  |  28%
  |                                                                            
  |====================                                                  |  29%
  |                                                                            
  |=====================                                                 |  30%
  |                                                                            
  |=====================                                                 |  31%
  |                                                                            
  |======================                                                |  31%
  |                                                                            
  |=======================                                               |  32%
  |                                                                            
  |=======================                                               |  33%
  |                                                                            
  |========================                                              |  34%
  |                                                                            
  |========================                                              |  35%
  |                                                                            
  |=========================                                             |  36%
  |                                                                            
  |==========================                                            |  37%
  |                                                                            
  |===========================                                           |  38%
  |                                                                            
  |===========================                                           |  39%
  |                                                                            
  |============================                                          |  40%
  |                                                                            
  |=============================                                         |  41%
  |                                                                            
  |==============================                                        |  42%
  |                                                                            
  |==============================                                        |  43%
  |                                                                            
  |===============================                                       |  44%
  |                                                                            
  |===============================                                       |  45%
  |                                                                            
  |================================                                      |  45%
  |                                                                            
  |================================                                      |  46%
  |                                                                            
  |=================================                                     |  47%
  |                                                                            
  |==================================                                    |  48%
  |                                                                            
  |==================================                                    |  49%
  |                                                                            
  |===================================                                   |  50%
  |                                                                            
  |====================================                                  |  51%
  |                                                                            
  |====================================                                  |  52%
  |                                                                            
  |=====================================                                 |  53%
  |                                                                            
  |======================================                                |  54%
  |                                                                            
  |======================================                                |  55%
  |                                                                            
  |=======================================                               |  55%
  |                                                                            
  |=======================================                               |  56%
  |                                                                            
  |========================================                              |  57%
  |                                                                            
  |========================================                              |  58%
  |                                                                            
  |=========================================                             |  59%
  |                                                                            
  |==========================================                            |  60%
  |                                                                            
  |===========================================                           |  61%
  |                                                                            
  |===========================================                           |  62%
  |                                                                            
  |============================================                          |  63%
  |                                                                            
  |=============================================                         |  64%
  |                                                                            
  |==============================================                        |  65%
  |                                                                            
  |==============================================                        |  66%
  |                                                                            
  |===============================================                       |  67%
  |                                                                            
  |===============================================                       |  68%
  |                                                                            
  |================================================                      |  69%
  |                                                                            
  |=================================================                     |  69%
  |                                                                            
  |=================================================                     |  70%
  |                                                                            
  |==================================================                    |  71%
  |                                                                            
  |==================================================                    |  72%
  |                                                                            
  |===================================================                   |  73%
  |                                                                            
  |===================================================                   |  74%
  |                                                                            
  |====================================================                  |  74%
  |                                                                            
  |=====================================================                 |  75%
  |                                                                            
  |=====================================================                 |  76%
  |                                                                            
  |======================================================                |  77%
  |                                                                            
  |======================================================                |  78%
  |                                                                            
  |=======================================================               |  79%
  |                                                                            
  |========================================================              |  79%
  |                                                                            
  |========================================================              |  80%
  |                                                                            
  |=========================================================             |  81%
  |                                                                            
  |=========================================================             |  82%
  |                                                                            
  |==========================================================            |  83%
  |                                                                            
  |===========================================================           |  84%
  |                                                                            
  |============================================================          |  85%
  |                                                                            
  |============================================================          |  86%
  |                                                                            
  |=============================================================         |  87%
  |                                                                            
  |=============================================================         |  88%
  |                                                                            
  |==============================================================        |  88%
  |                                                                            
  |==============================================================        |  89%
  |                                                                            
  |===============================================================       |  90%
  |                                                                            
  |================================================================      |  91%
  |                                                                            
  |================================================================      |  92%
  |                                                                            
  |=================================================================     |  93%
  |                                                                            
  |==================================================================    |  94%
  |                                                                            
  |===================================================================   |  95%
  |                                                                            
  |===================================================================   |  96%
  |                                                                            
  |====================================================================  |  97%
  |                                                                            
  |====================================================================  |  98%
  |                                                                            
  |===================================================================== |  98%
  |                                                                            
  |===================================================================== |  99%
  |                                                                            
  |======================================================================| 100%
INFO  [2025-04-21 20:34:50]  == Comparisons for all proteins are done.
Starting Protein modeling...
INFO  [2025-04-21 20:34:50]  == Start to test and get inference in whole plot ...
  |                                                                            
  |                                                                      |   0%
  |                                                                            
  |===                                                                   |   4%
  |                                                                            
  |=====                                                                 |   8%
  |                                                                            
  |========                                                              |  12%
  |                                                                            
  |===========                                                           |  15%
  |                                                                            
  |=============                                                         |  19%
  |                                                                            
  |================                                                      |  23%
  |                                                                            
  |===================                                                   |  27%
  |                                                                            
  |======================                                                |  31%
  |                                                                            
  |========================                                              |  35%
  |                                                                            
  |===========================                                           |  38%
  |                                                                            
  |==============================                                        |  42%
  |                                                                            
  |================================                                      |  46%
  |                                                                            
  |===================================                                   |  50%
  |                                                                            
  |======================================                                |  54%
  |                                                                            
  |========================================                              |  58%
  |                                                                            
  |===========================================                           |  62%
  |                                                                            
  |==============================================                        |  65%
  |                                                                            
  |================================================                      |  69%
  |                                                                            
  |===================================================                   |  73%
  |                                                                            
  |======================================================                |  77%
  |                                                                            
  |=========================================================             |  81%
  |                                                                            
  |===========================================================           |  85%
  |                                                                            
  |==============================================================        |  88%
  |                                                                            
  |=================================================================     |  92%
  |                                                                            
  |===================================================================   |  96%
  |                                                                            
  |======================================================================| 100%
INFO  [2025-04-21 20:34:50]  == Comparisons for all proteins are done.
Starting adjustment...
test_groupComparisonPTM.R.....    3 tests [0;32mOK[0m 
test_groupComparisonPTM.R.....    4 tests [0;32mOK[0m 
test_groupComparisonPTM.R.....    5 tests [0;32mOK[0m 
test_groupComparisonPTM.R.....    6 tests [0;32mOK[0m 
test_groupComparisonPTM.R.....    7 tests [0;32mOK[0m 
test_groupComparisonPTM.R.....    8 tests [0;32mOK[0m 
test_groupComparisonPTM.R.....    9 tests [0;32mOK[0m 
test_groupComparisonPTM.R.....   10 tests [0;32mOK[0m Starting PTM modeling...
INFO  [2025-04-21 20:34:50] Design: 2 mixtures.
INFO  [2025-04-21 20:34:50] Design: 1 MS run per mixture.
INFO  [2025-04-21 20:34:50] Design: group comparison design (Different conditions contains different biological subjects).
INFO  [2025-04-21 20:34:50] Model fitting for 90 proteins.
  |                                                                            
  |                                                                      |   0%
  |                                                                            
  |=                                                                     |   1%
  |                                                                            
  |==                                                                    |   2%
  |                                                                            
  |==                                                                    |   3%
  |                                                                            
  |===                                                                   |   4%
  |                                                                            
  |====                                                                  |   6%
  |                                                                            
  |=====                                                                 |   7%
  |                                                                            
  |=====                                                                 |   8%
  |                                                                            
  |======                                                                |   9%
  |                                                                            
  |=======                                                               |  10%
  |                                                                            
  |========                                                              |  11%
  |                                                                            
  |=========                                                             |  12%
  |                                                                            
  |=========                                                             |  13%
  |                                                                            
  |==========                                                            |  14%
  |                                                                            
  |===========                                                           |  16%
  |                                                                            
  |============                                                          |  17%
  |                                                                            
  |============                                                          |  18%
  |                                                                            
  |=============                                                         |  19%
  |                                                                            
  |==============                                                        |  20%
  |                                                                            
  |===============                                                       |  21%
  |                                                                            
  |================                                                      |  22%
  |                                                                            
  |================                                                      |  23%
  |                                                                            
  |=================                                                     |  24%
  |                                                                            
  |==================                                                    |  26%
  |                                                                            
  |===================                                                   |  27%
  |                                                                            
  |===================                                                   |  28%
  |                                                                            
  |====================                                                  |  29%
  |                                                                            
  |=====================                                                 |  30%
  |                                                                            
  |======================                                                |  31%
  |                                                                            
  |=======================                                               |  32%
  |                                                                            
  |=======================                                               |  33%
  |                                                                            
  |========================                                              |  34%
  |                                                                            
  |=========================                                             |  36%
  |                                                                            
  |==========================                                            |  37%
  |                                                                            
  |==========================                                            |  38%
  |                                                                            
  |===========================                                           |  39%
  |                                                                            
  |============================                                          |  40%
  |                                                                            
  |=============================                                         |  41%
  |                                                                            
  |==============================                                        |  42%
  |                                                                            
  |==============================                                        |  43%
  |                                                                            
  |===============================                                       |  44%
  |                                                                            
  |================================                                      |  46%
  |                                                                            
  |=================================                                     |  47%
  |                                                                            
  |=================================                                     |  48%
  |                                                                            
  |==================================                                    |  49%
  |                                                                            
  |===================================                                   |  50%
  |                                                                            
  |====================================                                  |  51%
  |                                                                            
  |=====================================                                 |  52%
  |                                                                            
  |=====================================                                 |  53%
  |                                                                            
  |======================================                                |  54%
  |                                                                            
  |=======================================                               |  56%
  |                                                                            
  |========================================                              |  57%
  |                                                                            
  |========================================                              |  58%
  |                                                                            
  |=========================================                             |  59%
  |                                                                            
  |==========================================                            |  60%
  |                                                                            
  |===========================================                           |  61%
  |                                                                            
  |============================================                          |  62%
  |                                                                            
  |============================================                          |  63%
  |                                                                            
  |=============================================                         |  64%
  |                                                                            
  |==============================================                        |  66%
  |                                                                            
  |===============================================                       |  67%
  |                                                                            
  |===============================================                       |  68%
  |                                                                            
  |================================================                      |  69%
  |                                                                            
  |=================================================                     |  70%
  |                                                                            
  |==================================================                    |  71%
  |                                                                            
  |===================================================                   |  72%
  |                                                                            
  |===================================================                   |  73%
  |                                                                            
  |====================================================                  |  74%
  |                                                                            
  |=====================================================                 |  76%
  |                                                                            
  |======================================================                |  77%
  |                                                                            
  |======================================================                |  78%
  |                                                                            
  |=======================================================               |  79%
  |                                                                            
  |========================================================              |  80%
  |                                                                            
  |=========================================================             |  81%
  |                                                                            
  |==========================================================            |  82%
  |                                                                            
  |==========================================================            |  83%
  |                                                                            
  |===========================================================           |  84%
  |                                                                            
  |============================================================          |  86%
  |                                                                            
  |=============================================================         |  87%
  |                                                                            
  |=============================================================         |  88%
  |                                                                            
  |==============================================================        |  89%
  |                                                                            
  |===============================================================       |  90%
  |                                                                            
  |================================================================      |  91%
  |                                                                            
  |=================================================================     |  92%
  |                                                                            
  |=================================================================     |  93%
  |                                                                            
  |==================================================================    |  94%
  |                                                                            
  |===================================================================   |  96%
  |                                                                            
  |====================================================================  |  97%
  |                                                                            
  |====================================================================  |  98%
  |                                                                            
  |===================================================================== |  99%
  |                                                                            
  |======================================================================| 100%
INFO  [2025-04-21 20:34:51] Testing for 90 proteins:
  |                                                                            
  |                                                                      |   0%
  |                                                                            
  |=                                                                     |   1%
  |                                                                            
  |==                                                                    |   2%
  |                                                                            
  |==                                                                    |   3%
  |                                                                            
  |===                                                                   |   4%
  |                                                                            
  |====                                                                  |   6%
  |                                                                            
  |=====                                                                 |   7%
  |                                                                            
  |=====                                                                 |   8%
  |                                                                            
  |======                                                                |   9%
  |                                                                            
  |=======                                                               |  10%
  |                                                                            
  |========                                                              |  11%
  |                                                                            
  |=========                                                             |  12%
  |                                                                            
  |=========                                                             |  13%
  |                                                                            
  |==========                                                            |  14%
  |                                                                            
  |===========                                                           |  16%
  |                                                                            
  |============                                                          |  17%
  |                                                                            
  |============                                                          |  18%
  |                                                                            
  |=============                                                         |  19%
  |                                                                            
  |==============                                                        |  20%
  |                                                                            
  |===============                                                       |  21%
  |                                                                            
  |================                                                      |  22%
  |                                                                            
  |================                                                      |  23%
  |                                                                            
  |=================                                                     |  24%
  |                                                                            
  |==================                                                    |  26%
  |                                                                            
  |===================                                                   |  27%
  |                                                                            
  |===================                                                   |  28%
  |                                                                            
  |====================                                                  |  29%
  |                                                                            
  |=====================                                                 |  30%
  |                                                                            
  |======================                                                |  31%
  |                                                                            
  |=======================                                               |  32%
  |                                                                            
  |=======================                                               |  33%
  |                                                                            
  |========================                                              |  34%
  |                                                                            
  |=========================                                             |  36%
  |                                                                            
  |==========================                                            |  37%
  |                                                                            
  |==========================                                            |  38%
  |                                                                            
  |===========================                                           |  39%
  |                                                                            
  |============================                                          |  40%
  |                                                                            
  |=============================                                         |  41%
  |                                                                            
  |==============================                                        |  42%
  |                                                                            
  |==============================                                        |  43%
  |                                                                            
  |===============================                                       |  44%
  |                                                                            
  |================================                                      |  46%
  |                                                                            
  |=================================                                     |  47%
  |                                                                            
  |=================================                                     |  48%
  |                                                                            
  |==================================                                    |  49%
  |                                                                            
  |===================================                                   |  50%
  |                                                                            
  |====================================                                  |  51%
  |                                                                            
  |=====================================                                 |  52%
  |                                                                            
  |=====================================                                 |  53%
  |                                                                            
  |======================================                                |  54%
  |                                                                            
  |=======================================                               |  56%
  |                                                                            
  |========================================                              |  57%
  |                                                                            
  |========================================                              |  58%
  |                                                                            
  |=========================================                             |  59%
  |                                                                            
  |==========================================                            |  60%
  |                                                                            
  |===========================================                           |  61%
  |                                                                            
  |============================================                          |  62%
  |                                                                            
  |============================================                          |  63%
  |                                                                            
  |=============================================                         |  64%
  |                                                                            
  |==============================================                        |  66%
  |                                                                            
  |===============================================                       |  67%
  |                                                                            
  |===============================================                       |  68%
  |                                                                            
  |================================================                      |  69%
  |                                                                            
  |=================================================                     |  70%
  |                                                                            
  |==================================================                    |  71%
  |                                                                            
  |===================================================                   |  72%
  |                                                                            
  |===================================================                   |  73%
  |                                                                            
  |====================================================                  |  74%
  |                                                                            
  |=====================================================                 |  76%
  |                                                                            
  |======================================================                |  77%
  |                                                                            
  |======================================================                |  78%
  |                                                                            
  |=======================================================               |  79%
  |                                                                            
  |========================================================              |  80%
  |                                                                            
  |=========================================================             |  81%
  |                                                                            
  |==========================================================            |  82%
  |                                                                            
  |==========================================================            |  83%
  |                                                                            
  |===========================================================           |  84%
  |                                                                            
  |============================================================          |  86%
  |                                                                            
  |=============================================================         |  87%
  |                                                                            
  |=============================================================         |  88%
  |                                                                            
  |==============================================================        |  89%
  |                                                                            
  |===============================================================       |  90%
  |                                                                            
  |================================================================      |  91%
  |                                                                            
  |=================================================================     |  92%
  |                                                                            
  |=================================================================     |  93%
  |                                                                            
  |==================================================================    |  94%
  |                                                                            
  |===================================================================   |  96%
  |                                                                            
  |====================================================================  |  97%
  |                                                                            
  |====================================================================  |  98%
  |                                                                            
  |===================================================================== |  99%
  |                                                                            
  |======================================================================| 100%
Starting Protein modeling...
INFO  [2025-04-21 20:34:51] Design: 2 mixtures.
INFO  [2025-04-21 20:34:51] Design: 1 MS run per mixture.
INFO  [2025-04-21 20:34:51] Design: group comparison design (Different conditions contains different biological subjects).
INFO  [2025-04-21 20:34:51] Model fitting for 85 proteins.
  |                                                                            
  |                                                                      |   0%
  |                                                                            
  |=                                                                     |   1%
  |                                                                            
  |==                                                                    |   2%
  |                                                                            
  |==                                                                    |   4%
  |                                                                            
  |===                                                                   |   5%
  |                                                                            
  |====                                                                  |   6%
  |                                                                            
  |=====                                                                 |   7%
  |                                                                            
  |======                                                                |   8%
  |                                                                            
  |=======                                                               |   9%
  |                                                                            
  |=======                                                               |  11%
  |                                                                            
  |========                                                              |  12%
  |                                                                            
  |=========                                                             |  13%
  |                                                                            
  |==========                                                            |  14%
  |                                                                            
  |===========                                                           |  15%
  |                                                                            
  |============                                                          |  16%
  |                                                                            
  |============                                                          |  18%
  |                                                                            
  |=============                                                         |  19%
  |                                                                            
  |==============                                                        |  20%
  |                                                                            
  |===============                                                       |  21%
  |                                                                            
  |================                                                      |  22%
  |                                                                            
  |================                                                      |  24%
  |                                                                            
  |=================                                                     |  25%
  |                                                                            
  |==================                                                    |  26%
  |                                                                            
  |===================                                                   |  27%
  |                                                                            
  |====================                                                  |  28%
  |                                                                            
  |=====================                                                 |  29%
  |                                                                            
  |=====================                                                 |  31%
  |                                                                            
  |======================                                                |  32%
  |                                                                            
  |=======================                                               |  33%
  |                                                                            
  |========================                                              |  34%
  |                                                                            
  |=========================                                             |  35%
  |                                                                            
  |==========================                                            |  36%
  |                                                                            
  |==========================                                            |  38%
  |                                                                            
  |===========================                                           |  39%
  |                                                                            
  |============================                                          |  40%
  |                                                                            
  |=============================                                         |  41%
  |                                                                            
  |==============================                                        |  42%
  |                                                                            
  |==============================                                        |  44%
  |                                                                            
  |===============================                                       |  45%
  |                                                                            
  |================================                                      |  46%
  |                                                                            
  |=================================                                     |  47%
  |                                                                            
  |==================================                                    |  48%
  |                                                                            
  |===================================                                   |  49%
  |                                                                            
  |===================================                                   |  51%
  |                                                                            
  |====================================                                  |  52%
  |                                                                            
  |=====================================                                 |  53%
  |                                                                            
  |======================================                                |  54%
  |                                                                            
  |=======================================                               |  55%
  |                                                                            
  |========================================                              |  56%
  |                                                                            
  |========================================                              |  58%
  |                                                                            
  |=========================================                             |  59%
  |                                                                            
  |==========================================                            |  60%
  |                                                                            
  |===========================================                           |  61%
  |                                                                            
  |============================================                          |  62%
  |                                                                            
  |============================================                          |  64%
  |                                                                            
  |=============================================                         |  65%
  |                                                                            
  |==============================================                        |  66%
  |                                                                            
  |===============================================                       |  67%
  |                                                                            
  |================================================                      |  68%
  |                                                                            
  |=================================================                     |  69%
  |                                                                            
  |=================================================                     |  71%
  |                                                                            
  |==================================================                    |  72%
  |                                                                            
  |===================================================                   |  73%
  |                                                                            
  |====================================================                  |  74%
  |                                                                            
  |=====================================================                 |  75%
  |                                                                            
  |======================================================                |  76%
  |                                                                            
  |======================================================                |  78%
  |                                                                            
  |=======================================================               |  79%
  |                                                                            
  |========================================================              |  80%
  |                                                                            
  |=========================================================             |  81%
  |                                                                            
  |==========================================================            |  82%
  |                                                                            
  |==========================================================            |  84%
  |                                                                            
  |===========================================================           |  85%
  |                                                                            
  |============================================================          |  86%
  |                                                                            
  |=============================================================         |  87%
  |                                                                            
  |==============================================================        |  88%
  |                                                                            
  |===============================================================       |  89%
  |                                                                            
  |===============================================================       |  91%
  |                                                                            
  |================================================================      |  92%
  |                                                                            
  |=================================================================     |  93%
  |                                                                            
  |==================================================================    |  94%
  |                                                                            
  |===================================================================   |  95%
  |                                                                            
  |====================================================================  |  96%
  |                                                                            
  |====================================================================  |  98%
  |                                                                            
  |===================================================================== |  99%
  |                                                                            
  |======================================================================| 100%
INFO  [2025-04-21 20:34:53] Testing for 85 proteins:
  |                                                                            
  |                                                                      |   0%
  |                                                                            
  |=                                                                     |   1%
  |                                                                            
  |==                                                                    |   2%
  |                                                                            
  |==                                                                    |   4%
  |                                                                            
  |===                                                                   |   5%
  |                                                                            
  |====                                                                  |   6%
  |                                                                            
  |=====                                                                 |   7%
  |                                                                            
  |======                                                                |   8%
  |                                                                            
  |=======                                                               |   9%
  |                                                                            
  |=======                                                               |  11%
  |                                                                            
  |========                                                              |  12%
  |                                                                            
  |=========                                                             |  13%
  |                                                                            
  |==========                                                            |  14%
  |                                                                            
  |===========                                                           |  15%
  |                                                                            
  |============                                                          |  16%
  |                                                                            
  |============                                                          |  18%
  |                                                                            
  |=============                                                         |  19%
  |                                                                            
  |==============                                                        |  20%
  |                                                                            
  |===============                                                       |  21%
  |                                                                            
  |================                                                      |  22%
  |                                                                            
  |================                                                      |  24%
  |                                                                            
  |=================                                                     |  25%
  |                                                                            
  |==================                                                    |  26%
  |                                                                            
  |===================                                                   |  27%
  |                                                                            
  |====================                                                  |  28%
  |                                                                            
  |=====================                                                 |  29%
  |                                                                            
  |=====================                                                 |  31%
  |                                                                            
  |======================                                                |  32%
  |                                                                            
  |=======================                                               |  33%
  |                                                                            
  |========================                                              |  34%
  |                                                                            
  |=========================                                             |  35%
  |                                                                            
  |==========================                                            |  36%
  |                                                                            
  |==========================                                            |  38%
  |                                                                            
  |===========================                                           |  39%
  |                                                                            
  |============================                                          |  40%
  |                                                                            
  |=============================                                         |  41%
  |                                                                            
  |==============================                                        |  42%
  |                                                                            
  |==============================                                        |  44%
  |                                                                            
  |===============================                                       |  45%
  |                                                                            
  |================================                                      |  46%
  |                                                                            
  |=================================                                     |  47%
  |                                                                            
  |==================================                                    |  48%
  |                                                                            
  |===================================                                   |  49%
  |                                                                            
  |===================================                                   |  51%
  |                                                                            
  |====================================                                  |  52%
  |                                                                            
  |=====================================                                 |  53%
  |                                                                            
  |======================================                                |  54%
  |                                                                            
  |=======================================                               |  55%
  |                                                                            
  |========================================                              |  56%
  |                                                                            
  |========================================                              |  58%
  |                                                                            
  |=========================================                             |  59%
  |                                                                            
  |==========================================                            |  60%
  |                                                                            
  |===========================================                           |  61%
  |                                                                            
  |============================================                          |  62%
  |                                                                            
  |============================================                          |  64%
  |                                                                            
  |=============================================                         |  65%
  |                                                                            
  |==============================================                        |  66%
  |                                                                            
  |===============================================                       |  67%
  |                                                                            
  |================================================                      |  68%
  |                                                                            
  |=================================================                     |  69%
  |                                                                            
  |=================================================                     |  71%
  |                                                                            
  |==================================================                    |  72%
  |                                                                            
  |===================================================                   |  73%
  |                                                                            
  |====================================================                  |  74%
  |                                                                            
  |=====================================================                 |  75%
  |                                                                            
  |======================================================                |  76%
  |                                                                            
  |======================================================                |  78%
  |                                                                            
  |=======================================================               |  79%
  |                                                                            
  |========================================================              |  80%
  |                                                                            
  |=========================================================             |  81%
  |                                                                            
  |==========================================================            |  82%
  |                                                                            
  |==========================================================            |  84%
  |                                                                            
  |===========================================================           |  85%
  |                                                                            
  |============================================================          |  86%
  |                                                                            
  |=============================================================         |  87%
  |                                                                            
  |==============================================================        |  88%
  |                                                                            
  |===============================================================       |  89%
  |                                                                            
  |===============================================================       |  91%
  |                                                                            
  |================================================================      |  92%
  |                                                                            
  |=================================================================     |  93%
  |                                                                            
  |==================================================================    |  94%
  |                                                                            
  |===================================================================   |  95%
  |                                                                            
  |====================================================================  |  96%
  |                                                                            
  |====================================================================  |  98%
  |                                                                            
  |===================================================================== |  99%
  |                                                                            
  |======================================================================| 100%
Starting adjustment...
test_groupComparisonPTM.R.....   10 tests [0;32mOK[0m 
test_groupComparisonPTM.R.....   11 tests [0;32mOK[0m 
test_groupComparisonPTM.R.....   12 tests [0;32mOK[0m 
test_groupComparisonPTM.R.....   13 tests [0;32mOK[0m 
test_groupComparisonPTM.R.....   14 tests [0;32mOK[0m 
test_groupComparisonPTM.R.....   15 tests [0;32mOK[0m 
test_groupComparisonPTM.R.....   16 tests [0;32mOK[0m 
test_groupComparisonPTM.R.....   17 tests [0;32mOK[0m [0;34m5.2s[0m
All ok, 167 results (9.2s)
There were 50 or more warnings (use warnings() to see the first 50)
> 
> proc.time()
   user  system elapsed 
 15.038   0.789  11.455 
MSstatsPTM.Rcheck/MSstatsPTM-Ex.timings
| name | user | system | elapsed | |
| DIANNtoMSstatsPTMFormat | 0.000 | 0.000 | 0.001 | |
| FragPipetoMSstatsPTMFormat | 0.655 | 0.023 | 0.402 | |
| MSstatsPTMSiteLocator | 0 | 0 | 0 | |
| MaxQtoMSstatsPTMFormat | 0.242 | 0.017 | 0.130 | |
| MetamorpheusToMSstatsPTMFormat | 0.090 | 0.005 | 0.048 | |
| PDtoMSstatsPTMFormat | 0.640 | 0.056 | 0.365 | |
| PStoMSstatsPTMFormat | 0.037 | 0.012 | 0.025 | |
| ProgenesistoMSstatsPTMFormat | 0.030 | 0.010 | 0.021 | |
| SkylinetoMSstatsPTMFormat | 0.021 | 0.006 | 0.013 | |
| SpectronauttoMSstatsPTMFormat | 0.415 | 0.022 | 0.220 | |
| annotSite | 0.001 | 0.000 | 0.000 | |
| dataProcessPlotsPTM | 1.067 | 0.032 | 0.684 | |
| dataSummarizationPTM | 1.093 | 0.033 | 0.756 | |
| dataSummarizationPTM_TMT | 2.984 | 0.253 | 1.858 | |
| designSampleSizePTM | 1.678 | 0.056 | 1.540 | |
| fragpipe_annotation | 0 | 0 | 0 | |
| fragpipe_annotation_protein | 0.001 | 0.001 | 0.001 | |
| fragpipe_input | 0.001 | 0.000 | 0.002 | |
| fragpipe_input_protein | 0.002 | 0.001 | 0.002 | |
| groupComparisonPTM | 1.419 | 0.020 | 1.239 | |
| groupComparisonPlotsPTM | 3.653 | 0.044 | 3.524 | |
| locateMod | 0 | 0 | 0 | |
| locatePTM | 0.005 | 0.001 | 0.005 | |
| maxq_lf_annotation | 0.001 | 0.000 | 0.000 | |
| maxq_lf_evidence | 0.003 | 0.001 | 0.004 | |
| maxq_tmt_annotation | 0.000 | 0.000 | 0.001 | |
| maxq_tmt_evidence | 0.014 | 0.002 | 0.014 | |
| pd_annotation | 0.000 | 0.000 | 0.001 | |
| pd_psm_input | 0.004 | 0.001 | 0.004 | |
| pd_testing_output | 0.051 | 0.048 | 0.103 | |
| raw.input | 0.015 | 0.000 | 0.015 | |
| raw.input.tmt | 0.002 | 0.001 | 0.001 | |
| spectronaut_annotation | 0 | 0 | 0 | |
| spectronaut_input | 0.002 | 0.000 | 0.002 | |
| summary.data | 0.110 | 0.126 | 0.247 | |
| summary.data.tmt | 0.233 | 0.269 | 0.518 | |
| tidyFasta | 0.007 | 0.001 | 0.008 | |