| Back to Multiple platform build/check report for BioC 3.21: simplified long |
|
This page was generated on 2025-10-16 11:41 -0400 (Thu, 16 Oct 2025).
| Hostname | OS | Arch (*) | R version | Installed pkgs |
|---|---|---|---|---|
| nebbiolo1 | Linux (Ubuntu 24.04.3 LTS) | x86_64 | 4.5.1 (2025-06-13) -- "Great Square Root" | 4833 |
| merida1 | macOS 12.7.6 Monterey | x86_64 | 4.5.1 RC (2025-06-05 r88288) -- "Great Square Root" | 4614 |
| kjohnson1 | macOS 13.7.5 Ventura | arm64 | 4.5.1 Patched (2025-06-14 r88325) -- "Great Square Root" | 4555 |
| kunpeng2 | Linux (openEuler 24.03 LTS) | aarch64 | R Under development (unstable) (2025-02-19 r87757) -- "Unsuffered Consequences" | 4586 |
| Click on any hostname to see more info about the system (e.g. compilers) (*) as reported by 'uname -p', except on Windows and Mac OS X | ||||
| Package 1383/2341 | Hostname | OS / Arch | INSTALL | BUILD | CHECK | BUILD BIN | ||||||||
| MSstatsLiP 1.14.2 (landing page) Devon Kohler
| nebbiolo1 | Linux (Ubuntu 24.04.3 LTS) / x86_64 | OK | OK | OK | |||||||||
| merida1 | macOS 12.7.6 Monterey / x86_64 | OK | OK | OK | OK | |||||||||
| kjohnson1 | macOS 13.7.5 Ventura / arm64 | OK | OK | OK | OK | |||||||||
| kunpeng2 | Linux (openEuler 24.03 LTS) / aarch64 | OK | OK | OK | ||||||||||
|
To the developers/maintainers of the MSstatsLiP package: - Allow up to 24 hours (and sometimes 48 hours) for your latest push to git@git.bioconductor.org:packages/MSstatsLiP.git to reflect on this report. See Troubleshooting Build Report for more information. - Use the following Renviron settings to reproduce errors and warnings. - If 'R CMD check' started to fail recently on the Linux builder(s) over a missing dependency, add the missing dependency to 'Suggests:' in your DESCRIPTION file. See Renviron.bioc for more information. - See Martin Grigorov's blog post for how to debug Linux ARM64 related issues on a x86_64 host. |
| Package: MSstatsLiP |
| Version: 1.14.2 |
| Command: /home/biocbuild/R/R/bin/R CMD check --install=check:MSstatsLiP.install-out.txt --library=/home/biocbuild/R/R/site-library --no-vignettes --timings MSstatsLiP_1.14.2.tar.gz |
| StartedAt: 2025-10-14 11:42:42 -0000 (Tue, 14 Oct 2025) |
| EndedAt: 2025-10-14 11:46:55 -0000 (Tue, 14 Oct 2025) |
| EllapsedTime: 253.2 seconds |
| RetCode: 0 |
| Status: OK |
| CheckDir: MSstatsLiP.Rcheck |
| Warnings: 0 |
##############################################################################
##############################################################################
###
### Running command:
###
### /home/biocbuild/R/R/bin/R CMD check --install=check:MSstatsLiP.install-out.txt --library=/home/biocbuild/R/R/site-library --no-vignettes --timings MSstatsLiP_1.14.2.tar.gz
###
##############################################################################
##############################################################################
* using log directory ‘/home/biocbuild/bbs-3.21-bioc/meat/MSstatsLiP.Rcheck’
* using R Under development (unstable) (2025-02-19 r87757)
* using platform: aarch64-unknown-linux-gnu
* R was compiled by
aarch64-unknown-linux-gnu-gcc (GCC) 14.2.0
GNU Fortran (GCC) 14.2.0
* running under: openEuler 24.03 (LTS-SP1)
* using session charset: UTF-8
* using option ‘--no-vignettes’
* checking for file ‘MSstatsLiP/DESCRIPTION’ ... OK
* checking extension type ... Package
* this is package ‘MSstatsLiP’ version ‘1.14.2’
* package encoding: UTF-8
* checking package namespace information ... OK
* checking package dependencies ... OK
* checking if this is a source package ... OK
* checking if there is a namespace ... OK
* checking for hidden files and directories ... OK
* checking for portable file names ... OK
* checking for sufficient/correct file permissions ... OK
* checking whether package ‘MSstatsLiP’ can be installed ... OK
* used C++ compiler: ‘aarch64-unknown-linux-gnu-g++ (GCC) 14.2.0’
* checking installed package size ... OK
* checking package directory ... OK
* checking ‘build’ directory ... OK
* checking DESCRIPTION meta-information ... OK
* checking top-level files ... OK
* checking for left-over files ... OK
* checking index information ... OK
* checking package subdirectories ... OK
* checking code files for non-ASCII characters ... OK
* checking R files for syntax errors ... OK
* checking whether the package can be loaded ... OK
* checking whether the package can be loaded with stated dependencies ... OK
* checking whether the package can be unloaded cleanly ... OK
* checking whether the namespace can be loaded with stated dependencies ... OK
* checking whether the namespace can be unloaded cleanly ... OK
* checking loading without being on the library search path ... OK
* checking dependencies in R code ... OK
* checking S3 generic/method consistency ... OK
* checking replacement functions ... OK
* checking foreign function calls ... OK
* checking R code for possible problems ... NOTE
ResistanceBarcodePlotLiP: no visible binding for global variable
‘GROUP’
ResistanceBarcodePlotLiP: no visible binding for global variable
‘Protein’
ResistanceBarcodePlotLiP: no visible binding for global variable
‘uniprot_iso’
ResistanceBarcodePlotLiP: no visible binding for global variable
‘PeptideSequence’
ResistanceBarcodePlotLiP: no visible binding for global variable
‘Accessibility_ratio’
ResistanceBarcodePlotLiP: no visible binding for global variable
‘Index’
ResistanceBarcodePlotLiP: no visible binding for global variable
‘Label’
ResistanceBarcodePlotLiP: no visible binding for global variable ‘sig’
ResistanceBarcodePlotLiP: no visible binding for global variable
‘Coverage’
StructuralBarcodePlotLiP: no visible binding for global variable
‘NSEMI_TRI’
StructuralBarcodePlotLiP: no visible binding for global variable
‘CSEMI_TRI’
calculateProteolyticResistance: no visible binding for global variable
‘LogIntensities’
calculateProteolyticResistance: no visible binding for global variable
‘Protein.y’
Undefined global functions or variables:
Accessibility_ratio CSEMI_TRI Coverage GROUP Index Label
LogIntensities NSEMI_TRI PeptideSequence Protein Protein.y sig
uniprot_iso
* checking Rd files ... OK
* checking Rd metadata ... OK
* checking Rd cross-references ... OK
* checking for missing documentation entries ... OK
* checking for code/documentation mismatches ... OK
* checking Rd \usage sections ... OK
* checking Rd contents ... OK
* checking for unstated dependencies in examples ... OK
* checking contents of ‘data’ directory ... OK
* checking data for non-ASCII characters ... OK
* checking LazyData ... OK
* checking data for ASCII and uncompressed saves ... OK
* checking line endings in C/C++/Fortran sources/headers ... OK
* checking compiled code ... NOTE
Note: information on .o files is not available
* checking files in ‘vignettes’ ... OK
* checking examples ... OK
Examples with CPU (user + system) or elapsed time > 5s
user system elapsed
dataProcessPlotsLiP 47.077 0.348 47.516
* checking for unstated dependencies in ‘tests’ ... OK
* checking tests ...
Running ‘tinytest.R’
OK
* checking for unstated dependencies in vignettes ... OK
* checking package vignettes ... OK
* checking running R code from vignettes ... SKIPPED
* checking re-building of vignette outputs ... SKIPPED
* checking PDF version of manual ... OK
* DONE
Status: 2 NOTEs
See
‘/home/biocbuild/bbs-3.21-bioc/meat/MSstatsLiP.Rcheck/00check.log’
for details.
MSstatsLiP.Rcheck/00install.out
############################################################################## ############################################################################## ### ### Running command: ### ### /home/biocbuild/R/R/bin/R CMD INSTALL MSstatsLiP ### ############################################################################## ############################################################################## * installing to library ‘/home/biocbuild/R/R-devel_2025-02-19/site-library’ * installing *source* package ‘MSstatsLiP’ ... ** this is package ‘MSstatsLiP’ version ‘1.14.2’ ** using staged installation ** libs using C++ compiler: ‘aarch64-unknown-linux-gnu-g++ (GCC) 14.2.0’ /opt/ohpc/pub/compiler/gcc/14.2.0/bin/aarch64-unknown-linux-gnu-g++ -std=gnu++17 -I"/home/biocbuild/R/R/include" -DNDEBUG -I'/home/biocbuild/R/R-devel_2025-02-19/site-library/Rcpp/include' -I/usr/local/include -fPIC -g -O2 -Wall -Werror=format-security -c RcppExports.cpp -o RcppExports.o /opt/ohpc/pub/compiler/gcc/14.2.0/bin/aarch64-unknown-linux-gnu-g++ -std=gnu++17 -I"/home/biocbuild/R/R/include" -DNDEBUG -I'/home/biocbuild/R/R-devel_2025-02-19/site-library/Rcpp/include' -I/usr/local/include -fPIC -g -O2 -Wall -Werror=format-security -c model_adjustment.cpp -o model_adjustment.o /opt/ohpc/pub/compiler/gcc/14.2.0/bin/aarch64-unknown-linux-gnu-g++ -std=gnu++17 -shared -L/home/biocbuild/R/R/lib -L/usr/local/lib -o MSstatsLiP.so RcppExports.o model_adjustment.o -L/home/biocbuild/R/R/lib -lR installing to /home/biocbuild/R/R-devel_2025-02-19/site-library/00LOCK-MSstatsLiP/00new/MSstatsLiP/libs ** R ** data *** moving datasets to lazyload DB ** inst ** byte-compile and prepare package for lazy loading ** help *** installing help indices ** building package indices ** installing vignettes ** testing if installed package can be loaded from temporary location ** checking absolute paths in shared objects and dynamic libraries ** testing if installed package can be loaded from final location ** testing if installed package keeps a record of temporary installation path * DONE (MSstatsLiP)
MSstatsLiP.Rcheck/tests/tinytest.Rout
R Under development (unstable) (2025-02-19 r87757) -- "Unsuffered Consequences"
Copyright (C) 2025 The R Foundation for Statistical Computing
Platform: aarch64-unknown-linux-gnu
R is free software and comes with ABSOLUTELY NO WARRANTY.
You are welcome to redistribute it under certain conditions.
Type 'license()' or 'licence()' for distribution details.
R is a collaborative project with many contributors.
Type 'contributors()' for more information and
'citation()' on how to cite R or R packages in publications.
Type 'demo()' for some demos, 'help()' for on-line help, or
'help.start()' for an HTML browser interface to help.
Type 'q()' to quit R.
>
> if ( requireNamespace("tinytest", quietly=TRUE) ){
+ tinytest::test_package("MSstatsLiP")
+ }
test_SkylinetoMSstatsLiPFormat.R 0 tests
test_SkylinetoMSstatsLiPFormat.R 1 tests [0;32mOK[0m
test_SkylinetoMSstatsLiPFormat.R 2 tests [0;32mOK[0m INFO [2025-10-14 11:46:34] ** Raw data from Skyline imported successfully.
INFO [2025-10-14 11:46:34] ** Raw data from Skyline cleaned successfully.
test_SkylinetoMSstatsLiPFormat.R 3 tests [0;32mOK[0m INFO [2025-10-14 11:46:34] ** Raw data from Skyline imported successfully.
INFO [2025-10-14 11:46:34] ** Raw data from Skyline cleaned successfully.
INFO [2025-10-14 11:46:34] ** Using annotation extracted from quantification data.
test_SkylinetoMSstatsLiPFormat.R 4 tests [0;32mOK[0m INFO [2025-10-14 11:46:34] ** Raw data from Skyline imported successfully.
INFO [2025-10-14 11:46:34] ** Raw data from Skyline cleaned successfully.
INFO [2025-10-14 11:46:34] ** Using annotation extracted from quantification data.
test_SkylinetoMSstatsLiPFormat.R 5 tests [0;32mOK[0m INFO [2025-10-14 11:46:34] ** Raw data from Skyline imported successfully.
INFO [2025-10-14 11:46:34] ** Raw data from Skyline cleaned successfully.
INFO [2025-10-14 11:46:34] ** Using annotation extracted from quantification data.
test_SkylinetoMSstatsLiPFormat.R 6 tests [0;32mOK[0m INFO [2025-10-14 11:46:34] ** Raw data from Skyline imported successfully.
INFO [2025-10-14 11:46:34] ** Raw data from Skyline cleaned successfully.
INFO [2025-10-14 11:46:34] ** Using annotation extracted from quantification data.
test_SkylinetoMSstatsLiPFormat.R 7 tests [0;32mOK[0m INFO [2025-10-14 11:46:34] ** Raw data from Skyline imported successfully.
INFO [2025-10-14 11:46:34] ** Raw data from Skyline cleaned successfully.
INFO [2025-10-14 11:46:34] ** Using annotation extracted from quantification data.
test_SkylinetoMSstatsLiPFormat.R 8 tests [0;32mOK[0m INFO [2025-10-14 11:46:34] ** Raw data from Skyline imported successfully.
INFO [2025-10-14 11:46:34] ** Raw data from Skyline cleaned successfully.
INFO [2025-10-14 11:46:34] ** Using annotation extracted from quantification data.
test_SkylinetoMSstatsLiPFormat.R 9 tests [0;32mOK[0m INFO [2025-10-14 11:46:34] ** Raw data from Skyline imported successfully.
INFO [2025-10-14 11:46:34] ** Raw data from Skyline cleaned successfully.
INFO [2025-10-14 11:46:34] ** Using annotation extracted from quantification data.
test_SkylinetoMSstatsLiPFormat.R 10 tests [0;32mOK[0m [0;34m0.8s[0m
test_SpectronauttoMSstatsLiPFormat.R 0 tests
test_SpectronauttoMSstatsLiPFormat.R 0 tests
test_SpectronauttoMSstatsLiPFormat.R 1 tests [0;32mOK[0m
test_SpectronauttoMSstatsLiPFormat.R 2 tests [0;32mOK[0m INFO [2025-10-14 11:46:35] ** Raw data from Spectronaut imported successfully.
INFO [2025-10-14 11:46:35] ** Raw data from Spectronaut cleaned successfully.
INFO [2025-10-14 11:46:35] ** Using annotation extracted from quantification data.
INFO [2025-10-14 11:46:35] ** Run labels were standardized to remove symbols such as '.' or '%'.
INFO [2025-10-14 11:46:35] ** The following options are used:
- Features will be defined by the columns: PeptideSequence, PrecursorCharge, FragmentIon, ProductCharge
- Shared peptides will be removed.
- Proteins with single feature will not be removed.
- Features with less than 3 measurements across runs will be removed.
WARN [2025-10-14 11:46:35] ** PGQvalue not found in input columns.
INFO [2025-10-14 11:46:35] ** Intensities with values not smaller than 0.01 in EGQvalue are replaced with NA
INFO [2025-10-14 11:46:35] ** Features with all missing measurements across runs are removed.
INFO [2025-10-14 11:46:35] ** Shared peptides are removed.
INFO [2025-10-14 11:46:35] ** Multiple measurements in a feature and a run are summarized by summaryforMultipleRows: max
INFO [2025-10-14 11:46:35] ** Features with one or two measurements across runs are removed.
INFO [2025-10-14 11:46:35] ** Run annotation merged with quantification data.
INFO [2025-10-14 11:46:35] ** Features with one or two measurements across runs are removed.
INFO [2025-10-14 11:46:35] ** Fractionation handled.
INFO [2025-10-14 11:46:35] ** Updated quantification data to make balanced design. Missing values are marked by NA
INFO [2025-10-14 11:46:35] ** Finished preprocessing. The dataset is ready to be processed by the dataProcess function.
test_SpectronauttoMSstatsLiPFormat.R 3 tests [0;32mOK[0m
test_SpectronauttoMSstatsLiPFormat.R 4 tests [0;32mOK[0m
test_SpectronauttoMSstatsLiPFormat.R 5 tests [0;32mOK[0m
test_SpectronauttoMSstatsLiPFormat.R 6 tests [0;32mOK[0m INFO [2025-10-14 11:46:35] ** Raw data from Spectronaut imported successfully.
INFO [2025-10-14 11:46:35] ** Raw data from Spectronaut cleaned successfully.
INFO [2025-10-14 11:46:35] ** Using annotation extracted from quantification data.
INFO [2025-10-14 11:46:35] ** Run labels were standardized to remove symbols such as '.' or '%'.
test_SpectronauttoMSstatsLiPFormat.R 7 tests [0;32mOK[0m
test_SpectronauttoMSstatsLiPFormat.R 8 tests [0;32mOK[0m
test_SpectronauttoMSstatsLiPFormat.R 9 tests [0;32mOK[0m [0;34m1.1s[0m
test_dataProcessPlotsLiP.R.... 0 tests
test_dataProcessPlotsLiP.R.... 1 tests [0;32mOK[0m
test_dataProcessPlotsLiP.R.... 2 tests [0;32mOK[0m
test_dataProcessPlotsLiP.R.... 3 tests [0;32mOK[0m
test_dataProcessPlotsLiP.R.... 4 tests [0;32mOK[0m
test_dataProcessPlotsLiP.R.... 5 tests [0;32mOK[0m
test_dataProcessPlotsLiP.R.... 6 tests [0;32mOK[0m
test_dataProcessPlotsLiP.R.... 7 tests [0;32mOK[0m
test_dataProcessPlotsLiP.R.... 8 tests [0;32mOK[0m
test_dataProcessPlotsLiP.R.... 9 tests [0;32mOK[0m
test_dataProcessPlotsLiP.R.... 10 tests [0;32mOK[0m [0;36m66ms[0m
test_dataSummarizationLiP.R... 0 tests
test_dataSummarizationLiP.R... 0 tests
test_dataSummarizationLiP.R... 1 tests [0;32mOK[0m
test_dataSummarizationLiP.R... 2 tests [0;32mOK[0m
test_dataSummarizationLiP.R... 3 tests [0;32mOK[0m
test_dataSummarizationLiP.R... 4 tests [0;32mOK[0m
test_dataSummarizationLiP.R... 5 tests [0;32mOK[0m
test_dataSummarizationLiP.R... 6 tests [0;32mOK[0m
test_dataSummarizationLiP.R... 7 tests [0;32mOK[0m
test_dataSummarizationLiP.R... 8 tests [0;32mOK[0m
test_dataSummarizationLiP.R... 9 tests [0;32mOK[0m
test_dataSummarizationLiP.R... 10 tests [0;32mOK[0m
test_dataSummarizationLiP.R... 11 tests [0;32mOK[0m
test_dataSummarizationLiP.R... 12 tests [0;32mOK[0m
test_dataSummarizationLiP.R... 13 tests [0;32mOK[0m
test_dataSummarizationLiP.R... 14 tests [0;32mOK[0m
test_dataSummarizationLiP.R... 15 tests [0;32mOK[0m
test_dataSummarizationLiP.R... 16 tests [0;32mOK[0m
test_dataSummarizationLiP.R... 17 tests [0;32mOK[0m
test_dataSummarizationLiP.R... 18 tests [0;32mOK[0m
test_dataSummarizationLiP.R... 19 tests [0;32mOK[0m
test_dataSummarizationLiP.R... 20 tests [0;32mOK[0m
test_dataSummarizationLiP.R... 21 tests [0;32mOK[0m
test_dataSummarizationLiP.R... 22 tests [0;32mOK[0m
test_dataSummarizationLiP.R... 23 tests [0;32mOK[0m
test_dataSummarizationLiP.R... 24 tests [0;32mOK[0m
test_dataSummarizationLiP.R... 25 tests [0;32mOK[0m
test_dataSummarizationLiP.R... 26 tests [0;32mOK[0m
test_dataSummarizationLiP.R... 27 tests [0;32mOK[0m
test_dataSummarizationLiP.R... 28 tests [0;32mOK[0m Starting PTM summarization...
test_dataSummarizationLiP.R... 29 tests [0;32mOK[0m [0;34m0.2s[0m
test_groupComparisonLiP.R..... 0 tests
test_groupComparisonLiP.R..... 0 tests
test_groupComparisonLiP.R..... 1 tests [0;32mOK[0m
test_groupComparisonLiP.R..... 2 tests [0;32mOK[0m Starting PTM modeling...
test_groupComparisonLiP.R..... 3 tests [0;32mOK[0m Starting PTM modeling...
INFO [2025-10-14 11:46:36] == Start to test and get inference in whole plot ...
|
| | 0%
|
|===== | 7%
|
|========== | 14%
|
|=============== | 21%
|
|==================== | 29%
|
|========================= | 36%
|
|============================== | 43%
|
|=================================== | 50%
|
|======================================== | 57%
|
|============================================= | 64%
|
|================================================== | 71%
|
|======================================================= | 79%
|
|============================================================ | 86%
|
|================================================================= | 93%
|
|======================================================================| 100%
INFO [2025-10-14 11:46:36] == Comparisons for all proteins are done.
Starting Protein modeling...
INFO [2025-10-14 11:46:36] == Start to test and get inference in whole plot ...
|
| | 0%
|
|===== | 8%
|
|=========== | 15%
|
|================ | 23%
|
|====================== | 31%
|
|=========================== | 38%
|
|================================ | 46%
|
|====================================== | 54%
|
|=========================================== | 62%
|
|================================================ | 69%
|
|====================================================== | 77%
|
|=========================================================== | 85%
|
|================================================================= | 92%
|
|======================================================================| 100%
INFO [2025-10-14 11:46:37] == Comparisons for all proteins are done.
Starting adjustment...
test_groupComparisonLiP.R..... 3 tests [0;32mOK[0m
test_groupComparisonLiP.R..... 4 tests [0;32mOK[0m
test_groupComparisonLiP.R..... 5 tests [0;32mOK[0m
test_groupComparisonLiP.R..... 6 tests [0;32mOK[0m
test_groupComparisonLiP.R..... 7 tests [0;32mOK[0m
test_groupComparisonLiP.R..... 8 tests [0;32mOK[0m
test_groupComparisonLiP.R..... 9 tests [0;32mOK[0m
test_groupComparisonLiP.R..... 10 tests [0;32mOK[0m [0;34m1.3s[0m
test_groupComparisonPlotsLiP.R 0 tests
test_groupComparisonPlotsLiP.R 1 tests [0;32mOK[0m
test_groupComparisonPlotsLiP.R 2 tests [0;32mOK[0m
test_groupComparisonPlotsLiP.R 3 tests [0;32mOK[0m
test_groupComparisonPlotsLiP.R 4 tests [0;32mOK[0m
test_groupComparisonPlotsLiP.R 5 tests [0;32mOK[0m
test_groupComparisonPlotsLiP.R 6 tests [0;32mOK[0m
test_groupComparisonPlotsLiP.R 7 tests [0;32mOK[0m
test_groupComparisonPlotsLiP.R 8 tests [0;32mOK[0m
test_groupComparisonPlotsLiP.R 9 tests [0;32mOK[0m
test_groupComparisonPlotsLiP.R 10 tests [0;32mOK[0m
test_groupComparisonPlotsLiP.R 11 tests [0;32mOK[0m
test_groupComparisonPlotsLiP.R 12 tests [0;32mOK[0m [0;36m46ms[0m
test_trypticHistogramLiP.R.... 0 tests
test_trypticHistogramLiP.R.... 0 tests
test_trypticHistogramLiP.R.... 0 tests
test_trypticHistogramLiP.R.... 1 tests [0;32mOK[0m
test_trypticHistogramLiP.R.... 2 tests [0;32mOK[0m
test_trypticHistogramLiP.R.... 3 tests [0;32mOK[0m
test_trypticHistogramLiP.R.... 4 tests [0;32mOK[0m
test_trypticHistogramLiP.R.... 5 tests [0;32mOK[0m
test_trypticHistogramLiP.R.... 6 tests [0;32mOK[0m
test_trypticHistogramLiP.R.... 7 tests [0;32mOK[0m
test_trypticHistogramLiP.R.... 8 tests [0;32mOK[0m
test_trypticHistogramLiP.R.... 9 tests [0;32mOK[0m
test_trypticHistogramLiP.R.... 10 tests [0;32mOK[0m
test_trypticHistogramLiP.R.... 11 tests [0;32mOK[0m
test_trypticHistogramLiP.R.... 12 tests [0;32mOK[0m
test_trypticHistogramLiP.R.... 13 tests [0;32mOK[0m
test_trypticHistogramLiP.R.... 14 tests [0;32mOK[0m
test_trypticHistogramLiP.R.... 15 tests [0;32mOK[0m
test_trypticHistogramLiP.R.... 16 tests [0;32mOK[0m
test_trypticHistogramLiP.R.... 17 tests [0;32mOK[0m
test_trypticHistogramLiP.R.... 18 tests [0;32mOK[0m
test_trypticHistogramLiP.R.... 19 tests [0;32mOK[0m
test_trypticHistogramLiP.R.... 20 tests [0;32mOK[0m
test_trypticHistogramLiP.R.... 21 tests [0;32mOK[0m
test_trypticHistogramLiP.R.... 22 tests [0;32mOK[0m [0;34m12.2s[0m
All ok, 102 results (15.7s)
Warning messages:
1: In max(datafeature.ptm$ABUNDANCE, na.rm = TRUE) :
no non-missing arguments to max; returning -Inf
2: In geom_bar(stat = "identity", fill = barfill, color = barcolor, :
Ignoring empty aesthetic: `width`.
3: In geom_bar(stat = "identity", fill = barfill, color = barcolor, :
Ignoring empty aesthetic: `width`.
4: In geom_bar(stat = "identity", fill = barfill, color = barcolor, :
Ignoring empty aesthetic: `width`.
5: In geom_bar(stat = "identity", fill = barfill, color = barcolor, :
Ignoring empty aesthetic: `width`.
6: In geom_bar(stat = "identity", fill = barfill, color = barcolor, :
Ignoring empty aesthetic: `width`.
7: In geom_bar(stat = "identity", fill = barfill, color = barcolor, :
Ignoring empty aesthetic: `width`.
>
> proc.time()
user system elapsed
22.493 0.613 24.012
MSstatsLiP.Rcheck/MSstatsLiP-Ex.timings
| name | user | system | elapsed | |
| DIANNtoMSstatsLiPFormat | 0.022 | 0.000 | 0.023 | |
| LiPRawData | 0.011 | 0.000 | 0.011 | |
| MSstatsLiP_Summarized | 0.019 | 0.000 | 0.020 | |
| MSstatsLiP_data | 0.009 | 0.000 | 0.008 | |
| MSstatsLiP_model | 0.018 | 0.000 | 0.018 | |
| PCAPlotLiP | 4.700 | 0.215 | 4.924 | |
| ResistanceBarcodePlotLiP | 0.001 | 0.000 | 0.001 | |
| SkylineTest | 0.008 | 0.000 | 0.008 | |
| SkylinetoMSstatsLiPFormat | 0.008 | 0.000 | 0.009 | |
| SpectronauttoMSstatsLiPFormat | 0.261 | 0.012 | 0.275 | |
| StructuralBarcodePlotLiP | 4.287 | 0.068 | 4.363 | |
| TrPRawData | 0.009 | 0.000 | 0.009 | |
| annotSite | 0.001 | 0.000 | 0.001 | |
| calculateProteolyticResistance | 0.01 | 0.00 | 0.01 | |
| calculateTrypticity | 0.016 | 0.004 | 0.020 | |
| correlationPlotLiP | 0.538 | 0.024 | 0.563 | |
| dataProcessPlotsLiP | 47.077 | 0.348 | 47.516 | |
| dataSummarizationLiP | 0.826 | 0.016 | 0.846 | |
| groupComparisonLiP | 0.672 | 0.004 | 0.677 | |
| groupComparisonPlotsLiP | 3.206 | 0.004 | 3.216 | |
| locateMod | 0.001 | 0.000 | 0.001 | |
| locatePTM | 0.084 | 0.000 | 0.085 | |
| raw_lip | 0.068 | 0.004 | 0.072 | |
| raw_prot | 0.072 | 0.004 | 0.076 | |
| tidyFasta | 0.034 | 0.000 | 0.034 | |
| trypticHistogramLiP | 0.589 | 0.004 | 0.593 | |