| Back to Multiple platform build/check report for BioC 3.21: simplified long | 
 | 
This page was generated on 2025-04-22 13:18 -0400 (Tue, 22 Apr 2025).
| Hostname | OS | Arch (*) | R version | Installed pkgs | 
|---|---|---|---|---|
| nebbiolo1 | Linux (Ubuntu 24.04.1 LTS) | x86_64 | 4.5.0 RC (2025-04-04 r88126) -- "How About a Twenty-Six" | 4831 | 
| palomino7 | Windows Server 2022 Datacenter | x64 | 4.5.0 RC (2025-04-04 r88126 ucrt) -- "How About a Twenty-Six" | 4573 | 
| lconway | macOS 12.7.1 Monterey | x86_64 | 4.5.0 RC (2025-04-04 r88126) -- "How About a Twenty-Six" | 4599 | 
| kjohnson3 | macOS 13.7.1 Ventura | arm64 | 4.5.0 RC (2025-04-04 r88126) -- "How About a Twenty-Six" | 4553 | 
| kunpeng2 | Linux (openEuler 24.03 LTS) | aarch64 | R Under development (unstable) (2025-02-19 r87757) -- "Unsuffered Consequences" | 4570 | 
| Click on any hostname to see more info about the system (e.g. compilers) (*) as reported by 'uname -p', except on Windows and Mac OS X | ||||
| Package 1383/2341 | Hostname | OS / Arch | INSTALL | BUILD | CHECK | BUILD BIN | ||||||||
| MSstatsLiP 1.14.0  (landing page) Devon Kohler 
 | nebbiolo1 | Linux (Ubuntu 24.04.1 LTS) / x86_64 | OK | OK | ERROR | |||||||||
| palomino7 | Windows Server 2022 Datacenter / x64 | OK | OK | ERROR | OK | |||||||||
| lconway | macOS 12.7.1 Monterey / x86_64 | OK | OK | ERROR | OK | |||||||||
| kjohnson3 | macOS 13.7.1 Ventura / arm64 | OK | OK | ERROR | OK | |||||||||
| kunpeng2 | Linux (openEuler 24.03 LTS) / aarch64 | OK | OK | ERROR | ||||||||||
| To the developers/maintainers of the MSstatsLiP package: - Allow up to 24 hours (and sometimes 48 hours) for your latest push to git@git.bioconductor.org:packages/MSstatsLiP.git to reflect on this report. See Troubleshooting Build Report for more information. - Use the following Renviron settings to reproduce errors and warnings. - If 'R CMD check' started to fail recently on the Linux builder(s) over a missing dependency, add the missing dependency to 'Suggests:' in your DESCRIPTION file. See Renviron.bioc for more information. | 
| Package: MSstatsLiP | 
| Version: 1.14.0 | 
| Command: /Library/Frameworks/R.framework/Resources/bin/R CMD check --install=check:MSstatsLiP.install-out.txt --library=/Library/Frameworks/R.framework/Resources/library --no-vignettes --timings MSstatsLiP_1.14.0.tar.gz | 
| StartedAt: 2025-04-21 20:33:34 -0400 (Mon, 21 Apr 2025) | 
| EndedAt: 2025-04-21 20:34:50 -0400 (Mon, 21 Apr 2025) | 
| EllapsedTime: 75.9 seconds | 
| RetCode: 1 | 
| Status: ERROR | 
| CheckDir: MSstatsLiP.Rcheck | 
| Warnings: NA | 
##############################################################################
##############################################################################
###
### Running command:
###
###   /Library/Frameworks/R.framework/Resources/bin/R CMD check --install=check:MSstatsLiP.install-out.txt --library=/Library/Frameworks/R.framework/Resources/library --no-vignettes --timings MSstatsLiP_1.14.0.tar.gz
###
##############################################################################
##############################################################################
* using log directory ‘/Users/biocbuild/bbs-3.21-bioc/meat/MSstatsLiP.Rcheck’
* using R version 4.5.0 RC (2025-04-04 r88126)
* using platform: aarch64-apple-darwin20
* R was compiled by
    Apple clang version 14.0.0 (clang-1400.0.29.202)
    GNU Fortran (GCC) 14.2.0
* running under: macOS Ventura 13.7.1
* using session charset: UTF-8
* using option ‘--no-vignettes’
* checking for file ‘MSstatsLiP/DESCRIPTION’ ... OK
* checking extension type ... Package
* this is package ‘MSstatsLiP’ version ‘1.14.0’
* package encoding: UTF-8
* checking package namespace information ... OK
* checking package dependencies ... OK
* checking if this is a source package ... OK
* checking if there is a namespace ... OK
* checking for hidden files and directories ... OK
* checking for portable file names ... OK
* checking for sufficient/correct file permissions ... OK
* checking whether package ‘MSstatsLiP’ can be installed ... OK
* used C++ compiler: ‘Apple clang version 15.0.0 (clang-1500.1.0.2.5)’
* used SDK: ‘MacOSX11.3.sdk’
* checking installed package size ... OK
* checking package directory ... OK
* checking ‘build’ directory ... OK
* checking DESCRIPTION meta-information ... OK
* checking top-level files ... OK
* checking for left-over files ... OK
* checking index information ... OK
* checking package subdirectories ... OK
* checking code files for non-ASCII characters ... OK
* checking R files for syntax errors ... OK
* checking whether the package can be loaded ... OK
* checking whether the package can be loaded with stated dependencies ... OK
* checking whether the package can be unloaded cleanly ... OK
* checking whether the namespace can be loaded with stated dependencies ... OK
* checking whether the namespace can be unloaded cleanly ... OK
* checking dependencies in R code ... OK
* checking S3 generic/method consistency ... OK
* checking replacement functions ... OK
* checking foreign function calls ... OK
* checking R code for possible problems ... NOTE
ResistanceBarcodePlotLiP: no visible binding for global variable
  ‘GROUP’
ResistanceBarcodePlotLiP: no visible binding for global variable
  ‘Protein’
ResistanceBarcodePlotLiP: no visible binding for global variable
  ‘uniprot_iso’
ResistanceBarcodePlotLiP: no visible binding for global variable
  ‘PeptideSequence’
ResistanceBarcodePlotLiP: no visible binding for global variable
  ‘Accessibility_ratio’
ResistanceBarcodePlotLiP: no visible binding for global variable
  ‘Index’
ResistanceBarcodePlotLiP: no visible binding for global variable
  ‘Label’
ResistanceBarcodePlotLiP: no visible binding for global variable ‘sig’
ResistanceBarcodePlotLiP: no visible binding for global variable
  ‘Coverage’
StructuralBarcodePlotLiP: no visible binding for global variable
  ‘NSEMI_TRI’
StructuralBarcodePlotLiP: no visible binding for global variable
  ‘CSEMI_TRI’
calculateProteolyticResistance: no visible binding for global variable
  ‘LogIntensities’
calculateProteolyticResistance: no visible binding for global variable
  ‘Protein.y’
Undefined global functions or variables:
  Accessibility_ratio CSEMI_TRI Coverage GROUP Index Label
  LogIntensities NSEMI_TRI PeptideSequence Protein Protein.y sig
  uniprot_iso
* checking Rd files ... OK
* checking Rd metadata ... OK
* checking Rd cross-references ... OK
* checking for missing documentation entries ... OK
* checking for code/documentation mismatches ... OK
* checking Rd \usage sections ... OK
* checking Rd contents ... OK
* checking for unstated dependencies in examples ... OK
* checking contents of ‘data’ directory ... OK
* checking data for non-ASCII characters ... OK
* checking LazyData ... OK
* checking data for ASCII and uncompressed saves ... OK
* checking line endings in C/C++/Fortran sources/headers ... OK
* checking compiled code ... NOTE
Note: information on .o files is not available
* checking files in ‘vignettes’ ... OK
* checking examples ... OK
Examples with CPU (user + system) or elapsed time > 5s
                     user system elapsed
dataProcessPlotsLiP 6.856  0.045   6.971
* checking for unstated dependencies in ‘tests’ ... OK
* checking tests ...
  Running ‘tinytest.R’
 ERROR
Running the tests in ‘tests/tinytest.R’ failed.
Last 13 lines of output:
  test_trypticHistogramLiP.R....   24 tests [0;32mOK[0m 
  test_trypticHistogramLiP.R....   25 tests [0;32mOK[0m [0;34m2.6s[0m
  ----- FAILED[xcpt]: test_SpectronauttoMSstatsLiPFormat.R<7--10>
   call| expect_silent(SpectronauttoMSstatsLiPFormat(LiPRawData, "../extdata/ExampleFastaFile.fasta", 
   call| -->    TrPRawData, use_log_file = FALSE, append = FALSE))
   diff| Execution was not silent. A warning was thrown with message
   diff| 'no non-missing arguments to max; returning -Inf'
  ----- FAILED[xcpt]: test_SpectronauttoMSstatsLiPFormat.R<13--16>
   call| expect_silent(SpectronauttoMSstatsLiPFormat(LiPRawData, "../extdata/ExampleFastaFile.fasta", 
   call| -->    use_log_file = FALSE, append = FALSE))
   diff| Execution was not silent. A warning was thrown with message
   diff| 'no non-missing arguments to max; returning -Inf'
  Error: 2 out of 111 tests failed
  In addition: There were 35 warnings (use warnings() to see them)
  Execution halted
* checking for unstated dependencies in vignettes ... OK
* checking package vignettes ... OK
* checking running R code from vignettes ... SKIPPED
* checking re-building of vignette outputs ... SKIPPED
* checking PDF version of manual ... OK
* DONE
Status: 1 ERROR, 2 NOTEs
See
  ‘/Users/biocbuild/bbs-3.21-bioc/meat/MSstatsLiP.Rcheck/00check.log’
for details.
MSstatsLiP.Rcheck/00install.out
############################################################################## ############################################################################## ### ### Running command: ### ### /Library/Frameworks/R.framework/Resources/bin/R CMD INSTALL MSstatsLiP ### ############################################################################## ############################################################################## * installing to library ‘/Library/Frameworks/R.framework/Versions/4.5-arm64/Resources/library’ * installing *source* package ‘MSstatsLiP’ ... ** this is package ‘MSstatsLiP’ version ‘1.14.0’ ** using staged installation ** libs using C++ compiler: ‘Apple clang version 15.0.0 (clang-1500.1.0.2.5)’ using SDK: ‘MacOSX11.3.sdk’ clang++ -arch arm64 -std=gnu++17 -I"/Library/Frameworks/R.framework/Resources/include" -DNDEBUG -I'/Library/Frameworks/R.framework/Versions/4.5-arm64/Resources/library/Rcpp/include' -I/opt/R/arm64/include -fPIC -falign-functions=64 -Wall -g -O2 -c RcppExports.cpp -o RcppExports.o clang++ -arch arm64 -std=gnu++17 -I"/Library/Frameworks/R.framework/Resources/include" -DNDEBUG -I'/Library/Frameworks/R.framework/Versions/4.5-arm64/Resources/library/Rcpp/include' -I/opt/R/arm64/include -fPIC -falign-functions=64 -Wall -g -O2 -c model_adjustment.cpp -o model_adjustment.o clang++ -arch arm64 -std=gnu++17 -dynamiclib -Wl,-headerpad_max_install_names -undefined dynamic_lookup -L/Library/Frameworks/R.framework/Resources/lib -L/opt/R/arm64/lib -o MSstatsLiP.so RcppExports.o model_adjustment.o -F/Library/Frameworks/R.framework/.. -framework R installing to /Library/Frameworks/R.framework/Versions/4.5-arm64/Resources/library/00LOCK-MSstatsLiP/00new/MSstatsLiP/libs ** R ** data *** moving datasets to lazyload DB ** inst ** byte-compile and prepare package for lazy loading ** help *** installing help indices ** building package indices ** installing vignettes ** testing if installed package can be loaded from temporary location ** checking absolute paths in shared objects and dynamic libraries ** testing if installed package can be loaded from final location ** testing if installed package keeps a record of temporary installation path * DONE (MSstatsLiP)
MSstatsLiP.Rcheck/tests/tinytest.Rout.fail
R version 4.5.0 RC (2025-04-04 r88126) -- "How About a Twenty-Six"
Copyright (C) 2025 The R Foundation for Statistical Computing
Platform: aarch64-apple-darwin20
R is free software and comes with ABSOLUTELY NO WARRANTY.
You are welcome to redistribute it under certain conditions.
Type 'license()' or 'licence()' for distribution details.
R is a collaborative project with many contributors.
Type 'contributors()' for more information and
'citation()' on how to cite R or R packages in publications.
Type 'demo()' for some demos, 'help()' for on-line help, or
'help.start()' for an HTML browser interface to help.
Type 'q()' to quit R.
> 
> if ( requireNamespace("tinytest", quietly=TRUE) ){
+   tinytest::test_package("MSstatsLiP")
+ }
test_SkylinetoMSstatsLiPFormat.R    0 tests    
test_SkylinetoMSstatsLiPFormat.R    1 tests [0;32mOK[0m 
test_SkylinetoMSstatsLiPFormat.R    2 tests [0;32mOK[0m INFO  [2025-04-21 20:34:34] ** Raw data from Skyline imported successfully.
INFO  [2025-04-21 20:34:34] ** Raw data from Skyline cleaned successfully.
test_SkylinetoMSstatsLiPFormat.R    3 tests [0;32mOK[0m INFO  [2025-04-21 20:34:34] ** Raw data from Skyline imported successfully.
INFO  [2025-04-21 20:34:34] ** Raw data from Skyline cleaned successfully.
INFO  [2025-04-21 20:34:34] ** Using annotation extracted from quantification data.
test_SkylinetoMSstatsLiPFormat.R    4 tests [0;32mOK[0m INFO  [2025-04-21 20:34:34] ** Raw data from Skyline imported successfully.
INFO  [2025-04-21 20:34:34] ** Raw data from Skyline cleaned successfully.
INFO  [2025-04-21 20:34:34] ** Using annotation extracted from quantification data.
test_SkylinetoMSstatsLiPFormat.R    5 tests [0;32mOK[0m INFO  [2025-04-21 20:34:34] ** Raw data from Skyline imported successfully.
INFO  [2025-04-21 20:34:34] ** Raw data from Skyline cleaned successfully.
INFO  [2025-04-21 20:34:34] ** Using annotation extracted from quantification data.
test_SkylinetoMSstatsLiPFormat.R    6 tests [0;32mOK[0m INFO  [2025-04-21 20:34:34] ** Raw data from Skyline imported successfully.
INFO  [2025-04-21 20:34:34] ** Raw data from Skyline cleaned successfully.
INFO  [2025-04-21 20:34:34] ** Using annotation extracted from quantification data.
test_SkylinetoMSstatsLiPFormat.R    7 tests [0;32mOK[0m INFO  [2025-04-21 20:34:34] ** Raw data from Skyline imported successfully.
INFO  [2025-04-21 20:34:34] ** Raw data from Skyline cleaned successfully.
INFO  [2025-04-21 20:34:34] ** Using annotation extracted from quantification data.
test_SkylinetoMSstatsLiPFormat.R    8 tests [0;32mOK[0m INFO  [2025-04-21 20:34:34] ** Raw data from Skyline imported successfully.
INFO  [2025-04-21 20:34:34] ** Raw data from Skyline cleaned successfully.
INFO  [2025-04-21 20:34:34] ** Using annotation extracted from quantification data.
test_SkylinetoMSstatsLiPFormat.R    9 tests [0;32mOK[0m INFO  [2025-04-21 20:34:34] ** Raw data from Skyline imported successfully.
INFO  [2025-04-21 20:34:34] ** Raw data from Skyline cleaned successfully.
INFO  [2025-04-21 20:34:34] ** Using annotation extracted from quantification data.
test_SkylinetoMSstatsLiPFormat.R   10 tests [0;32mOK[0m [0;34m0.1s[0m
test_SpectronauttoMSstatsLiPFormat.R    0 tests    
test_SpectronauttoMSstatsLiPFormat.R    0 tests    
test_SpectronauttoMSstatsLiPFormat.R    1 tests [0;31m1 fails[0m 
test_SpectronauttoMSstatsLiPFormat.R    2 tests [0;31m2 fails[0m INFO  [2025-04-21 20:34:34] ** Raw data from Spectronaut imported successfully.
INFO  [2025-04-21 20:34:34] ** Raw data from Spectronaut cleaned successfully.
INFO  [2025-04-21 20:34:34] ** Using annotation extracted from quantification data.
INFO  [2025-04-21 20:34:34] ** Run labels were standardized to remove symbols such as '.' or '%'.
INFO  [2025-04-21 20:34:34] ** The following options are used:
  - Features will be defined by the columns: PeptideSequence, PrecursorCharge, FragmentIon, ProductCharge
  - Shared peptides will be removed.
  - Proteins with single feature will not be removed.
  - Features with less than 3 measurements across runs will be removed.
WARN  [2025-04-21 20:34:34] ** PGQvalue not found in input columns.
INFO  [2025-04-21 20:34:34] ** Intensities with values not smaller than 0.01 in EGQvalue are replaced with NA
INFO  [2025-04-21 20:34:34] ** Features with all missing measurements across runs are removed.
INFO  [2025-04-21 20:34:34] ** Shared peptides are removed.
INFO  [2025-04-21 20:34:34] ** Multiple measurements in a feature and a run are summarized by summaryforMultipleRows: max
INFO  [2025-04-21 20:34:34] ** Features with one or two measurements across runs are removed.
INFO  [2025-04-21 20:34:34] ** Run annotation merged with quantification data.
INFO  [2025-04-21 20:34:34] ** Features with one or two measurements across runs are removed.
INFO  [2025-04-21 20:34:34] ** Fractionation handled.
INFO  [2025-04-21 20:34:34] ** Updated quantification data to make balanced design. Missing values are marked by NA
INFO  [2025-04-21 20:34:34] ** Finished preprocessing. The dataset is ready to be processed by the dataProcess function.
test_SpectronauttoMSstatsLiPFormat.R    3 tests [0;31m2 fails[0m 
test_SpectronauttoMSstatsLiPFormat.R    4 tests [0;31m2 fails[0m 
test_SpectronauttoMSstatsLiPFormat.R    5 tests [0;31m2 fails[0m 
test_SpectronauttoMSstatsLiPFormat.R    6 tests [0;31m2 fails[0m INFO  [2025-04-21 20:34:34] ** Raw data from Spectronaut imported successfully.
INFO  [2025-04-21 20:34:34] ** Raw data from Spectronaut cleaned successfully.
INFO  [2025-04-21 20:34:34] ** Using annotation extracted from quantification data.
INFO  [2025-04-21 20:34:34] ** Run labels were standardized to remove symbols such as '.' or '%'.
test_SpectronauttoMSstatsLiPFormat.R    7 tests [0;31m2 fails[0m 
test_SpectronauttoMSstatsLiPFormat.R    8 tests [0;31m2 fails[0m 
test_SpectronauttoMSstatsLiPFormat.R    9 tests [0;31m2 fails[0m [0;36m86ms[0m
test_dataProcessPlotsLiP.R....    0 tests    
test_dataProcessPlotsLiP.R....    1 tests [0;32mOK[0m 
test_dataProcessPlotsLiP.R....    2 tests [0;32mOK[0m 
test_dataProcessPlotsLiP.R....    3 tests [0;32mOK[0m 
test_dataProcessPlotsLiP.R....    4 tests [0;32mOK[0m 
test_dataProcessPlotsLiP.R....    5 tests [0;32mOK[0m 
test_dataProcessPlotsLiP.R....    6 tests [0;32mOK[0m 
test_dataProcessPlotsLiP.R....    7 tests [0;32mOK[0m 
test_dataProcessPlotsLiP.R....    8 tests [0;32mOK[0m 
test_dataProcessPlotsLiP.R....    9 tests [0;32mOK[0m 
test_dataProcessPlotsLiP.R....   10 tests [0;32mOK[0m Drew the Profile plot for P14164_ILQNDLK (1 of 14)
Drew the Profile plot for P17891_ALQLINQDDADIIGGRDR (2 of 14)
Drew the Profile plot for P17891_DDDTDFLK (3 of 14)
Drew the Profile plot for P36112_SNDLLSGLTGSSQTR (4 of 14)
Drew the Profile plot for P38805_LGQTVGR (5 of 14)
Drew the Profile plot for P46959_DIIGKPYGSQIAIR (6 of 14)
Drew the Profile plot for P52893_SSSQGVEGIRK (7 of 14)
Drew the Profile plot for P52911_TWITEDDFEQIK (8 of 14)
Drew the Profile plot for P53235_ERQAVGDKLEDTQVLK (9 of 14)
Drew the Profile plot for P53858_FLDNHEVDSIVSLER (10 of 14)
Drew the Profile plot for Q02908_ISVISGVGVR (11 of 14)
Drew the Profile plot for Q12248_EFQSVSDLWK (12 of 14)
Drew the Profile plot for P16622_SHLQSNQLYSNQLPLDFALGK (13 of 14)
Drew the Profile plot for P24004_FIGASEQNIR (14 of 14)
Drew the Profile plot for  P14164_ILQNDLK ( 1  of  14 )
Drew the Profile plot for  P17891_ALQLINQDDADIIGGRDR ( 2  of  14 )
Drew the Profile plot for  P17891_DDDTDFLK ( 3  of  14 )
Drew the Profile plot for  P36112_SNDLLSGLTGSSQTR ( 4  of  14 )
Drew the Profile plot for  P38805_LGQTVGR ( 5  of  14 )
Drew the Profile plot for  P46959_DIIGKPYGSQIAIR ( 6  of  14 )
Drew the Profile plot for  P52893_SSSQGVEGIRK ( 7  of  14 )
Drew the Profile plot for  P52911_TWITEDDFEQIK ( 8  of  14 )
Drew the Profile plot for  P53235_ERQAVGDKLEDTQVLK ( 9  of  14 )
Drew the Profile plot for  P53858_FLDNHEVDSIVSLER ( 10  of  14 )
Drew the Profile plot for  Q02908_ISVISGVGVR ( 11  of  14 )
Drew the Profile plot for  Q12248_EFQSVSDLWK ( 12  of  14 )
Drew the Profile plot for  P16622_SHLQSNQLYSNQLPLDFALGK ( 13  of  14 )
Drew the Profile plot for  P24004_FIGASEQNIR ( 14  of  14 )
test_dataProcessPlotsLiP.R....   11 tests [0;32mOK[0m Drew the Quality Contol plot(boxplot) for all ptms/proteins.
Drew the Quality Contol plot(boxplot) for P14164_ILQNDLK (1 of 14)
Drew the Quality Contol plot(boxplot) for P17891_ALQLINQDDADIIGGRDR (2 of 14)
Drew the Quality Contol plot(boxplot) for P17891_DDDTDFLK (3 of 14)
Drew the Quality Contol plot(boxplot) for P36112_SNDLLSGLTGSSQTR (4 of 14)
Drew the Quality Contol plot(boxplot) for P38805_LGQTVGR (5 of 14)
Drew the Quality Contol plot(boxplot) for P46959_DIIGKPYGSQIAIR (6 of 14)
Drew the Quality Contol plot(boxplot) for P52893_SSSQGVEGIRK (7 of 14)
Drew the Quality Contol plot(boxplot) for P52911_TWITEDDFEQIK (8 of 14)
Drew the Quality Contol plot(boxplot) for P53235_ERQAVGDKLEDTQVLK (9 of 14)
Drew the Quality Contol plot(boxplot) for P53858_FLDNHEVDSIVSLER (10 of 14)
Drew the Quality Contol plot(boxplot) for Q02908_ISVISGVGVR (11 of 14)
Drew the Quality Contol plot(boxplot) for Q12248_EFQSVSDLWK (12 of 14)
Drew the Quality Contol plot(boxplot) for P16622_SHLQSNQLYSNQLPLDFALGK (13 of 14)
Drew the Quality Contol plot(boxplot) for P24004_FIGASEQNIR (14 of 14)
test_dataProcessPlotsLiP.R....   12 tests [0;32mOK[0m [0;34m7.2s[0m
test_dataSummarizationLiP.R...    0 tests    
test_dataSummarizationLiP.R...    0 tests    
test_dataSummarizationLiP.R...    1 tests [0;32mOK[0m 
test_dataSummarizationLiP.R...    2 tests [0;32mOK[0m 
test_dataSummarizationLiP.R...    3 tests [0;32mOK[0m 
test_dataSummarizationLiP.R...    4 tests [0;32mOK[0m 
test_dataSummarizationLiP.R...    5 tests [0;32mOK[0m 
test_dataSummarizationLiP.R...    6 tests [0;32mOK[0m 
test_dataSummarizationLiP.R...    7 tests [0;32mOK[0m 
test_dataSummarizationLiP.R...    8 tests [0;32mOK[0m 
test_dataSummarizationLiP.R...    9 tests [0;32mOK[0m 
test_dataSummarizationLiP.R...   10 tests [0;32mOK[0m 
test_dataSummarizationLiP.R...   11 tests [0;32mOK[0m 
test_dataSummarizationLiP.R...   12 tests [0;32mOK[0m 
test_dataSummarizationLiP.R...   13 tests [0;32mOK[0m 
test_dataSummarizationLiP.R...   14 tests [0;32mOK[0m 
test_dataSummarizationLiP.R...   15 tests [0;32mOK[0m 
test_dataSummarizationLiP.R...   16 tests [0;32mOK[0m 
test_dataSummarizationLiP.R...   17 tests [0;32mOK[0m 
test_dataSummarizationLiP.R...   18 tests [0;32mOK[0m 
test_dataSummarizationLiP.R...   19 tests [0;32mOK[0m 
test_dataSummarizationLiP.R...   20 tests [0;32mOK[0m 
test_dataSummarizationLiP.R...   21 tests [0;32mOK[0m 
test_dataSummarizationLiP.R...   22 tests [0;32mOK[0m 
test_dataSummarizationLiP.R...   23 tests [0;32mOK[0m 
test_dataSummarizationLiP.R...   24 tests [0;32mOK[0m 
test_dataSummarizationLiP.R...   25 tests [0;32mOK[0m 
test_dataSummarizationLiP.R...   26 tests [0;32mOK[0m 
test_dataSummarizationLiP.R...   27 tests [0;32mOK[0m 
test_dataSummarizationLiP.R...   28 tests [0;32mOK[0m Starting PTM summarization...
test_dataSummarizationLiP.R...   29 tests [0;32mOK[0m [0;36m68ms[0m
test_groupComparisonLiP.R.....    0 tests    
test_groupComparisonLiP.R.....    0 tests    
test_groupComparisonLiP.R.....    1 tests [0;32mOK[0m 
test_groupComparisonLiP.R.....    2 tests [0;32mOK[0m Starting PTM modeling...
test_groupComparisonLiP.R.....    3 tests [0;32mOK[0m Starting PTM modeling...
INFO  [2025-04-21 20:34:41]  == Start to test and get inference in whole plot ...
  |                                                                            
  |                                                                      |   0%
  |                                                                            
  |=====                                                                 |   7%
  |                                                                            
  |==========                                                            |  14%
  |                                                                            
  |===============                                                       |  21%
  |                                                                            
  |====================                                                  |  29%
  |                                                                            
  |=========================                                             |  36%
  |                                                                            
  |==============================                                        |  43%
  |                                                                            
  |===================================                                   |  50%
  |                                                                            
  |========================================                              |  57%
  |                                                                            
  |=============================================                         |  64%
  |                                                                            
  |==================================================                    |  71%
  |                                                                            
  |=======================================================               |  79%
  |                                                                            
  |============================================================          |  86%
  |                                                                            
  |=================================================================     |  93%
  |                                                                            
  |======================================================================| 100%
INFO  [2025-04-21 20:34:41]  == Comparisons for all proteins are done.
Starting Protein modeling...
INFO  [2025-04-21 20:34:41]  == Start to test and get inference in whole plot ...
  |                                                                            
  |                                                                      |   0%
  |                                                                            
  |=====                                                                 |   8%
  |                                                                            
  |===========                                                           |  15%
  |                                                                            
  |================                                                      |  23%
  |                                                                            
  |======================                                                |  31%
  |                                                                            
  |===========================                                           |  38%
  |                                                                            
  |================================                                      |  46%
  |                                                                            
  |======================================                                |  54%
  |                                                                            
  |===========================================                           |  62%
  |                                                                            
  |================================================                      |  69%
  |                                                                            
  |======================================================                |  77%
  |                                                                            
  |===========================================================           |  85%
  |                                                                            
  |=================================================================     |  92%
  |                                                                            
  |======================================================================| 100%
INFO  [2025-04-21 20:34:41]  == Comparisons for all proteins are done.
Starting adjustment...
test_groupComparisonLiP.R.....    3 tests [0;32mOK[0m 
test_groupComparisonLiP.R.....    4 tests [0;32mOK[0m 
test_groupComparisonLiP.R.....    5 tests [0;32mOK[0m 
test_groupComparisonLiP.R.....    6 tests [0;32mOK[0m 
test_groupComparisonLiP.R.....    7 tests [0;32mOK[0m 
test_groupComparisonLiP.R.....    8 tests [0;32mOK[0m 
test_groupComparisonLiP.R.....    9 tests [0;32mOK[0m 
test_groupComparisonLiP.R.....   10 tests [0;32mOK[0m [0;34m0.2s[0m
test_groupComparisonPlotsLiP.R    0 tests    
test_groupComparisonPlotsLiP.R    1 tests [0;32mOK[0m 
test_groupComparisonPlotsLiP.R    2 tests [0;32mOK[0m 
test_groupComparisonPlotsLiP.R    3 tests [0;32mOK[0m 
test_groupComparisonPlotsLiP.R    4 tests [0;32mOK[0m 
test_groupComparisonPlotsLiP.R    5 tests [0;32mOK[0m 
test_groupComparisonPlotsLiP.R    6 tests [0;32mOK[0m 
test_groupComparisonPlotsLiP.R    7 tests [0;32mOK[0m 
test_groupComparisonPlotsLiP.R    8 tests [0;32mOK[0m 
test_groupComparisonPlotsLiP.R    9 tests [0;32mOK[0m 
test_groupComparisonPlotsLiP.R   10 tests [0;32mOK[0m 
test_groupComparisonPlotsLiP.R   11 tests [0;32mOK[0m 
test_groupComparisonPlotsLiP.R   12 tests [0;32mOK[0m 
test_groupComparisonPlotsLiP.R   13 tests [0;32mOK[0m 
test_groupComparisonPlotsLiP.R   14 tests [0;32mOK[0m 
test_groupComparisonPlotsLiP.R   15 tests [0;32mOK[0m 
test_groupComparisonPlotsLiP.R   16 tests [0;32mOK[0m [0;34m1.5s[0m
test_trypticHistogramLiP.R....    0 tests    
test_trypticHistogramLiP.R....    0 tests    
test_trypticHistogramLiP.R....    0 tests    
test_trypticHistogramLiP.R....    1 tests [0;32mOK[0m 
test_trypticHistogramLiP.R....    2 tests [0;32mOK[0m 
test_trypticHistogramLiP.R....    3 tests [0;32mOK[0m 
test_trypticHistogramLiP.R....    4 tests [0;32mOK[0m 
test_trypticHistogramLiP.R....    5 tests [0;32mOK[0m 
test_trypticHistogramLiP.R....    6 tests [0;32mOK[0m 
test_trypticHistogramLiP.R....    7 tests [0;32mOK[0m 
test_trypticHistogramLiP.R....    8 tests [0;32mOK[0m 
test_trypticHistogramLiP.R....    9 tests [0;32mOK[0m 
test_trypticHistogramLiP.R....   10 tests [0;32mOK[0m 
test_trypticHistogramLiP.R....   11 tests [0;32mOK[0m 
test_trypticHistogramLiP.R....   12 tests [0;32mOK[0m 
test_trypticHistogramLiP.R....   13 tests [0;32mOK[0m 
test_trypticHistogramLiP.R....   14 tests [0;32mOK[0m 
test_trypticHistogramLiP.R....   15 tests [0;32mOK[0m 
test_trypticHistogramLiP.R....   16 tests [0;32mOK[0m 
test_trypticHistogramLiP.R....   17 tests [0;32mOK[0m 
test_trypticHistogramLiP.R....   18 tests [0;32mOK[0m 
test_trypticHistogramLiP.R....   19 tests [0;32mOK[0m 
test_trypticHistogramLiP.R....   20 tests [0;32mOK[0m 
test_trypticHistogramLiP.R....   21 tests [0;32mOK[0m 
test_trypticHistogramLiP.R....   22 tests [0;32mOK[0m 
test_trypticHistogramLiP.R....   23 tests [0;32mOK[0m 
test_trypticHistogramLiP.R....   24 tests [0;32mOK[0m 
test_trypticHistogramLiP.R....   25 tests [0;32mOK[0m [0;34m2.6s[0m
----- FAILED[xcpt]: test_SpectronauttoMSstatsLiPFormat.R<7--10>
 call| expect_silent(SpectronauttoMSstatsLiPFormat(LiPRawData, "../extdata/ExampleFastaFile.fasta", 
 call| -->    TrPRawData, use_log_file = FALSE, append = FALSE))
 diff| Execution was not silent. A warning was thrown with message
 diff| 'no non-missing arguments to max; returning -Inf'
----- FAILED[xcpt]: test_SpectronauttoMSstatsLiPFormat.R<13--16>
 call| expect_silent(SpectronauttoMSstatsLiPFormat(LiPRawData, "../extdata/ExampleFastaFile.fasta", 
 call| -->    use_log_file = FALSE, append = FALSE))
 diff| Execution was not silent. A warning was thrown with message
 diff| 'no non-missing arguments to max; returning -Inf'
Error: 2 out of 111 tests failed
In addition: There were 35 warnings (use warnings() to see them)
Execution halted
MSstatsLiP.Rcheck/MSstatsLiP-Ex.timings
| name | user | system | elapsed | |
| DIANNtoMSstatsLiPFormat | 0.018 | 0.002 | 0.019 | |
| LiPRawData | 0.003 | 0.001 | 0.003 | |
| MSstatsLiP_Summarized | 0.005 | 0.001 | 0.006 | |
| MSstatsLiP_data | 0.002 | 0.000 | 0.003 | |
| MSstatsLiP_model | 0.004 | 0.000 | 0.004 | |
| PCAPlotLiP | 0.521 | 0.017 | 0.547 | |
| ResistanceBarcodePlotLiP | 0.001 | 0.000 | 0.000 | |
| SkylineTest | 0.002 | 0.000 | 0.003 | |
| SkylinetoMSstatsLiPFormat | 0.002 | 0.001 | 0.002 | |
| SpectronauttoMSstatsLiPFormat | 0.549 | 0.034 | 0.345 | |
| StructuralBarcodePlotLiP | 1.049 | 0.017 | 1.095 | |
| TrPRawData | 0.003 | 0.000 | 0.003 | |
| annotSite | 0.000 | 0.000 | 0.001 | |
| calculateProteolyticResistance | 0.003 | 0.000 | 0.003 | |
| calculateTrypticity | 0.005 | 0.000 | 0.005 | |
| correlationPlotLiP | 0.075 | 0.001 | 0.082 | |
| dataProcessPlotsLiP | 6.856 | 0.045 | 6.971 | |
| dataSummarizationLiP | 0.421 | 0.029 | 0.249 | |
| groupComparisonLiP | 0.539 | 0.029 | 0.384 | |
| groupComparisonPlotsLiP | 0.440 | 0.009 | 0.462 | |
| locateMod | 0 | 0 | 0 | |
| locatePTM | 0.021 | 0.001 | 0.022 | |
| raw_lip | 0.016 | 0.001 | 0.017 | |
| raw_prot | 0.016 | 0.001 | 0.017 | |
| tidyFasta | 0.007 | 0.001 | 0.007 | |
| trypticHistogramLiP | 0.149 | 0.010 | 0.089 | |