Back to Multiple platform build/check report for BioC 3.21:   simplified   long
ABCDEFGHIJKL[M]NOPQRSTUVWXYZ

This page was generated on 2025-10-13 11:40 -0400 (Mon, 13 Oct 2025).

HostnameOSArch (*)R versionInstalled pkgs
nebbiolo1Linux (Ubuntu 24.04.3 LTS)x86_644.5.1 (2025-06-13) -- "Great Square Root" 4833
merida1macOS 12.7.5 Montereyx86_644.5.1 RC (2025-06-05 r88288) -- "Great Square Root" 4614
kjohnson1macOS 13.6.6 Venturaarm644.5.1 Patched (2025-06-14 r88325) -- "Great Square Root" 4555
kunpeng2Linux (openEuler 24.03 LTS)aarch64R Under development (unstable) (2025-02-19 r87757) -- "Unsuffered Consequences" 4586
Click on any hostname to see more info about the system (e.g. compilers)      (*) as reported by 'uname -p', except on Windows and Mac OS X

Package 1356/2341HostnameOS / ArchINSTALLBUILDCHECKBUILD BIN
MSA2dist 1.12.0  (landing page)
Kristian K Ullrich
Snapshot Date: 2025-10-09 13:40 -0400 (Thu, 09 Oct 2025)
git_url: https://git.bioconductor.org/packages/MSA2dist
git_branch: RELEASE_3_21
git_last_commit: d7a8634
git_last_commit_date: 2025-04-15 12:44:47 -0400 (Tue, 15 Apr 2025)
nebbiolo1Linux (Ubuntu 24.04.3 LTS) / x86_64  OK    OK    OK  UNNEEDED, same version is already published
merida1macOS 12.7.5 Monterey / x86_64  OK    OK    OK    OK  UNNEEDED, same version is already published
kjohnson1macOS 13.6.6 Ventura / arm64  OK    OK    OK    OK  UNNEEDED, same version is already published
kunpeng2Linux (openEuler 24.03 LTS) / aarch64  OK    OK    TIMEOUT  


CHECK results for MSA2dist on kjohnson1

To the developers/maintainers of the MSA2dist package:
- Allow up to 24 hours (and sometimes 48 hours) for your latest push to git@git.bioconductor.org:packages/MSA2dist.git to reflect on this report. See Troubleshooting Build Report for more information.
- Use the following Renviron settings to reproduce errors and warnings.
- If 'R CMD check' started to fail recently on the Linux builder(s) over a missing dependency, add the missing dependency to 'Suggests:' in your DESCRIPTION file. See Renviron.bioc for more information.

raw results


Summary

Package: MSA2dist
Version: 1.12.0
Command: /Library/Frameworks/R.framework/Resources/bin/R CMD check --install=check:MSA2dist.install-out.txt --library=/Library/Frameworks/R.framework/Resources/library --no-vignettes --timings MSA2dist_1.12.0.tar.gz
StartedAt: 2025-10-11 06:03:26 -0400 (Sat, 11 Oct 2025)
EndedAt: 2025-10-11 06:07:52 -0400 (Sat, 11 Oct 2025)
EllapsedTime: 265.6 seconds
RetCode: 0
Status:   OK  
CheckDir: MSA2dist.Rcheck
Warnings: 0

Command output

##############################################################################
##############################################################################
###
### Running command:
###
###   /Library/Frameworks/R.framework/Resources/bin/R CMD check --install=check:MSA2dist.install-out.txt --library=/Library/Frameworks/R.framework/Resources/library --no-vignettes --timings MSA2dist_1.12.0.tar.gz
###
##############################################################################
##############################################################################


* using log directory ‘/Users/biocbuild/bbs-3.21-bioc/meat/MSA2dist.Rcheck’
* using R version 4.5.1 Patched (2025-06-14 r88325)
* using platform: aarch64-apple-darwin20
* R was compiled by
    Apple clang version 16.0.0 (clang-1600.0.26.6)
    GNU Fortran (GCC) 14.2.0
* running under: macOS Ventura 13.7.5
* using session charset: UTF-8
* using option ‘--no-vignettes’
* checking for file ‘MSA2dist/DESCRIPTION’ ... OK
* checking extension type ... Package
* this is package ‘MSA2dist’ version ‘1.12.0’
* package encoding: UTF-8
* checking package namespace information ... OK
* checking package dependencies ... OK
* checking if this is a source package ... OK
* checking if there is a namespace ... OK
* checking for hidden files and directories ... OK
* checking for portable file names ... OK
* checking for sufficient/correct file permissions ... OK
* checking whether package ‘MSA2dist’ can be installed ... OK
* used C++ compiler: ‘Apple clang version 15.0.0 (clang-1500.0.40.1)’
* used SDK: ‘MacOSX11.3.sdk’
* checking C++ specification ... NOTE
  Specified C++11: please drop specification unless essential
* checking installed package size ... OK
* checking package directory ... OK
* checking ‘build’ directory ... OK
* checking DESCRIPTION meta-information ... OK
* checking top-level files ... OK
* checking for left-over files ... OK
* checking index information ... OK
* checking package subdirectories ... OK
* checking code files for non-ASCII characters ... OK
* checking R files for syntax errors ... OK
* checking whether the package can be loaded ... OK
* checking whether the package can be loaded with stated dependencies ... OK
* checking whether the package can be unloaded cleanly ... OK
* checking whether the namespace can be loaded with stated dependencies ... OK
* checking whether the namespace can be unloaded cleanly ... OK
* checking dependencies in R code ... OK
* checking S3 generic/method consistency ... OK
* checking replacement functions ... OK
* checking foreign function calls ... OK
* checking R code for possible problems ... OK
* checking Rd files ... OK
* checking Rd metadata ... OK
* checking Rd cross-references ... OK
* checking for missing documentation entries ... OK
* checking for code/documentation mismatches ... OK
* checking Rd \usage sections ... OK
* checking Rd contents ... OK
* checking for unstated dependencies in examples ... OK
* checking contents of ‘data’ directory ... OK
* checking data for non-ASCII characters ... OK
* checking data for ASCII and uncompressed saves ... OK
* checking line endings in C/C++/Fortran sources/headers ... OK
* checking compiled code ... NOTE
Note: information on .o files is not available
* checking files in ‘vignettes’ ... OK
* checking examples ... OK
Examples with CPU (user + system) or elapsed time > 5s
             user system elapsed
codonmat2xy 5.164   1.39   5.578
* checking for unstated dependencies in ‘tests’ ... OK
* checking tests ...
  Running ‘testthat.R’
 OK
* checking for unstated dependencies in vignettes ... OK
* checking package vignettes ... OK
* checking running R code from vignettes ... SKIPPED
* checking re-building of vignette outputs ... SKIPPED
* checking PDF version of manual ... OK
* DONE

Status: 2 NOTEs
See
  ‘/Users/biocbuild/bbs-3.21-bioc/meat/MSA2dist.Rcheck/00check.log’
for details.


Installation output

MSA2dist.Rcheck/00install.out

##############################################################################
##############################################################################
###
### Running command:
###
###   /Library/Frameworks/R.framework/Resources/bin/R CMD INSTALL MSA2dist
###
##############################################################################
##############################################################################


* installing to library ‘/Library/Frameworks/R.framework/Versions/4.5-arm64/Resources/library’
* installing *source* package ‘MSA2dist’ ...
** this is package ‘MSA2dist’ version ‘1.12.0’
** using staged installation
** libs
using C++ compiler: ‘Apple clang version 15.0.0 (clang-1500.0.40.1)’
using C++11
using SDK: ‘MacOSX11.3.sdk’
clang++ -arch arm64 -std=gnu++11 -I"/Library/Frameworks/R.framework/Resources/include" -DNDEBUG  -I'/Library/Frameworks/R.framework/Versions/4.5-arm64/Resources/library/Rcpp/include' -I'/Library/Frameworks/R.framework/Versions/4.5-arm64/Resources/library/RcppThread/include' -I/opt/R/arm64/include    -fPIC  -falign-functions=64 -Wall -g -O2   -c GY94.cpp -o GY94.o
clang++ -arch arm64 -std=gnu++11 -I"/Library/Frameworks/R.framework/Resources/include" -DNDEBUG  -I'/Library/Frameworks/R.framework/Versions/4.5-arm64/Resources/library/Rcpp/include' -I'/Library/Frameworks/R.framework/Versions/4.5-arm64/Resources/library/RcppThread/include' -I/opt/R/arm64/include    -fPIC  -falign-functions=64 -Wall -g -O2   -c KaKs.cpp -o KaKs.o
clang++ -arch arm64 -std=gnu++11 -I"/Library/Frameworks/R.framework/Resources/include" -DNDEBUG  -I'/Library/Frameworks/R.framework/Versions/4.5-arm64/Resources/library/Rcpp/include' -I'/Library/Frameworks/R.framework/Versions/4.5-arm64/Resources/library/RcppThread/include' -I/opt/R/arm64/include    -fPIC  -falign-functions=64 -Wall -g -O2   -c LPB93.cpp -o LPB93.o
clang++ -arch arm64 -std=gnu++11 -I"/Library/Frameworks/R.framework/Resources/include" -DNDEBUG  -I'/Library/Frameworks/R.framework/Versions/4.5-arm64/Resources/library/Rcpp/include' -I'/Library/Frameworks/R.framework/Versions/4.5-arm64/Resources/library/RcppThread/include' -I/opt/R/arm64/include    -fPIC  -falign-functions=64 -Wall -g -O2   -c LWL85.cpp -o LWL85.o
clang++ -arch arm64 -std=gnu++11 -I"/Library/Frameworks/R.framework/Resources/include" -DNDEBUG  -I'/Library/Frameworks/R.framework/Versions/4.5-arm64/Resources/library/Rcpp/include' -I'/Library/Frameworks/R.framework/Versions/4.5-arm64/Resources/library/RcppThread/include' -I/opt/R/arm64/include    -fPIC  -falign-functions=64 -Wall -g -O2   -c MSMA.cpp -o MSMA.o
clang++ -arch arm64 -std=gnu++11 -I"/Library/Frameworks/R.framework/Resources/include" -DNDEBUG  -I'/Library/Frameworks/R.framework/Versions/4.5-arm64/Resources/library/Rcpp/include' -I'/Library/Frameworks/R.framework/Versions/4.5-arm64/Resources/library/RcppThread/include' -I/opt/R/arm64/include    -fPIC  -falign-functions=64 -Wall -g -O2   -c MYN.cpp -o MYN.o
clang++ -arch arm64 -std=gnu++11 -I"/Library/Frameworks/R.framework/Resources/include" -DNDEBUG  -I'/Library/Frameworks/R.framework/Versions/4.5-arm64/Resources/library/Rcpp/include' -I'/Library/Frameworks/R.framework/Versions/4.5-arm64/Resources/library/RcppThread/include' -I/opt/R/arm64/include    -fPIC  -falign-functions=64 -Wall -g -O2   -c NG86.cpp -o NG86.o
clang++ -arch arm64 -std=gnu++11 -I"/Library/Frameworks/R.framework/Resources/include" -DNDEBUG  -I'/Library/Frameworks/R.framework/Versions/4.5-arm64/Resources/library/Rcpp/include' -I'/Library/Frameworks/R.framework/Versions/4.5-arm64/Resources/library/RcppThread/include' -I/opt/R/arm64/include    -fPIC  -falign-functions=64 -Wall -g -O2   -c RcppExports.cpp -o RcppExports.o
clang++ -arch arm64 -std=gnu++11 -I"/Library/Frameworks/R.framework/Resources/include" -DNDEBUG  -I'/Library/Frameworks/R.framework/Versions/4.5-arm64/Resources/library/Rcpp/include' -I'/Library/Frameworks/R.framework/Versions/4.5-arm64/Resources/library/RcppThread/include' -I/opt/R/arm64/include    -fPIC  -falign-functions=64 -Wall -g -O2   -c YN00.cpp -o YN00.o
clang++ -arch arm64 -std=gnu++11 -I"/Library/Frameworks/R.framework/Resources/include" -DNDEBUG  -I'/Library/Frameworks/R.framework/Versions/4.5-arm64/Resources/library/Rcpp/include' -I'/Library/Frameworks/R.framework/Versions/4.5-arm64/Resources/library/RcppThread/include' -I/opt/R/arm64/include    -fPIC  -falign-functions=64 -Wall -g -O2   -c base.cpp -o base.o
clang++ -arch arm64 -std=gnu++11 -I"/Library/Frameworks/R.framework/Resources/include" -DNDEBUG  -I'/Library/Frameworks/R.framework/Versions/4.5-arm64/Resources/library/Rcpp/include' -I'/Library/Frameworks/R.framework/Versions/4.5-arm64/Resources/library/RcppThread/include' -I/opt/R/arm64/include    -fPIC  -falign-functions=64 -Wall -g -O2   -c rcpp_KaKs.cpp -o rcpp_KaKs.o
clang++ -arch arm64 -std=gnu++11 -I"/Library/Frameworks/R.framework/Resources/include" -DNDEBUG  -I'/Library/Frameworks/R.framework/Versions/4.5-arm64/Resources/library/Rcpp/include' -I'/Library/Frameworks/R.framework/Versions/4.5-arm64/Resources/library/RcppThread/include' -I/opt/R/arm64/include    -fPIC  -falign-functions=64 -Wall -g -O2   -c rcpp_distSTRING.cpp -o rcpp_distSTRING.o
clang++ -arch arm64 -std=gnu++11 -I"/Library/Frameworks/R.framework/Resources/include" -DNDEBUG  -I'/Library/Frameworks/R.framework/Versions/4.5-arm64/Resources/library/Rcpp/include' -I'/Library/Frameworks/R.framework/Versions/4.5-arm64/Resources/library/RcppThread/include' -I/opt/R/arm64/include    -fPIC  -falign-functions=64 -Wall -g -O2   -c rcpp_pairwiseDeletionAA.cpp -o rcpp_pairwiseDeletionAA.o
clang++ -arch arm64 -std=gnu++11 -I"/Library/Frameworks/R.framework/Resources/include" -DNDEBUG  -I'/Library/Frameworks/R.framework/Versions/4.5-arm64/Resources/library/Rcpp/include' -I'/Library/Frameworks/R.framework/Versions/4.5-arm64/Resources/library/RcppThread/include' -I/opt/R/arm64/include    -fPIC  -falign-functions=64 -Wall -g -O2   -c rcpp_pairwiseDeletionDNA.cpp -o rcpp_pairwiseDeletionDNA.o
clang++ -arch arm64 -std=gnu++11 -dynamiclib -Wl,-headerpad_max_install_names -undefined dynamic_lookup -L/Library/Frameworks/R.framework/Resources/lib -L/opt/R/arm64/lib -o MSA2dist.so GY94.o KaKs.o LPB93.o LWL85.o MSMA.o MYN.o NG86.o RcppExports.o YN00.o base.o rcpp_KaKs.o rcpp_distSTRING.o rcpp_pairwiseDeletionAA.o rcpp_pairwiseDeletionDNA.o -F/Library/Frameworks/R.framework/.. -framework R
installing to /Library/Frameworks/R.framework/Versions/4.5-arm64/Resources/library/00LOCK-MSA2dist/00new/MSA2dist/libs
** R
** data
** byte-compile and prepare package for lazy loading
** help
*** installing help indices
*** copying figures
** building package indices
** installing vignettes
** testing if installed package can be loaded from temporary location
** checking absolute paths in shared objects and dynamic libraries
** testing if installed package can be loaded from final location
** testing if installed package keeps a record of temporary installation path
* DONE (MSA2dist)

Tests output

MSA2dist.Rcheck/tests/testthat.Rout


R version 4.5.1 Patched (2025-06-14 r88325) -- "Great Square Root"
Copyright (C) 2025 The R Foundation for Statistical Computing
Platform: aarch64-apple-darwin20

R is free software and comes with ABSOLUTELY NO WARRANTY.
You are welcome to redistribute it under certain conditions.
Type 'license()' or 'licence()' for distribution details.

R is a collaborative project with many contributors.
Type 'contributors()' for more information and
'citation()' on how to cite R or R packages in publications.

Type 'demo()' for some demos, 'help()' for on-line help, or
'help.start()' for an HTML browser interface to help.
Type 'q()' to quit R.

> library(testthat)
> library(MSA2dist)
> 
> test_check("MSA2dist")

Computing: [========================================] 100% (done)                         

Computing: [========================================] 100% (done)                         

Computing: [========================================] 100% (done)                         

Computing: [========================================] 100% (done)                         

Computing: [========================================] 100% (done)                         

Computing: [========================================] 100% (done)                         

Computing: [========================================] 100% (done)                         

Computing: [========================================] 100% (done)                         

Computing: [========================================] 100% (done)                         

Computing: [========================================] 100% (done)                         

Computing: [========================================] 100% (done)                         

Computing: [========================================] 100% (done)                         

Computing: [========================================] 100% (done)                         

Computing: [========================================] 100% (done)                         

Computing: [========================================] 100% (done)                         

Computing: [========================================] 100% (done)                         

Computing: [========================================] 100% (done)                         

Computing: [========================================] 100% (done)                         

Computing: [========================================] 100% (done)                         

Computing: [========================================] 100% (done)                         

Computing: [========================================] 100% (done)                         

Computing: [========================================] 100% (done)                         

Computing: [========================================] 100% (done)                         
[ FAIL 0 | WARN 0 | SKIP 0 | PASS 177 ]
> 
> proc.time()
   user  system elapsed 
 90.405  22.678 114.742 

Example timings

MSA2dist.Rcheck/MSA2dist-Ex.timings

nameusersystemelapsed
AAMatrix-data0.0030.0010.004
GENETIC_CODE_TCAG0.0040.0020.008
aa2selfscore0.2590.0080.278
aabin2aastring0.0370.0020.041
aastring2aabin0.2680.0080.293
aastring2aln0.1580.0040.166
aastring2dist1.0400.0371.102
addmask2string0.2630.0150.281
addpop2string0.2610.0260.293
addpos2string0.0980.0120.116
addregion2string0.6790.0160.710
aln2aastring0.1710.0030.177
aln2dnastring0.0240.0010.026
cds2aa0.7090.0290.776
cds2codonaln0.4810.0110.529
cdsstring2codonaln0.2460.0070.261
codon2numberAMBIG0.0010.0010.001
codon2numberTCAG0.0010.0010.001
codonmat2pnps0.0430.0050.048
codonmat2xy5.1641.3905.578
compareCodons0.0630.0190.087
dnabin2dnastring0.0260.0080.035
dnastring2aln0.0130.0060.018
dnastring2codonmat0.0360.0070.044
dnastring2dist0.1820.0300.224
dnastring2dnabin0.0140.0010.015
dnastring2kaks1.6031.4192.801
getmask0.2470.1110.374
getpos0.1250.0490.179
globalDeletion0.0220.0020.026
globalDeletionAA0.2140.0120.234
granthamMatrix0.0010.0020.003
hiv-data0.0300.0050.037
indices2kaks1.6241.3513.029
iupac-data0.0790.0320.118
iupacMatrix0.0010.0050.006
makePostalignedSeqs1.2430.2241.528
pal2nal1.0050.0891.115
popinteger0.2350.0190.259
popnames0.2200.0160.238
rcpp_KaKs0.0500.0060.056
rcpp_distSTRING0.0330.0070.043
rcpp_pairwiseDeletionAA0.1860.0110.202
rcpp_pairwiseDeletionDNA0.0170.0030.023
region0.2430.0110.264
regionused0.2000.0080.222
string2region0.5520.0150.589
subString0.0190.0000.020
uptriidx0.0000.0010.001