| Back to Multiple platform build/check report for BioC 3.22: simplified long |
|
This page was generated on 2025-11-24 12:05 -0500 (Mon, 24 Nov 2025).
| Hostname | OS | Arch (*) | R version | Installed pkgs |
|---|---|---|---|---|
| nebbiolo2 | Linux (Ubuntu 24.04.3 LTS) | x86_64 | 4.5.2 (2025-10-31) -- "[Not] Part in a Rumble" | 4873 |
| merida1 | macOS 12.7.6 Monterey | x86_64 | 4.5.2 Patched (2025-11-05 r88990) -- "[Not] Part in a Rumble" | 4654 |
| kjohnson1 | macOS 13.7.5 Ventura | arm64 | 4.5.2 Patched (2025-11-04 r88984) -- "[Not] Part in a Rumble" | 4600 |
| taishan | Linux (openEuler 24.03 LTS) | aarch64 | 4.5.0 (2025-04-11) -- "How About a Twenty-Six" | 4668 |
| Click on any hostname to see more info about the system (e.g. compilers) (*) as reported by 'uname -p', except on Windows and Mac OS X | ||||
| Package 1356/2361 | Hostname | OS / Arch | INSTALL | BUILD | CHECK | BUILD BIN | ||||||||
| MOSClip 1.4.0 (landing page) Paolo Martini
| nebbiolo2 | Linux (Ubuntu 24.04.3 LTS) / x86_64 | OK | OK | OK | |||||||||
| merida1 | macOS 12.7.6 Monterey / x86_64 | OK | OK | OK | OK | |||||||||
| kjohnson1 | macOS 13.7.5 Ventura / arm64 | OK | OK | OK | OK | |||||||||
| taishan | Linux (openEuler 24.03 LTS) / aarch64 | OK | OK | OK | ||||||||||
|
To the developers/maintainers of the MOSClip package: - Allow up to 24 hours (and sometimes 48 hours) for your latest push to git@git.bioconductor.org:packages/MOSClip.git to reflect on this report. See Troubleshooting Build Report for more information. - Use the following Renviron settings to reproduce errors and warnings. - If 'R CMD check' started to fail recently on the Linux builder(s) over a missing dependency, add the missing dependency to 'Suggests:' in your DESCRIPTION file. See Renviron.bioc for more information. |
| Package: MOSClip |
| Version: 1.4.0 |
| Command: /Library/Frameworks/R.framework/Resources/bin/R CMD check --install=check:MOSClip.install-out.txt --library=/Library/Frameworks/R.framework/Resources/library --no-vignettes --timings MOSClip_1.4.0.tar.gz |
| StartedAt: 2025-11-21 08:10:36 -0500 (Fri, 21 Nov 2025) |
| EndedAt: 2025-11-21 08:26:54 -0500 (Fri, 21 Nov 2025) |
| EllapsedTime: 978.5 seconds |
| RetCode: 0 |
| Status: OK |
| CheckDir: MOSClip.Rcheck |
| Warnings: 0 |
##############################################################################
##############################################################################
###
### Running command:
###
### /Library/Frameworks/R.framework/Resources/bin/R CMD check --install=check:MOSClip.install-out.txt --library=/Library/Frameworks/R.framework/Resources/library --no-vignettes --timings MOSClip_1.4.0.tar.gz
###
##############################################################################
##############################################################################
* using log directory ‘/Users/biocbuild/bbs-3.22-bioc/meat/MOSClip.Rcheck’
* using R version 4.5.2 Patched (2025-11-05 r88990)
* using platform: x86_64-apple-darwin20
* R was compiled by
Apple clang version 14.0.0 (clang-1400.0.29.202)
GNU Fortran (GCC) 14.2.0
* running under: macOS Monterey 12.7.6
* using session charset: UTF-8
* using option ‘--no-vignettes’
* checking for file ‘MOSClip/DESCRIPTION’ ... OK
* this is package ‘MOSClip’ version ‘1.4.0’
* package encoding: UTF-8
* checking package namespace information ... OK
* checking package dependencies ... INFO
Imports includes 27 non-default packages.
Importing from so many packages makes the package vulnerable to any of
them becoming unavailable. Move as many as possible to Suggests and
use conditionally.
* checking if this is a source package ... OK
* checking if there is a namespace ... OK
* checking for hidden files and directories ... OK
* checking for portable file names ... OK
* checking for sufficient/correct file permissions ... OK
* checking whether package ‘MOSClip’ can be installed ... OK
* checking installed package size ... OK
* checking package directory ... OK
* checking ‘build’ directory ... OK
* checking DESCRIPTION meta-information ... OK
* checking top-level files ... OK
* checking for left-over files ... OK
* checking index information ... OK
* checking package subdirectories ... OK
* checking code files for non-ASCII characters ... OK
* checking R files for syntax errors ... OK
* checking whether the package can be loaded ... OK
* checking whether the package can be loaded with stated dependencies ... OK
* checking whether the package can be unloaded cleanly ... OK
* checking whether the namespace can be loaded with stated dependencies ... OK
* checking whether the namespace can be unloaded cleanly ... OK
* checking dependencies in R code ... OK
* checking S3 generic/method consistency ... OK
* checking replacement functions ... OK
* checking foreign function calls ... OK
* checking R code for possible problems ... OK
* checking Rd files ... OK
* checking Rd metadata ... OK
* checking Rd cross-references ... NOTE
Found the following Rd file(s) with Rd \link{} targets missing package
anchors:
makeOmics.Rd: ExperimentList, DataFrame-class
Please provide package anchors for all Rd \link{} targets not in the
package itself and the base packages.
* checking for missing documentation entries ... OK
* checking for code/documentation mismatches ... OK
* checking Rd \usage sections ... OK
* checking Rd contents ... OK
* checking for unstated dependencies in examples ... OK
* checking contents of ‘data’ directory ... OK
* checking data for non-ASCII characters ... OK
* checking data for ASCII and uncompressed saves ... OK
* checking files in ‘vignettes’ ... OK
* checking examples ... OK
Examples with CPU (user + system) or elapsed time > 5s
user system elapsed
evaluateResampling 12.970 0.290 13.285
annotePathwayToFather 12.756 0.503 13.741
plotModuleReport 12.111 0.102 12.418
resampling-Survival 10.889 0.074 11.507
resampling-TwoClass 10.813 0.066 11.341
plotModuleHeat 10.497 0.195 10.997
multiPathwayModuleReport 9.495 0.089 9.601
plotModuleKM 7.749 0.124 7.916
plotModuleInGraph 4.972 0.098 5.150
* checking for unstated dependencies in ‘tests’ ... OK
* checking tests ...
Running ‘testthat.R’
OK
* checking for unstated dependencies in vignettes ... OK
* checking package vignettes ... OK
* checking running R code from vignettes ... SKIPPED
* checking re-building of vignette outputs ... SKIPPED
* checking PDF version of manual ... OK
* DONE
Status: 1 NOTE
See
‘/Users/biocbuild/bbs-3.22-bioc/meat/MOSClip.Rcheck/00check.log’
for details.
MOSClip.Rcheck/00install.out
############################################################################## ############################################################################## ### ### Running command: ### ### /Library/Frameworks/R.framework/Resources/bin/R CMD INSTALL MOSClip ### ############################################################################## ############################################################################## * installing to library ‘/Library/Frameworks/R.framework/Versions/4.5-x86_64/Resources/library’ * installing *source* package ‘MOSClip’ ... ** this is package ‘MOSClip’ version ‘1.4.0’ ** using staged installation ** R ** data ** inst ** byte-compile and prepare package for lazy loading ** help *** installing help indices *** copying figures ** building package indices ** installing vignettes ** testing if installed package can be loaded from temporary location ** testing if installed package can be loaded from final location ** testing if installed package keeps a record of temporary installation path * DONE (MOSClip)
MOSClip.Rcheck/tests/testthat.Rout
R version 4.5.2 Patched (2025-11-05 r88990) -- "[Not] Part in a Rumble"
Copyright (C) 2025 The R Foundation for Statistical Computing
Platform: x86_64-apple-darwin20
R is free software and comes with ABSOLUTELY NO WARRANTY.
You are welcome to redistribute it under certain conditions.
Type 'license()' or 'licence()' for distribution details.
R is a collaborative project with many contributors.
Type 'contributors()' for more information and
'citation()' on how to cite R or R packages in publications.
Type 'demo()' for some demos, 'help()' for on-line help, or
'help.start()' for an HTML browser interface to help.
Type 'q()' to quit R.
> library(testthat)
> library(MOSClip)
>
> test_check("MOSClip")
[ FAIL 0 | WARN 1 | SKIP 0 | PASS 198 ]
[ FAIL 0 | WARN 1 | SKIP 0 | PASS 198 ]
>
> proc.time()
user system elapsed
170.722 4.795 188.859
MOSClip.Rcheck/MOSClip-Ex.timings
| name | user | system | elapsed | |
| annotePathwayToFather | 12.756 | 0.503 | 13.741 | |
| availableOmicMethods | 0.000 | 0.001 | 0.001 | |
| computeFreqs | 0.005 | 0.001 | 0.005 | |
| computeOmicsIntersections | 0.007 | 0.001 | 0.008 | |
| downloadPathwayRelationFromReactome | 0.146 | 0.108 | 0.256 | |
| evaluateResampling | 12.970 | 0.290 | 13.285 | |
| makeOmics | 0.462 | 0.007 | 0.472 | |
| minOrNA | 0.000 | 0.000 | 0.001 | |
| multiOmicsSurvivalModuleTest | 3.660 | 0.076 | 3.754 | |
| multiOmicsSurvivalPathwayTest | 0.558 | 0.020 | 0.579 | |
| multiOmicsTwoClassModuleTest | 3.718 | 0.087 | 3.826 | |
| multiOmicsTwoClassPathwayTest | 0.575 | 0.017 | 0.594 | |
| multiPathwayModuleReport | 9.495 | 0.089 | 9.601 | |
| multiPathwayReport | 1.293 | 0.024 | 1.319 | |
| plotFrequencies | 0.959 | 0.010 | 0.979 | |
| plotModuleHeat | 10.497 | 0.195 | 10.997 | |
| plotModuleInGraph | 4.972 | 0.098 | 5.150 | |
| plotModuleKM | 7.749 | 0.124 | 7.916 | |
| plotModuleReport | 12.111 | 0.102 | 12.418 | |
| plotMultiPathwayReport | 3.091 | 0.043 | 3.146 | |
| plotPathwayHeat | 4.295 | 0.054 | 4.386 | |
| plotPathwayKM | 3.930 | 0.042 | 4.051 | |
| resampling-Survival | 10.889 | 0.074 | 11.507 | |
| resampling-TwoClass | 10.813 | 0.066 | 11.341 | |
| runSupertest | 0.262 | 0.004 | 0.278 | |
| showMOSpalette | 0.034 | 0.002 | 0.035 | |
| showModule | 3.740 | 0.037 | 3.913 | |
| showOmics | 0.076 | 0.006 | 0.084 | |
| showPathway | 0.671 | 0.021 | 0.723 | |
| stripModulesFromPathways | 0.000 | 0.001 | 0.001 | |
| summarizeOmicsResByMinPvalue | 0.000 | 0.001 | 0.000 | |