| Back to Multiple platform build/check report for BioC 3.21: simplified long |
|
This page was generated on 2025-10-16 11:38 -0400 (Thu, 16 Oct 2025).
| Hostname | OS | Arch (*) | R version | Installed pkgs |
|---|---|---|---|---|
| nebbiolo1 | Linux (Ubuntu 24.04.3 LTS) | x86_64 | 4.5.1 (2025-06-13) -- "Great Square Root" | 4833 |
| merida1 | macOS 12.7.6 Monterey | x86_64 | 4.5.1 RC (2025-06-05 r88288) -- "Great Square Root" | 4614 |
| kjohnson1 | macOS 13.7.5 Ventura | arm64 | 4.5.1 Patched (2025-06-14 r88325) -- "Great Square Root" | 4555 |
| kunpeng2 | Linux (openEuler 24.03 LTS) | aarch64 | R Under development (unstable) (2025-02-19 r87757) -- "Unsuffered Consequences" | 4586 |
| Click on any hostname to see more info about the system (e.g. compilers) (*) as reported by 'uname -p', except on Windows and Mac OS X | ||||
| Package 1325/2341 | Hostname | OS / Arch | INSTALL | BUILD | CHECK | BUILD BIN | ||||||||
| MODA 1.34.0 (landing page) Dong Li
| nebbiolo1 | Linux (Ubuntu 24.04.3 LTS) / x86_64 | OK | OK | OK | |||||||||
| merida1 | macOS 12.7.6 Monterey / x86_64 | OK | OK | OK | OK | |||||||||
| kjohnson1 | macOS 13.7.5 Ventura / arm64 | OK | OK | OK | OK | |||||||||
| kunpeng2 | Linux (openEuler 24.03 LTS) / aarch64 | OK | OK | OK | ||||||||||
|
To the developers/maintainers of the MODA package: - Allow up to 24 hours (and sometimes 48 hours) for your latest push to git@git.bioconductor.org:packages/MODA.git to reflect on this report. See Troubleshooting Build Report for more information. - Use the following Renviron settings to reproduce errors and warnings. - If 'R CMD check' started to fail recently on the Linux builder(s) over a missing dependency, add the missing dependency to 'Suggests:' in your DESCRIPTION file. See Renviron.bioc for more information. |
| Package: MODA |
| Version: 1.34.0 |
| Command: /home/biocbuild/bbs-3.21-bioc/R/bin/R CMD check --install=check:MODA.install-out.txt --library=/home/biocbuild/bbs-3.21-bioc/R/site-library --timings MODA_1.34.0.tar.gz |
| StartedAt: 2025-10-16 01:12:28 -0400 (Thu, 16 Oct 2025) |
| EndedAt: 2025-10-16 01:14:42 -0400 (Thu, 16 Oct 2025) |
| EllapsedTime: 134.2 seconds |
| RetCode: 0 |
| Status: OK |
| CheckDir: MODA.Rcheck |
| Warnings: 0 |
##############################################################################
##############################################################################
###
### Running command:
###
### /home/biocbuild/bbs-3.21-bioc/R/bin/R CMD check --install=check:MODA.install-out.txt --library=/home/biocbuild/bbs-3.21-bioc/R/site-library --timings MODA_1.34.0.tar.gz
###
##############################################################################
##############################################################################
* using log directory ‘/home/biocbuild/bbs-3.21-bioc/meat/MODA.Rcheck’
* using R version 4.5.1 (2025-06-13)
* using platform: x86_64-pc-linux-gnu
* R was compiled by
gcc (Ubuntu 13.3.0-6ubuntu2~24.04) 13.3.0
GNU Fortran (Ubuntu 13.3.0-6ubuntu2~24.04) 13.3.0
* running under: Ubuntu 24.04.3 LTS
* using session charset: UTF-8
* checking for file ‘MODA/DESCRIPTION’ ... OK
* checking extension type ... Package
* this is package ‘MODA’ version ‘1.34.0’
* checking package namespace information ... OK
* checking package dependencies ... OK
* checking if this is a source package ... OK
* checking if there is a namespace ... OK
* checking for hidden files and directories ... OK
* checking for portable file names ... OK
* checking for sufficient/correct file permissions ... OK
* checking whether package ‘MODA’ can be installed ... OK
* checking installed package size ... OK
* checking package directory ... OK
* checking DESCRIPTION meta-information ... OK
* checking top-level files ... OK
* checking for left-over files ... OK
* checking index information ... OK
* checking package subdirectories ... OK
* checking code files for non-ASCII characters ... OK
* checking R files for syntax errors ... OK
* checking whether the package can be loaded ... OK
* checking whether the package can be loaded with stated dependencies ... OK
* checking whether the package can be unloaded cleanly ... OK
* checking whether the namespace can be loaded with stated dependencies ... OK
* checking whether the namespace can be unloaded cleanly ... OK
* checking loading without being on the library search path ... OK
* checking dependencies in R code ... OK
* checking S3 generic/method consistency ... OK
* checking replacement functions ... OK
* checking foreign function calls ... OK
* checking R code for possible problems ... NOTE
MIcondition: no visible binding for global variable ‘pwd’
WeightedModulePartitionSpectral: no visible binding for global variable
‘indicator’
Undefined global functions or variables:
indicator pwd
* checking Rd files ... NOTE
checkRd: (-1) WeightedModulePartitionAmoutain.Rd:25: Lost braces; missing escapes or markup?
25 | \item{power}{the power parameter of WGCNA, W_{ij}=|cor(x_i,x_j)|^pwr}
| ^
checkRd: (-1) WeightedModulePartitionHierarchical.Rd:20: Lost braces; missing escapes or markup?
20 | \item{power}{the power parameter of WGCNA, W_{ij}=|cor(x_i,x_j)|^power}
| ^
checkRd: (-1) WeightedModulePartitionLouvain.Rd:23: Lost braces; missing escapes or markup?
23 | \item{power}{the power parameter of WGCNA, W_{ij}=|cor(x_i,x_j)|^power}
| ^
checkRd: (-1) WeightedModulePartitionSpectral.Rd:19: Lost braces; missing escapes or markup?
19 | \item{power}{the power parameter of WGCNA, W_{ij}=|cor(x_i,x_j)|^power}
| ^
* checking Rd metadata ... OK
* checking Rd cross-references ... OK
* checking for missing documentation entries ... OK
* checking for code/documentation mismatches ... OK
* checking Rd \usage sections ... OK
* checking Rd contents ... OK
* checking for unstated dependencies in examples ... OK
* checking contents of ‘data’ directory ... OK
* checking data for non-ASCII characters ... OK
* checking data for ASCII and uncompressed saves ... OK
* checking installed files from ‘inst/doc’ ... OK
* checking files in ‘vignettes’ ... NOTE
Package has no Sweave vignette sources and no VignetteBuilder field.
* checking examples ... OK
* checking package vignettes ... NOTE
Package has ‘vignettes’ subdirectory but apparently no vignettes.
Perhaps the ‘VignetteBuilder’ information is missing from the
DESCRIPTION file?
* checking PDF version of manual ... OK
* DONE
Status: 4 NOTEs
See
‘/home/biocbuild/bbs-3.21-bioc/meat/MODA.Rcheck/00check.log’
for details.
MODA.Rcheck/00install.out
############################################################################## ############################################################################## ### ### Running command: ### ### /home/biocbuild/bbs-3.21-bioc/R/bin/R CMD INSTALL MODA ### ############################################################################## ############################################################################## * installing to library ‘/home/biocbuild/bbs-3.21-bioc/R/site-library’ * installing *source* package ‘MODA’ ... ** this is package ‘MODA’ version ‘1.34.0’ ** using staged installation ** R ** data ** inst ** byte-compile and prepare package for lazy loading ** help *** installing help indices ** building package indices ** installing vignettes ** testing if installed package can be loaded from temporary location ** testing if installed package can be loaded from final location ** testing if installed package keeps a record of temporary installation path * DONE (MODA)
MODA.Rcheck/MODA-Ex.timings
| name | user | system | elapsed | |
| CompareAllNets | 1.065 | 0.099 | 1.151 | |
| PartitionDensity | 0.045 | 0.000 | 0.047 | |
| PartitionModularity | 0.037 | 0.004 | 0.042 | |
| WeightedModulePartitionAmoutain | 1.285 | 0.315 | 1.600 | |
| WeightedModulePartitionHierarchical | 0.187 | 0.000 | 0.187 | |
| WeightedModulePartitionLouvain | 0.057 | 0.009 | 0.066 | |
| WeightedModulePartitionSpectral | 1.067 | 0.010 | 1.078 | |
| comparemodulestwonets | 0.376 | 0.007 | 0.383 | |
| datExpr1 | 0.002 | 0.000 | 0.002 | |
| datExpr2 | 0.001 | 0.000 | 0.002 | |