Back to Multiple platform build/check report for BioC 3.21:   simplified   long
ABCDEFGHIJKL[M]NOPQRSTUVWXYZ

This page was generated on 2025-04-22 13:19 -0400 (Tue, 22 Apr 2025).

HostnameOSArch (*)R versionInstalled pkgs
nebbiolo1Linux (Ubuntu 24.04.1 LTS)x86_644.5.0 RC (2025-04-04 r88126) -- "How About a Twenty-Six" 4831
palomino7Windows Server 2022 Datacenterx644.5.0 RC (2025-04-04 r88126 ucrt) -- "How About a Twenty-Six" 4573
lconwaymacOS 12.7.1 Montereyx86_644.5.0 RC (2025-04-04 r88126) -- "How About a Twenty-Six" 4599
kjohnson3macOS 13.7.1 Venturaarm644.5.0 RC (2025-04-04 r88126) -- "How About a Twenty-Six" 4553
kunpeng2Linux (openEuler 24.03 LTS)aarch64R Under development (unstable) (2025-02-19 r87757) -- "Unsuffered Consequences" 4570
Click on any hostname to see more info about the system (e.g. compilers)      (*) as reported by 'uname -p', except on Windows and Mac OS X

Package 1211/2341HostnameOS / ArchINSTALLBUILDCHECKBUILD BIN
MEDME 1.68.0  (landing page)
Mattia Pelizzola
Snapshot Date: 2025-04-21 13:40 -0400 (Mon, 21 Apr 2025)
git_url: https://git.bioconductor.org/packages/MEDME
git_branch: RELEASE_3_21
git_last_commit: 3f2d1d9
git_last_commit_date: 2025-04-15 09:43:00 -0400 (Tue, 15 Apr 2025)
nebbiolo1Linux (Ubuntu 24.04.1 LTS) / x86_64  OK    OK    WARNINGS  YES
palomino7Windows Server 2022 Datacenter / x64  OK    OK    WARNINGS    OK  NO, package depends on 'Biostrings' which is only available as a source package that needs compilation
lconwaymacOS 12.7.1 Monterey / x86_64  OK    OK    WARNINGS    OK  YES
kjohnson3macOS 13.7.1 Ventura / arm64  OK    OK    WARNINGS    OK  YES
kunpeng2Linux (openEuler 24.03 LTS) / aarch64  OK    OK    WARNINGS  


INSTALL results for MEDME on kunpeng2

To the developers/maintainers of the MEDME package:
- Allow up to 24 hours (and sometimes 48 hours) for your latest push to git@git.bioconductor.org:packages/MEDME.git to reflect on this report. See Troubleshooting Build Report for more information.
- Use the following Renviron settings to reproduce errors and warnings.
- If 'R CMD check' started to fail recently on the Linux builder(s) over a missing dependency, add the missing dependency to 'Suggests:' in your DESCRIPTION file. See Renviron.bioc for more information.
- See Martin Grigorov's blog post for how to debug Linux ARM64 related issues on a x86_64 host.

raw results


Summary

Package: MEDME
Version: 1.68.0
Command: /home/biocbuild/R/R/bin/R CMD INSTALL MEDME
StartedAt: 2025-04-21 20:46:12 -0000 (Mon, 21 Apr 2025)
EndedAt: 2025-04-21 20:46:32 -0000 (Mon, 21 Apr 2025)
EllapsedTime: 20.0 seconds
RetCode: 0
Status:   OK  

Command output

##############################################################################
##############################################################################
###
### Running command:
###
###   /home/biocbuild/R/R/bin/R CMD INSTALL MEDME
###
##############################################################################
##############################################################################


* installing to library ‘/home/biocbuild/R/R-devel_2025-02-19/site-library’
* installing *source* package ‘MEDME’ ...
** this is package ‘MEDME’ version ‘1.68.0’
** using staged installation
** libs
using C compiler: ‘aarch64-unknown-linux-gnu-gcc (GCC) 14.2.0’
/opt/ohpc/pub/compiler/gcc/14.2.0/bin/aarch64-unknown-linux-gnu-gcc -std=gnu23 -I"/home/biocbuild/R/R/include" -DNDEBUG   -I/usr/local/include    -fPIC  -g -O2  -Wall -Werror=format-security -c MEDMEweight.c -o MEDMEweight.o
MEDMEweight.c: In function ‘MEDMEweight’:
MEDMEweight.c:90:33: warning: ‘B’ may be used uninitialized [-Wmaybe-uninitialized]
   90 |       AMSfinal[i] = pow(2, pow( pow(E,B) * (D - Mlim) / (Mlim - C), 1/B));
      |                                 ^~~~~~~~
MEDMEweight.c:36:10: note: ‘B’ was declared here
   36 |   double B,C,D,E, Min, Max, Mlim;
      |          ^
MEDMEweight.c:90:63: warning: ‘C’ may be used uninitialized [-Wmaybe-uninitialized]
   90 |       AMSfinal[i] = pow(2, pow( pow(E,B) * (D - Mlim) / (Mlim - C), 1/B));
      |                                                         ~~~~~~^~~~
MEDMEweight.c:36:12: note: ‘C’ was declared here
   36 |   double B,C,D,E, Min, Max, Mlim;
      |            ^
MEDMEweight.c:90:47: warning: ‘D’ may be used uninitialized [-Wmaybe-uninitialized]
   90 |       AMSfinal[i] = pow(2, pow( pow(E,B) * (D - Mlim) / (Mlim - C), 1/B));
      |                                            ~~~^~~~~~~
MEDMEweight.c:36:14: note: ‘D’ was declared here
   36 |   double B,C,D,E, Min, Max, Mlim;
      |              ^
MEDMEweight.c:90:33: warning: ‘E’ may be used uninitialized [-Wmaybe-uninitialized]
   90 |       AMSfinal[i] = pow(2, pow( pow(E,B) * (D - Mlim) / (Mlim - C), 1/B));
      |                                 ^~~~~~~~
MEDMEweight.c:36:16: note: ‘E’ was declared here
   36 |   double B,C,D,E, Min, Max, Mlim;
      |                ^
MEDMEweight.c:92:9: warning: ‘Min’ may be used uninitialized [-Wmaybe-uninitialized]
   92 |       if(AMSfinal[i] < Min) {AMSfinal[i] = Min;}
      |         ^
MEDMEweight.c:36:19: note: ‘Min’ was declared here
   36 |   double B,C,D,E, Min, Max, Mlim;
      |                   ^~~
MEDMEweight.c:36:24: warning: ‘Max’ may be used uninitialized [-Wmaybe-uninitialized]
   36 |   double B,C,D,E, Min, Max, Mlim;
      |                        ^~~
MEDMEweight.c:77:18: warning: ‘weight’ may be used uninitialized [-Wmaybe-uninitialized]
   77 |         MeDIPsum = MeDIPsum + MeDIP[j] * weight;
      |         ~~~~~~~~~^~~~~~~~~~~~~~~~~~~~~~~~~~~~~~
MEDMEweight.c:30:10: note: ‘weight’ was declared here
   30 |   double weight, relPos;
      |          ^~~~~~
/opt/ohpc/pub/compiler/gcc/14.2.0/bin/aarch64-unknown-linux-gnu-gcc -std=gnu23 -shared -L/home/biocbuild/R/R/lib -L/usr/local/lib -o MEDME.so MEDMEweight.o -L/home/biocbuild/R/R/lib -lR
installing to /home/biocbuild/R/R-devel_2025-02-19/site-library/00LOCK-MEDME/00new/MEDME/libs
** R
** data
** inst
** byte-compile and prepare package for lazy loading
** help
*** installing help indices
** building package indices
** installing vignettes
** testing if installed package can be loaded from temporary location
** checking absolute paths in shared objects and dynamic libraries
** testing if installed package can be loaded from final location
** testing if installed package keeps a record of temporary installation path
* DONE (MEDME)