Back to Multiple platform build/check report for BioC 3.21:   simplified   long
ABCDEFGHIJKL[M]NOPQRSTUVWXYZ

This page was generated on 2025-05-01 11:42 -0400 (Thu, 01 May 2025).

HostnameOSArch (*)R versionInstalled pkgs
nebbiolo1Linux (Ubuntu 24.04.1 LTS)x86_644.5.0 RC (2025-04-04 r88126) -- "How About a Twenty-Six" 4832
palomino7Windows Server 2022 Datacenterx644.5.0 RC (2025-04-04 r88126 ucrt) -- "How About a Twenty-Six" 4574
merida1macOS 12.7.5 Montereyx86_644.5.0 RC (2025-04-04 r88126) -- "How About a Twenty-Six" 4599
kjohnson1macOS 13.6.6 Venturaarm644.5.0 RC (2025-04-04 r88129) -- "How About a Twenty-Six" 4553
Click on any hostname to see more info about the system (e.g. compilers)      (*) as reported by 'uname -p', except on Windows and Mac OS X

Package 1195/2341HostnameOS / ArchINSTALLBUILDCHECKBUILD BIN
MBECS 1.12.0  (landing page)
Michael Olbrich
Snapshot Date: 2025-04-28 17:48 -0400 (Mon, 28 Apr 2025)
git_url: https://git.bioconductor.org/packages/MBECS
git_branch: RELEASE_3_21
git_last_commit: 6f746d2
git_last_commit_date: 2025-04-15 12:46:50 -0400 (Tue, 15 Apr 2025)
nebbiolo1Linux (Ubuntu 24.04.1 LTS) / x86_64  OK    OK    OK  UNNEEDED, same version is already published
palomino7Windows Server 2022 Datacenter / x64  OK    OK    OK    OK  UNNEEDED, same version is already published
merida1macOS 12.7.5 Monterey / x86_64  OK    OK    OK    OK  UNNEEDED, same version is already published
kjohnson1macOS 13.6.6 Ventura / arm64  OK    OK    OK    OK  UNNEEDED, same version is already published


CHECK results for MBECS on merida1

To the developers/maintainers of the MBECS package:
- Allow up to 24 hours (and sometimes 48 hours) for your latest push to git@git.bioconductor.org:packages/MBECS.git to reflect on this report. See Troubleshooting Build Report for more information.
- Use the following Renviron settings to reproduce errors and warnings.
- If 'R CMD check' started to fail recently on the Linux builder(s) over a missing dependency, add the missing dependency to 'Suggests:' in your DESCRIPTION file. See Renviron.bioc for more information.

raw results


Summary

Package: MBECS
Version: 1.12.0
Command: /Library/Frameworks/R.framework/Resources/bin/R CMD check --install=check:MBECS.install-out.txt --library=/Library/Frameworks/R.framework/Resources/library --no-vignettes --timings MBECS_1.12.0.tar.gz
StartedAt: 2025-04-29 09:01:36 -0400 (Tue, 29 Apr 2025)
EndedAt: 2025-04-29 09:10:55 -0400 (Tue, 29 Apr 2025)
EllapsedTime: 559.7 seconds
RetCode: 0
Status:   OK  
CheckDir: MBECS.Rcheck
Warnings: 0

Command output

##############################################################################
##############################################################################
###
### Running command:
###
###   /Library/Frameworks/R.framework/Resources/bin/R CMD check --install=check:MBECS.install-out.txt --library=/Library/Frameworks/R.framework/Resources/library --no-vignettes --timings MBECS_1.12.0.tar.gz
###
##############################################################################
##############################################################################


* using log directory ‘/Users/biocbuild/bbs-3.21-bioc/meat/MBECS.Rcheck’
* using R version 4.5.0 RC (2025-04-04 r88126)
* using platform: x86_64-apple-darwin20
* R was compiled by
    Apple clang version 14.0.0 (clang-1400.0.29.202)
    GNU Fortran (GCC) 14.2.0
* running under: macOS Monterey 12.7.6
* using session charset: UTF-8
* using option ‘--no-vignettes’
* checking for file ‘MBECS/DESCRIPTION’ ... OK
* this is package ‘MBECS’ version ‘1.12.0’
* package encoding: UTF-8
* checking package namespace information ... OK
* checking package dependencies ... OK
* checking if this is a source package ... OK
* checking if there is a namespace ... OK
* checking for hidden files and directories ... OK
* checking for portable file names ... OK
* checking for sufficient/correct file permissions ... OK
* checking whether package ‘MBECS’ can be installed ... OK
* checking installed package size ... OK
* checking package directory ... OK
* checking ‘build’ directory ... OK
* checking DESCRIPTION meta-information ... OK
* checking top-level files ... OK
* checking for left-over files ... OK
* checking index information ... OK
* checking package subdirectories ... OK
* checking code files for non-ASCII characters ... OK
* checking R files for syntax errors ... OK
* checking whether the package can be loaded ... OK
* checking whether the package can be loaded with stated dependencies ... OK
* checking whether the package can be unloaded cleanly ... OK
* checking whether the namespace can be loaded with stated dependencies ... OK
* checking whether the namespace can be unloaded cleanly ... OK
* checking dependencies in R code ... OK
* checking S3 generic/method consistency ... OK
* checking replacement functions ... OK
* checking foreign function calls ... OK
* checking R code for possible problems ... OK
* checking Rd files ... OK
* checking Rd metadata ... OK
* checking Rd cross-references ... NOTE
Found the following Rd file(s) with Rd \link{} targets missing package
anchors:
  dummy.ps.Rd: phyloseq
Please provide package anchors for all Rd \link{} targets not in the
package itself and the base packages.
* checking for missing documentation entries ... OK
* checking for code/documentation mismatches ... OK
* checking Rd \usage sections ... OK
* checking Rd contents ... OK
* checking for unstated dependencies in examples ... OK
* checking contents of ‘data’ directory ... OK
* checking data for non-ASCII characters ... OK
* checking data for ASCII and uncompressed saves ... OK
* checking files in ‘vignettes’ ... OK
* checking examples ... OK
Examples with CPU (user + system) or elapsed time > 5s
                        user system elapsed
mbecModelVariance     11.832  0.090  13.023
mbecCorrection        10.002  0.195  11.162
mbecVarianceStatsPlot  9.942  0.099  11.248
mbecReportPost         7.361  0.057   8.105
mbecBox                6.097  0.183   6.484
percentileNorm         5.375  0.058   5.890
mbecBoxPlot            5.040  0.035   5.297
mbecRunCorrections     4.338  0.078   5.136
* checking for unstated dependencies in ‘tests’ ... OK
* checking tests ...
  Running ‘testthat.R’
 OK
* checking for unstated dependencies in vignettes ... OK
* checking package vignettes ... OK
* checking running R code from vignettes ... SKIPPED
* checking re-building of vignette outputs ... SKIPPED
* checking PDF version of manual ... OK
* DONE

Status: 1 NOTE
See
  ‘/Users/biocbuild/bbs-3.21-bioc/meat/MBECS.Rcheck/00check.log’
for details.


Installation output

MBECS.Rcheck/00install.out

##############################################################################
##############################################################################
###
### Running command:
###
###   /Library/Frameworks/R.framework/Resources/bin/R CMD INSTALL MBECS
###
##############################################################################
##############################################################################


* installing to library ‘/Library/Frameworks/R.framework/Versions/4.5-x86_64/Resources/library’
* installing *source* package ‘MBECS’ ...
** this is package ‘MBECS’ version ‘1.12.0’
** using staged installation
** R
** data
** inst
** byte-compile and prepare package for lazy loading
** help
*** installing help indices
** building package indices
** installing vignettes
** testing if installed package can be loaded from temporary location
** testing if installed package can be loaded from final location
** testing if installed package keeps a record of temporary installation path
* DONE (MBECS)

Tests output

MBECS.Rcheck/tests/testthat.Rout


R version 4.5.0 RC (2025-04-04 r88126) -- "How About a Twenty-Six"
Copyright (C) 2025 The R Foundation for Statistical Computing
Platform: x86_64-apple-darwin20

R is free software and comes with ABSOLUTELY NO WARRANTY.
You are welcome to redistribute it under certain conditions.
Type 'license()' or 'licence()' for distribution details.

R is a collaborative project with many contributors.
Type 'contributors()' for more information and
'citation()' on how to cite R or R packages in publications.

Type 'demo()' for some demos, 'help()' for on-line help, or
'help.start()' for an HTML browser interface to help.
Type 'q()' to quit R.

> library(testthat)
> library(MBECS)
> 
> test_check("MBECS")
Set tss-transformed counts.
Found zeros, function will add a small pseudo-count
                (1/#features) for log-ratio transformation.
Set tss-transformed counts.
Found zeros, function will add a small pseudo-count
                (1/#features) for log-ratio transformation.
Set tss-transformed counts.
Found zeros, function will add a small pseudo-count
                (1/#features) for log-ratio transformation.
Set tss-transformed counts.
Found zeros, function will add a small pseudo-count
                (1/#features) for log-ratio transformation.
Set tss-transformed counts.
Found zeros, function will add a small pseudo-count
                (1/#features) for log-ratio transformation.
No negative control features provided.
                Using pseudo-negative controls.
Applying Remove Unwanted Variantion v3 (RUV-III).
No 'sID' column present, creating from rownames now.
No 'sID' column present, creating from rownames now.
Set tss-transformed counts.
No 'sID' column present, creating from rownames now.
Set tss-transformed counts.
Construct lm-formula from covariates.
Construct lm-formula from covariates.
There is a problem with the estimatibility of your model.
            Check out covariate: 'sIDS40'
Found zeros, function will add a small pseudo-count
                (1/#features) for log-ratio transformation.
Set tss-transformed counts.
Found zeros, function will add a small pseudo-count
                (1/#features) for log-ratio transformation.
Set tss-transformed counts.
Found zeros, function will add a small pseudo-count
                (1/#features) for log-ratio transformation.
Set tss-transformed counts.
Found zeros, function will add a small pseudo-count
                (1/#features) for log-ratio transformation.
Calculating RLE for group: A
Calculating RLE for group: B
Fitting linear model to every feature and extract proportion of
          variance explained by covariates.
Construct formula from covariates.

  |                                                                                      
  |                                                                                |   0%
  |                                                                                      
  |====                                                                            |   5%
  |                                                                                      
  |========                                                                        |  10%
  |                                                                                      
  |============                                                                    |  15%
  |                                                                                      
  |================                                                                |  20%
  |                                                                                      
  |====================                                                            |  25%
  |                                                                                      
  |========================                                                        |  30%
  |                                                                                      
  |============================                                                    |  35%
  |                                                                                      
  |================================                                                |  40%
  |                                                                                      
  |====================================                                            |  45%
  |                                                                                      
  |========================================                                        |  50%
  |                                                                                      
  |============================================                                    |  55%
  |                                                                                      
  |================================================                                |  60%
  |                                                                                      
  |====================================================                            |  65%
  |                                                                                      
  |========================================================                        |  70%
  |                                                                                      
  |============================================================                    |  75%
  |                                                                                      
  |================================================================                |  80%
  |                                                                                      
  |====================================================================            |  85%
  |                                                                                      
  |========================================================================        |  90%
  |                                                                                      
  |============================================================================    |  95%
  |                                                                                      
  |================================================================================| 100%
Fitting linear-mixed model to every feature and extract proportion
            of variance explained by covariates.
Construct formula from covariates.

  |                                                                                      
  |                                                                                |   0%boundary (singular) fit: see help('isSingular')

  |                                                                                      
  |====                                                                            |   5%boundary (singular) fit: see help('isSingular')

  |                                                                                      
  |========                                                                        |  10%
  |                                                                                      
  |============                                                                    |  15%boundary (singular) fit: see help('isSingular')

  |                                                                                      
  |================                                                                |  20%
  |                                                                                      
  |====================                                                            |  25%
  |                                                                                      
  |========================                                                        |  30%boundary (singular) fit: see help('isSingular')

  |                                                                                      
  |============================                                                    |  35%
  |                                                                                      
  |================================                                                |  40%
  |                                                                                      
  |====================================                                            |  45%boundary (singular) fit: see help('isSingular')

  |                                                                                      
  |========================================                                        |  50%boundary (singular) fit: see help('isSingular')

  |                                                                                      
  |============================================                                    |  55%boundary (singular) fit: see help('isSingular')

  |                                                                                      
  |================================================                                |  60%boundary (singular) fit: see help('isSingular')

  |                                                                                      
  |====================================================                            |  65%boundary (singular) fit: see help('isSingular')

  |                                                                                      
  |========================================================                        |  70%boundary (singular) fit: see help('isSingular')

  |                                                                                      
  |============================================================                    |  75%boundary (singular) fit: see help('isSingular')

  |                                                                                      
  |================================================================                |  80%boundary (singular) fit: see help('isSingular')

  |                                                                                      
  |====================================================================            |  85%
  |                                                                                      
  |========================================================================        |  90%boundary (singular) fit: see help('isSingular')

  |                                                                                      
  |============================================================================    |  95%boundary (singular) fit: see help('isSingular')

  |                                                                                      
  |================================================================================| 100%

  |                                                                                      
  |                                                                                |   0%
  |                                                                                      
  |========================================                                        |  50%
  |                                                                                      
  |================================================================================| 100%
boundary (singular) fit: see help('isSingular')
boundary (singular) fit: see help('isSingular')
boundary (singular) fit: see help('isSingular')
boundary (singular) fit: see help('isSingular')
boundary (singular) fit: see help('isSingular')
boundary (singular) fit: see help('isSingular')
[1] "batch"
[1] "group"
Set tss-transformed counts.
Found zeros, function will add a small pseudo-count
                (1/#features) for log-ratio transformation.
Applying ComBat (sva) for batch-correction.
Found2batches
Adjusting for1covariate(s) or covariate level(s)
Standardizing Data across genes
Fitting L/S model and finding priors
Finding nonparametric adjustments
Adjusting the Data

[ FAIL 0 | WARN 101 | SKIP 0 | PASS 282 ]

[ FAIL 0 | WARN 101 | SKIP 0 | PASS 282 ]
> 
> proc.time()
   user  system elapsed 
137.779   3.013 151.840 

Example timings

MBECS.Rcheck/MBECS-Ex.timings

nameusersystemelapsed
MbecData0.2100.0090.223
colinScore0.7470.0580.812
dot-mbecGetData0.0570.0090.069
dot-mbecGetPhyloseq0.0790.0120.090
dot-mbecSetData0.0860.0120.099
dummy.list0.0080.0030.012
dummy.mbec0.0390.0050.044
dummy.ps0.0070.0030.011
mbecBox6.0970.1836.484
mbecBoxPlot5.0400.0355.297
mbecCorrection10.002 0.19511.162
mbecDummy0.3180.0050.357
mbecGetData-MbecData-method0.0530.0060.062
mbecGetData0.0530.0060.063
mbecGetPhyloseq-MbecData-method0.0840.0050.099
mbecGetPhyloseq0.0760.0040.084
mbecHeat0.4280.0190.499
mbecHeatPlot0.3410.0090.387
mbecHelpFactor0.0090.0030.012
mbecLM2.0920.0232.280
mbecMixedVariance0.0790.0040.090
mbecModelVariance11.832 0.09013.023
mbecMosaic1.9940.0212.214
mbecMosaicPlot1.7700.0161.940
mbecPCA-MbecData-method2.0180.0262.232
mbecPCA2.0440.0252.267
mbecPCAPlot1.8040.0211.964
mbecPVCAStatsPlot2.3990.0282.625
mbecProcessInput-MbecData-method0.0410.0050.072
mbecProcessInput-list-method0.0400.0050.047
mbecProcessInput-phyloseq-method0.0620.0050.077
mbecProcessInput0.0390.0040.045
mbecRDAStatsPlot0.1900.0050.209
mbecRLE0.5190.0110.565
mbecRLEPlot0.2700.0070.305
mbecReportPost7.3610.0578.105
mbecReportPrelim3.7550.0464.307
mbecRunCorrections4.3380.0785.136
mbecSCOEFStatsPlot0.1100.0050.120
mbecSetData-MbecData-method0.0840.0070.103
mbecSetData0.1410.0070.155
mbecTestModel0.0530.0050.063
mbecTransform0.3690.0090.430
mbecValidateModel0.0640.0040.074
mbecVarianceStats0.0260.0050.030
mbecVarianceStatsPlot 9.942 0.09911.248
percentileNorm5.3750.0585.890
poscore0.0000.0010.001