| Back to Multiple platform build/check report for BioC 3.22: simplified long |
|
This page was generated on 2025-11-24 12:03 -0500 (Mon, 24 Nov 2025).
| Hostname | OS | Arch (*) | R version | Installed pkgs |
|---|---|---|---|---|
| nebbiolo2 | Linux (Ubuntu 24.04.3 LTS) | x86_64 | 4.5.2 (2025-10-31) -- "[Not] Part in a Rumble" | 4873 |
| merida1 | macOS 12.7.6 Monterey | x86_64 | 4.5.2 Patched (2025-11-05 r88990) -- "[Not] Part in a Rumble" | 4654 |
| kjohnson1 | macOS 13.7.5 Ventura | arm64 | 4.5.2 Patched (2025-11-04 r88984) -- "[Not] Part in a Rumble" | 4600 |
| taishan | Linux (openEuler 24.03 LTS) | aarch64 | 4.5.0 (2025-04-11) -- "How About a Twenty-Six" | 4668 |
| Click on any hostname to see more info about the system (e.g. compilers) (*) as reported by 'uname -p', except on Windows and Mac OS X | ||||
| Package 1165/2361 | Hostname | OS / Arch | INSTALL | BUILD | CHECK | BUILD BIN | ||||||||
| LymphoSeq 1.38.0 (landing page) David Coffey
| nebbiolo2 | Linux (Ubuntu 24.04.3 LTS) / x86_64 | OK | OK | OK | |||||||||
| merida1 | macOS 12.7.6 Monterey / x86_64 | OK | OK | OK | OK | |||||||||
| kjohnson1 | macOS 13.7.5 Ventura / arm64 | OK | OK | OK | OK | |||||||||
| taishan | Linux (openEuler 24.03 LTS) / aarch64 | OK | OK | OK | ||||||||||
|
To the developers/maintainers of the LymphoSeq package: - Allow up to 24 hours (and sometimes 48 hours) for your latest push to git@git.bioconductor.org:packages/LymphoSeq.git to reflect on this report. See Troubleshooting Build Report for more information. - Use the following Renviron settings to reproduce errors and warnings. - If 'R CMD check' started to fail recently on the Linux builder(s) over a missing dependency, add the missing dependency to 'Suggests:' in your DESCRIPTION file. See Renviron.bioc for more information. |
| Package: LymphoSeq |
| Version: 1.38.0 |
| Command: /home/biocbuild/bbs-3.22-bioc/R/bin/R CMD check --install=check:LymphoSeq.install-out.txt --library=/home/biocbuild/bbs-3.22-bioc/R/site-library --timings LymphoSeq_1.38.0.tar.gz |
| StartedAt: 2025-11-21 01:43:48 -0500 (Fri, 21 Nov 2025) |
| EndedAt: 2025-11-21 01:47:47 -0500 (Fri, 21 Nov 2025) |
| EllapsedTime: 238.4 seconds |
| RetCode: 0 |
| Status: OK |
| CheckDir: LymphoSeq.Rcheck |
| Warnings: 0 |
##############################################################################
##############################################################################
###
### Running command:
###
### /home/biocbuild/bbs-3.22-bioc/R/bin/R CMD check --install=check:LymphoSeq.install-out.txt --library=/home/biocbuild/bbs-3.22-bioc/R/site-library --timings LymphoSeq_1.38.0.tar.gz
###
##############################################################################
##############################################################################
* using log directory ‘/home/biocbuild/bbs-3.22-bioc/meat/LymphoSeq.Rcheck’
* using R version 4.5.2 (2025-10-31)
* using platform: x86_64-pc-linux-gnu
* R was compiled by
gcc (Ubuntu 13.3.0-6ubuntu2~24.04) 13.3.0
GNU Fortran (Ubuntu 13.3.0-6ubuntu2~24.04) 13.3.0
* running under: Ubuntu 24.04.3 LTS
* using session charset: UTF-8
* checking for file ‘LymphoSeq/DESCRIPTION’ ... OK
* this is package ‘LymphoSeq’ version ‘1.38.0’
* checking package namespace information ... OK
* checking package dependencies ... OK
* checking if this is a source package ... OK
* checking if there is a namespace ... OK
* checking for hidden files and directories ... OK
* checking for portable file names ... OK
* checking for sufficient/correct file permissions ... OK
* checking whether package ‘LymphoSeq’ can be installed ... OK
* checking installed package size ... INFO
installed size is 5.7Mb
sub-directories of 1Mb or more:
extdata 5.5Mb
* checking package directory ... OK
* checking ‘build’ directory ... OK
* checking DESCRIPTION meta-information ... OK
* checking top-level files ... OK
* checking for left-over files ... OK
* checking index information ... OK
* checking package subdirectories ... OK
* checking code files for non-ASCII characters ... OK
* checking R files for syntax errors ... OK
* checking whether the package can be loaded ... OK
* checking whether the package can be loaded with stated dependencies ... OK
* checking whether the package can be unloaded cleanly ... OK
* checking whether the namespace can be loaded with stated dependencies ... OK
* checking whether the namespace can be unloaded cleanly ... OK
* checking loading without being on the library search path ... OK
* checking dependencies in R code ... OK
* checking S3 generic/method consistency ... OK
* checking replacement functions ... OK
* checking foreign function calls ... OK
* checking R code for possible problems ... OK
* checking Rd files ... OK
* checking Rd metadata ... OK
* checking Rd cross-references ... OK
* checking for missing documentation entries ... OK
* checking for code/documentation mismatches ... OK
* checking Rd \usage sections ... OK
* checking Rd contents ... OK
* checking for unstated dependencies in examples ... OK
* checking files in ‘vignettes’ ... OK
* checking examples ... OK
Examples with CPU (user + system) or elapsed time > 5s
user system elapsed
cloneTrack 24.404 1.696 26.142
productiveSeq 15.653 1.256 16.909
* checking for unstated dependencies in vignettes ... OK
* checking package vignettes ... OK
* checking re-building of vignette outputs ... OK
* checking PDF version of manual ... OK
* DONE
Status: OK
LymphoSeq.Rcheck/00install.out
############################################################################## ############################################################################## ### ### Running command: ### ### /home/biocbuild/bbs-3.22-bioc/R/bin/R CMD INSTALL LymphoSeq ### ############################################################################## ############################################################################## * installing to library ‘/home/biocbuild/bbs-3.22-bioc/R/site-library’ * installing *source* package ‘LymphoSeq’ ... ** this is package ‘LymphoSeq’ version ‘1.38.0’ ** using staged installation ** R ** inst ** byte-compile and prepare package for lazy loading ** help *** installing help indices ** building package indices ** installing vignettes ** testing if installed package can be loaded from temporary location ** testing if installed package can be loaded from final location ** testing if installed package keeps a record of temporary installation path * DONE (LymphoSeq)
LymphoSeq.Rcheck/LymphoSeq-Ex.timings
| name | user | system | elapsed | |
| alignSeq | 0.689 | 0.008 | 0.706 | |
| bhattacharyyaCoefficient | 0.303 | 0.009 | 0.322 | |
| bhattacharyyaMatrix | 0.588 | 0.019 | 0.607 | |
| chordDiagramVDJ | 0.755 | 0.096 | 0.852 | |
| clonalRelatedness | 0.719 | 0.006 | 0.386 | |
| clonality | 0.053 | 0.002 | 0.055 | |
| cloneTrack | 24.404 | 1.696 | 26.142 | |
| commonSeqs | 0.327 | 0.066 | 0.396 | |
| commonSeqsBar | 2.581 | 0.495 | 3.534 | |
| commonSeqsPlot | 1.168 | 0.167 | 1.335 | |
| commonSeqsVenn | 0.690 | 0.014 | 0.698 | |
| differentialAbundance | 1.753 | 0.042 | 1.796 | |
| exportFasta | 0.207 | 0.015 | 0.222 | |
| geneFreq | 1.792 | 0.056 | 1.849 | |
| lorenzCurve | 1.232 | 0.061 | 1.293 | |
| mergeFiles | 0.074 | 0.002 | 0.076 | |
| pairwisePlot | 0.979 | 0.018 | 0.996 | |
| phyloTree | 4.448 | 0.056 | 4.504 | |
| productive | 0.060 | 0.001 | 0.061 | |
| productiveSeq | 15.653 | 1.256 | 16.909 | |
| readImmunoSeq | 0.044 | 0.000 | 0.044 | |
| removeSeq | 0.054 | 0.000 | 0.054 | |
| searchPublished | 0.151 | 0.006 | 0.157 | |
| searchSeq | 0.739 | 0.011 | 0.750 | |
| seqMatrix | 2.550 | 0.248 | 2.798 | |
| similarityMatrix | 0.152 | 0.003 | 0.154 | |
| similarityScore | 0.142 | 0.001 | 0.143 | |
| topFreq | 1.341 | 0.153 | 1.493 | |
| topSeqs | 0.145 | 0.007 | 0.152 | |
| topSeqsPlot | 0.609 | 0.012 | 0.621 | |
| uniqueSeqs | 0.175 | 0.004 | 0.179 | |