| Back to Multiple platform build/check report for BioC 3.21: simplified long | 
 | 
This page was generated on 2025-04-22 13:18 -0400 (Tue, 22 Apr 2025).
| Hostname | OS | Arch (*) | R version | Installed pkgs | 
|---|---|---|---|---|
| nebbiolo1 | Linux (Ubuntu 24.04.1 LTS) | x86_64 | 4.5.0 RC (2025-04-04 r88126) -- "How About a Twenty-Six" | 4831 | 
| palomino7 | Windows Server 2022 Datacenter | x64 | 4.5.0 RC (2025-04-04 r88126 ucrt) -- "How About a Twenty-Six" | 4573 | 
| lconway | macOS 12.7.1 Monterey | x86_64 | 4.5.0 RC (2025-04-04 r88126) -- "How About a Twenty-Six" | 4599 | 
| kjohnson3 | macOS 13.7.1 Ventura | arm64 | 4.5.0 RC (2025-04-04 r88126) -- "How About a Twenty-Six" | 4553 | 
| kunpeng2 | Linux (openEuler 24.03 LTS) | aarch64 | R Under development (unstable) (2025-02-19 r87757) -- "Unsuffered Consequences" | 4570 | 
| Click on any hostname to see more info about the system (e.g. compilers) (*) as reported by 'uname -p', except on Windows and Mac OS X | ||||
| Package 1099/2341 | Hostname | OS / Arch | INSTALL | BUILD | CHECK | BUILD BIN | ||||||||
| KBoost 1.16.0  (landing page) Luis F. Iglesias-Martinez 
 | nebbiolo1 | Linux (Ubuntu 24.04.1 LTS) / x86_64 | OK | OK | OK |  | ||||||||
| palomino7 | Windows Server 2022 Datacenter / x64 | OK | OK | OK | OK |  | ||||||||
| lconway | macOS 12.7.1 Monterey / x86_64 | OK | OK | OK | OK |  | ||||||||
| kjohnson3 | macOS 13.7.1 Ventura / arm64 | OK | OK | OK | OK |  | ||||||||
| kunpeng2 | Linux (openEuler 24.03 LTS) / aarch64 | OK | OK | OK | ||||||||||
| To the developers/maintainers of the KBoost package: - Allow up to 24 hours (and sometimes 48 hours) for your latest push to git@git.bioconductor.org:packages/KBoost.git to reflect on this report. See Troubleshooting Build Report for more information. - Use the following Renviron settings to reproduce errors and warnings. - If 'R CMD check' started to fail recently on the Linux builder(s) over a missing dependency, add the missing dependency to 'Suggests:' in your DESCRIPTION file. See Renviron.bioc for more information. | 
| Package: KBoost | 
| Version: 1.16.0 | 
| Command: /Library/Frameworks/R.framework/Resources/bin/R CMD check --install=check:KBoost.install-out.txt --library=/Library/Frameworks/R.framework/Resources/library --no-vignettes --timings KBoost_1.16.0.tar.gz | 
| StartedAt: 2025-04-21 20:01:16 -0400 (Mon, 21 Apr 2025) | 
| EndedAt: 2025-04-21 20:01:37 -0400 (Mon, 21 Apr 2025) | 
| EllapsedTime: 21.3 seconds | 
| RetCode: 0 | 
| Status: OK | 
| CheckDir: KBoost.Rcheck | 
| Warnings: 0 | 
##############################################################################
##############################################################################
###
### Running command:
###
###   /Library/Frameworks/R.framework/Resources/bin/R CMD check --install=check:KBoost.install-out.txt --library=/Library/Frameworks/R.framework/Resources/library --no-vignettes --timings KBoost_1.16.0.tar.gz
###
##############################################################################
##############################################################################
* using log directory ‘/Users/biocbuild/bbs-3.21-bioc/meat/KBoost.Rcheck’
* using R version 4.5.0 RC (2025-04-04 r88126)
* using platform: aarch64-apple-darwin20
* R was compiled by
    Apple clang version 14.0.0 (clang-1400.0.29.202)
    GNU Fortran (GCC) 14.2.0
* running under: macOS Ventura 13.7.1
* using session charset: UTF-8
* using option ‘--no-vignettes’
* checking for file ‘KBoost/DESCRIPTION’ ... OK
* checking extension type ... Package
* this is package ‘KBoost’ version ‘1.16.0’
* package encoding: UTF-8
* checking package namespace information ... OK
* checking package dependencies ... OK
* checking if this is a source package ... OK
* checking if there is a namespace ... OK
* checking for hidden files and directories ... OK
* checking for portable file names ... OK
* checking for sufficient/correct file permissions ... OK
* checking whether package ‘KBoost’ can be installed ... OK
* checking installed package size ... OK
* checking package directory ... OK
* checking ‘build’ directory ... OK
* checking DESCRIPTION meta-information ... OK
* checking top-level files ... OK
* checking for left-over files ... OK
* checking index information ... OK
* checking package subdirectories ... NOTE
Problems with news in ‘NEWS.md’:
No news entries found.
* checking code files for non-ASCII characters ... OK
* checking R files for syntax errors ... OK
* checking whether the package can be loaded ... OK
* checking whether the package can be loaded with stated dependencies ... OK
* checking whether the package can be unloaded cleanly ... OK
* checking whether the namespace can be loaded with stated dependencies ... OK
* checking whether the namespace can be unloaded cleanly ... OK
* checking dependencies in R code ... OK
* checking S3 generic/method consistency ... OK
* checking replacement functions ... OK
* checking foreign function calls ... OK
* checking R code for possible problems ... NOTE
check_input: no visible global function definition for ‘is’
net_summary_bin: no visible global function definition for ‘is’
Undefined global functions or variables:
  is
Consider adding
  importFrom("methods", "is")
to your NAMESPACE file (and ensure that your DESCRIPTION Imports field
contains 'methods').
* checking Rd files ... OK
* checking Rd metadata ... OK
* checking Rd cross-references ... OK
* checking for missing documentation entries ... OK
* checking for code/documentation mismatches ... OK
* checking Rd \usage sections ... OK
* checking Rd contents ... OK
* checking for unstated dependencies in examples ... OK
* checking contents of ‘data’ directory ... OK
* checking data for non-ASCII characters ... OK
* checking LazyData ... OK
* checking data for ASCII and uncompressed saves ... OK
* checking files in ‘vignettes’ ... OK
* checking examples ... OK
* checking for unstated dependencies in ‘tests’ ... OK
* checking tests ...
  Running ‘testthat.R’
 OK
* checking for unstated dependencies in vignettes ... OK
* checking package vignettes ... OK
* checking running R code from vignettes ... SKIPPED
* checking re-building of vignette outputs ... SKIPPED
* checking PDF version of manual ... OK
* DONE
Status: 2 NOTEs
See
  ‘/Users/biocbuild/bbs-3.21-bioc/meat/KBoost.Rcheck/00check.log’
for details.
KBoost.Rcheck/00install.out
############################################################################## ############################################################################## ### ### Running command: ### ### /Library/Frameworks/R.framework/Resources/bin/R CMD INSTALL KBoost ### ############################################################################## ############################################################################## * installing to library ‘/Library/Frameworks/R.framework/Versions/4.5-arm64/Resources/library’ * installing *source* package ‘KBoost’ ... ** this is package ‘KBoost’ version ‘1.16.0’ ** using staged installation ** R ** data *** moving datasets to lazyload DB ** byte-compile and prepare package for lazy loading ** help *** installing help indices ** building package indices ** installing vignettes ** testing if installed package can be loaded from temporary location ** testing if installed package can be loaded from final location ** testing if installed package keeps a record of temporary installation path * DONE (KBoost)
KBoost.Rcheck/tests/testthat.Rout
R version 4.5.0 RC (2025-04-04 r88126) -- "How About a Twenty-Six"
Copyright (C) 2025 The R Foundation for Statistical Computing
Platform: aarch64-apple-darwin20
R is free software and comes with ABSOLUTELY NO WARRANTY.
You are welcome to redistribute it under certain conditions.
Type 'license()' or 'licence()' for distribution details.
R is a collaborative project with many contributors.
Type 'contributors()' for more information and
'citation()' on how to cite R or R packages in publications.
Type 'demo()' for some demos, 'help()' for on-line help, or
'help.start()' for an HTML browser interface to help.
Type 'q()' to quit R.
> library(testthat)
> library(KBoost)
> 
> test_check("KBoost")
[ FAIL 0 | WARN 0 | SKIP 0 | PASS 7 ]
> 
> proc.time()
   user  system elapsed 
  0.267   0.053   0.325 
KBoost.Rcheck/KBoost-Ex.timings
| name | user | system | elapsed | |
| AUPR_AUROC_matrix | 0.654 | 0.221 | 0.884 | |
| D4_multi_1 | 0.000 | 0.001 | 0.001 | |
| D4_multi_2 | 0 | 0 | 0 | |
| D4_multi_3 | 0 | 0 | 0 | |
| D4_multi_4 | 0.000 | 0.001 | 0.000 | |
| D4_multi_5 | 0.000 | 0.000 | 0.001 | |
| G_D4_multi_1 | 0.000 | 0.001 | 0.001 | |
| G_D4_multi_2 | 0.001 | 0.000 | 0.001 | |
| G_D4_multi_3 | 0.000 | 0.001 | 0.000 | |
| G_D4_multi_4 | 0 | 0 | 0 | |
| G_D4_multi_5 | 0.000 | 0.001 | 0.001 | |
| Gerstein_Prior_ENET_2 | 0.000 | 0.000 | 0.001 | |
| Human_TFs | 0.000 | 0.001 | 0.001 | |
| IRMA_Gold | 0 | 0 | 0 | |
| KBoost_human_symbol | 0.009 | 0.003 | 0.012 | |
| KPC | 0.001 | 0.000 | 0.002 | |
| RBF_K | 0 | 0 | 0 | |
| add_names | 0.217 | 0.047 | 0.264 | |
| d4_mfac | 3.294 | 1.186 | 4.545 | |
| get_prior_Gerstein | 0.001 | 0.000 | 0.001 | |
| get_tfs_human | 0 | 0 | 0 | |
| grid_search_kboost | 0.037 | 0.005 | 0.042 | |
| irma_check | 0.005 | 0.000 | 0.004 | |
| irma_off | 0.000 | 0.001 | 0.001 | |
| irma_on | 0.000 | 0.000 | 0.001 | |
| kboost | 0.212 | 0.039 | 0.254 | |
| kernel_normal | 0.001 | 0.000 | 0.001 | |
| kernel_pc_boosting | 0.147 | 0.030 | 0.177 | |
| net_dist_bin | 0.218 | 0.040 | 0.261 | |
| net_refine | 0.001 | 0.000 | 0.001 | |
| net_summary_bin | 0.219 | 0.052 | 0.282 | |
| tab_2_matrix_D4 | 0 | 0 | 0 | |
| write_GRN_D4 | 0.255 | 0.037 | 0.296 | |