Back to Multiple platform build/check report for BioC 3.20:   simplified   long
ABCDEFGH[I]JKLMNOPQRSTUVWXYZ

This page was generated on 2025-02-03 12:10 -0500 (Mon, 03 Feb 2025).

HostnameOSArch (*)R versionInstalled pkgs
nebbiolo2Linux (Ubuntu 24.04.1 LTS)x86_644.4.2 (2024-10-31) -- "Pile of Leaves" 4746
palomino8Windows Server 2022 Datacenterx644.4.2 (2024-10-31 ucrt) -- "Pile of Leaves" 4494
merida1macOS 12.7.5 Montereyx86_644.4.2 (2024-10-31) -- "Pile of Leaves" 4517
kjohnson1macOS 13.6.6 Venturaarm644.4.2 (2024-10-31) -- "Pile of Leaves" 4469
taishanLinux (openEuler 24.03 LTS)aarch644.4.2 (2024-10-31) -- "Pile of Leaves" 4400
Click on any hostname to see more info about the system (e.g. compilers)      (*) as reported by 'uname -p', except on Windows and Mac OS X

Package 1067/2289HostnameOS / ArchINSTALLBUILDCHECKBUILD BIN
IsoformSwitchAnalyzeR 2.6.0  (landing page)
Kristoffer Vitting-Seerup
Snapshot Date: 2025-01-30 13:00 -0500 (Thu, 30 Jan 2025)
git_url: https://git.bioconductor.org/packages/IsoformSwitchAnalyzeR
git_branch: RELEASE_3_20
git_last_commit: f466631
git_last_commit_date: 2024-10-29 10:19:54 -0500 (Tue, 29 Oct 2024)
nebbiolo2Linux (Ubuntu 24.04.1 LTS) / x86_64  OK    OK    OK  UNNEEDED, same version is already published
palomino8Windows Server 2022 Datacenter / x64  OK    OK    OK    OK  UNNEEDED, same version is already published
merida1macOS 12.7.5 Monterey / x86_64  OK    OK    OK    OK  UNNEEDED, same version is already published
kjohnson1macOS 13.6.6 Ventura / arm64  OK    OK    OK    OK  UNNEEDED, same version is already published
taishanLinux (openEuler 24.03 LTS) / aarch64  OK    OK    OK  


CHECK results for IsoformSwitchAnalyzeR on kjohnson1

To the developers/maintainers of the IsoformSwitchAnalyzeR package:
- Allow up to 24 hours (and sometimes 48 hours) for your latest push to git@git.bioconductor.org:packages/IsoformSwitchAnalyzeR.git to reflect on this report. See Troubleshooting Build Report for more information.
- Use the following Renviron settings to reproduce errors and warnings.
- If 'R CMD check' started to fail recently on the Linux builder(s) over a missing dependency, add the missing dependency to 'Suggests:' in your DESCRIPTION file. See Renviron.bioc for more information.

raw results


Summary

Package: IsoformSwitchAnalyzeR
Version: 2.6.0
Command: /Library/Frameworks/R.framework/Resources/bin/R CMD check --install=check:IsoformSwitchAnalyzeR.install-out.txt --library=/Library/Frameworks/R.framework/Resources/library --no-vignettes --timings IsoformSwitchAnalyzeR_2.6.0.tar.gz
StartedAt: 2025-01-31 23:08:37 -0500 (Fri, 31 Jan 2025)
EndedAt: 2025-01-31 23:20:23 -0500 (Fri, 31 Jan 2025)
EllapsedTime: 706.3 seconds
RetCode: 0
Status:   OK  
CheckDir: IsoformSwitchAnalyzeR.Rcheck
Warnings: 0

Command output

##############################################################################
##############################################################################
###
### Running command:
###
###   /Library/Frameworks/R.framework/Resources/bin/R CMD check --install=check:IsoformSwitchAnalyzeR.install-out.txt --library=/Library/Frameworks/R.framework/Resources/library --no-vignettes --timings IsoformSwitchAnalyzeR_2.6.0.tar.gz
###
##############################################################################
##############################################################################


* using log directory ‘/Users/biocbuild/bbs-3.20-bioc/meat/IsoformSwitchAnalyzeR.Rcheck’
* using R version 4.4.2 (2024-10-31)
* using platform: aarch64-apple-darwin20
* R was compiled by
    Apple clang version 14.0.0 (clang-1400.0.29.202)
    GNU Fortran (GCC) 12.2.0
* running under: macOS Ventura 13.7.1
* using session charset: UTF-8
* using option ‘--no-vignettes’
* checking for file ‘IsoformSwitchAnalyzeR/DESCRIPTION’ ... OK
* checking extension type ... Package
* this is package ‘IsoformSwitchAnalyzeR’ version ‘2.6.0’
* checking package namespace information ... OK
* checking package dependencies ... NOTE
Depends: includes the non-default packages:
  'limma', 'DEXSeq', 'satuRn', 'sva', 'ggplot2', 'pfamAnalyzeR'
Adding so many packages to the search path is excessive and importing
selectively is preferable.
* checking if this is a source package ... OK
* checking if there is a namespace ... OK
* checking for hidden files and directories ... OK
* checking for portable file names ... OK
* checking for sufficient/correct file permissions ... OK
* checking whether package ‘IsoformSwitchAnalyzeR’ can be installed ... OK
* used C compiler: ‘Apple clang version 15.0.0 (clang-1500.0.40.1)’
* used SDK: ‘MacOSX11.3.sdk’
* checking installed package size ... NOTE
  installed size is  6.8Mb
  sub-directories of 1Mb or more:
    R         1.0Mb
    data      1.1Mb
    extdata   4.3Mb
* checking package directory ... OK
* checking ‘build’ directory ... OK
* checking DESCRIPTION meta-information ... OK
* checking top-level files ... OK
* checking for left-over files ... OK
* checking index information ... OK
* checking package subdirectories ... OK
* checking code files for non-ASCII characters ... OK
* checking R files for syntax errors ... OK
* checking whether the package can be loaded ... OK
* checking whether the package can be loaded with stated dependencies ... OK
* checking whether the package can be unloaded cleanly ... OK
* checking whether the namespace can be loaded with stated dependencies ... OK
* checking whether the namespace can be unloaded cleanly ... OK
* checking dependencies in R code ... OK
* checking S3 generic/method consistency ... OK
* checking replacement functions ... OK
* checking foreign function calls ... OK
* checking R code for possible problems ... NOTE
analyzeNovelIsoformORF: no visible binding for global variable
  'orf_origin'
analyzeNovelIsoformORF: no visible binding for global variable
  'orfStartGenomic'
analyzeNovelIsoformORF: no visible binding for global variable
  'isoform_id'
analyzeNovelIsoformORF: no visible binding for global variable
  'orfEndGenomic'
expressionAnalysisPlot: no visible binding for global variable
  'Condition'
expressionAnalysisPlot: no visible binding for global variable
  'gene_expression'
expressionAnalysisPlot: no visible binding for global variable 'CI_up'
expressionAnalysisPlot: no visible binding for global variable
  'CI_down'
expressionAnalysisPlot: no visible binding for global variable
  'sigLevelPos'
expressionAnalysisPlot: no visible binding for global variable
  'sigLevel'
expressionAnalysisPlot: no visible binding for global variable 'CI_hi'
expressionAnalysisPlot: no visible binding for global variable 'CI_low'
expressionAnalysisPlot: no visible binding for global variable 'ymax'
expressionAnalysisPlot: no visible binding for global variable
  'sigEval'
expressionAnalysisPlot: no visible binding for global variable 'idNr'
expressionAnalysisPlot: no visible binding for global variable 'IF'
extractConsequenceEnrichment: no visible binding for global variable
  'feature2'
extractConsequenceEnrichment: no visible binding for global variable
  'propOfRelevantEvents'
extractConsequenceEnrichment: no visible binding for global variable
  'Significant'
extractConsequenceEnrichment: no visible binding for global variable
  'propCiLo'
extractConsequenceEnrichment: no visible binding for global variable
  'propCiHi'
extractConsequenceEnrichment: no visible binding for global variable
  'nTot'
extractConsequenceEnrichmentComparison: no visible binding for global
  variable 'Comparison'
extractConsequenceEnrichmentComparison: no visible binding for global
  variable 'propOfRelevantEvents'
extractConsequenceEnrichmentComparison: no visible binding for global
  variable 'Significant'
extractConsequenceEnrichmentComparison: no visible binding for global
  variable 'nTot'
extractConsequenceEnrichmentComparison: no visible binding for global
  variable 'propCiHi'
extractConsequenceEnrichmentComparison: no visible binding for global
  variable 'propCiLo'
extractConsequenceGenomeWide: no visible binding for global variable
  'isoform_feature'
extractConsequenceGenomeWide: no visible binding for global variable
  'value'
extractConsequenceGenomeWide: no visible binding for global variable
  'variable'
extractConsequenceGenomeWide: no visible binding for global variable
  'ymax'
extractConsequenceGenomeWide: no visible binding for global variable
  'significance'
extractConsequenceGenomeWide: no visible binding for global variable
  'idNr'
extractConsequenceSummary: no visible binding for global variable
  'switchConsequence'
extractConsequenceSummary: no visible binding for global variable
  'geneFraction'
extractConsequenceSummary: no visible binding for global variable
  'nrGenesWithConsequences'
extractConsequenceSummary: no visible binding for global variable
  'isoFraction'
extractConsequenceSummary: no visible binding for global variable
  'nrIsoWithConsequences'
extractSplicingEnrichment: no visible binding for global variable
  'AStype'
extractSplicingEnrichment: no visible binding for global variable
  'propUp'
extractSplicingEnrichment: no visible binding for global variable
  'Significant'
extractSplicingEnrichment: no visible binding for global variable
  'nTot'
extractSplicingEnrichment: no visible binding for global variable
  'propUpCiHi'
extractSplicingEnrichment: no visible binding for global variable
  'propUpCiLo'
extractSplicingEnrichmentComparison: no visible binding for global
  variable 'Comparison'
extractSplicingEnrichmentComparison: no visible binding for global
  variable 'propUp'
extractSplicingEnrichmentComparison: no visible binding for global
  variable 'Significant'
extractSplicingEnrichmentComparison: no visible binding for global
  variable 'nTot'
extractSplicingEnrichmentComparison: no visible binding for global
  variable 'propUpCiHi'
extractSplicingEnrichmentComparison: no visible binding for global
  variable 'propUpCiLo'
extractSplicingGenomeWide: no visible binding for global variable
  'isoform_feature'
extractSplicingGenomeWide: no visible binding for global variable
  'value'
extractSplicingGenomeWide: no visible binding for global variable
  'variable'
extractSplicingGenomeWide: no visible binding for global variable
  'ymax'
extractSplicingGenomeWide: no visible binding for global variable
  'significance'
extractSplicingGenomeWide: no visible binding for global variable
  'idNr'
extractSplicingSummary: no visible binding for global variable
  'splicingResult'
extractSplicingSummary: no visible binding for global variable
  'geneFraction'
extractSplicingSummary: no visible binding for global variable
  'nrGenesWithConsequences'
extractSplicingSummary: no visible binding for global variable
  'isoFraction'
extractSplicingSummary: no visible binding for global variable
  'nrIsoWithConsequences'
extractSubCellShifts: no visible binding for global variable 'gene_ref'
extractSubCellShifts: no visible binding for global variable 'gene_id'
extractSubCellShifts: no visible binding for global variable
  'condition_1'
extractSubCellShifts: no visible binding for global variable
  'condition_2'
extractSubCellShifts: no visible binding for global variable
  'isoformUpregulated'
extractSubCellShifts: no visible binding for global variable
  'isoformDownregulated'
extractSubCellShifts: no visible binding for global variable
  'featureCompared'
extractSubCellShifts: no visible binding for global variable
  'isoformsDifferent'
extractSubCellShifts: no visible binding for global variable
  'isoform_id'
extractSubCellShifts: no visible binding for global variable
  'Localizations'
extractSubCellShifts: no visible binding for global variable
  'location_gain'
extractSubCellShifts: no visible binding for global variable
  'location_loss'
extractSubCellShifts: no visible binding for global variable 'n_genes'
extractSubCellShifts: no visible binding for global variable 'n_switch'
extractSubCellShifts: no visible binding for global variable 'Genes'
extractSubCellShifts: no visible binding for global variable 'Switch'
importGTF: no visible binding for global variable 'gene_id'
importGTF: no visible binding for global variable 'gene_name'
importRdata: no visible binding for global variable 'isoform_id'
importRdata: no visible binding for global variable 'gene_id'
importRdata: no visible binding for global variable 'ref_gene_id'
importRdata: no visible binding for global variable 'n_ref_gene_ids'
importRdata: no visible binding for global variable 'n_iso_na'
importRdata: no visible binding for global variable 'novel_iso'
importRdata: no visible binding for global variable 'known_ref_gene_id'
importRdata: no visible binding for global variable 'nt_overlap'
importRdata: no visible binding for global variable 'frac_overlap'
importRdata: no visible binding for global variable
  'log2_overlap_ratio'
importRdata: no visible binding for global variable 'has_ref_gene_id'
importRdata: no visible binding for global variable 'has_novel_iso'
importRdata: no visible binding for global variable 'gene_name'
importRdata: no visible binding for global variable 'n_ref'
isoformToGeneExp: no visible binding for global variable 'gene_id'
isoformToGeneExp: no visible binding for global variable 'gene_name'
preFilter: no visible global function definition for 'setdff'
switchPlotTranscript: no visible binding for global variable 'topology'
switchPlotTranscript: no visible binding for global variable 'idNr'
switchPlotTranscript: no visible binding for global variable 'Topology'
switchPlotTranscript: no visible binding for global variable 'topGroup'
switchPlotTranscript: no visible binding for global variable 'y'
switchPlotTranscript: no visible binding for global variable 'yend'
switchPlotTranscript: no visible binding for global variable 'x'
switchPlotTranscript: no visible binding for global variable 'ymin'
switchPlotTranscript: no visible binding for global variable 'xmin'
switchPlotTranscript: no visible binding for global variable 'ymax'
switchPlotTranscript: no visible binding for global variable 'xmax'
switchPlotTranscript: no visible binding for global variable 'Domain'
switchPlotTranscript: no visible binding for global variable 'value'
Undefined global functions or variables:
  AStype CI_down CI_hi CI_low CI_up Comparison Condition Domain Genes
  IF Localizations Significant Switch Topology condition_1 condition_2
  feature2 featureCompared frac_overlap geneFraction gene_expression
  gene_id gene_name gene_ref has_novel_iso has_ref_gene_id idNr
  isoFraction isoformDownregulated isoformUpregulated isoform_feature
  isoform_id isoformsDifferent known_ref_gene_id location_gain
  location_loss log2_overlap_ratio nTot n_genes n_iso_na n_ref
  n_ref_gene_ids n_switch novel_iso nrGenesWithConsequences
  nrIsoWithConsequences nt_overlap orfEndGenomic orfStartGenomic
  orf_origin propCiHi propCiLo propOfRelevantEvents propUp propUpCiHi
  propUpCiLo ref_gene_id setdff sigEval sigLevel sigLevelPos
  significance splicingResult switchConsequence topGroup topology value
  variable x xmax xmin y yend ymax ymin
* checking Rd files ... NOTE
checkRd: (-1) isoformToGeneExp.Rd:22: Lost braces; missing escapes or markup?
    22 |     \item{Using the {isoformGeneAnnotation} argument}.
       |                     ^
checkRd: (-1) isoformToIsoformFraction.Rd:23: Lost braces; missing escapes or markup?
    23 |     \item{Using the {isoformGeneAnnotation} argument}.
       |                     ^
* checking Rd metadata ... OK
* checking Rd cross-references ... OK
* checking for missing documentation entries ... OK
* checking for code/documentation mismatches ... OK
* checking Rd \usage sections ... OK
* checking Rd contents ... OK
* checking for unstated dependencies in examples ... OK
* checking contents of ‘data’ directory ... OK
* checking data for non-ASCII characters ... OK
* checking data for ASCII and uncompressed saves ... OK
* checking line endings in C/C++/Fortran sources/headers ... OK
* checking compiled code ... NOTE
Note: information on .o files is not available
* checking files in ‘vignettes’ ... OK
* checking examples ... OK
Examples with CPU (user + system) or elapsed time > 5s
                                user system elapsed
IsoformSwitchTestDEXSeq       70.406  0.578  71.061
isoformSwitchAnalysisCombined 47.680  5.214  52.935
importSalmonData              45.465  1.056  50.110
prepareSalmonFilesDataFrame   13.941  0.458  14.994
analyzeORF                     9.280  0.068   9.354
extractSequence                9.198  0.060   9.259
extractTopSwitches             8.302  0.035   8.337
extractSwitchSummary           8.228  0.030   8.261
isoformSwitchAnalysisPart1     8.081  0.059   8.155
extractGenomeWideAnalysis      5.968  0.129   6.098
analyzeAlternativSplicing      5.894  0.022   5.916
* checking for unstated dependencies in vignettes ... OK
* checking package vignettes ... OK
* checking running R code from vignettes ... SKIPPED
* checking re-building of vignette outputs ... SKIPPED
* checking PDF version of manual ... OK
* DONE

Status: 5 NOTEs
See
  ‘/Users/biocbuild/bbs-3.20-bioc/meat/IsoformSwitchAnalyzeR.Rcheck/00check.log’
for details.


Installation output

IsoformSwitchAnalyzeR.Rcheck/00install.out

##############################################################################
##############################################################################
###
### Running command:
###
###   /Library/Frameworks/R.framework/Resources/bin/R CMD INSTALL IsoformSwitchAnalyzeR
###
##############################################################################
##############################################################################


* installing to library ‘/Library/Frameworks/R.framework/Versions/4.4-arm64/Resources/library’
* installing *source* package ‘IsoformSwitchAnalyzeR’ ...
** using staged installation
** libs
using C compiler: ‘Apple clang version 15.0.0 (clang-1500.0.40.1)’
using SDK: ‘MacOSX11.3.sdk’
clang -arch arm64 -I"/Library/Frameworks/R.framework/Resources/include" -DNDEBUG   -I/opt/R/arm64/include    -fPIC  -falign-functions=64 -Wall -g -O2  -c utils.c -o utils.o
clang -arch arm64 -dynamiclib -Wl,-headerpad_max_install_names -undefined dynamic_lookup -L/Library/Frameworks/R.framework/Resources/lib -L/opt/R/arm64/lib -o IsoformSwitchAnalyzeR.so utils.o -F/Library/Frameworks/R.framework/.. -framework R -Wl,-framework -Wl,CoreFoundation
installing to /Library/Frameworks/R.framework/Versions/4.4-arm64/Resources/library/00LOCK-IsoformSwitchAnalyzeR/00new/IsoformSwitchAnalyzeR/libs
** R
** data
** inst
** byte-compile and prepare package for lazy loading
** help
*** installing help indices
** building package indices
** installing vignettes
** testing if installed package can be loaded from temporary location
** checking absolute paths in shared objects and dynamic libraries
** testing if installed package can be loaded from final location
** testing if installed package keeps a record of temporary installation path
* DONE (IsoformSwitchAnalyzeR)

Tests output


Example timings

IsoformSwitchAnalyzeR.Rcheck/IsoformSwitchAnalyzeR-Ex.timings

nameusersystemelapsed
IsoformSwitchTestDEXSeq70.406 0.57871.061
IsoformSwitchTestSatuRn2.6740.0822.746
addORFfromGTF0.9050.0200.927
analyzeAlternativSplicing5.8940.0225.916
analyzeCPAT0.0690.0070.077
analyzeCPC20.0600.0060.066
analyzeDeepLoc20.2330.0190.247
analyzeDeepTMHMM0.4200.0080.429
analyzeIUPred2A2.1130.0362.151
analyzeNovelIsoformORF0.5940.0090.603
analyzeORF9.2800.0689.354
analyzePFAM0.4380.0080.446
analyzeSignalP0.0970.0050.103
analyzeSwitchConsequences1.0840.0161.101
expressionAnalysisPlots1.1020.0141.118
extractConsequenceEnrichment0.4950.0120.510
extractConsequenceEnrichmentComparison0.6500.0100.661
extractConsequenceSummary0.7510.0090.760
extractGeneExpression0.0490.0050.054
extractGenomeWideAnalysis5.9680.1296.098
extractGenomeWideSplicingAnalysis4.1540.1404.323
extractSequence9.1980.0609.259
extractSplicingEnrichment0.6100.0200.638
extractSplicingEnrichmentComparison0.8900.0180.912
extractSplicingSummary1.0090.0141.025
extractSwitchOverlap0.4020.0140.417
extractSwitchSummary8.2280.0308.261
extractTopSwitches8.3020.0358.337
importCufflinksGalaxyData0.0000.0010.001
importGTF0.8700.0240.895
importIsoformExpression0.6910.0930.760
importRdata2.4330.0912.510
importSalmonData45.465 1.05650.110
isoformSwitchAnalysisCombined47.680 5.21452.935
isoformSwitchAnalysisPart18.0810.0598.155
isoformSwitchAnalysisPart23.3830.2673.644
isoformToGeneExp3.0000.1223.107
isoformToIsoformFraction0.2530.0510.288
preFilter0.0280.0050.033
prepareSalmonFilesDataFrame13.941 0.45814.994
subsetSwitchAnalyzeRlist0.0300.0040.034
switchAnalyzeRlist2.6080.0932.685
switchPlot3.1720.0233.195
switchPlotTranscript1.7770.0131.790
testData0.0190.0050.024