Back to Multiple platform build/check report for BioC 3.21:   simplified   long
ABCDEFGH[I]JKLMNOPQRSTUVWXYZ

This page was generated on 2025-04-22 13:19 -0400 (Tue, 22 Apr 2025).

HostnameOSArch (*)R versionInstalled pkgs
nebbiolo1Linux (Ubuntu 24.04.1 LTS)x86_644.5.0 RC (2025-04-04 r88126) -- "How About a Twenty-Six" 4831
palomino7Windows Server 2022 Datacenterx644.5.0 RC (2025-04-04 r88126 ucrt) -- "How About a Twenty-Six" 4573
lconwaymacOS 12.7.1 Montereyx86_644.5.0 RC (2025-04-04 r88126) -- "How About a Twenty-Six" 4599
kjohnson3macOS 13.7.1 Venturaarm644.5.0 RC (2025-04-04 r88126) -- "How About a Twenty-Six" 4553
kunpeng2Linux (openEuler 24.03 LTS)aarch64R Under development (unstable) (2025-02-19 r87757) -- "Unsuffered Consequences" 4570
Click on any hostname to see more info about the system (e.g. compilers)      (*) as reported by 'uname -p', except on Windows and Mac OS X

Package 1052/2341HostnameOS / ArchINSTALLBUILDCHECKBUILD BIN
INSPEcT 1.38.0  (landing page)
Stefano de Pretis
Snapshot Date: 2025-04-21 13:40 -0400 (Mon, 21 Apr 2025)
git_url: https://git.bioconductor.org/packages/INSPEcT
git_branch: RELEASE_3_21
git_last_commit: 7870789
git_last_commit_date: 2025-04-15 10:51:53 -0400 (Tue, 15 Apr 2025)
nebbiolo1Linux (Ubuntu 24.04.1 LTS) / x86_64  OK    OK    OK  YES
palomino7Windows Server 2022 Datacenter / x64  OK    OK    OK    OK  NO, package depends on 'BiocParallel' which is only available as a source package that needs compilation
lconwaymacOS 12.7.1 Monterey / x86_64  OK    OK    OK    OK  YES
kjohnson3macOS 13.7.1 Ventura / arm64  OK    OK    OK    OK  YES
kunpeng2Linux (openEuler 24.03 LTS) / aarch64  OK    OK    OK  


CHECK results for INSPEcT on kunpeng2

To the developers/maintainers of the INSPEcT package:
- Allow up to 24 hours (and sometimes 48 hours) for your latest push to git@git.bioconductor.org:packages/INSPEcT.git to reflect on this report. See Troubleshooting Build Report for more information.
- Use the following Renviron settings to reproduce errors and warnings.
- If 'R CMD check' started to fail recently on the Linux builder(s) over a missing dependency, add the missing dependency to 'Suggests:' in your DESCRIPTION file. See Renviron.bioc for more information.
- See Martin Grigorov's blog post for how to debug Linux ARM64 related issues on a x86_64 host.

raw results


Summary

Package: INSPEcT
Version: 1.38.0
Command: /home/biocbuild/R/R/bin/R CMD check --install=check:INSPEcT.install-out.txt --library=/home/biocbuild/R/R/site-library --no-vignettes --timings INSPEcT_1.38.0.tar.gz
StartedAt: 2025-04-22 10:09:00 -0000 (Tue, 22 Apr 2025)
EndedAt: 2025-04-22 10:25:57 -0000 (Tue, 22 Apr 2025)
EllapsedTime: 1017.0 seconds
RetCode: 0
Status:   OK  
CheckDir: INSPEcT.Rcheck
Warnings: 0

Command output

##############################################################################
##############################################################################
###
### Running command:
###
###   /home/biocbuild/R/R/bin/R CMD check --install=check:INSPEcT.install-out.txt --library=/home/biocbuild/R/R/site-library --no-vignettes --timings INSPEcT_1.38.0.tar.gz
###
##############################################################################
##############################################################################


* using log directory ‘/home/biocbuild/bbs-3.21-bioc/meat/INSPEcT.Rcheck’
* using R Under development (unstable) (2025-02-19 r87757)
* using platform: aarch64-unknown-linux-gnu
* R was compiled by
    aarch64-unknown-linux-gnu-gcc (GCC) 14.2.0
    GNU Fortran (GCC) 14.2.0
* running under: openEuler 24.03 (LTS-SP1)
* using session charset: UTF-8
* using option ‘--no-vignettes’
* checking for file ‘INSPEcT/DESCRIPTION’ ... OK
* checking extension type ... Package
* this is package ‘INSPEcT’ version ‘1.38.0’
* checking package namespace information ... OK
* checking package dependencies ... OK
* checking if this is a source package ... OK
* checking if there is a namespace ... OK
* checking for hidden files and directories ... OK
* checking for portable file names ... OK
* checking for sufficient/correct file permissions ... OK
* checking whether package ‘INSPEcT’ can be installed ... OK
* checking installed package size ... INFO
  installed size is  7.1Mb
  sub-directories of 1Mb or more:
    R      1.8Mb
    data   2.8Mb
* checking package directory ... OK
* checking ‘build’ directory ... OK
* checking DESCRIPTION meta-information ... OK
* checking top-level files ... OK
* checking for left-over files ... OK
* checking index information ... OK
* checking package subdirectories ... OK
* checking code files for non-ASCII characters ... OK
* checking R files for syntax errors ... OK
* checking whether the package can be loaded ... OK
* checking whether the package can be loaded with stated dependencies ... OK
* checking whether the package can be unloaded cleanly ... OK
* checking whether the namespace can be loaded with stated dependencies ... OK
* checking whether the namespace can be unloaded cleanly ... OK
* checking loading without being on the library search path ... OK
* checking dependencies in R code ... OK
* checking S3 generic/method consistency ... OK
* checking replacement functions ... OK
* checking foreign function calls ... OK
* checking R code for possible problems ... NOTE
output_pars: no visible global function definition for ‘plot.new’
plotSingleRNADynamic: no visible global function definition for ‘lines’
Undefined global functions or variables:
  lines plot.new
Consider adding
  importFrom("graphics", "lines", "plot.new")
to your NAMESPACE file.
* checking Rd files ... OK
* checking Rd metadata ... OK
* checking Rd cross-references ... NOTE
Found the following Rd file(s) with Rd \link{} targets missing package
anchors:
  INSPEcT-class.Rd: featureNames
Please provide package anchors for all Rd \link{} targets not in the
package itself and the base packages.
* checking for missing documentation entries ... OK
* checking for code/documentation mismatches ... OK
* checking Rd \usage sections ... OK
* checking Rd contents ... OK
* checking for unstated dependencies in examples ... OK
* checking contents of ‘data’ directory ... OK
* checking data for non-ASCII characters ... OK
* checking data for ASCII and uncompressed saves ... OK
* checking files in ‘vignettes’ ... OK
* checking examples ... OK
Examples with CPU (user + system) or elapsed time > 5s
                                   user system elapsed
makeSimDataset                  122.013  0.507 122.763
quantifyExpressionsFromBAMs      46.205  3.324  50.284
INSPEcT_diffsteady-class         43.172  0.851  44.102
rocThresholds                    41.368  0.172  41.622
rocCurve                         40.904  0.148  41.143
makeSimModel                     40.779  0.092  40.948
plotMA                           38.612  0.220  38.908
compareSteady                    36.901  0.239  37.211
modelRates                       23.972  0.072  24.087
quantifyExpressionsFromTrCounts  22.254  0.092  22.388
newINSPEcT                       21.418  0.039  21.501
processingDelay                  19.595  0.040  19.675
makeOscillatorySimModel           9.870  0.056   9.950
compareSteadyNoNascent            7.964  0.048   8.028
inspectFromPCR                    5.161  0.024   5.196
* checking for unstated dependencies in vignettes ... OK
* checking package vignettes ... OK
* checking running R code from vignettes ... SKIPPED
* checking re-building of vignette outputs ... SKIPPED
* checking PDF version of manual ... OK
* DONE

Status: 2 NOTEs
See
  ‘/home/biocbuild/bbs-3.21-bioc/meat/INSPEcT.Rcheck/00check.log’
for details.


Installation output

INSPEcT.Rcheck/00install.out

##############################################################################
##############################################################################
###
### Running command:
###
###   /home/biocbuild/R/R/bin/R CMD INSTALL INSPEcT
###
##############################################################################
##############################################################################


* installing to library ‘/home/biocbuild/R/R-devel_2025-02-19/site-library’
* installing *source* package ‘INSPEcT’ ...
** this is package ‘INSPEcT’ version ‘1.38.0’
** using staged installation
** R
** data
** inst
** byte-compile and prepare package for lazy loading
** help
*** installing help indices
** building package indices
** installing vignettes
** testing if installed package can be loaded from temporary location
** testing if installed package can be loaded from final location
** testing if installed package keeps a record of temporary installation path
* DONE (INSPEcT)

Tests output


Example timings

INSPEcT.Rcheck/INSPEcT-Ex.timings

nameusersystemelapsed
AIC-INSPEcT-method0.1940.0040.199
Extract0.4770.0000.478
INSPEcT_diffsteady-class43.172 0.85144.102
calculateRatePvals0.2470.0120.259
chisqmodel0.1890.0070.196
chisqtest0.1950.0050.200
combine0.4630.0120.476
compareSteady36.901 0.23937.211
compareSteadyNoNascent7.9640.0488.028
convergence0.1930.0040.198
geneClass0.2560.0040.261
inHeatmap0.2450.0000.245
inspectFromPCR5.1610.0245.196
labeledSF0.1970.0000.197
logLik0.1980.0000.198
makeModelRates0.2570.0040.261
makeOscillatorySimModel9.8700.0569.950
makeSimDataset122.013 0.507122.763
makeSimModel40.779 0.09240.948
modelRates23.972 0.07224.087
modelRatesNF1.8430.0161.863
modelSelection0.1970.0000.197
modelingParams0.2300.0000.229
nGenes0.1980.0000.198
nTpts0.1970.0000.196
newINSPEcT21.418 0.03921.501
plotGene0.2520.0000.253
plotMA38.612 0.22038.908
processingDelay19.595 0.04019.675
quantifyExpressionsFromBAMs46.205 3.32450.284
quantifyExpressionsFromTrCounts22.254 0.09222.388
ratePvals0.1950.0000.196
ratesFirstGuess0.1940.0000.194
ratesFirstGuessVar0.1940.0000.194
removeModel0.3340.0000.335
rocCurve40.904 0.14841.143
rocThresholds41.368 0.17241.622
split0.3340.0000.334
tpts0.1950.0000.195
viewConfidenceIntervals0.1950.0010.196
viewModelRates0.1930.0020.196