| Back to Multiple platform build/check report for BioC 3.21: simplified long |
|
This page was generated on 2025-10-16 11:40 -0400 (Thu, 16 Oct 2025).
| Hostname | OS | Arch (*) | R version | Installed pkgs |
|---|---|---|---|---|
| nebbiolo1 | Linux (Ubuntu 24.04.3 LTS) | x86_64 | 4.5.1 (2025-06-13) -- "Great Square Root" | 4833 |
| merida1 | macOS 12.7.6 Monterey | x86_64 | 4.5.1 RC (2025-06-05 r88288) -- "Great Square Root" | 4614 |
| kjohnson1 | macOS 13.7.5 Ventura | arm64 | 4.5.1 Patched (2025-06-14 r88325) -- "Great Square Root" | 4555 |
| kunpeng2 | Linux (openEuler 24.03 LTS) | aarch64 | R Under development (unstable) (2025-02-19 r87757) -- "Unsuffered Consequences" | 4586 |
| Click on any hostname to see more info about the system (e.g. compilers) (*) as reported by 'uname -p', except on Windows and Mac OS X | ||||
| Package 1043/2341 | Hostname | OS / Arch | INSTALL | BUILD | CHECK | BUILD BIN | ||||||||
| IMPCdata 1.44.0 (landing page) Jeremy Mason
| nebbiolo1 | Linux (Ubuntu 24.04.3 LTS) / x86_64 | OK | OK | OK | |||||||||
| merida1 | macOS 12.7.6 Monterey / x86_64 | OK | OK | OK | OK | |||||||||
| kjohnson1 | macOS 13.7.5 Ventura / arm64 | OK | OK | OK | OK | |||||||||
| kunpeng2 | Linux (openEuler 24.03 LTS) / aarch64 | OK | OK | OK | ||||||||||
|
To the developers/maintainers of the IMPCdata package: - Allow up to 24 hours (and sometimes 48 hours) for your latest push to git@git.bioconductor.org:packages/IMPCdata.git to reflect on this report. See Troubleshooting Build Report for more information. - Use the following Renviron settings to reproduce errors and warnings. - If 'R CMD check' started to fail recently on the Linux builder(s) over a missing dependency, add the missing dependency to 'Suggests:' in your DESCRIPTION file. See Renviron.bioc for more information. |
| Package: IMPCdata |
| Version: 1.44.0 |
| Command: /Library/Frameworks/R.framework/Resources/bin/R CMD check --install=check:IMPCdata.install-out.txt --library=/Library/Frameworks/R.framework/Resources/library --no-vignettes --timings IMPCdata_1.44.0.tar.gz |
| StartedAt: 2025-10-15 00:58:34 -0400 (Wed, 15 Oct 2025) |
| EndedAt: 2025-10-15 00:59:18 -0400 (Wed, 15 Oct 2025) |
| EllapsedTime: 44.1 seconds |
| RetCode: 0 |
| Status: OK |
| CheckDir: IMPCdata.Rcheck |
| Warnings: 0 |
##############################################################################
##############################################################################
###
### Running command:
###
### /Library/Frameworks/R.framework/Resources/bin/R CMD check --install=check:IMPCdata.install-out.txt --library=/Library/Frameworks/R.framework/Resources/library --no-vignettes --timings IMPCdata_1.44.0.tar.gz
###
##############################################################################
##############################################################################
* using log directory ‘/Users/biocbuild/bbs-3.21-bioc/meat/IMPCdata.Rcheck’
* using R version 4.5.1 Patched (2025-06-14 r88325)
* using platform: aarch64-apple-darwin20
* R was compiled by
Apple clang version 16.0.0 (clang-1600.0.26.6)
GNU Fortran (GCC) 14.2.0
* running under: macOS Ventura 13.7.5
* using session charset: UTF-8
* using option ‘--no-vignettes’
* checking for file ‘IMPCdata/DESCRIPTION’ ... OK
* checking extension type ... Package
* this is package ‘IMPCdata’ version ‘1.44.0’
* checking package namespace information ... OK
* checking package dependencies ... OK
* checking if this is a source package ... OK
* checking if there is a namespace ... OK
* checking for hidden files and directories ... OK
* checking for portable file names ... OK
* checking for sufficient/correct file permissions ... OK
* checking whether package ‘IMPCdata’ can be installed ... OK
* checking installed package size ... OK
* checking package directory ... OK
* checking ‘build’ directory ... OK
* checking DESCRIPTION meta-information ... OK
* checking top-level files ... OK
* checking for left-over files ... OK
* checking index information ... OK
* checking package subdirectories ... OK
* checking code files for non-ASCII characters ... OK
* checking R files for syntax errors ... OK
* checking whether the package can be loaded ... OK
* checking whether the package can be loaded with stated dependencies ... OK
* checking whether the package can be unloaded cleanly ... OK
* checking whether the namespace can be loaded with stated dependencies ... OK
* checking whether the namespace can be unloaded cleanly ... OK
* checking dependencies in R code ... OK
* checking S3 generic/method consistency ... OK
* checking replacement functions ... OK
* checking foreign function calls ... OK
* checking R code for possible problems ... OK
* checking Rd files ... OK
* checking Rd metadata ... OK
* checking Rd cross-references ... OK
* checking for missing documentation entries ... OK
* checking for code/documentation mismatches ... OK
* checking Rd \usage sections ... OK
* checking Rd contents ... OK
* checking for unstated dependencies in examples ... OK
* checking sizes of PDF files under ‘inst/doc’ ... OK
* checking files in ‘vignettes’ ... OK
* checking examples ... OK
* checking for unstated dependencies in vignettes ... OK
* checking package vignettes ... OK
* checking running R code from vignettes ... SKIPPED
* checking re-building of vignette outputs ... SKIPPED
* checking PDF version of manual ... OK
* DONE
Status: OK
IMPCdata.Rcheck/00install.out
############################################################################## ############################################################################## ### ### Running command: ### ### /Library/Frameworks/R.framework/Resources/bin/R CMD INSTALL IMPCdata ### ############################################################################## ############################################################################## * installing to library ‘/Library/Frameworks/R.framework/Versions/4.5-arm64/Resources/library’ * installing *source* package ‘IMPCdata’ ... ** this is package ‘IMPCdata’ version ‘1.44.0’ ** using staged installation ** R ** inst ** byte-compile and prepare package for lazy loading ** help *** installing help indices ** building package indices ** installing vignettes ** testing if installed package can be loaded from temporary location ** testing if installed package can be loaded from final location ** testing if installed package keeps a record of temporary installation path * DONE (IMPCdata)
IMPCdata.Rcheck/IMPCdata-Ex.timings
| name | user | system | elapsed | |
| getAlleles | 0.145 | 0.023 | 0.712 | |
| getGenes | 0.122 | 0.015 | 0.435 | |
| getIMPCDataset | 0.015 | 0.004 | 0.223 | |
| getIMPCTable | 0.079 | 0.010 | 0.500 | |
| getName | 0.019 | 0.002 | 0.240 | |
| getParameters | 0.120 | 0.013 | 0.956 | |
| getPhenCenters | 0.272 | 0.032 | 4.397 | |
| getPipelines | 0.122 | 0.015 | 1.509 | |
| getProcedures | 0.122 | 0.015 | 2.039 | |
| getStrains | 0.062 | 0.008 | 1.425 | |
| getZygosities | 0.022 | 0.003 | 0.077 | |
| printAlleles | 0.116 | 0.014 | 0.428 | |
| printGenes | 0.095 | 0.013 | 1.042 | |
| printParameters | 0.080 | 0.013 | 1.089 | |
| printPhenCenters | 0.040 | 0.006 | 4.357 | |
| printPipelines | 0.098 | 0.015 | 1.329 | |
| printProcedures | 0.097 | 0.013 | 1.498 | |
| printStrains | 0.058 | 0.006 | 0.882 | |