| Back to Multiple platform build/check report for BioC 3.22: simplified long |
|
This page was generated on 2025-11-24 12:03 -0500 (Mon, 24 Nov 2025).
| Hostname | OS | Arch (*) | R version | Installed pkgs |
|---|---|---|---|---|
| nebbiolo2 | Linux (Ubuntu 24.04.3 LTS) | x86_64 | 4.5.2 (2025-10-31) -- "[Not] Part in a Rumble" | 4873 |
| merida1 | macOS 12.7.6 Monterey | x86_64 | 4.5.2 Patched (2025-11-05 r88990) -- "[Not] Part in a Rumble" | 4654 |
| kjohnson1 | macOS 13.7.5 Ventura | arm64 | 4.5.2 Patched (2025-11-04 r88984) -- "[Not] Part in a Rumble" | 4600 |
| taishan | Linux (openEuler 24.03 LTS) | aarch64 | 4.5.0 (2025-04-11) -- "How About a Twenty-Six" | 4668 |
| Click on any hostname to see more info about the system (e.g. compilers) (*) as reported by 'uname -p', except on Windows and Mac OS X | ||||
| Package 978/2361 | Hostname | OS / Arch | INSTALL | BUILD | CHECK | BUILD BIN | ||||||||
| HiCBricks 1.28.0 (landing page) Koustav Pal
| nebbiolo2 | Linux (Ubuntu 24.04.3 LTS) / x86_64 | OK | OK | OK | |||||||||
| merida1 | macOS 12.7.6 Monterey / x86_64 | OK | OK | OK | OK | |||||||||
| kjohnson1 | macOS 13.7.5 Ventura / arm64 | OK | OK | OK | OK | |||||||||
| taishan | Linux (openEuler 24.03 LTS) / aarch64 | OK | OK | OK | ||||||||||
|
To the developers/maintainers of the HiCBricks package: - Allow up to 24 hours (and sometimes 48 hours) for your latest push to git@git.bioconductor.org:packages/HiCBricks.git to reflect on this report. See Troubleshooting Build Report for more information. - Use the following Renviron settings to reproduce errors and warnings. - If 'R CMD check' started to fail recently on the Linux builder(s) over a missing dependency, add the missing dependency to 'Suggests:' in your DESCRIPTION file. See Renviron.bioc for more information. |
| Package: HiCBricks |
| Version: 1.28.0 |
| Command: /home/biocbuild/bbs-3.22-bioc/R/bin/R CMD check --install=check:HiCBricks.install-out.txt --library=/home/biocbuild/bbs-3.22-bioc/R/site-library --timings HiCBricks_1.28.0.tar.gz |
| StartedAt: 2025-11-21 01:10:17 -0500 (Fri, 21 Nov 2025) |
| EndedAt: 2025-11-21 01:13:48 -0500 (Fri, 21 Nov 2025) |
| EllapsedTime: 211.2 seconds |
| RetCode: 0 |
| Status: OK |
| CheckDir: HiCBricks.Rcheck |
| Warnings: 0 |
##############################################################################
##############################################################################
###
### Running command:
###
### /home/biocbuild/bbs-3.22-bioc/R/bin/R CMD check --install=check:HiCBricks.install-out.txt --library=/home/biocbuild/bbs-3.22-bioc/R/site-library --timings HiCBricks_1.28.0.tar.gz
###
##############################################################################
##############################################################################
* using log directory ‘/home/biocbuild/bbs-3.22-bioc/meat/HiCBricks.Rcheck’
* using R version 4.5.2 (2025-10-31)
* using platform: x86_64-pc-linux-gnu
* R was compiled by
gcc (Ubuntu 13.3.0-6ubuntu2~24.04) 13.3.0
GNU Fortran (Ubuntu 13.3.0-6ubuntu2~24.04) 13.3.0
* running under: Ubuntu 24.04.3 LTS
* using session charset: UTF-8
* checking for file ‘HiCBricks/DESCRIPTION’ ... OK
* checking extension type ... Package
* this is package ‘HiCBricks’ version ‘1.28.0’
* package encoding: UTF-8
* checking package namespace information ... OK
* checking package dependencies ... OK
* checking if this is a source package ... OK
* checking if there is a namespace ... OK
* checking for hidden files and directories ... OK
* checking for portable file names ... OK
* checking for sufficient/correct file permissions ... OK
* checking whether package ‘HiCBricks’ can be installed ... OK
* checking installed package size ... OK
* checking package directory ... OK
* checking ‘build’ directory ... OK
* checking DESCRIPTION meta-information ... OK
* checking top-level files ... OK
* checking for left-over files ... OK
* checking index information ... OK
* checking package subdirectories ... OK
* checking code files for non-ASCII characters ... OK
* checking R files for syntax errors ... OK
* checking whether the package can be loaded ... OK
* checking whether the package can be loaded with stated dependencies ... OK
* checking whether the package can be unloaded cleanly ... OK
* checking whether the namespace can be loaded with stated dependencies ... OK
* checking whether the namespace can be unloaded cleanly ... OK
* checking loading without being on the library search path ... OK
* checking dependencies in R code ... OK
* checking S3 generic/method consistency ... OK
* checking replacement functions ... OK
* checking foreign function calls ... OK
* checking R code for possible problems ... OK
* checking Rd files ... OK
* checking Rd metadata ... OK
* checking Rd cross-references ... OK
* checking for missing documentation entries ... OK
* checking for code/documentation mismatches ... OK
* checking Rd \usage sections ... OK
* checking Rd contents ... OK
* checking for unstated dependencies in examples ... OK
* checking files in ‘vignettes’ ... OK
* checking examples ... OK
* checking for unstated dependencies in vignettes ... OK
* checking package vignettes ... OK
* checking re-building of vignette outputs ... OK
* checking PDF version of manual ... OK
* DONE
Status: OK
HiCBricks.Rcheck/00install.out
############################################################################## ############################################################################## ### ### Running command: ### ### /home/biocbuild/bbs-3.22-bioc/R/bin/R CMD INSTALL HiCBricks ### ############################################################################## ############################################################################## * installing to library ‘/home/biocbuild/bbs-3.22-bioc/R/site-library’ * installing *source* package ‘HiCBricks’ ... ** this is package ‘HiCBricks’ version ‘1.28.0’ ** using staged installation ** R ** inst ** byte-compile and prepare package for lazy loading ** help *** installing help indices ** building package indices ** installing vignettes ** testing if installed package can be loaded from temporary location ** testing if installed package can be loaded from final location ** testing if installed package keeps a record of temporary installation path * DONE (HiCBricks)
HiCBricks.Rcheck/HiCBricks-Ex.timings
| name | user | system | elapsed | |
| BrickContainer_change_experiment_name | 1.577 | 0.034 | 1.613 | |
| BrickContainer_change_output_directory | 0.994 | 0.017 | 1.014 | |
| BrickContainer_get_path_to_file | 0.883 | 0.017 | 0.904 | |
| BrickContainer_list_chromosomes | 0.903 | 0.016 | 0.923 | |
| BrickContainer_list_experiment_name | 0.978 | 0.015 | 0.997 | |
| BrickContainer_list_files | 0.947 | 0.011 | 0.961 | |
| BrickContainer_list_output_directory | 0.947 | 0.011 | 0.961 | |
| BrickContainer_list_resolutions | 0.897 | 0.008 | 0.907 | |
| BrickContainer_unlink_resolution | 2.062 | 0.028 | 2.095 | |
| Brick_add_ranges | 2.242 | 0.016 | 2.261 | |
| Brick_call_compartments | 1.513 | 0.107 | 1.624 | |
| Brick_export_to_sparse | 2.629 | 0.057 | 2.690 | |
| Brick_fetch_range_index | 1.503 | 0.098 | 1.635 | |
| Brick_fetch_row_vector | 1.668 | 0.072 | 1.744 | |
| Brick_get_bintable | 0.961 | 0.013 | 0.977 | |
| Brick_get_chrominfo | 0.924 | 0.056 | 0.982 | |
| Brick_get_entire_matrix | 1.245 | 0.045 | 1.294 | |
| Brick_get_matrix | 1.207 | 0.034 | 1.245 | |
| Brick_get_matrix_mcols | 1.173 | 0.026 | 1.203 | |
| Brick_get_matrix_within_coords | 1.601 | 0.032 | 1.637 | |
| Brick_get_ranges | 0.998 | 0.017 | 1.019 | |
| Brick_get_values_by_distance | 1.267 | 0.037 | 1.308 | |
| Brick_get_vector_values | 1.223 | 0.030 | 1.259 | |
| Brick_list_matrices | 0.893 | 0.018 | 0.915 | |
| Brick_list_matrix_mcols | 0.874 | 0.012 | 0.897 | |
| Brick_list_mcool_normalisations | 0.000 | 0.000 | 0.001 | |
| Brick_list_mcool_resolutions | 0 | 0 | 0 | |
| Brick_list_rangekeys | 0.966 | 0.026 | 0.994 | |
| Brick_list_ranges_mcols | 1.008 | 0.015 | 1.027 | |
| Brick_load_cis_matrix_till_distance | 1.272 | 0.018 | 1.293 | |
| Brick_load_data_from_mcool | 0 | 0 | 0 | |
| Brick_load_data_from_sparse | 0 | 0 | 0 | |
| Brick_load_matrix | 1.253 | 0.024 | 1.280 | |
| Brick_local_score_differentiator | 2.035 | 0.052 | 2.183 | |
| Brick_make_ranges | 0.009 | 0.000 | 0.009 | |
| Brick_matrix_dimensions | 1.077 | 0.039 | 1.119 | |
| Brick_matrix_exists | 1.113 | 0.023 | 1.140 | |
| Brick_matrix_filename | 1.093 | 0.034 | 1.130 | |
| Brick_matrix_isdone | 1.339 | 0.033 | 1.406 | |
| Brick_matrix_issparse | 1.123 | 0.021 | 1.148 | |
| Brick_matrix_maxdist | 1.128 | 0.042 | 1.173 | |
| Brick_matrix_minmax | 1.183 | 0.115 | 1.301 | |
| Brick_mcool_normalisation_exists | 0 | 0 | 0 | |
| Brick_rangekey_exists | 0.912 | 0.031 | 0.947 | |
| Brick_return_region_position | 0.977 | 0.052 | 1.033 | |
| Brick_vizart_plot_heatmap | 2.329 | 0.106 | 2.491 | |
| Create_many_Bricks | 0.752 | 0.020 | 0.774 | |
| Create_many_Bricks_from_mcool | 0 | 0 | 0 | |
| load_BrickContainer | 0.796 | 0.058 | 0.856 | |