| Back to Multiple platform build/check report for BioC 3.21: simplified long |
|
This page was generated on 2025-10-16 11:41 -0400 (Thu, 16 Oct 2025).
| Hostname | OS | Arch (*) | R version | Installed pkgs |
|---|---|---|---|---|
| nebbiolo1 | Linux (Ubuntu 24.04.3 LTS) | x86_64 | 4.5.1 (2025-06-13) -- "Great Square Root" | 4833 |
| merida1 | macOS 12.7.6 Monterey | x86_64 | 4.5.1 RC (2025-06-05 r88288) -- "Great Square Root" | 4614 |
| kjohnson1 | macOS 13.7.5 Ventura | arm64 | 4.5.1 Patched (2025-06-14 r88325) -- "Great Square Root" | 4555 |
| kunpeng2 | Linux (openEuler 24.03 LTS) | aarch64 | R Under development (unstable) (2025-02-19 r87757) -- "Unsuffered Consequences" | 4586 |
| Click on any hostname to see more info about the system (e.g. compilers) (*) as reported by 'uname -p', except on Windows and Mac OS X | ||||
| Package 998/2341 | Hostname | OS / Arch | INSTALL | BUILD | CHECK | BUILD BIN | ||||||||
| HTqPCR 1.62.0 (landing page) Matthew N. McCall
| nebbiolo1 | Linux (Ubuntu 24.04.3 LTS) / x86_64 | OK | OK | OK | |||||||||
| merida1 | macOS 12.7.6 Monterey / x86_64 | OK | OK | OK | OK | |||||||||
| kjohnson1 | macOS 13.7.5 Ventura / arm64 | OK | OK | OK | OK | |||||||||
| kunpeng2 | Linux (openEuler 24.03 LTS) / aarch64 | OK | OK | OK | ||||||||||
|
To the developers/maintainers of the HTqPCR package: - Allow up to 24 hours (and sometimes 48 hours) for your latest push to git@git.bioconductor.org:packages/HTqPCR.git to reflect on this report. See Troubleshooting Build Report for more information. - Use the following Renviron settings to reproduce errors and warnings. - If 'R CMD check' started to fail recently on the Linux builder(s) over a missing dependency, add the missing dependency to 'Suggests:' in your DESCRIPTION file. See Renviron.bioc for more information. - See Martin Grigorov's blog post for how to debug Linux ARM64 related issues on a x86_64 host. |
| Package: HTqPCR |
| Version: 1.62.0 |
| Command: /home/biocbuild/R/R/bin/R CMD check --install=check:HTqPCR.install-out.txt --library=/home/biocbuild/R/R/site-library --no-vignettes --timings HTqPCR_1.62.0.tar.gz |
| StartedAt: 2025-10-14 10:13:10 -0000 (Tue, 14 Oct 2025) |
| EndedAt: 2025-10-14 10:14:04 -0000 (Tue, 14 Oct 2025) |
| EllapsedTime: 54.0 seconds |
| RetCode: 0 |
| Status: OK |
| CheckDir: HTqPCR.Rcheck |
| Warnings: 0 |
##############################################################################
##############################################################################
###
### Running command:
###
### /home/biocbuild/R/R/bin/R CMD check --install=check:HTqPCR.install-out.txt --library=/home/biocbuild/R/R/site-library --no-vignettes --timings HTqPCR_1.62.0.tar.gz
###
##############################################################################
##############################################################################
* using log directory ‘/home/biocbuild/bbs-3.21-bioc/meat/HTqPCR.Rcheck’
* using R Under development (unstable) (2025-02-19 r87757)
* using platform: aarch64-unknown-linux-gnu
* R was compiled by
aarch64-unknown-linux-gnu-gcc (GCC) 14.2.0
GNU Fortran (GCC) 14.2.0
* running under: openEuler 24.03 (LTS-SP1)
* using session charset: UTF-8
* using option ‘--no-vignettes’
* checking for file ‘HTqPCR/DESCRIPTION’ ... OK
* checking extension type ... Package
* this is package ‘HTqPCR’ version ‘1.62.0’
* checking package namespace information ... OK
* checking package dependencies ... OK
* checking if this is a source package ... OK
* checking if there is a namespace ... OK
* checking for hidden files and directories ... OK
* checking for portable file names ... OK
* checking for sufficient/correct file permissions ... OK
* checking whether package ‘HTqPCR’ can be installed ... OK
* checking installed package size ... OK
* checking package directory ... OK
* checking ‘build’ directory ... OK
* checking DESCRIPTION meta-information ... NOTE
Packages listed in more than one of Depends, Imports, Suggests, Enhances:
‘Biobase’ ‘limma’ ‘RColorBrewer’
A package should be listed in only one of these fields.
* checking top-level files ... OK
* checking for left-over files ... OK
* checking index information ... OK
* checking package subdirectories ... OK
* checking code files for non-ASCII characters ... OK
* checking R files for syntax errors ... OK
* checking whether the package can be loaded ... OK
* checking whether the package can be loaded with stated dependencies ... OK
* checking whether the package can be unloaded cleanly ... OK
* checking whether the namespace can be loaded with stated dependencies ... OK
* checking whether the namespace can be unloaded cleanly ... OK
* checking loading without being on the library search path ... OK
* checking dependencies in R code ... OK
* checking S3 generic/method consistency ... OK
* checking replacement functions ... OK
* checking foreign function calls ... OK
* checking R code for possible problems ... NOTE
heatmapSig: warning in heatmap.2(data, trace = "none", density.info =
"none", col = col, distfun = d, breaks = b, mar = mar, ...): partial
argument match of 'mar' to 'margins'
limmaCtData: warning in topTable(fit2, sort = "none", n = nrow(fit2)):
partial argument match of 'n' to 'number'
limmaCtData: warning in topTable(fit2, sort = "none", n = nrow(fit2)):
partial argument match of 'sort' to 'sort.by'
plotCtCor: warning in heatmap.2(x, col = col, breaks = b, scale =
"none", dendrogram = "row", trace = "none", main = main, density.info
= "none", mar = mar, ...): partial argument match of 'mar' to
'margins'
plotCtHeatmap: warning in heatmap.2(data, trace = "none", density.info
= "none", main = main, col = col, distfun = d, breaks = breaks, mar =
mar, ...): partial argument match of 'mar' to 'margins'
plotCtOverview: warning in plotCI(x = x.pos + i - 1, y = M[i, ], uiw =
SD[i, ], add = TRUE, gap = 0, pch = 20, xpd = TRUE, sfra = 0.001):
partial argument match of 'sfra' to 'sfrac'
plotCtOverview: warning in plotCI(x = x.pos + i - 1, y = M[i, ], uiw =
SD.ratio[i, ], add = TRUE, gap = 0, pch = 20, xpd = TRUE, sfra =
0.001): partial argument match of 'sfra' to 'sfrac'
.readCtBioMark: no visible global function definition for ‘read.csv’
.readCtCFX: no visible global function definition for ‘read.csv’
.readCtOpenArray: no visible global function definition for ‘read.csv’
cbind.qPCRset: no visible global function definition for ‘phenoData<-’
cbind.qPCRset: no visible global function definition for
‘AnnotatedDataFrame’
cbind.qPCRset: no visible global function definition for ‘pData’
cbind.qPCRset: no visible global function definition for
‘capture.output’
changeCtLayout: no visible global function definition for
‘featureData<-’
changeCtLayout: no visible global function definition for ‘featureData’
changeCtLayout: no visible global function definition for ‘phenoData<-’
changeCtLayout: no visible global function definition for
‘capture.output’
filterCategory: no visible global function definition for
‘capture.output’
filterCtData: no visible binding for global variable ‘IQR’
filterCtData: no visible global function definition for
‘capture.output’
mannwhitneyCtData : <anonymous>: no visible global function definition
for ‘wilcox.test’
normalizeCtData: no visible global function definition for
‘capture.output’
rbind.qPCRset: no visible global function definition for
‘featureData<-’
rbind.qPCRset: no visible global function definition for
‘AnnotatedDataFrame’
rbind.qPCRset: no visible global function definition for ‘fData’
rbind.qPCRset: no visible global function definition for
‘capture.output’
readCtData: no visible global function definition for
‘AnnotatedDataFrame’
readCtData: no visible global function definition for ‘capture.output’
setCategory: no visible global function definition for ‘capture.output’
[,qPCRset: no visible global function definition for ‘phenoData<-’
[,qPCRset: no visible global function definition for ‘phenoData’
exprs,qPCRset: no visible global function definition for
‘assayDataElement’
exprs<-,qPCRset-ANY: no visible global function definition for
‘assayDataElementReplace’
featureCategory,qPCRset: no visible global function definition for
‘assayDataElement’
featureCategory<-,qPCRset: no visible global function definition for
‘assayDataElementReplace’
featureClass,qPCRset: no visible global function definition for ‘fData’
featureClass<-,qPCRset: no visible global function definition for
‘fData’
featureClass<-,qPCRset: no visible global function definition for
‘fData<-’
featureNames,qPCRset: no visible global function definition for ‘fData’
featureNames<-,qPCRset-character: no visible global function definition
for ‘fData’
featureNames<-,qPCRset-character: no visible global function definition
for ‘fData<-’
featurePos,qPCRset: no visible global function definition for ‘fData’
featurePos<-,qPCRset: no visible global function definition for ‘fData’
featurePos<-,qPCRset: no visible global function definition for
‘fData<-’
featureType,qPCRset: no visible global function definition for ‘fData’
featureType<-,qPCRset: no visible global function definition for
‘fData’
featureType<-,qPCRset: no visible global function definition for
‘fData<-’
flag,qPCRset: no visible global function definition for
‘assayDataElement’
flag<-,qPCRset: no visible global function definition for
‘assayDataElementReplace’
Undefined global functions or variables:
AnnotatedDataFrame IQR assayDataElement assayDataElementReplace
capture.output fData fData<- featureData featureData<- pData
phenoData phenoData<- read.csv wilcox.test
Consider adding
importFrom("stats", "IQR", "wilcox.test")
importFrom("utils", "capture.output", "read.csv")
to your NAMESPACE file.
* checking Rd files ... NOTE
prepare_Rd: cbind.Rd:35-36: Dropping empty section \examples
prepare_Rd: heatmapSig.Rd:31-32: Dropping empty section \examples
prepare_Rd: mannwhitneyCtData.Rd:52-62: Dropping empty section \examples
prepare_Rd: plotCtRQ.Rd:46-48: Dropping empty section \examples
prepare_Rd: plotCtSignificance.Rd:46-47: Dropping empty section \examples
checkRd: (-1) readCtData.Rd:42: Lost braces in \itemize; meant \describe ?
checkRd: (-1) readCtData.Rd:43: Lost braces in \itemize; meant \describe ?
checkRd: (-1) readCtData.Rd:44: Lost braces in \itemize; meant \describe ?
checkRd: (-1) readCtData.Rd:45: Lost braces in \itemize; meant \describe ?
checkRd: (-1) readCtData.Rd:46: Lost braces in \itemize; meant \describe ?
checkRd: (-1) readCtData.Rd:54: Lost braces in \itemize; meant \describe ?
checkRd: (-1) readCtData.Rd:55: Lost braces in \itemize; meant \describe ?
checkRd: (-1) readCtData.Rd:56: Lost braces in \itemize; meant \describe ?
checkRd: (-1) readCtData.Rd:57: Lost braces in \itemize; meant \describe ?
checkRd: (-1) readCtData.Rd:58: Lost braces in \itemize; meant \describe ?
checkRd: (-1) readCtData.Rd:59: Lost braces in \itemize; meant \describe ?
prepare_Rd: ttestCtData.Rd:49-50: Dropping empty section \examples
* checking Rd metadata ... OK
* checking Rd cross-references ... NOTE
Non-topic package-anchored link(s) in Rd file 'limmaCtData.Rd':
‘[limma]{ebayes}’
Non-topic package-anchored link(s) in Rd file 'normalizeCtData.Rd':
‘[limma]{normalizequantiles}’
Non-topic package-anchored link(s) in Rd file 'qPCRset-class.Rd':
‘[Biobase:class.eSet]{eSet}’
See section 'Cross-references' in the 'Writing R Extensions' manual.
Found the following Rd file(s) with Rd \link{} targets missing package
anchors:
qPCRset-class.Rd: eSet-class, VersionedBiobase-class, Versioned-class
Please provide package anchors for all Rd \link{} targets not in the
package itself and the base packages.
* checking for missing documentation entries ... OK
* checking for code/documentation mismatches ... OK
* checking Rd \usage sections ... OK
* checking Rd contents ... OK
* checking for unstated dependencies in examples ... OK
* checking contents of ‘data’ directory ... OK
* checking data for non-ASCII characters ... OK
* checking data for ASCII and uncompressed saves ... OK
* checking files in ‘vignettes’ ... OK
* checking examples ... OK
* checking for unstated dependencies in vignettes ... OK
* checking package vignettes ... OK
* checking running R code from vignettes ... SKIPPED
* checking re-building of vignette outputs ... SKIPPED
* checking PDF version of manual ... OK
* DONE
Status: 4 NOTEs
See
‘/home/biocbuild/bbs-3.21-bioc/meat/HTqPCR.Rcheck/00check.log’
for details.
HTqPCR.Rcheck/00install.out
############################################################################## ############################################################################## ### ### Running command: ### ### /home/biocbuild/R/R/bin/R CMD INSTALL HTqPCR ### ############################################################################## ############################################################################## * installing to library ‘/home/biocbuild/R/R-devel_2025-02-19/site-library’ * installing *source* package ‘HTqPCR’ ... ** this is package ‘HTqPCR’ version ‘1.62.0’ ** using staged installation ** R ** data ** inst ** byte-compile and prepare package for lazy loading ** help *** installing help indices ** building package indices ** installing vignettes ** testing if installed package can be loaded from temporary location ** testing if installed package can be loaded from final location ** testing if installed package keeps a record of temporary installation path * DONE (HTqPCR)
HTqPCR.Rcheck/HTqPCR-Ex.timings
| name | user | system | elapsed | |
| changeCtLayout | 0.215 | 0.008 | 0.224 | |
| clusterCt | 0.214 | 0.000 | 0.214 | |
| filterCategory | 0.059 | 0.004 | 0.064 | |
| filterCtData | 0.400 | 0.000 | 0.401 | |
| limmaCtData | 0.059 | 0.008 | 0.068 | |
| normalizeCtData | 0.623 | 0.008 | 0.633 | |
| plotCVBoxes | 0.161 | 0.004 | 0.165 | |
| plotCtArray | 0.069 | 0.008 | 0.079 | |
| plotCtBoxes | 0.043 | 0.000 | 0.043 | |
| plotCtCard | 0.085 | 0.000 | 0.085 | |
| plotCtCategory | 0.531 | 0.000 | 0.532 | |
| plotCtCor | 0.048 | 0.008 | 0.056 | |
| plotCtDensity | 0.029 | 0.000 | 0.029 | |
| plotCtHeatmap | 1.513 | 0.028 | 1.543 | |
| plotCtHistogram | 0.013 | 0.000 | 0.014 | |
| plotCtOverview | 0.071 | 0.000 | 0.071 | |
| plotCtPCA | 0.024 | 0.004 | 0.028 | |
| plotCtPairs | 0.641 | 0.000 | 0.641 | |
| plotCtReps | 0.214 | 0.000 | 0.214 | |
| plotCtScatter | 0.173 | 0.004 | 0.177 | |
| plotCtVariation | 0.328 | 0.008 | 0.336 | |
| plotGenes | 0.023 | 0.000 | 0.023 | |
| qPCRpros | 0.003 | 0.000 | 0.003 | |
| qPCRraw | 0.003 | 0.000 | 0.003 | |
| qPCRset-class | 0.065 | 0.004 | 0.069 | |
| readCtData | 0.075 | 0.000 | 0.084 | |
| setCategory | 0.032 | 0.000 | 0.033 | |