| Back to Multiple platform build/check report for BioC 3.22: simplified long |
|
This page was generated on 2025-11-01 12:03 -0400 (Sat, 01 Nov 2025).
| Hostname | OS | Arch (*) | R version | Installed pkgs |
|---|---|---|---|---|
| nebbiolo2 | Linux (Ubuntu 24.04.3 LTS) | x86_64 | 4.5.1 Patched (2025-08-23 r88802) -- "Great Square Root" | 4901 |
| lconway | macOS 12.7.6 Monterey | x86_64 | 4.5.1 Patched (2025-09-10 r88807) -- "Great Square Root" | 4691 |
| kjohnson3 | macOS 13.7.7 Ventura | arm64 | 4.5.1 Patched (2025-09-10 r88807) -- "Great Square Root" | 4637 |
| Click on any hostname to see more info about the system (e.g. compilers) (*) as reported by 'uname -p', except on Windows and Mac OS X | ||||
| Package 838/2361 | Hostname | OS / Arch | INSTALL | BUILD | CHECK | BUILD BIN | ||||||||
| GenomAutomorphism 1.12.0 (landing page) Robersy Sanchez
| nebbiolo2 | Linux (Ubuntu 24.04.3 LTS) / x86_64 | OK | OK | OK | |||||||||
| lconway | macOS 12.7.6 Monterey / x86_64 | OK | OK | OK | OK | |||||||||
| kjohnson3 | macOS 13.7.7 Ventura / arm64 | OK | OK | OK | OK | |||||||||
|
To the developers/maintainers of the GenomAutomorphism package: - Allow up to 24 hours (and sometimes 48 hours) for your latest push to git@git.bioconductor.org:packages/GenomAutomorphism.git to reflect on this report. See Troubleshooting Build Report for more information. - Use the following Renviron settings to reproduce errors and warnings. - If 'R CMD check' started to fail recently on the Linux builder(s) over a missing dependency, add the missing dependency to 'Suggests:' in your DESCRIPTION file. See Renviron.bioc for more information. |
| Package: GenomAutomorphism |
| Version: 1.12.0 |
| Command: /home/biocbuild/bbs-3.22-bioc/R/bin/R CMD check --install=check:GenomAutomorphism.install-out.txt --library=/home/biocbuild/bbs-3.22-bioc/R/site-library --timings GenomAutomorphism_1.12.0.tar.gz |
| StartedAt: 2025-11-01 00:03:02 -0400 (Sat, 01 Nov 2025) |
| EndedAt: 2025-11-01 00:07:09 -0400 (Sat, 01 Nov 2025) |
| EllapsedTime: 247.2 seconds |
| RetCode: 0 |
| Status: OK |
| CheckDir: GenomAutomorphism.Rcheck |
| Warnings: 0 |
##############################################################################
##############################################################################
###
### Running command:
###
### /home/biocbuild/bbs-3.22-bioc/R/bin/R CMD check --install=check:GenomAutomorphism.install-out.txt --library=/home/biocbuild/bbs-3.22-bioc/R/site-library --timings GenomAutomorphism_1.12.0.tar.gz
###
##############################################################################
##############################################################################
* using log directory ‘/home/biocbuild/bbs-3.22-bioc/meat/GenomAutomorphism.Rcheck’
* using R version 4.5.1 Patched (2025-08-23 r88802)
* using platform: x86_64-pc-linux-gnu
* R was compiled by
gcc (Ubuntu 13.3.0-6ubuntu2~24.04) 13.3.0
GNU Fortran (Ubuntu 13.3.0-6ubuntu2~24.04) 13.3.0
* running under: Ubuntu 24.04.3 LTS
* using session charset: UTF-8
* checking for file ‘GenomAutomorphism/DESCRIPTION’ ... OK
* this is package ‘GenomAutomorphism’ version ‘1.12.0’
* package encoding: UTF-8
* checking package namespace information ... OK
* checking package dependencies ... OK
* checking if this is a source package ... OK
* checking if there is a namespace ... OK
* checking for hidden files and directories ... OK
* checking for portable file names ... OK
* checking for sufficient/correct file permissions ... OK
* checking whether package ‘GenomAutomorphism’ can be installed ... OK
* checking installed package size ... OK
* checking package directory ... OK
* checking ‘build’ directory ... OK
* checking DESCRIPTION meta-information ... OK
* checking top-level files ... OK
* checking for left-over files ... OK
* checking index information ... OK
* checking package subdirectories ... OK
* checking code files for non-ASCII characters ... OK
* checking R files for syntax errors ... OK
* checking whether the package can be loaded ... OK
* checking whether the package can be loaded with stated dependencies ... OK
* checking whether the package can be unloaded cleanly ... OK
* checking whether the namespace can be loaded with stated dependencies ... OK
* checking whether the namespace can be unloaded cleanly ... OK
* checking loading without being on the library search path ... OK
* checking dependencies in R code ... OK
* checking S3 generic/method consistency ... OK
* checking replacement functions ... OK
* checking foreign function calls ... OK
* checking R code for possible problems ... OK
* checking Rd files ... OK
* checking Rd metadata ... OK
* checking Rd cross-references ... NOTE
Non-topic package-anchored link(s) in Rd file 'reexports.Rd':
‘[S4Vectors:S4Vectors-internals]{setValidity2}’
See section 'Cross-references' in the 'Writing R Extensions' manual.
* checking for missing documentation entries ... OK
* checking for code/documentation mismatches ... OK
* checking Rd \usage sections ... OK
* checking Rd contents ... OK
* checking for unstated dependencies in examples ... OK
* checking contents of ‘data’ directory ... OK
* checking data for non-ASCII characters ... OK
* checking data for ASCII and uncompressed saves ... OK
* checking files in ‘vignettes’ ... OK
* checking examples ... OK
Examples with CPU (user + system) or elapsed time > 5s
user system elapsed
automorphisms 4.802 0.881 5.101
aminoacid_dist 4.426 0.877 4.774
* checking for unstated dependencies in ‘tests’ ... OK
* checking tests ...
Running ‘spelling.R’
Running ‘testthat.R’
OK
* checking for unstated dependencies in vignettes ... OK
* checking package vignettes ... OK
* checking re-building of vignette outputs ... OK
* checking PDF version of manual ... OK
* DONE
Status: 1 NOTE
See
‘/home/biocbuild/bbs-3.22-bioc/meat/GenomAutomorphism.Rcheck/00check.log’
for details.
GenomAutomorphism.Rcheck/00install.out
############################################################################## ############################################################################## ### ### Running command: ### ### /home/biocbuild/bbs-3.22-bioc/R/bin/R CMD INSTALL GenomAutomorphism ### ############################################################################## ############################################################################## * installing to library ‘/home/biocbuild/bbs-3.22-bioc/R/site-library’ * installing *source* package ‘GenomAutomorphism’ ... ** this is package ‘GenomAutomorphism’ version ‘1.12.0’ ** using staged installation ** R ** data ** inst ** byte-compile and prepare package for lazy loading ** help *** installing help indices *** copying figures ** building package indices ** installing vignettes ** testing if installed package can be loaded from temporary location ** testing if installed package can be loaded from final location ** testing if installed package keeps a record of temporary installation path * DONE (GenomAutomorphism)
GenomAutomorphism.Rcheck/tests/spelling.Rout
R version 4.5.1 Patched (2025-08-23 r88802) -- "Great Square Root"
Copyright (C) 2025 The R Foundation for Statistical Computing
Platform: x86_64-pc-linux-gnu
R is free software and comes with ABSOLUTELY NO WARRANTY.
You are welcome to redistribute it under certain conditions.
Type 'license()' or 'licence()' for distribution details.
R is a collaborative project with many contributors.
Type 'contributors()' for more information and
'citation()' on how to cite R or R packages in publications.
Type 'demo()' for some demos, 'help()' for on-line help, or
'help.start()' for an HTML browser interface to help.
Type 'q()' to quit R.
> if (requireNamespace("spelling", quietly = TRUE)) {
+ spelling::spell_check_test(
+ vignettes = TRUE, error = FALSE,
+ skip_on_cran = TRUE
+ )
+ }
All Done!
>
> proc.time()
user system elapsed
0.150 0.033 0.173
GenomAutomorphism.Rcheck/tests/testthat.Rout
R version 4.5.1 Patched (2025-08-23 r88802) -- "Great Square Root"
Copyright (C) 2025 The R Foundation for Statistical Computing
Platform: x86_64-pc-linux-gnu
R is free software and comes with ABSOLUTELY NO WARRANTY.
You are welcome to redistribute it under certain conditions.
Type 'license()' or 'licence()' for distribution details.
R is a collaborative project with many contributors.
Type 'contributors()' for more information and
'citation()' on how to cite R or R packages in publications.
Type 'demo()' for some demos, 'help()' for on-line help, or
'help.start()' for an HTML browser interface to help.
Type 'q()' to quit R.
> library(testthat)
> library(GenomAutomorphism)
>
> test_check("GenomAutomorphism")
[ FAIL 0 | WARN 0 | SKIP 0 | PASS 34 ]
>
> proc.time()
user system elapsed
21.089 2.042 22.874
GenomAutomorphism.Rcheck/GenomAutomorphism-Ex.timings
| name | user | system | elapsed | |
| AutomorphismByCoef | 0.412 | 0.003 | 0.415 | |
| AutomorphismList | 2.345 | 0.117 | 2.461 | |
| CodonMatrix | 0.156 | 0.002 | 0.159 | |
| CodonSeq | 0.317 | 0.015 | 0.332 | |
| GRangesMatrixSeq | 0.179 | 0.024 | 0.202 | |
| ListCodonMatrix | 0.207 | 0.003 | 0.209 | |
| MatrixSeq | 0.105 | 0.000 | 0.105 | |
| aa_phychem_index | 0.087 | 0.006 | 0.092 | |
| aaindex1 | 0.033 | 0.001 | 0.033 | |
| aaindex2 | 0.014 | 0.000 | 0.015 | |
| aaindex3 | 0.009 | 0.000 | 0.010 | |
| aln | 0.050 | 0.004 | 0.054 | |
| aminoacid_dist | 4.426 | 0.877 | 4.774 | |
| as.AutomorphismList | 0.591 | 0.108 | 0.563 | |
| aut3D | 1.374 | 0.312 | 1.491 | |
| autZ125 | 2.487 | 0.808 | 2.511 | |
| autZ5 | 0.961 | 0.283 | 1.051 | |
| autZ64 | 1.771 | 0.354 | 1.925 | |
| autby_coef | 0.294 | 0.019 | 0.313 | |
| autm | 0.036 | 0.004 | 0.040 | |
| autm_3d | 0.046 | 0.006 | 0.052 | |
| autm_z125 | 0.045 | 0.002 | 0.046 | |
| automorphismByRanges | 0.096 | 0.010 | 0.106 | |
| automorphism_bycoef | 0.083 | 0.009 | 0.092 | |
| automorphism_prob | 1.079 | 0.050 | 1.129 | |
| automorphisms | 4.802 | 0.881 | 5.101 | |
| base2codon | 0.055 | 0.002 | 0.057 | |
| base2int | 0.006 | 0.002 | 0.007 | |
| base_methods | 0.388 | 0.034 | 0.422 | |
| brca1_aln | 0.059 | 0.004 | 0.064 | |
| brca1_aln2 | 0.061 | 0.001 | 0.062 | |
| brca1_autm | 0.428 | 0.019 | 0.447 | |
| cdm_z64 | 0.113 | 0.061 | 0.174 | |
| codon_coord | 0.915 | 0.120 | 1.035 | |
| codon_dist | 0.238 | 0.008 | 0.245 | |
| codon_dist_matrix | 1.828 | 0.233 | 2.052 | |
| codon_matrix | 0.606 | 0.064 | 0.671 | |
| conserved_regions | 0.346 | 0.013 | 0.359 | |
| covid_aln | 0.057 | 0.001 | 0.058 | |
| covid_autm | 0.044 | 0.002 | 0.046 | |
| cyc_aln | 0.081 | 0.000 | 0.081 | |
| cyc_autm | 0.066 | 0.002 | 0.068 | |
| dna_phyche | 0.006 | 0.000 | 0.005 | |
| dna_phychem | 0.002 | 0.000 | 0.003 | |
| extract-methods | 0.494 | 0.018 | 0.512 | |
| getAutomorphisms | 0.164 | 0.001 | 0.165 | |
| get_coord | 0.530 | 0.036 | 0.566 | |
| get_mutscore | 0.163 | 0.012 | 0.175 | |
| matrices | 0.513 | 0.047 | 0.560 | |
| mod | 0.001 | 0.000 | 0.001 | |
| modeq | 0.001 | 0.000 | 0.001 | |
| modlineq | 0.002 | 0.000 | 0.003 | |
| mut_type | 0.001 | 0.000 | 0.002 | |
| peptide_phychem_index | 0.107 | 0.007 | 0.114 | |
| reexports | 0.062 | 0.002 | 0.064 | |
| seqranges | 0.531 | 0.001 | 0.531 | |
| slapply | 0.002 | 0.000 | 0.001 | |
| sortByChromAndStart | 0.06 | 0.00 | 0.06 | |
| str2chr | 0 | 0 | 0 | |
| str2dig | 0.001 | 0.000 | 0.000 | |
| translation | 0.763 | 0.000 | 0.763 | |