Back to Multiple platform build/check report for BioC 3.21:   simplified   long
ABCDEF[G]HIJKLMNOPQRSTUVWXYZ

This page was generated on 2025-10-06 11:41 -0400 (Mon, 06 Oct 2025).

HostnameOSArch (*)R versionInstalled pkgs
nebbiolo1Linux (Ubuntu 24.04.3 LTS)x86_644.5.1 (2025-06-13) -- "Great Square Root" 4832
merida1macOS 12.7.5 Montereyx86_644.5.1 RC (2025-06-05 r88288) -- "Great Square Root" 4613
kjohnson1macOS 13.6.6 Venturaarm644.5.1 Patched (2025-06-14 r88325) -- "Great Square Root" 4554
kunpeng2Linux (openEuler 24.03 LTS)aarch64R Under development (unstable) (2025-02-19 r87757) -- "Unsuffered Consequences" 4585
Click on any hostname to see more info about the system (e.g. compilers)      (*) as reported by 'uname -p', except on Windows and Mac OS X

Package 830/2341HostnameOS / ArchINSTALLBUILDCHECKBUILD BIN
GenomAutomorphism 1.10.0  (landing page)
Robersy Sanchez
Snapshot Date: 2025-10-02 13:40 -0400 (Thu, 02 Oct 2025)
git_url: https://git.bioconductor.org/packages/GenomAutomorphism
git_branch: RELEASE_3_21
git_last_commit: bf02d1b
git_last_commit_date: 2025-04-15 12:54:12 -0400 (Tue, 15 Apr 2025)
nebbiolo1Linux (Ubuntu 24.04.3 LTS) / x86_64  OK    OK    OK  UNNEEDED, same version is already published
merida1macOS 12.7.5 Monterey / x86_64  OK    OK    OK    OK  UNNEEDED, same version is already published
kjohnson1macOS 13.6.6 Ventura / arm64  OK    OK    OK    OK  UNNEEDED, same version is already published
kunpeng2Linux (openEuler 24.03 LTS) / aarch64  OK    OK    OK  


CHECK results for GenomAutomorphism on kunpeng2

To the developers/maintainers of the GenomAutomorphism package:
- Allow up to 24 hours (and sometimes 48 hours) for your latest push to git@git.bioconductor.org:packages/GenomAutomorphism.git to reflect on this report. See Troubleshooting Build Report for more information.
- Use the following Renviron settings to reproduce errors and warnings.
- If 'R CMD check' started to fail recently on the Linux builder(s) over a missing dependency, add the missing dependency to 'Suggests:' in your DESCRIPTION file. See Renviron.bioc for more information.
- See Martin Grigorov's blog post for how to debug Linux ARM64 related issues on a x86_64 host.

raw results


Summary

Package: GenomAutomorphism
Version: 1.10.0
Command: /home/biocbuild/R/R/bin/R CMD check --install=check:GenomAutomorphism.install-out.txt --library=/home/biocbuild/R/R/site-library --no-vignettes --timings GenomAutomorphism_1.10.0.tar.gz
StartedAt: 2025-10-03 09:34:21 -0000 (Fri, 03 Oct 2025)
EndedAt: 2025-10-03 09:38:33 -0000 (Fri, 03 Oct 2025)
EllapsedTime: 251.2 seconds
RetCode: 0
Status:   OK  
CheckDir: GenomAutomorphism.Rcheck
Warnings: 0

Command output

##############################################################################
##############################################################################
###
### Running command:
###
###   /home/biocbuild/R/R/bin/R CMD check --install=check:GenomAutomorphism.install-out.txt --library=/home/biocbuild/R/R/site-library --no-vignettes --timings GenomAutomorphism_1.10.0.tar.gz
###
##############################################################################
##############################################################################


* using log directory ‘/home/biocbuild/bbs-3.21-bioc/meat/GenomAutomorphism.Rcheck’
* using R Under development (unstable) (2025-02-19 r87757)
* using platform: aarch64-unknown-linux-gnu
* R was compiled by
    aarch64-unknown-linux-gnu-gcc (GCC) 14.2.0
    GNU Fortran (GCC) 14.2.0
* running under: openEuler 24.03 (LTS-SP1)
* using session charset: UTF-8
* using option ‘--no-vignettes’
* checking for file ‘GenomAutomorphism/DESCRIPTION’ ... OK
* this is package ‘GenomAutomorphism’ version ‘1.10.0’
* package encoding: UTF-8
* checking package namespace information ... OK
* checking package dependencies ... OK
* checking if this is a source package ... OK
* checking if there is a namespace ... OK
* checking for hidden files and directories ... OK
* checking for portable file names ... OK
* checking for sufficient/correct file permissions ... OK
* checking whether package ‘GenomAutomorphism’ can be installed ... OK
* checking installed package size ... OK
* checking package directory ... OK
* checking ‘build’ directory ... OK
* checking DESCRIPTION meta-information ... OK
* checking top-level files ... OK
* checking for left-over files ... OK
* checking index information ... OK
* checking package subdirectories ... OK
* checking code files for non-ASCII characters ... OK
* checking R files for syntax errors ... OK
* checking whether the package can be loaded ... OK
* checking whether the package can be loaded with stated dependencies ... OK
* checking whether the package can be unloaded cleanly ... OK
* checking whether the namespace can be loaded with stated dependencies ... OK
* checking whether the namespace can be unloaded cleanly ... OK
* checking loading without being on the library search path ... OK
* checking dependencies in R code ... OK
* checking S3 generic/method consistency ... OK
* checking replacement functions ... OK
* checking foreign function calls ... OK
* checking R code for possible problems ... OK
* checking Rd files ... OK
* checking Rd metadata ... OK
* checking Rd cross-references ... NOTE
Non-topic package-anchored link(s) in Rd file 'reexports.Rd':
  ‘[S4Vectors:S4Vectors-internals]{setValidity2}’

See section 'Cross-references' in the 'Writing R Extensions' manual.
* checking for missing documentation entries ... OK
* checking for code/documentation mismatches ... OK
* checking Rd \usage sections ... OK
* checking Rd contents ... OK
* checking for unstated dependencies in examples ... OK
* checking contents of ‘data’ directory ... OK
* checking data for non-ASCII characters ... OK
* checking data for ASCII and uncompressed saves ... OK
* checking files in ‘vignettes’ ... OK
* checking examples ... OK
Examples with CPU (user + system) or elapsed time > 5s
                user system elapsed
automorphisms  6.069  1.126   6.477
aminoacid_dist 6.147  1.045   6.614
* checking for unstated dependencies in ‘tests’ ... OK
* checking tests ...
  Running ‘spelling.R’
  Running ‘testthat.R’
 OK
* checking for unstated dependencies in vignettes ... OK
* checking package vignettes ... OK
* checking running R code from vignettes ... SKIPPED
* checking re-building of vignette outputs ... SKIPPED
* checking PDF version of manual ... OK
* DONE

Status: 1 NOTE
See
  ‘/home/biocbuild/bbs-3.21-bioc/meat/GenomAutomorphism.Rcheck/00check.log’
for details.


Installation output

GenomAutomorphism.Rcheck/00install.out

##############################################################################
##############################################################################
###
### Running command:
###
###   /home/biocbuild/R/R/bin/R CMD INSTALL GenomAutomorphism
###
##############################################################################
##############################################################################


* installing to library ‘/home/biocbuild/R/R-devel_2025-02-19/site-library’
* installing *source* package ‘GenomAutomorphism’ ...
** this is package ‘GenomAutomorphism’ version ‘1.10.0’
** using staged installation
** R
** data
** inst
** byte-compile and prepare package for lazy loading
** help
*** installing help indices
*** copying figures
** building package indices
** installing vignettes
** testing if installed package can be loaded from temporary location
** testing if installed package can be loaded from final location
** testing if installed package keeps a record of temporary installation path
* DONE (GenomAutomorphism)

Tests output

GenomAutomorphism.Rcheck/tests/spelling.Rout


R Under development (unstable) (2025-02-19 r87757) -- "Unsuffered Consequences"
Copyright (C) 2025 The R Foundation for Statistical Computing
Platform: aarch64-unknown-linux-gnu

R is free software and comes with ABSOLUTELY NO WARRANTY.
You are welcome to redistribute it under certain conditions.
Type 'license()' or 'licence()' for distribution details.

R is a collaborative project with many contributors.
Type 'contributors()' for more information and
'citation()' on how to cite R or R packages in publications.

Type 'demo()' for some demos, 'help()' for on-line help, or
'help.start()' for an HTML browser interface to help.
Type 'q()' to quit R.

> if (requireNamespace("spelling", quietly = TRUE)) {
+     spelling::spell_check_test(
+         vignettes = TRUE, error = FALSE,
+         skip_on_cran = TRUE
+     )
+ }
NULL
> 
> proc.time()
   user  system elapsed 
  0.193   0.038   0.217 

GenomAutomorphism.Rcheck/tests/testthat.Rout


R Under development (unstable) (2025-02-19 r87757) -- "Unsuffered Consequences"
Copyright (C) 2025 The R Foundation for Statistical Computing
Platform: aarch64-unknown-linux-gnu

R is free software and comes with ABSOLUTELY NO WARRANTY.
You are welcome to redistribute it under certain conditions.
Type 'license()' or 'licence()' for distribution details.

R is a collaborative project with many contributors.
Type 'contributors()' for more information and
'citation()' on how to cite R or R packages in publications.

Type 'demo()' for some demos, 'help()' for on-line help, or
'help.start()' for an HTML browser interface to help.
Type 'q()' to quit R.

> library(testthat)
> library(GenomAutomorphism)
> 
> test_check("GenomAutomorphism")
[ FAIL 0 | WARN 0 | SKIP 0 | PASS 34 ]
> 
> proc.time()
   user  system elapsed 
 29.978   2.774  32.486 

Example timings

GenomAutomorphism.Rcheck/GenomAutomorphism-Ex.timings

nameusersystemelapsed
AutomorphismByCoef0.5750.0000.577
AutomorphismList3.0760.0803.162
CodonMatrix0.2530.0000.253
CodonSeq0.5380.0000.539
GRangesMatrixSeq0.2540.0200.274
ListCodonMatrix0.3540.0120.366
MatrixSeq0.1240.0000.125
aa_phychem_index0.0880.0080.096
aaindex10.0350.0000.035
aaindex20.0150.0000.015
aaindex30.0090.0000.009
aln0.1060.0000.107
aminoacid_dist6.1471.0456.614
as.AutomorphismList0.7740.1290.738
aut3D1.8130.2971.861
autZ1253.2380.8593.156
autZ51.2020.3111.297
autZ642.1860.8542.808
autby_coef0.3920.0520.444
autm0.0660.0160.083
autm_3d0.1130.0040.117
autm_z1250.0930.0040.097
automorphismByRanges0.1520.0360.188
automorphism_bycoef0.1430.0320.176
automorphism_prob1.4040.0311.437
automorphisms6.0691.1266.477
base2codon0.0740.0080.082
base2int0.0070.0040.011
base_methods0.5580.1400.700
brca1_aln0.0850.0110.098
brca1_aln20.0720.0120.085
brca1_autm0.4920.0230.517
cdm_z640.1340.0800.214
codon_coord1.0820.1801.264
codon_dist0.3810.0000.383
codon_dist_matrix2.8380.5753.413
codon_matrix0.8320.1150.951
conserved_regions0.5620.0400.603
covid_aln0.0810.0040.085
covid_autm0.0980.0000.099
cyc_aln0.1260.0040.129
cyc_autm0.1630.0120.175
dna_phyche0.0050.0040.009
dna_phychem0.0040.0000.004
extract-methods0.6150.0190.636
getAutomorphisms0.2530.0040.258
get_coord0.6760.1480.826
get_mutscore0.1960.0040.201
matrices0.6460.0000.648
mod0.0020.0000.002
modeq0.0010.0000.001
modlineq0.0030.0000.003
mut_type0.0020.0000.003
peptide_phychem_index0.1190.0040.123
reexports0.1330.0000.133
seqranges0.7290.0000.730
slapply0.0020.0000.002
sortByChromAndStart0.090.000.09
str2chr000
str2dig0.0010.0000.000
translation1.0140.0001.016