| Back to Multiple platform build/check report for BioC 3.21: simplified long |
|
This page was generated on 2025-10-16 11:41 -0400 (Thu, 16 Oct 2025).
| Hostname | OS | Arch (*) | R version | Installed pkgs |
|---|---|---|---|---|
| nebbiolo1 | Linux (Ubuntu 24.04.3 LTS) | x86_64 | 4.5.1 (2025-06-13) -- "Great Square Root" | 4833 |
| merida1 | macOS 12.7.6 Monterey | x86_64 | 4.5.1 RC (2025-06-05 r88288) -- "Great Square Root" | 4614 |
| kjohnson1 | macOS 13.7.5 Ventura | arm64 | 4.5.1 Patched (2025-06-14 r88325) -- "Great Square Root" | 4555 |
| kunpeng2 | Linux (openEuler 24.03 LTS) | aarch64 | R Under development (unstable) (2025-02-19 r87757) -- "Unsuffered Consequences" | 4586 |
| Click on any hostname to see more info about the system (e.g. compilers) (*) as reported by 'uname -p', except on Windows and Mac OS X | ||||
| Package 814/2341 | Hostname | OS / Arch | INSTALL | BUILD | CHECK | BUILD BIN | ||||||||
| GeneOverlap 1.44.0 (landing page) António Miguel de Jesus Domingues, Max-Planck Institute for Cell Biology and Genetics
| nebbiolo1 | Linux (Ubuntu 24.04.3 LTS) / x86_64 | OK | OK | OK | |||||||||
| merida1 | macOS 12.7.6 Monterey / x86_64 | OK | OK | OK | OK | |||||||||
| kjohnson1 | macOS 13.7.5 Ventura / arm64 | OK | OK | OK | OK | |||||||||
| kunpeng2 | Linux (openEuler 24.03 LTS) / aarch64 | OK | OK | OK | ||||||||||
|
To the developers/maintainers of the GeneOverlap package: - Allow up to 24 hours (and sometimes 48 hours) for your latest push to git@git.bioconductor.org:packages/GeneOverlap.git to reflect on this report. See Troubleshooting Build Report for more information. - Use the following Renviron settings to reproduce errors and warnings. - If 'R CMD check' started to fail recently on the Linux builder(s) over a missing dependency, add the missing dependency to 'Suggests:' in your DESCRIPTION file. See Renviron.bioc for more information. - See Martin Grigorov's blog post for how to debug Linux ARM64 related issues on a x86_64 host. |
| Package: GeneOverlap |
| Version: 1.44.0 |
| Command: /home/biocbuild/R/R/bin/R CMD check --install=check:GeneOverlap.install-out.txt --library=/home/biocbuild/R/R/site-library --no-vignettes --timings GeneOverlap_1.44.0.tar.gz |
| StartedAt: 2025-10-14 09:25:18 -0000 (Tue, 14 Oct 2025) |
| EndedAt: 2025-10-14 09:25:44 -0000 (Tue, 14 Oct 2025) |
| EllapsedTime: 26.0 seconds |
| RetCode: 0 |
| Status: OK |
| CheckDir: GeneOverlap.Rcheck |
| Warnings: 0 |
##############################################################################
##############################################################################
###
### Running command:
###
### /home/biocbuild/R/R/bin/R CMD check --install=check:GeneOverlap.install-out.txt --library=/home/biocbuild/R/R/site-library --no-vignettes --timings GeneOverlap_1.44.0.tar.gz
###
##############################################################################
##############################################################################
* using log directory ‘/home/biocbuild/bbs-3.21-bioc/meat/GeneOverlap.Rcheck’
* using R Under development (unstable) (2025-02-19 r87757)
* using platform: aarch64-unknown-linux-gnu
* R was compiled by
aarch64-unknown-linux-gnu-gcc (GCC) 14.2.0
GNU Fortran (GCC) 14.2.0
* running under: openEuler 24.03 (LTS-SP1)
* using session charset: UTF-8
* using option ‘--no-vignettes’
* checking for file ‘GeneOverlap/DESCRIPTION’ ... OK
* checking extension type ... Package
* this is package ‘GeneOverlap’ version ‘1.44.0’
* checking package namespace information ... OK
* checking package dependencies ... OK
* checking if this is a source package ... OK
* checking if there is a namespace ... OK
* checking for hidden files and directories ... OK
* checking for portable file names ... OK
* checking for sufficient/correct file permissions ... OK
* checking whether package ‘GeneOverlap’ can be installed ... OK
* checking installed package size ... OK
* checking package directory ... OK
* checking ‘build’ directory ... OK
* checking DESCRIPTION meta-information ... OK
* checking top-level files ... OK
* checking for left-over files ... OK
* checking index information ... OK
* checking package subdirectories ... OK
* checking code files for non-ASCII characters ... OK
* checking R files for syntax errors ... OK
* checking whether the package can be loaded ... OK
* checking whether the package can be loaded with stated dependencies ... OK
* checking whether the package can be unloaded cleanly ... OK
* checking whether the namespace can be loaded with stated dependencies ... OK
* checking whether the namespace can be unloaded cleanly ... OK
* checking loading without being on the library search path ... OK
* checking dependencies in R code ... OK
* checking S3 generic/method consistency ... OK
* checking replacement functions ... OK
* checking foreign function calls ... OK
* checking R code for possible problems ... NOTE
drawHeatmap,GeneOverlapMatrix: no visible global function definition
for ‘p.adjust’
print,GeneOverlap: no visible global function definition for ‘head’
testGeneOverlap,GeneOverlap: no visible global function definition for
‘setNames’
Undefined global functions or variables:
head p.adjust setNames
Consider adding
importFrom("stats", "p.adjust", "setNames")
importFrom("utils", "head")
to your NAMESPACE file.
* checking Rd files ... OK
* checking Rd metadata ... OK
* checking Rd cross-references ... OK
* checking for missing documentation entries ... OK
* checking for code/documentation mismatches ... OK
* checking Rd \usage sections ... OK
* checking Rd contents ... OK
* checking for unstated dependencies in examples ... OK
* checking contents of ‘data’ directory ... OK
* checking data for non-ASCII characters ... OK
* checking data for ASCII and uncompressed saves ... OK
* checking files in ‘vignettes’ ... NOTE
The following files look like leftovers/mistakes:
‘Rplots.pdf’
Please remove them from your package.
* checking examples ... OK
* checking for unstated dependencies in ‘tests’ ... OK
* checking tests ...
Running ‘runTests.R’
OK
* checking for unstated dependencies in vignettes ... OK
* checking package vignettes ... OK
* checking running R code from vignettes ... SKIPPED
* checking re-building of vignette outputs ... SKIPPED
* checking PDF version of manual ... OK
* DONE
Status: 2 NOTEs
See
‘/home/biocbuild/bbs-3.21-bioc/meat/GeneOverlap.Rcheck/00check.log’
for details.
GeneOverlap.Rcheck/00install.out
############################################################################## ############################################################################## ### ### Running command: ### ### /home/biocbuild/R/R/bin/R CMD INSTALL GeneOverlap ### ############################################################################## ############################################################################## * installing to library ‘/home/biocbuild/R/R-devel_2025-02-19/site-library’ * installing *source* package ‘GeneOverlap’ ... ** this is package ‘GeneOverlap’ version ‘1.44.0’ ** using staged installation Warning in .write_description(db, file.path(outDir, "DESCRIPTION")) : Unknown encoding with non-ASCII data: converting to ASCII ** R ** data ** inst ** byte-compile and prepare package for lazy loading ** help *** installing help indices ** building package indices ** installing vignettes ** testing if installed package can be loaded from temporary location ** testing if installed package can be loaded from final location ** testing if installed package keeps a record of temporary installation path * DONE (GeneOverlap)
GeneOverlap.Rcheck/tests/runTests.Rout
R Under development (unstable) (2025-02-19 r87757) -- "Unsuffered Consequences"
Copyright (C) 2025 The R Foundation for Statistical Computing
Platform: aarch64-unknown-linux-gnu
R is free software and comes with ABSOLUTELY NO WARRANTY.
You are welcome to redistribute it under certain conditions.
Type 'license()' or 'licence()' for distribution details.
R is a collaborative project with many contributors.
Type 'contributors()' for more information and
'citation()' on how to cite R or R packages in publications.
Type 'demo()' for some demos, 'help()' for on-line help, or
'help.start()' for an HTML browser interface to help.
Type 'q()' to quit R.
> BiocGenerics:::testPackage("GeneOverlap")
RUNIT TEST PROTOCOL -- Tue Oct 14 09:25:41 2025
***********************************************
Number of test functions: 2
Number of errors: 0
Number of failures: 0
1 Test Suite :
GeneOverlap RUnit Tests - 2 test functions, 0 errors, 0 failures
Number of test functions: 2
Number of errors: 0
Number of failures: 0
Warning messages:
1: In getPval(go.obj) : Test has not been performed yet.
2: In getOddsRatio(go.obj) : Test has not been performed yet.
>
> proc.time()
user system elapsed
0.557 0.025 0.570
GeneOverlap.Rcheck/GeneOverlap-Ex.timings
| name | user | system | elapsed | |
| GeneOverlap | 0.058 | 0.000 | 0.058 | |
| GeneOverlapMatrix | 0.236 | 0.020 | 0.255 | |
| drawHeatmap | 0.117 | 0.000 | 0.117 | |
| getGenomeSize | 0.082 | 0.000 | 0.083 | |
| getList | 0.042 | 0.000 | 0.043 | |
| getReadonly | 0.039 | 0.000 | 0.040 | |
| getReadonlyMatrix | 0.209 | 0.003 | 0.213 | |
| gs.RNASeq | 0.026 | 0.000 | 0.026 | |
| hESC.ChIPSeq.list | 0.03 | 0.00 | 0.03 | |
| hESC.RNASeq.list | 0.097 | 0.000 | 0.096 | |
| newGOM | 0.264 | 0.011 | 0.276 | |
| newGeneOverlap | 0.033 | 0.000 | 0.033 | |
| testGeneOverlap | 0.037 | 0.004 | 0.041 | |