| Back to Multiple platform build/check report for BioC 3.21: simplified long | 
 | 
This page was generated on 2025-08-18 11:41 -0400 (Mon, 18 Aug 2025).
| Hostname | OS | Arch (*) | R version | Installed pkgs | 
|---|---|---|---|---|
| nebbiolo1 | Linux (Ubuntu 24.04.3 LTS) | x86_64 | 4.5.1 (2025-06-13) -- "Great Square Root" | 4824 | 
| palomino7 | Windows Server 2022 Datacenter | x64 | 4.5.1 (2025-06-13 ucrt) -- "Great Square Root" | 4566 | 
| merida1 | macOS 12.7.5 Monterey | x86_64 | 4.5.1 RC (2025-06-05 r88288) -- "Great Square Root" | 4604 | 
| kjohnson1 | macOS 13.6.6 Ventura | arm64 | 4.5.1 Patched (2025-06-14 r88325) -- "Great Square Root" | 4545 | 
| kunpeng2 | Linux (openEuler 24.03 LTS) | aarch64 | R Under development (unstable) (2025-02-19 r87757) -- "Unsuffered Consequences" | 4579 | 
| Click on any hostname to see more info about the system (e.g. compilers) (*) as reported by 'uname -p', except on Windows and Mac OS X | ||||
| Package 827/2341 | Hostname | OS / Arch | INSTALL | BUILD | CHECK | BUILD BIN | ||||||||
| GENIE3 1.30.0  (landing page) Van Anh Huynh-Thu 
 | nebbiolo1 | Linux (Ubuntu 24.04.3 LTS) / x86_64 | OK | OK | OK |  | ||||||||
| palomino7 | Windows Server 2022 Datacenter / x64 | OK | OK | OK | OK |  | ||||||||
| merida1 | macOS 12.7.5 Monterey / x86_64 | OK | OK | OK | OK |  | ||||||||
| kjohnson1 | macOS 13.6.6 Ventura / arm64 | OK | OK | OK | OK |  | ||||||||
| kunpeng2 | Linux (openEuler 24.03 LTS) / aarch64 | OK | OK | OK | ||||||||||
| To the developers/maintainers of the GENIE3 package: - Allow up to 24 hours (and sometimes 48 hours) for your latest push to git@git.bioconductor.org:packages/GENIE3.git to reflect on this report. See Troubleshooting Build Report for more information. - Use the following Renviron settings to reproduce errors and warnings. - If 'R CMD check' started to fail recently on the Linux builder(s) over a missing dependency, add the missing dependency to 'Suggests:' in your DESCRIPTION file. See Renviron.bioc for more information. | 
| Package: GENIE3 | 
| Version: 1.30.0 | 
| Command: rm -rf GENIE3.buildbin-libdir && mkdir GENIE3.buildbin-libdir && E:\biocbuild\bbs-3.21-bioc\R\bin\R.exe CMD INSTALL --build --library=GENIE3.buildbin-libdir GENIE3_1.30.0.tar.gz | 
| StartedAt: 2025-08-15 09:21:29 -0400 (Fri, 15 Aug 2025) | 
| EndedAt: 2025-08-15 09:21:42 -0400 (Fri, 15 Aug 2025) | 
| EllapsedTime: 13.0 seconds | 
| RetCode: 0 | 
| Status: OK | 
| PackageFile: GENIE3_1.30.0.zip | 
| PackageFileSize: 267.6 KiB | 
##############################################################################
##############################################################################
###
### Running command:
###
###   rm -rf GENIE3.buildbin-libdir && mkdir GENIE3.buildbin-libdir && E:\biocbuild\bbs-3.21-bioc\R\bin\R.exe CMD INSTALL --build --library=GENIE3.buildbin-libdir GENIE3_1.30.0.tar.gz
###
##############################################################################
##############################################################################
* installing *source* package 'GENIE3' ...
** this is package 'GENIE3' version '1.30.0'
** using staged installation
** libs
using C compiler: 'gcc.exe (GCC) 14.2.0'
gcc  -I"E:/biocbuild/bbs-3.21-bioc/R/include" -DNDEBUG     -I"C:/rtools45/x86_64-w64-mingw32.static.posix/include"      -O2 -Wall -std=gnu2x  -mfpmath=sse -msse2 -mstackrealign   -c GENIE3.c -o GENIE3.o
GENIE3.c: In function 'find_the_best_threshold_multiregr':
GENIE3.c:1370:27: warning: 'best_info' may be used uninitialized [-Wmaybe-uninitialized]
 1370 |     current_threshold_info=best_info;
      |     ~~~~~~~~~~~~~~~~~~~~~~^~~~~~~~~~
GENIE3.c:1328:31: note: 'best_info' was declared here
 1328 |   SCORE_TYPE best_score=-1.0, best_info, current_score, w;
      |                               ^~~~~~~~~
GENIE3.c:1368:24: warning: 'best_threshold' may be used uninitialized [-Wmaybe-uninitialized]
 1368 |     current_threshold.f=best_threshold;
      |     ~~~~~~~~~~~~~~~~~~~^~~~~~~~~~~~~~~
GENIE3.c:1329:9: note: 'best_threshold' was declared here
 1329 |   float best_threshold;
      |         ^~~~~~~~~~~~~~
GENIE3.c: In function 'build_one_tree_ensemble':
GENIE3.c:1052:7: warning: 'fp' may be used uninitialized [-Wmaybe-uninitialized]
 1052 |       write_one_tree(current_tree, fp);
      |       ^~~~~~~~~~~~~~~~~~~~~~~~~~~~~~~~
GENIE3.c:987:9: note: 'fp' was declared here
  987 |   FILE *fp;
      |         ^~
GENIE3.c: In function 'find_the_best_threshold_symb_multiregr':
GENIE3.c:1466:27: warning: 'best_info' may be used uninitialized [-Wmaybe-uninitialized]
 1466 |     current_threshold_info=best_info;
      |     ~~~~~~~~~~~~~~~~~~~~~~^~~~~~~~~~
GENIE3.c:1412:31: note: 'best_info' was declared here
 1412 |   SCORE_TYPE best_score=-1.0, best_info, current_score;
      |                               ^~~~~~~~~
GENIE3.c: In function 'compute_ltrees_variable_importance_multiregr_separate':
GENIE3.c:1753:6: warning: 'flag_continue' may be used uninitialized [-Wmaybe-uninitialized]
 1753 |   if (flag_continue == 1) {
      |      ^
GENIE3.c:1725:7: note: 'flag_continue' was declared here
 1725 |   int flag_continue;
      |       ^~~~~~~~~~~~~
gcc -shared -s -static-libgcc -o GENIE3.dll tmp.def GENIE3.o -LC:/rtools45/x86_64-w64-mingw32.static.posix/lib/x64 -LC:/rtools45/x86_64-w64-mingw32.static.posix/lib -LE:/biocbuild/bbs-3.21-bioc/R/bin/x64 -lR
installing to E:/biocbuild/bbs-3.21-bioc/meat/GENIE3.buildbin-libdir/00LOCK-GENIE3/00new/GENIE3/libs/x64
** R
** inst
** byte-compile and prepare package for lazy loading
in method for 'GENIE3' with signature '"SummarizedExperiment"': no definition for class "SummarizedExperiment"
in method for 'GENIE3' with signature '"ExpressionSet"': no definition for class "ExpressionSet"
** help
*** installing help indices
** building package indices
** installing vignettes
** testing if installed package can be loaded from temporary location
** testing if installed package can be loaded from final location
** testing if installed package keeps a record of temporary installation path
* MD5 sums
packaged installation of 'GENIE3' as GENIE3_1.30.0.zip
* DONE (GENIE3)