Back to Multiple platform build/check report for BioC 3.22:   simplified   long
ABCDEF[G]HIJKLMNOPQRSTUVWXYZ

This page was generated on 2025-11-20 12:06 -0500 (Thu, 20 Nov 2025).

HostnameOSArch (*)R versionInstalled pkgs
nebbiolo2Linux (Ubuntu 24.04.3 LTS)x86_644.5.2 (2025-10-31) -- "[Not] Part in a Rumble" 4615
merida1macOS 12.7.6 Montereyx86_644.5.2 Patched (2025-11-05 r88990) -- "[Not] Part in a Rumble" 4610
kjohnson1macOS 13.7.5 Venturaarm644.5.2 Patched (2025-11-04 r88984) -- "[Not] Part in a Rumble" 4598
taishanLinux (openEuler 24.03 LTS)aarch644.5.0 (2025-04-11) -- "How About a Twenty-Six" 4668
Click on any hostname to see more info about the system (e.g. compilers)      (*) as reported by 'uname -p', except on Windows and Mac OS X

Package 830/2361HostnameOS / ArchINSTALLBUILDCHECKBUILD BIN
GENESIS 2.40.0  (landing page)
Stephanie M. Gogarten
Snapshot Date: 2025-11-17 13:45 -0500 (Mon, 17 Nov 2025)
git_url: https://git.bioconductor.org/packages/GENESIS
git_branch: RELEASE_3_22
git_last_commit: 3637b1b
git_last_commit_date: 2025-10-29 10:24:42 -0500 (Wed, 29 Oct 2025)
nebbiolo2Linux (Ubuntu 24.04.3 LTS) / x86_64  OK    OK    OK  UNNEEDED, same version is already published
merida1macOS 12.7.6 Monterey / x86_64  OK    OK    OK    OK  UNNEEDED, same version is already published
kjohnson1macOS 13.7.5 Ventura / arm64  OK    OK    ERROR    OK  
taishanLinux (openEuler 24.03 LTS) / aarch64  OK    OK    OK  


CHECK results for GENESIS on kjohnson1

To the developers/maintainers of the GENESIS package:
- Allow up to 24 hours (and sometimes 48 hours) for your latest push to git@git.bioconductor.org:packages/GENESIS.git to reflect on this report. See Troubleshooting Build Report for more information.
- Use the following Renviron settings to reproduce errors and warnings.
- If 'R CMD check' started to fail recently on the Linux builder(s) over a missing dependency, add the missing dependency to 'Suggests:' in your DESCRIPTION file. See Renviron.bioc for more information.

raw results


Summary

Package: GENESIS
Version: 2.40.0
Command: /Library/Frameworks/R.framework/Resources/bin/R CMD check --install=check:GENESIS.install-out.txt --library=/Library/Frameworks/R.framework/Resources/library --no-vignettes --timings GENESIS_2.40.0.tar.gz
StartedAt: 2025-11-18 06:51:20 -0500 (Tue, 18 Nov 2025)
EndedAt: 2025-11-18 06:53:56 -0500 (Tue, 18 Nov 2025)
EllapsedTime: 156.3 seconds
RetCode: 1
Status:   ERROR  
CheckDir: GENESIS.Rcheck
Warnings: NA

Command output

##############################################################################
##############################################################################
###
### Running command:
###
###   /Library/Frameworks/R.framework/Resources/bin/R CMD check --install=check:GENESIS.install-out.txt --library=/Library/Frameworks/R.framework/Resources/library --no-vignettes --timings GENESIS_2.40.0.tar.gz
###
##############################################################################
##############################################################################


* using log directory ‘/Users/biocbuild/bbs-3.22-bioc/meat/GENESIS.Rcheck’
* using R version 4.5.2 Patched (2025-11-04 r88984)
* using platform: aarch64-apple-darwin20
* R was compiled by
    Apple clang version 16.0.0 (clang-1600.0.26.6)
    GNU Fortran (GCC) 14.2.0
* running under: macOS Ventura 13.7.8
* using session charset: UTF-8
* using option ‘--no-vignettes’
* checking for file ‘GENESIS/DESCRIPTION’ ... OK
* checking extension type ... Package
* this is package ‘GENESIS’ version ‘2.40.0’
* checking package namespace information ... OK
* checking package dependencies ... OK
* checking if this is a source package ... OK
* checking if there is a namespace ... OK
* checking for hidden files and directories ... OK
* checking for portable file names ... OK
* checking for sufficient/correct file permissions ... OK
* checking whether package ‘GENESIS’ can be installed ... OK
* used C compiler: ‘Apple clang version 15.0.0 (clang-1500.0.40.1)’
* used SDK: ‘MacOSX11.3.1.sdk’
* checking installed package size ... OK
* checking package directory ... OK
* checking ‘build’ directory ... OK
* checking DESCRIPTION meta-information ... OK
* checking top-level files ... OK
* checking for left-over files ... OK
* checking index information ... OK
* checking package subdirectories ... OK
* checking code files for non-ASCII characters ... OK
* checking R files for syntax errors ... OK
* checking whether the package can be loaded ... OK
* checking whether the package can be loaded with stated dependencies ... OK
* checking whether the package can be unloaded cleanly ... OK
* checking whether the namespace can be loaded with stated dependencies ... OK
* checking whether the namespace can be unloaded cleanly ... OK
* checking dependencies in R code ... NOTE
Unexported object imported by a ':::' call: ‘survey:::saddle’
  See the note in ?`:::` about the use of this operator.
* checking S3 generic/method consistency ... OK
* checking replacement functions ... OK
* checking foreign function calls ... OK
* checking R code for possible problems ... OK
* checking Rd files ... NOTE
checkRd: (-1) sample_annotation_1KG.Rd:14: Lost braces in \itemize; meant \describe ?
checkRd: (-1) sample_annotation_1KG.Rd:15: Lost braces in \itemize; meant \describe ?
checkRd: (-1) sample_annotation_1KG.Rd:16: Lost braces in \itemize; meant \describe ?
* checking Rd metadata ... OK
* checking Rd cross-references ... NOTE
Found the following Rd file(s) with Rd \link{} targets missing package
anchors:
  admixMap.Rd: GenotypeIterator, SeqVarIterator, BiocParallelParam,
    bpparam, BiocParallel
  assocTestAggregate.Rd: SeqVarIterator, SeqVarTools, mcols, GRanges,
    GRangesList, BiocParallelParam, bpparam, BiocParallel,
    GenotypeIterator, SeqVarWindowIterator
  assocTestSingle.Rd: SeqVarIterator, SeqVarTools, GenotypeIterator,
    GWASTools, BiocParallelParam, bpparam, BiocParallel,
    GdsGenotypeReader, MatrixGenotypeReader, NcdfGenotypeReader
  effectAllele.Rd: SeqVarIterator, SeqVarTools, GenotypeIterator,
    GWASTools
  fitNullModel.Rd: AnnotatedDataFrame, SeqVarData, Matrix
  jointScoreTest.Rd: GenotypeData, SeqVarData
  kingToMatrix.Rd: snpgdsIBDKING
  pcair.Rd: snpgdsPCA, MatrixGenotypeReader, GenotypeData,
    GdsGenotypeReader
  pcairPartition.Rd: Matrix
  pcrelate.Rd: SeqVarIterator, SeqVarTools, GenotypeIterator,
    GWASTools, BiocParallelParam, bpparam, BiocParallel
Please provide package anchors for all Rd \link{} targets not in the
package itself and the base packages.
* checking for missing documentation entries ... OK
* checking for code/documentation mismatches ... OK
* checking Rd \usage sections ... OK
* checking Rd contents ... OK
* checking for unstated dependencies in examples ... OK
* checking contents of ‘data’ directory ... OK
* checking data for non-ASCII characters ... OK
* checking data for ASCII and uncompressed saves ... OK
* checking line endings in C/C++/Fortran sources/headers ... OK
* checking compiled code ... NOTE
Note: information on .o files is not available
* checking files in ‘vignettes’ ... OK
* checking examples ... OK
* checking for unstated dependencies in ‘tests’ ... OK
* checking tests ...
  Running ‘testthat.R’
 ERROR
Running the tests in ‘tests/testthat.R’ failed.
Last 13 lines of output:
    6.       └─BiocParallel (local) .local(ITER, FUN, ..., BPREDO = BPREDO, BPPARAM = BPPARAM, BPOPTIONS = BPOPTIONS)
    7.         └─BiocParallel:::.bpinit(...)
    8.           ├─BiocParallel::bploop(...)
    9.           └─BiocParallel:::bploop.iterate(...)
   10.             └─BiocParallel:::.bploop_impl(...)
   11.               └─BiocParallel:::.collect_result(manager, reducer, progress, BPPARAM)
   12.                 ├─BiocParallel:::.reducer_add(reducer, njob, value)
   13.                 └─BiocParallel:::.reducer_add(reducer, njob, value)
   14.                   ├─BiocParallel:::.map_index(reducer, idx)
   15.                   └─BiocParallel:::.map_index(reducer, idx)
  
  [ FAIL 1 | WARN 4 | SKIP 0 | PASS 702 ]
  Error:
  ! Test failures.
  Execution halted
* checking for unstated dependencies in vignettes ... OK
* checking package vignettes ... OK
* checking running R code from vignettes ... SKIPPED
* checking re-building of vignette outputs ... SKIPPED
* checking PDF version of manual ... OK
* DONE

Status: 1 ERROR, 4 NOTEs
See
  ‘/Users/biocbuild/bbs-3.22-bioc/meat/GENESIS.Rcheck/00check.log’
for details.


Installation output

GENESIS.Rcheck/00install.out

##############################################################################
##############################################################################
###
### Running command:
###
###   /Library/Frameworks/R.framework/Resources/bin/R CMD INSTALL GENESIS
###
##############################################################################
##############################################################################


* installing to library ‘/Library/Frameworks/R.framework/Versions/4.5-arm64/Resources/library’
* installing *source* package ‘GENESIS’ ...
** this is package ‘GENESIS’ version ‘2.40.0’
** using staged installation
** libs
using C compiler: ‘Apple clang version 15.0.0 (clang-1500.0.40.1)’
using SDK: ‘MacOSX11.3.1.sdk’
clang -arch arm64 -std=gnu2x -I"/Library/Frameworks/R.framework/Resources/include" -DNDEBUG   -I/opt/R/arm64/include    -fPIC  -falign-functions=64 -Wall -g -O2  -c fht.c -o fht.o
clang -arch arm64 -std=gnu2x -dynamiclib -Wl,-headerpad_max_install_names -undefined dynamic_lookup -L/Library/Frameworks/R.framework/Resources/lib -L/opt/R/arm64/lib -o GENESIS.so fht.o -F/Library/Frameworks/R.framework/.. -framework R
installing to /Library/Frameworks/R.framework/Versions/4.5-arm64/Resources/library/00LOCK-GENESIS/00new/GENESIS/libs
** R
** data
** inst
** byte-compile and prepare package for lazy loading
** help
*** installing help indices
** building package indices
** installing vignettes
** testing if installed package can be loaded from temporary location
** checking absolute paths in shared objects and dynamic libraries
** testing if installed package can be loaded from final location
** testing if installed package keeps a record of temporary installation path
* DONE (GENESIS)

Tests output

GENESIS.Rcheck/tests/testthat.Rout.fail


R version 4.5.2 Patched (2025-11-04 r88984) -- "[Not] Part in a Rumble"
Copyright (C) 2025 The R Foundation for Statistical Computing
Platform: aarch64-apple-darwin20

R is free software and comes with ABSOLUTELY NO WARRANTY.
You are welcome to redistribute it under certain conditions.
Type 'license()' or 'licence()' for distribution details.

R is a collaborative project with many contributors.
Type 'contributors()' for more information and
'citation()' on how to cite R or R packages in publications.

Type 'demo()' for some demos, 'help()' for on-line help, or
'help.start()' for an HTML browser interface to help.
Type 'q()' to quit R.

> library(testthat)
> library(GENESIS)
> 
> test_check("GENESIS")
Saving _problems/test_assoc_parallel-25.R
# of selected variants: 10
[ FAIL 1 | WARN 4 | SKIP 0 | PASS 702 ]

══ Failed tests ════════════════════════════════════════════════════════════════
── Error ('test_assoc_parallel.R:25:5'): assocTestSingle - GenotypeIterator ────
Error in `if (idx <= length(redo.index)) idx <- redo.index[idx] else idx <- idx - length(redo.index) + reducer$appending.offset`: argument is of length zero
Backtrace:
     ▆
  1. ├─GENESIS::assocTestSingle(...) at test_assoc_parallel.R:25:5
  2. └─GENESIS::assocTestSingle(...)
  3.   └─GENESIS (local) .local(gdsobj, ...)
  4.     ├─BiocParallel::bpiterate(...)
  5.     └─BiocParallel::bpiterate(...)
  6.       └─BiocParallel (local) .local(ITER, FUN, ..., BPREDO = BPREDO, BPPARAM = BPPARAM, BPOPTIONS = BPOPTIONS)
  7.         └─BiocParallel:::.bpinit(...)
  8.           ├─BiocParallel::bploop(...)
  9.           └─BiocParallel:::bploop.iterate(...)
 10.             └─BiocParallel:::.bploop_impl(...)
 11.               └─BiocParallel:::.collect_result(manager, reducer, progress, BPPARAM)
 12.                 ├─BiocParallel:::.reducer_add(reducer, njob, value)
 13.                 └─BiocParallel:::.reducer_add(reducer, njob, value)
 14.                   ├─BiocParallel:::.map_index(reducer, idx)
 15.                   └─BiocParallel:::.map_index(reducer, idx)

[ FAIL 1 | WARN 4 | SKIP 0 | PASS 702 ]
Error:
! Test failures.
Execution halted

Example timings

GENESIS.Rcheck/GENESIS-Ex.timings

nameusersystemelapsed
admixMap0.4680.0220.563
assocTestAggregate1.1130.0301.408
assocTestSingle0.9630.0651.118
computeVSIF0.0300.0020.031
effectAllele1.1900.0931.381
fitNullModel2.3310.2852.847
jointScoreTest0.0300.0030.033
kin2gds0.1940.0150.251
kingToMatrix0.1570.0080.192
pcair0.1980.0050.214
pcairPartition0.0110.0020.015
pcrelate1.1360.1661.445
plot.pcair0.2220.0090.238
print.pcair0.1980.0050.207
varCompCI2.0540.2022.500