| Back to Multiple platform build/check report for BioC 3.22: simplified long |
|
This page was generated on 2025-11-24 12:03 -0500 (Mon, 24 Nov 2025).
| Hostname | OS | Arch (*) | R version | Installed pkgs |
|---|---|---|---|---|
| nebbiolo2 | Linux (Ubuntu 24.04.3 LTS) | x86_64 | 4.5.2 (2025-10-31) -- "[Not] Part in a Rumble" | 4873 |
| merida1 | macOS 12.7.6 Monterey | x86_64 | 4.5.2 Patched (2025-11-05 r88990) -- "[Not] Part in a Rumble" | 4654 |
| kjohnson1 | macOS 13.7.5 Ventura | arm64 | 4.5.2 Patched (2025-11-04 r88984) -- "[Not] Part in a Rumble" | 4600 |
| taishan | Linux (openEuler 24.03 LTS) | aarch64 | 4.5.0 (2025-04-11) -- "How About a Twenty-Six" | 4668 |
| Click on any hostname to see more info about the system (e.g. compilers) (*) as reported by 'uname -p', except on Windows and Mac OS X | ||||
| Package 765/2361 | Hostname | OS / Arch | INSTALL | BUILD | CHECK | BUILD BIN | ||||||||
| FlowSOM 2.18.0 (landing page) Sofie Van Gassen
| nebbiolo2 | Linux (Ubuntu 24.04.3 LTS) / x86_64 | OK | OK | OK | |||||||||
| merida1 | macOS 12.7.6 Monterey / x86_64 | OK | OK | OK | OK | |||||||||
| kjohnson1 | macOS 13.7.5 Ventura / arm64 | OK | OK | OK | OK | |||||||||
| taishan | Linux (openEuler 24.03 LTS) / aarch64 | OK | OK | OK | ||||||||||
|
To the developers/maintainers of the FlowSOM package: - Allow up to 24 hours (and sometimes 48 hours) for your latest push to git@git.bioconductor.org:packages/FlowSOM.git to reflect on this report. See Troubleshooting Build Report for more information. - Use the following Renviron settings to reproduce errors and warnings. - If 'R CMD check' started to fail recently on the Linux builder(s) over a missing dependency, add the missing dependency to 'Suggests:' in your DESCRIPTION file. See Renviron.bioc for more information. |
| Package: FlowSOM |
| Version: 2.18.0 |
| Command: /home/biocbuild/bbs-3.22-bioc/R/bin/R CMD check --install=check:FlowSOM.install-out.txt --library=/home/biocbuild/bbs-3.22-bioc/R/site-library --timings FlowSOM_2.18.0.tar.gz |
| StartedAt: 2025-11-21 00:28:14 -0500 (Fri, 21 Nov 2025) |
| EndedAt: 2025-11-21 00:38:05 -0500 (Fri, 21 Nov 2025) |
| EllapsedTime: 590.7 seconds |
| RetCode: 0 |
| Status: OK |
| CheckDir: FlowSOM.Rcheck |
| Warnings: 0 |
##############################################################################
##############################################################################
###
### Running command:
###
### /home/biocbuild/bbs-3.22-bioc/R/bin/R CMD check --install=check:FlowSOM.install-out.txt --library=/home/biocbuild/bbs-3.22-bioc/R/site-library --timings FlowSOM_2.18.0.tar.gz
###
##############################################################################
##############################################################################
* using log directory ‘/home/biocbuild/bbs-3.22-bioc/meat/FlowSOM.Rcheck’
* using R version 4.5.2 (2025-10-31)
* using platform: x86_64-pc-linux-gnu
* R was compiled by
gcc (Ubuntu 13.3.0-6ubuntu2~24.04) 13.3.0
GNU Fortran (Ubuntu 13.3.0-6ubuntu2~24.04) 13.3.0
* running under: Ubuntu 24.04.3 LTS
* using session charset: UTF-8
* checking for file ‘FlowSOM/DESCRIPTION’ ... OK
* this is package ‘FlowSOM’ version ‘2.18.0’
* package encoding: UTF-8
* checking package namespace information ... OK
* checking package dependencies ... OK
* checking if this is a source package ... OK
* checking if there is a namespace ... OK
* checking for hidden files and directories ... OK
* checking for portable file names ... OK
* checking for sufficient/correct file permissions ... OK
* checking whether package ‘FlowSOM’ can be installed ... OK
* used C compiler: ‘gcc (Ubuntu 13.3.0-6ubuntu2~24.04) 13.3.0’
* checking installed package size ... OK
* checking package directory ... OK
* checking ‘build’ directory ... OK
* checking DESCRIPTION meta-information ... OK
* checking top-level files ... OK
* checking for left-over files ... OK
* checking index information ... OK
* checking package subdirectories ... OK
* checking code files for non-ASCII characters ... OK
* checking R files for syntax errors ... OK
* checking whether the package can be loaded ... OK
* checking whether the package can be loaded with stated dependencies ... OK
* checking whether the package can be unloaded cleanly ... OK
* checking whether the namespace can be loaded with stated dependencies ... OK
* checking whether the namespace can be unloaded cleanly ... OK
* checking loading without being on the library search path ... OK
* checking whether startup messages can be suppressed ... OK
* checking dependencies in R code ... OK
* checking S3 generic/method consistency ... OK
* checking replacement functions ... OK
* checking foreign function calls ... OK
* checking R code for possible problems ... OK
* checking Rd files ... NOTE
checkRd: (-1) PlotDimRed.Rd:55: Lost braces
55 | of the dimred default = function(dimred){dimred$Y}.}
| ^
* checking Rd metadata ... OK
* checking Rd cross-references ... NOTE
Non-topic package-anchored link(s) in Rd file 'pipe.Rd':
‘[magrittr:pipe]{%>%}’
See section 'Cross-references' in the 'Writing R Extensions' manual.
* checking for missing documentation entries ... OK
* checking for code/documentation mismatches ... OK
* checking Rd \usage sections ... OK
* checking Rd contents ... OK
* checking for unstated dependencies in examples ... OK
* checking line endings in C/C++/Fortran sources/headers ... OK
* checking compiled code ... NOTE
Note: information on .o files is not available
* checking files in ‘vignettes’ ... OK
* checking examples ... OK
Examples with CPU (user + system) or elapsed time > 5s
user system elapsed
FlowSOMmary 49.866 0.875 50.531
PlotDimRed 43.942 0.198 44.084
PlotOutliers 29.178 0.020 29.198
PlotMarker 16.993 0.085 17.079
UpdateMetaclusters 15.220 0.020 15.240
PlotStars 14.116 0.017 14.133
GroupStats 11.918 0.062 11.981
FlowSOM 11.042 0.035 11.079
PlotGroups 10.268 0.040 10.309
Plot2DScatters 9.700 0.027 9.717
QueryMultiple 9.375 0.003 9.378
query_multiple 9.144 0.008 9.153
AddAnnotation 8.374 0.190 8.565
PlotManualBars 7.673 0.007 7.681
QueryStarPlot 7.123 0.006 7.129
GetFlowJoLabels 6.976 0.084 7.064
PlotNode 6.768 0.024 6.793
PlotNumbers 6.443 0.011 6.455
PlotVariable 6.393 0.018 6.413
PlotPies 6.390 0.015 6.405
PlotFlowSOM 5.643 0.087 5.731
UpdateNodeSize 5.661 0.016 5.676
PlotOverview2D 5.320 0.074 5.394
SaveClustersToFCS 5.284 0.017 5.302
GetFeatures 5.070 0.026 5.097
CountGroups 4.977 0.070 5.047
PlotLabels 4.993 0.009 5.002
* checking for unstated dependencies in vignettes ... OK
* checking package vignettes ... OK
* checking re-building of vignette outputs ... OK
* checking PDF version of manual ... OK
* DONE
Status: 3 NOTEs
See
‘/home/biocbuild/bbs-3.22-bioc/meat/FlowSOM.Rcheck/00check.log’
for details.
FlowSOM.Rcheck/00install.out
############################################################################## ############################################################################## ### ### Running command: ### ### /home/biocbuild/bbs-3.22-bioc/R/bin/R CMD INSTALL FlowSOM ### ############################################################################## ############################################################################## * installing to library ‘/home/biocbuild/bbs-3.22-bioc/R/site-library’ * installing *source* package ‘FlowSOM’ ... ** this is package ‘FlowSOM’ version ‘2.18.0’ ** using staged installation ** libs using C compiler: ‘gcc (Ubuntu 13.3.0-6ubuntu2~24.04) 13.3.0’ gcc -std=gnu2x -I"/home/biocbuild/bbs-3.22-bioc/R/include" -DNDEBUG -I/usr/local/include -fpic -g -O2 -Wall -Werror=format-security -c som.c -o som.o gcc -std=gnu2x -shared -L/home/biocbuild/bbs-3.22-bioc/R/lib -L/usr/local/lib -o FlowSOM.so som.o -L/home/biocbuild/bbs-3.22-bioc/R/lib -lR installing to /home/biocbuild/bbs-3.22-bioc/R/site-library/00LOCK-FlowSOM/00new/FlowSOM/libs ** R ** inst ** byte-compile and prepare package for lazy loading ** help *** installing help indices ** building package indices ** installing vignettes ** testing if installed package can be loaded from temporary location ** checking absolute paths in shared objects and dynamic libraries ** testing if installed package can be loaded from final location ** testing if installed package keeps a record of temporary installation path * DONE (FlowSOM)
FlowSOM.Rcheck/FlowSOM-Ex.timings
| name | user | system | elapsed | |
| AddAnnotation | 8.374 | 0.190 | 8.565 | |
| AggregateFlowFrames | 0.068 | 0.010 | 0.078 | |
| BuildMST | 1.251 | 0.030 | 1.281 | |
| BuildSOM | 0.993 | 0.007 | 1.002 | |
| CountGroups | 4.977 | 0.070 | 5.047 | |
| FMeasure | 0.002 | 0.000 | 0.002 | |
| FlowSOM | 11.042 | 0.035 | 11.079 | |
| FlowSOMSubset | 4.104 | 0.011 | 4.116 | |
| FlowSOMmary | 49.866 | 0.875 | 50.531 | |
| GetChannels | 0.027 | 0.000 | 0.027 | |
| GetClusterMFIs | 4.106 | 0.138 | 4.244 | |
| GetClusterPercentagesPositive | 3.815 | 0.030 | 3.845 | |
| GetClusters | 3.818 | 0.041 | 3.859 | |
| GetCounts | 3.924 | 0.018 | 3.942 | |
| GetFeatures | 5.070 | 0.026 | 5.097 | |
| GetFlowJoLabels | 6.976 | 0.084 | 7.064 | |
| GetMFIs | 4.091 | 0.016 | 4.108 | |
| GetMarkers | 0.026 | 0.000 | 0.027 | |
| GetMetaclusterCVs | 3.988 | 0.007 | 3.996 | |
| GetMetaclusterMFIs | 4.146 | 0.009 | 4.156 | |
| GetMetaclusterPercentagesPositive | 4.655 | 0.029 | 4.685 | |
| GetMetaclusters | 4.045 | 0.027 | 4.072 | |
| GetPercentages | 4.140 | 0.014 | 4.164 | |
| GroupStats | 11.918 | 0.062 | 11.981 | |
| Initialize_KWSP | 0.003 | 0.000 | 0.004 | |
| Initialize_PCA | 0.001 | 0.000 | 0.001 | |
| MetaClustering | 3.062 | 0.033 | 3.096 | |
| MetaclusterCVs | 4.071 | 0.075 | 4.146 | |
| MetaclusterMFIs | 4.653 | 0.013 | 4.667 | |
| NClusters | 4.792 | 0.025 | 4.818 | |
| NMetaclusters | 4.920 | 0.016 | 4.938 | |
| NewData | 3.959 | 0.007 | 3.967 | |
| Plot2DScatters | 9.700 | 0.027 | 9.717 | |
| PlotCenters | 1.031 | 0.001 | 1.032 | |
| PlotClusters2D | 0.974 | 0.005 | 0.979 | |
| PlotDimRed | 43.942 | 0.198 | 44.084 | |
| PlotFileScatters | 1.082 | 0.039 | 1.123 | |
| PlotFlowSOM | 5.643 | 0.087 | 5.731 | |
| PlotGroups | 10.268 | 0.040 | 10.309 | |
| PlotLabels | 4.993 | 0.009 | 5.002 | |
| PlotManualBars | 7.673 | 0.007 | 7.681 | |
| PlotMarker | 16.993 | 0.085 | 17.079 | |
| PlotNode | 6.768 | 0.024 | 6.793 | |
| PlotNumbers | 6.443 | 0.011 | 6.455 | |
| PlotOutliers | 29.178 | 0.020 | 29.198 | |
| PlotOverview2D | 5.320 | 0.074 | 5.394 | |
| PlotPies | 6.390 | 0.015 | 6.405 | |
| PlotSD | 1.924 | 0.022 | 1.946 | |
| PlotStars | 14.116 | 0.017 | 14.133 | |
| PlotVariable | 6.393 | 0.018 | 6.413 | |
| Purity | 0.001 | 0.000 | 0.001 | |
| QueryMultiple | 9.375 | 0.003 | 9.378 | |
| QueryStarPlot | 7.123 | 0.006 | 7.129 | |
| ReadInput | 3.257 | 0.061 | 3.318 | |
| SaveClustersToFCS | 5.284 | 0.017 | 5.302 | |
| TestOutliers | 4.318 | 0.004 | 4.322 | |
| UpdateMetaclusters | 15.22 | 0.02 | 15.24 | |
| UpdateNodeSize | 5.661 | 0.016 | 5.676 | |
| get_channels | 0.027 | 0.001 | 0.028 | |
| get_markers | 0.027 | 0.000 | 0.027 | |
| metaClustering_consensus | 2.162 | 0.008 | 2.170 | |
| plotStarLegend | 0.463 | 0.001 | 0.464 | |
| print.FlowSOM | 4.143 | 0.011 | 4.154 | |
| query_multiple | 9.144 | 0.008 | 9.153 | |