| Back to Multiple platform build/check report for BioC 3.21: simplified long |
|
This page was generated on 2025-10-16 11:39 -0400 (Thu, 16 Oct 2025).
| Hostname | OS | Arch (*) | R version | Installed pkgs |
|---|---|---|---|---|
| nebbiolo1 | Linux (Ubuntu 24.04.3 LTS) | x86_64 | 4.5.1 (2025-06-13) -- "Great Square Root" | 4833 |
| merida1 | macOS 12.7.6 Monterey | x86_64 | 4.5.1 RC (2025-06-05 r88288) -- "Great Square Root" | 4614 |
| kjohnson1 | macOS 13.7.5 Ventura | arm64 | 4.5.1 Patched (2025-06-14 r88325) -- "Great Square Root" | 4555 |
| kunpeng2 | Linux (openEuler 24.03 LTS) | aarch64 | R Under development (unstable) (2025-02-19 r87757) -- "Unsuffered Consequences" | 4586 |
| Click on any hostname to see more info about the system (e.g. compilers) (*) as reported by 'uname -p', except on Windows and Mac OS X | ||||
| Package 701/2341 | Hostname | OS / Arch | INSTALL | BUILD | CHECK | BUILD BIN | ||||||||
| ExperimentSubset 1.18.1 (landing page) Irzam Sarfraz
| nebbiolo1 | Linux (Ubuntu 24.04.3 LTS) / x86_64 | OK | OK | OK | |||||||||
| merida1 | macOS 12.7.6 Monterey / x86_64 | OK | OK | OK | OK | |||||||||
| kjohnson1 | macOS 13.7.5 Ventura / arm64 | OK | OK | OK | OK | |||||||||
| kunpeng2 | Linux (openEuler 24.03 LTS) / aarch64 | OK | OK | OK | ||||||||||
|
To the developers/maintainers of the ExperimentSubset package: - Allow up to 24 hours (and sometimes 48 hours) for your latest push to git@git.bioconductor.org:packages/ExperimentSubset.git to reflect on this report. See Troubleshooting Build Report for more information. - Use the following Renviron settings to reproduce errors and warnings. - If 'R CMD check' started to fail recently on the Linux builder(s) over a missing dependency, add the missing dependency to 'Suggests:' in your DESCRIPTION file. See Renviron.bioc for more information. |
| Package: ExperimentSubset |
| Version: 1.18.1 |
| Command: /Library/Frameworks/R.framework/Resources/bin/R CMD check --install=check:ExperimentSubset.install-out.txt --library=/Library/Frameworks/R.framework/Resources/library --no-vignettes --timings ExperimentSubset_1.18.1.tar.gz |
| StartedAt: 2025-10-14 03:42:01 -0400 (Tue, 14 Oct 2025) |
| EndedAt: 2025-10-14 03:51:37 -0400 (Tue, 14 Oct 2025) |
| EllapsedTime: 576.0 seconds |
| RetCode: 0 |
| Status: OK |
| CheckDir: ExperimentSubset.Rcheck |
| Warnings: 0 |
##############################################################################
##############################################################################
###
### Running command:
###
### /Library/Frameworks/R.framework/Resources/bin/R CMD check --install=check:ExperimentSubset.install-out.txt --library=/Library/Frameworks/R.framework/Resources/library --no-vignettes --timings ExperimentSubset_1.18.1.tar.gz
###
##############################################################################
##############################################################################
* using log directory ‘/Users/biocbuild/bbs-3.21-bioc/meat/ExperimentSubset.Rcheck’
* using R version 4.5.1 RC (2025-06-05 r88288)
* using platform: x86_64-apple-darwin20
* R was compiled by
Apple clang version 14.0.0 (clang-1400.0.29.202)
GNU Fortran (GCC) 14.2.0
* running under: macOS Monterey 12.7.6
* using session charset: UTF-8
* using option ‘--no-vignettes’
* checking for file ‘ExperimentSubset/DESCRIPTION’ ... OK
* checking extension type ... Package
* this is package ‘ExperimentSubset’ version ‘1.18.1’
* package encoding: UTF-8
* checking package namespace information ... OK
* checking package dependencies ... OK
* checking if this is a source package ... OK
* checking if there is a namespace ... OK
* checking for hidden files and directories ... OK
* checking for portable file names ... OK
* checking for sufficient/correct file permissions ... OK
* checking whether package ‘ExperimentSubset’ can be installed ... OK
* checking installed package size ... OK
* checking package directory ... OK
* checking ‘build’ directory ... OK
* checking DESCRIPTION meta-information ... NOTE
License stub is invalid DCF.
* checking top-level files ... OK
* checking for left-over files ... OK
* checking index information ... OK
* checking package subdirectories ... OK
* checking code files for non-ASCII characters ... OK
* checking R files for syntax errors ... OK
* checking whether the package can be loaded ... OK
* checking whether the package can be loaded with stated dependencies ... OK
* checking whether the package can be unloaded cleanly ... OK
* checking whether the namespace can be loaded with stated dependencies ... OK
* checking whether the namespace can be unloaded cleanly ... OK
* checking dependencies in R code ... OK
* checking S3 generic/method consistency ... OK
* checking replacement functions ... OK
* checking foreign function calls ... OK
* checking R code for possible problems ... OK
* checking Rd files ... OK
* checking Rd metadata ... OK
* checking Rd cross-references ... OK
* checking for missing documentation entries ... OK
* checking for code/documentation mismatches ... OK
* checking Rd \usage sections ... OK
* checking Rd contents ... OK
* checking for unstated dependencies in examples ... OK
* checking files in ‘vignettes’ ... OK
* checking examples ... OK
Examples with CPU (user + system) or elapsed time > 5s
user system elapsed
reducedDimNames-set 4.499 0.108 5.081
* checking for unstated dependencies in ‘tests’ ... OK
* checking tests ...
Running ‘testthat.R’
OK
* checking for unstated dependencies in vignettes ... OK
* checking package vignettes ... OK
* checking running R code from vignettes ... SKIPPED
* checking re-building of vignette outputs ... SKIPPED
* checking PDF version of manual ... OK
* DONE
Status: 1 NOTE
See
‘/Users/biocbuild/bbs-3.21-bioc/meat/ExperimentSubset.Rcheck/00check.log’
for details.
ExperimentSubset.Rcheck/00install.out
############################################################################## ############################################################################## ### ### Running command: ### ### /Library/Frameworks/R.framework/Resources/bin/R CMD INSTALL ExperimentSubset ### ############################################################################## ############################################################################## * installing to library ‘/Library/Frameworks/R.framework/Versions/4.5-x86_64/Resources/library’ * installing *source* package ‘ExperimentSubset’ ... ** this is package ‘ExperimentSubset’ version ‘1.18.1’ ** using staged installation ** R ** inst ** byte-compile and prepare package for lazy loading Warning in makePrototypeFromClassDef(properties, ClassDef, immediate, where) : in constructing the prototype for class “SubsetSummarizedExperiment”, slots in prototype and not in class: listData, elementType Warning in makePrototypeFromClassDef(properties, ClassDef, immediate, where) : in constructing the prototype for class “SubsetRangedSummarizedExperiment”, slots in prototype and not in class: listData, elementType Warning in makePrototypeFromClassDef(properties, ClassDef, immediate, where) : in constructing the prototype for class “SubsetSingleCellExperiment”, slots in prototype and not in class: listData, elementType Warning in makePrototypeFromClassDef(properties, ClassDef, immediate, where) : in constructing the prototype for class “SubsetTreeSummarizedExperiment”, slots in prototype and not in class: listData, elementType Warning in makePrototypeFromClassDef(properties, ClassDef, immediate, where) : in constructing the prototype for class “SubsetSpatialExperiment”, slots in prototype and not in class: listData, elementType ** help *** installing help indices ** building package indices ** installing vignettes ** testing if installed package can be loaded from temporary location ** testing if installed package can be loaded from final location ** testing if installed package keeps a record of temporary installation path * DONE (ExperimentSubset)
ExperimentSubset.Rcheck/tests/testthat.Rout
R version 4.5.1 RC (2025-06-05 r88288) -- "Great Square Root"
Copyright (C) 2025 The R Foundation for Statistical Computing
Platform: x86_64-apple-darwin20
R is free software and comes with ABSOLUTELY NO WARRANTY.
You are welcome to redistribute it under certain conditions.
Type 'license()' or 'licence()' for distribution details.
R is a collaborative project with many contributors.
Type 'contributors()' for more information and
'citation()' on how to cite R or R packages in publications.
Type 'demo()' for some demos, 'help()' for on-line help, or
'help.start()' for an HTML browser interface to help.
Type 'q()' to quit R.
> library(testthat)
> library(ExperimentSubset)
Loading required package: SummarizedExperiment
Loading required package: MatrixGenerics
Loading required package: matrixStats
Attaching package: 'MatrixGenerics'
The following objects are masked from 'package:matrixStats':
colAlls, colAnyNAs, colAnys, colAvgsPerRowSet, colCollapse,
colCounts, colCummaxs, colCummins, colCumprods, colCumsums,
colDiffs, colIQRDiffs, colIQRs, colLogSumExps, colMadDiffs,
colMads, colMaxs, colMeans2, colMedians, colMins, colOrderStats,
colProds, colQuantiles, colRanges, colRanks, colSdDiffs, colSds,
colSums2, colTabulates, colVarDiffs, colVars, colWeightedMads,
colWeightedMeans, colWeightedMedians, colWeightedSds,
colWeightedVars, rowAlls, rowAnyNAs, rowAnys, rowAvgsPerColSet,
rowCollapse, rowCounts, rowCummaxs, rowCummins, rowCumprods,
rowCumsums, rowDiffs, rowIQRDiffs, rowIQRs, rowLogSumExps,
rowMadDiffs, rowMads, rowMaxs, rowMeans2, rowMedians, rowMins,
rowOrderStats, rowProds, rowQuantiles, rowRanges, rowRanks,
rowSdDiffs, rowSds, rowSums2, rowTabulates, rowVarDiffs, rowVars,
rowWeightedMads, rowWeightedMeans, rowWeightedMedians,
rowWeightedSds, rowWeightedVars
Loading required package: GenomicRanges
Loading required package: stats4
Loading required package: BiocGenerics
Loading required package: generics
Attaching package: 'generics'
The following objects are masked from 'package:base':
as.difftime, as.factor, as.ordered, intersect, is.element, setdiff,
setequal, union
Attaching package: 'BiocGenerics'
The following objects are masked from 'package:stats':
IQR, mad, sd, var, xtabs
The following objects are masked from 'package:base':
Filter, Find, Map, Position, Reduce, anyDuplicated, aperm, append,
as.data.frame, basename, cbind, colnames, dirname, do.call,
duplicated, eval, evalq, get, grep, grepl, is.unsorted, lapply,
mapply, match, mget, order, paste, pmax, pmax.int, pmin, pmin.int,
rank, rbind, rownames, sapply, saveRDS, table, tapply, unique,
unsplit, which.max, which.min
Loading required package: S4Vectors
Attaching package: 'S4Vectors'
The following object is masked from 'package:utils':
findMatches
The following objects are masked from 'package:base':
I, expand.grid, unname
Loading required package: IRanges
Loading required package: GenomeInfoDb
Loading required package: Biobase
Welcome to Bioconductor
Vignettes contain introductory material; view with
'browseVignettes()'. To cite Bioconductor, see
'citation("Biobase")', and for packages 'citation("pkgname")'.
Attaching package: 'Biobase'
The following object is masked from 'package:MatrixGenerics':
rowMedians
The following objects are masked from 'package:matrixStats':
anyMissing, rowMedians
Loading required package: SingleCellExperiment
Loading required package: SpatialExperiment
Loading required package: TreeSummarizedExperiment
Loading required package: Biostrings
Loading required package: XVector
Attaching package: 'Biostrings'
The following object is masked from 'package:base':
strsplit
Attaching package: 'ExperimentSubset'
The following objects are masked from 'package:SingleCellExperiment':
reducedDimNames, reducedDimNames<-, reducedDims<-
>
> test_check("ExperimentSubset")
class: SubsetSummarizedExperiment
dim: 2000 2000
metadata(0):
assays(2): counts logcounts
rownames(2000): C12orf73 RNU6-1256P ... FOXF1 PRR3
rowData names(0):
colnames(2000): CTGCTGTCAGGGTATG CAGTCCTTCGGTTAAC ... GATGCTATCAGCAACT
ATTTCTGGTGATGATA
colData names(0):
subsets(1): s1
subsetAssays(1): s1Main assay(s):
counts logcounts assay2
Subset(s):
Name Dim Parent Assays
1 s1 10, 2000 counts newS1
Main assay(s):
counts
Subset(s):
NULL
class: SubsetRangedSummarizedExperiment
dim: 63677 8
metadata(1): ''
assays(1): counts
rownames(63677): ENSG00000000003 ENSG00000000005 ... ENSG00000273492
ENSG00000273493
rowData names(10): gene_id gene_name ... seq_coord_system symbol
colnames(8): SRR1039508 SRR1039509 ... SRR1039520 SRR1039521
colData names(9): SampleName cell ... Sample BioSample
subsets(1): s2
subsetAssays(1): s2Main assay(s):
counts assay2
Subset(s):
Name Dim Parent Assays
1 s2 15, 8 counts newS2
Main assay(s):
counts logcounts
Subset(s):
Name Dim Parent Assays
1 subset1 10, 10 counts scaledSubset1
class: SubsetSingleCellExperiment
dim: 2000 2000
metadata(0):
assays(2): counts logcounts
rownames(2000): C12orf73 RNU6-1256P ... FOXF1 PRR3
rowData names(1): gene
colnames(2000): CTGCTGTCAGGGTATG CAGTCCTTCGGTTAAC ... GATGCTATCAGCAACT
ATTTCTGGTGATGATA
colData names(11): nGene nUMI ... ident doublet_true_labels
reducedDimNames(0):
mainExpName: NULL
altExpNames(0):
subsets(1): subset1
subsetAssays(2): subset1 scaledSubset1[ FAIL 0 | WARN 0 | SKIP 0 | PASS 127 ]
>
> proc.time()
user system elapsed
116.671 9.393 142.445
ExperimentSubset.Rcheck/ExperimentSubset-Ex.timings
| name | user | system | elapsed | |
| ExperimentSubset | 0.495 | 0.019 | 0.537 | |
| createSubset | 0.857 | 0.019 | 0.916 | |
| getSubsetAssay | 0.453 | 0.053 | 0.560 | |
| reducedDimNames-set | 4.499 | 0.108 | 5.081 | |
| reducedDimNames | 1.189 | 0.027 | 1.483 | |
| reducedDims-set | 1.228 | 0.025 | 1.559 | |
| setSubsetAssay | 0.843 | 0.019 | 1.047 | |
| subsetAssayCount | 0.580 | 0.017 | 0.732 | |
| subsetAssayNames | 0.574 | 0.018 | 0.719 | |
| subsetColData | 0.411 | 0.009 | 0.516 | |
| subsetColnames | 0.410 | 0.008 | 0.509 | |
| subsetCount | 0.399 | 0.015 | 0.502 | |
| subsetDim | 0.411 | 0.012 | 0.517 | |
| subsetNames | 0.389 | 0.008 | 0.491 | |
| subsetParent | 0.550 | 0.009 | 0.681 | |
| subsetRowData | 1.220 | 0.017 | 1.535 | |
| subsetRownames | 0.411 | 0.010 | 0.508 | |
| subsetSummary | 0.601 | 0.012 | 0.742 | |