| Back to Multiple platform build/check report for BioC 3.21: simplified long |
|
This page was generated on 2025-10-16 11:41 -0400 (Thu, 16 Oct 2025).
| Hostname | OS | Arch (*) | R version | Installed pkgs |
|---|---|---|---|---|
| nebbiolo1 | Linux (Ubuntu 24.04.3 LTS) | x86_64 | 4.5.1 (2025-06-13) -- "Great Square Root" | 4833 |
| merida1 | macOS 12.7.6 Monterey | x86_64 | 4.5.1 RC (2025-06-05 r88288) -- "Great Square Root" | 4614 |
| kjohnson1 | macOS 13.7.5 Ventura | arm64 | 4.5.1 Patched (2025-06-14 r88325) -- "Great Square Root" | 4555 |
| kunpeng2 | Linux (openEuler 24.03 LTS) | aarch64 | R Under development (unstable) (2025-02-19 r87757) -- "Unsuffered Consequences" | 4586 |
| Click on any hostname to see more info about the system (e.g. compilers) (*) as reported by 'uname -p', except on Windows and Mac OS X | ||||
| Package 688/2341 | Hostname | OS / Arch | INSTALL | BUILD | CHECK | BUILD BIN | ||||||||
| ERSSA 1.26.0 (landing page) Zixuan Shao
| nebbiolo1 | Linux (Ubuntu 24.04.3 LTS) / x86_64 | OK | OK | OK | |||||||||
| merida1 | macOS 12.7.6 Monterey / x86_64 | OK | OK | OK | OK | |||||||||
| kjohnson1 | macOS 13.7.5 Ventura / arm64 | OK | OK | OK | OK | |||||||||
| kunpeng2 | Linux (openEuler 24.03 LTS) / aarch64 | OK | OK | OK | ||||||||||
|
To the developers/maintainers of the ERSSA package: - Allow up to 24 hours (and sometimes 48 hours) for your latest push to git@git.bioconductor.org:packages/ERSSA.git to reflect on this report. See Troubleshooting Build Report for more information. - Use the following Renviron settings to reproduce errors and warnings. - If 'R CMD check' started to fail recently on the Linux builder(s) over a missing dependency, add the missing dependency to 'Suggests:' in your DESCRIPTION file. See Renviron.bioc for more information. - See Martin Grigorov's blog post for how to debug Linux ARM64 related issues on a x86_64 host. |
| Package: ERSSA |
| Version: 1.26.0 |
| Command: /home/biocbuild/R/R/bin/R CMD check --install=check:ERSSA.install-out.txt --library=/home/biocbuild/R/R/site-library --no-vignettes --timings ERSSA_1.26.0.tar.gz |
| StartedAt: 2025-10-14 09:00:29 -0000 (Tue, 14 Oct 2025) |
| EndedAt: 2025-10-14 09:06:41 -0000 (Tue, 14 Oct 2025) |
| EllapsedTime: 371.5 seconds |
| RetCode: 0 |
| Status: OK |
| CheckDir: ERSSA.Rcheck |
| Warnings: 0 |
##############################################################################
##############################################################################
###
### Running command:
###
### /home/biocbuild/R/R/bin/R CMD check --install=check:ERSSA.install-out.txt --library=/home/biocbuild/R/R/site-library --no-vignettes --timings ERSSA_1.26.0.tar.gz
###
##############################################################################
##############################################################################
* using log directory ‘/home/biocbuild/bbs-3.21-bioc/meat/ERSSA.Rcheck’
* using R Under development (unstable) (2025-02-19 r87757)
* using platform: aarch64-unknown-linux-gnu
* R was compiled by
aarch64-unknown-linux-gnu-gcc (GCC) 14.2.0
GNU Fortran (GCC) 14.2.0
* running under: openEuler 24.03 (LTS-SP1)
* using session charset: UTF-8
* using option ‘--no-vignettes’
* checking for file ‘ERSSA/DESCRIPTION’ ... OK
* checking extension type ... Package
* this is package ‘ERSSA’ version ‘1.26.0’
* package encoding: UTF-8
* checking package namespace information ... OK
* checking package dependencies ... OK
* checking if this is a source package ... OK
* checking if there is a namespace ... OK
* checking for hidden files and directories ... OK
* checking for portable file names ... OK
* checking for sufficient/correct file permissions ... OK
* checking whether package ‘ERSSA’ can be installed ... OK
* checking installed package size ... OK
* checking package directory ... OK
* checking ‘build’ directory ... OK
* checking DESCRIPTION meta-information ... OK
* checking top-level files ... OK
* checking for left-over files ... OK
* checking index information ... OK
* checking package subdirectories ... OK
* checking code files for non-ASCII characters ... OK
* checking R files for syntax errors ... OK
* checking whether the package can be loaded ... OK
* checking whether the package can be loaded with stated dependencies ... OK
* checking whether the package can be unloaded cleanly ... OK
* checking whether the namespace can be loaded with stated dependencies ... OK
* checking whether the namespace can be unloaded cleanly ... OK
* checking loading without being on the library search path ... OK
* checking dependencies in R code ... NOTE
Namespace in Imports field not imported from: ‘apeglm’
All declared Imports should be used.
* checking S3 generic/method consistency ... OK
* checking replacement functions ... OK
* checking foreign function calls ... OK
* checking R code for possible problems ... OK
* checking Rd files ... NOTE
checkRd: (-1) erssa.Rd:87: Lost braces in \itemize; \value handles \item{}{} directly
checkRd: (-1) erssa.Rd:88: Lost braces in \itemize; \value handles \item{}{} directly
checkRd: (-1) erssa.Rd:89: Lost braces in \itemize; \value handles \item{}{} directly
checkRd: (-1) erssa.Rd:90-91: Lost braces in \itemize; \value handles \item{}{} directly
checkRd: (-1) erssa.Rd:92-94: Lost braces in \itemize; \value handles \item{}{} directly
checkRd: (-1) erssa.Rd:95-97: Lost braces in \itemize; \value handles \item{}{} directly
checkRd: (-1) erssa.Rd:98-100: Lost braces in \itemize; \value handles \item{}{} directly
checkRd: (-1) ggplot2_TPR_FPRPlot.Rd:32-33: Lost braces in \itemize; \value handles \item{}{} directly
checkRd: (-1) ggplot2_TPR_FPRPlot.Rd:34: Lost braces in \itemize; \value handles \item{}{} directly
checkRd: (-1) ggplot2_TPR_FPRPlot.Rd:35-37: Lost braces in \itemize; \value handles \item{}{} directly
checkRd: (-1) ggplot2_dotplot.Rd:20-21: Lost braces in \itemize; \value handles \item{}{} directly
checkRd: (-1) ggplot2_dotplot.Rd:22: Lost braces in \itemize; \value handles \item{}{} directly
checkRd: (-1) ggplot2_dotplot.Rd:23: Lost braces in \itemize; \value handles \item{}{} directly
checkRd: (-1) ggplot2_intersectPlot.Rd:20-21: Lost braces in \itemize; \value handles \item{}{} directly
checkRd: (-1) ggplot2_intersectPlot.Rd:22: Lost braces in \itemize; \value handles \item{}{} directly
checkRd: (-1) ggplot2_intersectPlot.Rd:23-24: Lost braces in \itemize; \value handles \item{}{} directly
checkRd: (-1) ggplot2_intersectPlot.Rd:25-26: Lost braces in \itemize; \value handles \item{}{} directly
checkRd: (-1) ggplot2_intersectPlot.Rd:27: Lost braces in \itemize; \value handles \item{}{} directly
checkRd: (-1) ggplot2_marginPlot.Rd:23-24: Lost braces in \itemize; \value handles \item{}{} directly
checkRd: (-1) ggplot2_marginPlot.Rd:25-26: Lost braces in \itemize; \value handles \item{}{} directly
* checking Rd metadata ... OK
* checking Rd cross-references ... OK
* checking for missing documentation entries ... OK
* checking for code/documentation mismatches ... OK
* checking Rd \usage sections ... OK
* checking Rd contents ... OK
* checking for unstated dependencies in examples ... OK
* checking contents of ‘data’ directory ... OK
* checking data for non-ASCII characters ... OK
* checking LazyData ... OK
* checking data for ASCII and uncompressed saves ... OK
* checking files in ‘vignettes’ ... OK
* checking examples ... OK
Examples with CPU (user + system) or elapsed time > 5s
user system elapsed
erssa_deseq2_parallel 47.532 0.307 47.951
erssa_deseq2 44.240 0.395 44.793
erssa 15.939 0.279 16.310
erssa_edger_parallel 5.361 0.016 5.389
* checking for unstated dependencies in vignettes ... OK
* checking package vignettes ... OK
* checking running R code from vignettes ... SKIPPED
* checking re-building of vignette outputs ... SKIPPED
* checking PDF version of manual ... OK
* DONE
Status: 2 NOTEs
See
‘/home/biocbuild/bbs-3.21-bioc/meat/ERSSA.Rcheck/00check.log’
for details.
ERSSA.Rcheck/00install.out
############################################################################## ############################################################################## ### ### Running command: ### ### /home/biocbuild/R/R/bin/R CMD INSTALL ERSSA ### ############################################################################## ############################################################################## * installing to library ‘/home/biocbuild/R/R-devel_2025-02-19/site-library’ * installing *source* package ‘ERSSA’ ... ** this is package ‘ERSSA’ version ‘1.26.0’ ** using staged installation ** R ** data *** moving datasets to lazyload DB ** inst ** byte-compile and prepare package for lazy loading ** help *** installing help indices ** building package indices ** installing vignettes ** testing if installed package can be loaded from temporary location ** testing if installed package can be loaded from final location ** testing if installed package keeps a record of temporary installation path * DONE (ERSSA)
ERSSA.Rcheck/ERSSA-Ex.timings
| name | user | system | elapsed | |
| comb_gen | 0.005 | 0.004 | 0.009 | |
| count_filter | 0.005 | 0.000 | 0.005 | |
| erssa | 15.939 | 0.279 | 16.310 | |
| erssa_deseq2 | 44.240 | 0.395 | 44.793 | |
| erssa_deseq2_parallel | 47.532 | 0.307 | 47.951 | |
| erssa_edger | 2.688 | 0.024 | 2.718 | |
| erssa_edger_parallel | 5.361 | 0.016 | 5.389 | |
| ggplot2_TPR_FPRPlot | 0.633 | 0.000 | 0.634 | |
| ggplot2_dotplot | 0.776 | 0.008 | 0.786 | |
| ggplot2_intersectPlot | 0.748 | 0.023 | 0.773 | |
| ggplot2_marginPlot | 0.559 | 0.008 | 0.569 | |