Back to Multiple platform build/check report for BioC 3.21:   simplified   long
ABCD[E]FGHIJKLMNOPQRSTUVWXYZ

This page was generated on 2025-05-05 11:42 -0400 (Mon, 05 May 2025).

HostnameOSArch (*)R versionInstalled pkgs
nebbiolo1Linux (Ubuntu 24.04.1 LTS)x86_644.5.0 RC (2025-04-04 r88126) -- "How About a Twenty-Six" 4832
palomino7Windows Server 2022 Datacenterx644.5.0 RC (2025-04-04 r88126 ucrt) -- "How About a Twenty-Six" 4574
merida1macOS 12.7.5 Montereyx86_644.5.0 RC (2025-04-04 r88126) -- "How About a Twenty-Six" 4599
kjohnson1macOS 13.6.6 Venturaarm644.5.0 RC (2025-04-04 r88129) -- "How About a Twenty-Six" 4553
Click on any hostname to see more info about the system (e.g. compilers)      (*) as reported by 'uname -p', except on Windows and Mac OS X

Package 654/2341HostnameOS / ArchINSTALLBUILDCHECKBUILD BIN
EMDomics 2.38.0  (landing page)
Sadhika Malladi and Daniel Schmolze
Snapshot Date: 2025-05-01 13:40 -0400 (Thu, 01 May 2025)
git_url: https://git.bioconductor.org/packages/EMDomics
git_branch: RELEASE_3_21
git_last_commit: 676d6e1
git_last_commit_date: 2025-04-15 10:51:03 -0400 (Tue, 15 Apr 2025)
nebbiolo1Linux (Ubuntu 24.04.1 LTS) / x86_64  OK    OK    OK  UNNEEDED, same version is already published
palomino7Windows Server 2022 Datacenter / x64  OK    OK    OK    OK  UNNEEDED, same version is already published
merida1macOS 12.7.5 Monterey / x86_64  OK    OK    OK    OK  UNNEEDED, same version is already published
kjohnson1macOS 13.6.6 Ventura / arm64  OK    OK    OK    OK  UNNEEDED, same version is already published


CHECK results for EMDomics on merida1

To the developers/maintainers of the EMDomics package:
- Allow up to 24 hours (and sometimes 48 hours) for your latest push to git@git.bioconductor.org:packages/EMDomics.git to reflect on this report. See Troubleshooting Build Report for more information.
- Use the following Renviron settings to reproduce errors and warnings.
- If 'R CMD check' started to fail recently on the Linux builder(s) over a missing dependency, add the missing dependency to 'Suggests:' in your DESCRIPTION file. See Renviron.bioc for more information.

raw results


Summary

Package: EMDomics
Version: 2.38.0
Command: /Library/Frameworks/R.framework/Resources/bin/R CMD check --install=check:EMDomics.install-out.txt --library=/Library/Frameworks/R.framework/Resources/library --no-vignettes --timings EMDomics_2.38.0.tar.gz
StartedAt: 2025-05-02 02:59:39 -0400 (Fri, 02 May 2025)
EndedAt: 2025-05-02 03:02:28 -0400 (Fri, 02 May 2025)
EllapsedTime: 168.5 seconds
RetCode: 0
Status:   OK  
CheckDir: EMDomics.Rcheck
Warnings: 0

Command output

##############################################################################
##############################################################################
###
### Running command:
###
###   /Library/Frameworks/R.framework/Resources/bin/R CMD check --install=check:EMDomics.install-out.txt --library=/Library/Frameworks/R.framework/Resources/library --no-vignettes --timings EMDomics_2.38.0.tar.gz
###
##############################################################################
##############################################################################


* using log directory ‘/Users/biocbuild/bbs-3.21-bioc/meat/EMDomics.Rcheck’
* using R version 4.5.0 RC (2025-04-04 r88126)
* using platform: x86_64-apple-darwin20
* R was compiled by
    Apple clang version 14.0.0 (clang-1400.0.29.202)
    GNU Fortran (GCC) 14.2.0
* running under: macOS Monterey 12.7.6
* using session charset: UTF-8
* using option ‘--no-vignettes’
* checking for file ‘EMDomics/DESCRIPTION’ ... OK
* this is package ‘EMDomics’ version ‘2.38.0’
* checking package namespace information ... OK
* checking package dependencies ... OK
* checking if this is a source package ... OK
* checking if there is a namespace ... OK
* checking for hidden files and directories ... OK
* checking for portable file names ... OK
* checking for sufficient/correct file permissions ... OK
* checking whether package ‘EMDomics’ can be installed ... OK
* checking installed package size ... OK
* checking package directory ... OK
* checking ‘build’ directory ... OK
* checking DESCRIPTION meta-information ... NOTE
Authors@R field gives more than one person with maintainer role:
  Sadhika Malladi <contact@sadhikamalladi.com> [aut, cre]
  Daniel Schmolze <emd@schmolze.com> [aut, cre]
* checking top-level files ... OK
* checking for left-over files ... OK
* checking index information ... OK
* checking package subdirectories ... OK
* checking code files for non-ASCII characters ... OK
* checking R files for syntax errors ... OK
* checking whether the package can be loaded ... OK
* checking whether the package can be loaded with stated dependencies ... OK
* checking whether the package can be unloaded cleanly ... OK
* checking whether the namespace can be loaded with stated dependencies ... OK
* checking whether the namespace can be unloaded cleanly ... OK
* checking dependencies in R code ... OK
* checking S3 generic/method consistency ... OK
* checking replacement functions ... OK
* checking foreign function calls ... OK
* checking R code for possible problems ... NOTE
.cvm_pairwise_q: no visible global function definition for ‘combn’
.cvm_pairwise_q : <anonymous>: no visible global function definition
  for ‘median’
.emd_gene_pairwise: no visible global function definition for ‘hist’
.emd_pairwise_q: no visible global function definition for ‘combn’
.emd_pairwise_q : <anonymous>: no visible global function definition
  for ‘median’
.ks_pairwise_table: no visible global function definition for ‘ks.test’
calculate_cvm: no visible global function definition for ‘combn’
calculate_cvm : <anonymous>: no visible global function definition for
  ‘median’
calculate_cvm_gene: no visible global function definition for ‘combn’
calculate_emd: no visible global function definition for ‘combn’
calculate_emd : <anonymous>: no visible global function definition for
  ‘median’
calculate_emd_gene: no visible global function definition for ‘combn’
calculate_ks: no visible global function definition for ‘combn’
calculate_ks : <anonymous>: no visible global function definition for
  ‘p.adjust’
calculate_ks : <anonymous>: no visible global function definition for
  ‘median’
calculate_ks_gene: no visible global function definition for ‘combn’
calculate_ks_gene: no visible global function definition for ‘ks.test’
Undefined global functions or variables:
  combn hist ks.test median p.adjust
Consider adding
  importFrom("graphics", "hist")
  importFrom("stats", "ks.test", "median", "p.adjust")
  importFrom("utils", "combn")
to your NAMESPACE file.
* checking Rd files ... OK
* checking Rd metadata ... NOTE
Invalid package aliases in Rd file 'emdomics-package.Rd':
  ‘emdomics-package’
* checking Rd cross-references ... OK
* checking for missing documentation entries ... OK
* checking for code/documentation mismatches ... OK
* checking Rd \usage sections ... OK
* checking Rd contents ... OK
* checking for unstated dependencies in examples ... OK
* checking files in ‘vignettes’ ... OK
* checking examples ... OK
Examples with CPU (user + system) or elapsed time > 5s
                   user system elapsed
plot_cvm_density 15.169  0.061  15.511
calculate_cvm    14.994  0.093  15.457
plot_cvmperms    14.740  0.071  15.024
plot_emd_density  8.490  0.075   8.621
plot_emdperms     8.168  0.054   8.291
calculate_emd     7.669  0.073   7.800
plot_cvmnull      5.832  0.045   5.904
* checking for unstated dependencies in vignettes ... OK
* checking package vignettes ... OK
* checking running R code from vignettes ... SKIPPED
* checking re-building of vignette outputs ... SKIPPED
* checking PDF version of manual ... OK
* DONE

Status: 3 NOTEs
See
  ‘/Users/biocbuild/bbs-3.21-bioc/meat/EMDomics.Rcheck/00check.log’
for details.


Installation output

EMDomics.Rcheck/00install.out

##############################################################################
##############################################################################
###
### Running command:
###
###   /Library/Frameworks/R.framework/Resources/bin/R CMD INSTALL EMDomics
###
##############################################################################
##############################################################################


* installing to library ‘/Library/Frameworks/R.framework/Versions/4.5-x86_64/Resources/library’
* installing *source* package ‘EMDomics’ ...
** this is package ‘EMDomics’ version ‘2.38.0’
** using staged installation
** R
** byte-compile and prepare package for lazy loading
** help
*** installing help indices
** building package indices
** installing vignettes
** testing if installed package can be loaded from temporary location
** testing if installed package can be loaded from final location
** testing if installed package keeps a record of temporary installation path
* DONE (EMDomics)

Tests output


Example timings

EMDomics.Rcheck/EMDomics-Ex.timings

nameusersystemelapsed
calculate_cvm14.994 0.09315.457
calculate_cvm_gene0.0140.0010.016
calculate_emd7.6690.0737.800
calculate_emd_gene0.0080.0010.009
calculate_ks3.2330.0283.654
calculate_ks_gene0.0170.0020.019
plot_cvm_density15.169 0.06115.511
plot_cvmnull5.8320.0455.904
plot_cvmperms14.740 0.07115.024
plot_emd_density8.4900.0758.621
plot_emdnull3.5900.0323.701
plot_emdperms8.1680.0548.291
plot_ks_density3.6370.0263.705
plot_ksnull1.8920.0151.920
plot_ksperms3.5200.0173.577