| Back to Multiple platform build/check report for BioC 3.22: simplified long |
|
This page was generated on 2025-11-20 12:03 -0500 (Thu, 20 Nov 2025).
| Hostname | OS | Arch (*) | R version | Installed pkgs |
|---|---|---|---|---|
| nebbiolo2 | Linux (Ubuntu 24.04.3 LTS) | x86_64 | 4.5.2 (2025-10-31) -- "[Not] Part in a Rumble" | 4615 |
| merida1 | macOS 12.7.6 Monterey | x86_64 | 4.5.2 Patched (2025-11-05 r88990) -- "[Not] Part in a Rumble" | 4610 |
| kjohnson1 | macOS 13.7.5 Ventura | arm64 | 4.5.2 Patched (2025-11-04 r88984) -- "[Not] Part in a Rumble" | 4598 |
| taishan | Linux (openEuler 24.03 LTS) | aarch64 | 4.5.0 (2025-04-11) -- "How About a Twenty-Six" | 4668 |
| Click on any hostname to see more info about the system (e.g. compilers) (*) as reported by 'uname -p', except on Windows and Mac OS X | ||||
| Package 632/2361 | Hostname | OS / Arch | INSTALL | BUILD | CHECK | BUILD BIN | ||||||||
| DspikeIn 1.0.0 (landing page) Mitra Ghotbi
| nebbiolo2 | Linux (Ubuntu 24.04.3 LTS) / x86_64 | OK | OK | OK | |||||||||
| merida1 | macOS 12.7.6 Monterey / x86_64 | OK | OK | ERROR | OK | |||||||||
| kjohnson1 | macOS 13.7.5 Ventura / arm64 | OK | OK | OK | OK | |||||||||
| taishan | Linux (openEuler 24.03 LTS) / aarch64 | OK | OK | OK | ||||||||||
|
To the developers/maintainers of the DspikeIn package: - Allow up to 24 hours (and sometimes 48 hours) for your latest push to git@git.bioconductor.org:packages/DspikeIn.git to reflect on this report. See Troubleshooting Build Report for more information. - Use the following Renviron settings to reproduce errors and warnings. - If 'R CMD check' started to fail recently on the Linux builder(s) over a missing dependency, add the missing dependency to 'Suggests:' in your DESCRIPTION file. See Renviron.bioc for more information. |
| Package: DspikeIn |
| Version: 1.0.0 |
| Command: /home/biocbuild/bbs-3.22-bioc/R/bin/R CMD check --install=check:DspikeIn.install-out.txt --library=/home/biocbuild/bbs-3.22-bioc/R/site-library --timings DspikeIn_1.0.0.tar.gz |
| StartedAt: 2025-11-18 03:23:43 -0500 (Tue, 18 Nov 2025) |
| EndedAt: 2025-11-18 03:37:09 -0500 (Tue, 18 Nov 2025) |
| EllapsedTime: 805.6 seconds |
| RetCode: 0 |
| Status: OK |
| CheckDir: DspikeIn.Rcheck |
| Warnings: 0 |
##############################################################################
##############################################################################
###
### Running command:
###
### /home/biocbuild/bbs-3.22-bioc/R/bin/R CMD check --install=check:DspikeIn.install-out.txt --library=/home/biocbuild/bbs-3.22-bioc/R/site-library --timings DspikeIn_1.0.0.tar.gz
###
##############################################################################
##############################################################################
* using log directory ‘/home/biocbuild/bbs-3.22-bioc/meat/DspikeIn.Rcheck’
* using R version 4.5.2 (2025-10-31)
* using platform: x86_64-pc-linux-gnu
* R was compiled by
gcc (Ubuntu 13.3.0-6ubuntu2~24.04) 13.3.0
GNU Fortran (Ubuntu 13.3.0-6ubuntu2~24.04) 13.3.0
* running under: Ubuntu 24.04.3 LTS
* using session charset: UTF-8
* checking for file ‘DspikeIn/DESCRIPTION’ ... OK
* checking extension type ... Package
* this is package ‘DspikeIn’ version ‘1.0.0’
* package encoding: UTF-8
* checking package namespace information ... OK
* checking package dependencies ... INFO
Imports includes 38 non-default packages.
Importing from so many packages makes the package vulnerable to any of
them becoming unavailable. Move as many as possible to Suggests and
use conditionally.
* checking if this is a source package ... OK
* checking if there is a namespace ... OK
* checking for hidden files and directories ... OK
* checking for portable file names ... OK
* checking for sufficient/correct file permissions ... OK
* checking whether package ‘DspikeIn’ can be installed ... OK
* checking installed package size ... OK
* checking package directory ... OK
* checking ‘build’ directory ... OK
* checking DESCRIPTION meta-information ... OK
* checking top-level files ... OK
* checking for left-over files ... OK
* checking index information ... OK
* checking package subdirectories ... OK
* checking code files for non-ASCII characters ... OK
* checking R files for syntax errors ... OK
* checking whether the package can be loaded ... OK
* checking whether the package can be loaded with stated dependencies ... OK
* checking whether the package can be unloaded cleanly ... OK
* checking whether the namespace can be loaded with stated dependencies ... OK
* checking whether the namespace can be unloaded cleanly ... OK
* checking loading without being on the library search path ... OK
* checking whether startup messages can be suppressed ... OK
* checking dependencies in R code ... OK
* checking S3 generic/method consistency ... OK
* checking replacement functions ... OK
* checking foreign function calls ... OK
* checking R code for possible problems ... OK
* checking Rd files ... OK
* checking Rd metadata ... OK
* checking Rd cross-references ... NOTE
Non-topic package-anchored link(s) in Rd file 'label.Rd':
‘[phyloseq:tax_table-methods]{phyloseq::tax_table()}’
See section 'Cross-references' in the 'Writing R Extensions' manual.
* checking for missing documentation entries ... OK
* checking for code/documentation mismatches ... OK
* checking Rd \usage sections ... OK
* checking Rd contents ... OK
* checking for unstated dependencies in examples ... OK
* checking contents of ‘data’ directory ... OK
* checking data for non-ASCII characters ... OK
* checking LazyData ... OK
* checking data for ASCII and uncompressed saves ... OK
* checking files in ‘vignettes’ ... OK
* checking examples ... OK
Examples with CPU (user + system) or elapsed time > 5s
user system elapsed
taxa_barplot 34.492 0.202 34.694
plot_core_microbiome_custom 21.549 0.087 21.644
RandomForest_selected 18.024 0.340 18.364
summ_ASV_OTUID 14.879 0.035 14.914
node_level_metrics 10.193 0.028 10.145
convert_to_absolute_counts 9.956 0.123 10.106
calculate_spike_percentage 8.418 0.149 8.318
Pre_processing_hashcodes 7.779 0.368 8.148
quadrant_plot 6.499 0.005 6.435
ridge_plot_it 5.473 0.013 5.486
* checking for unstated dependencies in ‘tests’ ... OK
* checking tests ...
Running ‘testthat.R’
OK
* checking for unstated dependencies in vignettes ... OK
* checking package vignettes ... OK
* checking re-building of vignette outputs ... OK
* checking PDF version of manual ... OK
* DONE
Status: 1 NOTE
See
‘/home/biocbuild/bbs-3.22-bioc/meat/DspikeIn.Rcheck/00check.log’
for details.
DspikeIn.Rcheck/00install.out
############################################################################## ############################################################################## ### ### Running command: ### ### /home/biocbuild/bbs-3.22-bioc/R/bin/R CMD INSTALL DspikeIn ### ############################################################################## ############################################################################## * installing to library ‘/home/biocbuild/bbs-3.22-bioc/R/site-library’ * installing *source* package ‘DspikeIn’ ... ** this is package ‘DspikeIn’ version ‘1.0.0’ ** using staged installation ** R ** data *** moving datasets to lazyload DB ** inst ** byte-compile and prepare package for lazy loading ** help *** installing help indices ** building package indices ** installing vignettes ** testing if installed package can be loaded from temporary location ** testing if installed package can be loaded from final location ** testing if installed package keeps a record of temporary installation path * DONE (DspikeIn)
DspikeIn.Rcheck/tests/testthat.Rout
R version 4.5.2 (2025-10-31) -- "[Not] Part in a Rumble"
Copyright (C) 2025 The R Foundation for Statistical Computing
Platform: x86_64-pc-linux-gnu
R is free software and comes with ABSOLUTELY NO WARRANTY.
You are welcome to redistribute it under certain conditions.
Type 'license()' or 'licence()' for distribution details.
R is a collaborative project with many contributors.
Type 'contributors()' for more information and
'citation()' on how to cite R or R packages in publications.
Type 'demo()' for some demos, 'help()' for on-line help, or
'help.start()' for an HTML browser interface to help.
Type 'q()' to quit R.
> # This file is part of the standard setup for testthat.
> # It is recommended that you do not modify it.
> #
> # Where should you do additional test configuration?
> # Learn more about the roles of various files in:
> # * https://r-pkgs.org/testing-design.html#sec-tests-files-overview
> # * https://testthat.r-lib.org/articles/special-files.html
>
> library(testthat)
> library(DspikeIn)
Thank you for using DspikeIn! 🎉
For support, 📧 contact: Mitra Ghotbi (mitra.ghotbi@gmail.com)
GitHub Repository: https://github.com/mghotbi/DspikeIn
🐛 Found a bug or have a suggestion? Open an issue:
https://github.com/mghotbi/DspikeIn/issues
>
> test_check("DspikeIn")
[ FAIL 0 | WARN 0 | SKIP 13 | PASS 0 ]
══ Skipped tests (13) ══════════════════════════════════════════════════════════
• On Bioconductor (13): 'test-Pre_processing_species.R:1:1',
'test-RandomForest_selected.R:1:1', 'test-calculate_spikeIn_factors.R:1:1',
'test-calculate_spike_percentage.R:1:1',
'test-calculate_summary_stats_table.R:1:1', 'test-conclusion.R:1:1',
'test-convert_to_absolute_counts.R:1:1',
'test-imbalance_calculate_list_average_scaling_factors.R:1:1',
'test-node_level_metrics.R:1:1', 'test-perform_and_visualize_DA.R:1:1',
'test-quadrant_plot.R:1:1', 'test-remove_zero_negative_count_samples.R:1:1',
'test-simulate_robustness.R:1:1'
[ FAIL 0 | WARN 0 | SKIP 13 | PASS 0 ]
>
> proc.time()
user system elapsed
12.017 1.092 13.097
DspikeIn.Rcheck/DspikeIn-Ex.timings
| name | user | system | elapsed | |
| AcceptableRange | 0.112 | 0.019 | 0.131 | |
| MG_shapes | 0.497 | 0.003 | 0.501 | |
| Pre_processing_hashcodes | 7.779 | 0.368 | 8.148 | |
| Pre_processing_species | 3.302 | 0.068 | 3.371 | |
| Pre_processing_species_list | 0.299 | 0.002 | 0.303 | |
| RandomForest_selected | 18.024 | 0.340 | 18.364 | |
| adjust_abundance_one_third | 0.804 | 0.051 | 0.856 | |
| adjusted_prevalence | 0.834 | 0.032 | 0.866 | |
| alluvial_plot | 3.982 | 0.021 | 4.005 | |
| calculate_list_average_scaling_factors | 0.037 | 0.000 | 0.037 | |
| calculate_spikeIn_factors | 3.066 | 0.032 | 3.098 | |
| calculate_spike_percentage | 8.418 | 0.149 | 8.318 | |
| calculate_spike_percentage_list | 0.633 | 0.037 | 0.674 | |
| calculate_summary_stats_table | 0.128 | 0.008 | 0.136 | |
| color_palette | 0.394 | 0.005 | 0.398 | |
| conclusion | 2.064 | 0.096 | 2.160 | |
| convert_categorical_to_factors | 0.253 | 0.001 | 0.255 | |
| convert_phyloseq_to_tse | 0.562 | 0.014 | 0.576 | |
| convert_to_absolute_counts | 9.956 | 0.123 | 10.106 | |
| convert_tse_to_phyloseq | 0.764 | 0.002 | 0.766 | |
| create_directory | 0 | 0 | 0 | |
| degree_network | 2.346 | 0.004 | 2.352 | |
| detect_common_asvs_taxa | 0 | 0 | 0 | |
| extract_neighbors | 0.019 | 0.000 | 0.019 | |
| filter_and_split_abundance | 3.077 | 0.017 | 3.094 | |
| get_long_format_data | 0.571 | 0.004 | 0.575 | |
| gm_mean | 0.000 | 0.000 | 0.001 | |
| imbalance_calculate_list_average_scaling_factors | 0.12 | 0.00 | 0.12 | |
| label | 0.026 | 0.000 | 0.026 | |
| metadata_full | 0.016 | 0.003 | 0.019 | |
| my_custom_theme | 0.415 | 0.002 | 0.418 | |
| node_level_metrics | 10.193 | 0.028 | 10.145 | |
| norm.DESeq | 2.444 | 0.012 | 2.456 | |
| normalization_set | 2.593 | 0.155 | 2.748 | |
| perform_and_visualize_DA | 0 | 0 | 0 | |
| physeq | 0.03 | 0.00 | 0.03 | |
| physeq_16SOTU | 0.235 | 0.014 | 0.249 | |
| physeq_ITSOTU | 0.242 | 0.024 | 0.266 | |
| plot_core_microbiome_custom | 21.549 | 0.087 | 21.644 | |
| plot_spikein_tree_diagnostic | 0.000 | 0.000 | 0.001 | |
| plotbar_abundance | 0 | 0 | 0 | |
| proportion_adj | 3.768 | 0.096 | 3.864 | |
| quadrant_plot | 6.499 | 0.005 | 6.435 | |
| random_subsample_WithReductionFactor | 4.896 | 0.050 | 4.953 | |
| randomsubsample_Trimmed_evenDepth | 1.639 | 0.016 | 1.655 | |
| regression_plot | 0.991 | 0.007 | 0.998 | |
| relativized_filtered_taxa | 0.384 | 0.001 | 0.385 | |
| remove_zero_negative_count_samples | 0.41 | 0.02 | 0.43 | |
| ridge_plot_it | 5.473 | 0.013 | 5.486 | |
| set_nf | 0.247 | 0.024 | 0.271 | |
| simulate_network_robustness | 2.850 | 0.008 | 2.858 | |
| summ_ASV_OTUID | 14.879 | 0.035 | 14.914 | |
| summ_count_phyloseq | 1.007 | 0.001 | 1.008 | |
| summ_phyloseq_sampleID | 3.689 | 0.161 | 3.850 | |
| taxa_barplot | 34.492 | 0.202 | 34.694 | |
| tidy_phyloseq_tse | 2.067 | 0.048 | 2.115 | |
| tse | 0.039 | 0.000 | 0.039 | |
| validate_spikein_clade | 0.485 | 0.006 | 0.491 | |
| weight_Network | 2.499 | 0.008 | 2.507 | |