Back to Multiple platform build/check report for BioC 3.22:   simplified   long
ABC[D]EFGHIJKLMNOPQRSTUVWXYZ

This page was generated on 2025-11-01 12:04 -0400 (Sat, 01 Nov 2025).

HostnameOSArch (*)R versionInstalled pkgs
nebbiolo2Linux (Ubuntu 24.04.3 LTS)x86_644.5.1 Patched (2025-08-23 r88802) -- "Great Square Root" 4901
lconwaymacOS 12.7.6 Montereyx86_644.5.1 Patched (2025-09-10 r88807) -- "Great Square Root" 4691
kjohnson3macOS 13.7.7 Venturaarm644.5.1 Patched (2025-09-10 r88807) -- "Great Square Root" 4637
Click on any hostname to see more info about the system (e.g. compilers)      (*) as reported by 'uname -p', except on Windows and Mac OS X

Package 632/2361HostnameOS / ArchINSTALLBUILDCHECKBUILD BIN
DspikeIn 1.0.0  (landing page)
Mitra Ghotbi
Snapshot Date: 2025-10-31 13:45 -0400 (Fri, 31 Oct 2025)
git_url: https://git.bioconductor.org/packages/DspikeIn
git_branch: RELEASE_3_22
git_last_commit: 8a427ff
git_last_commit_date: 2025-10-29 11:39:12 -0400 (Wed, 29 Oct 2025)
nebbiolo2Linux (Ubuntu 24.04.3 LTS) / x86_64  OK    OK    OK  UNNEEDED, same version is already published
lconwaymacOS 12.7.6 Monterey / x86_64  OK    OK    OK    OK  UNNEEDED, same version is already published
kjohnson3macOS 13.7.7 Ventura / arm64  OK    OK    OK    OK  UNNEEDED, same version is already published


CHECK results for DspikeIn on kjohnson3

To the developers/maintainers of the DspikeIn package:
- Allow up to 24 hours (and sometimes 48 hours) for your latest push to git@git.bioconductor.org:packages/DspikeIn.git to reflect on this report. See Troubleshooting Build Report for more information.
- Use the following Renviron settings to reproduce errors and warnings.
- If 'R CMD check' started to fail recently on the Linux builder(s) over a missing dependency, add the missing dependency to 'Suggests:' in your DESCRIPTION file. See Renviron.bioc for more information.

raw results


Summary

Package: DspikeIn
Version: 1.0.0
Command: /Library/Frameworks/R.framework/Resources/bin/R CMD check --install=check:DspikeIn.install-out.txt --library=/Library/Frameworks/R.framework/Resources/library --no-vignettes --timings DspikeIn_1.0.0.tar.gz
StartedAt: 2025-10-31 19:37:30 -0400 (Fri, 31 Oct 2025)
EndedAt: 2025-10-31 19:40:56 -0400 (Fri, 31 Oct 2025)
EllapsedTime: 206.5 seconds
RetCode: 0
Status:   OK  
CheckDir: DspikeIn.Rcheck
Warnings: 0

Command output

##############################################################################
##############################################################################
###
### Running command:
###
###   /Library/Frameworks/R.framework/Resources/bin/R CMD check --install=check:DspikeIn.install-out.txt --library=/Library/Frameworks/R.framework/Resources/library --no-vignettes --timings DspikeIn_1.0.0.tar.gz
###
##############################################################################
##############################################################################


* using log directory ‘/Users/biocbuild/bbs-3.22-bioc/meat/DspikeIn.Rcheck’
* using R version 4.5.1 Patched (2025-09-10 r88807)
* using platform: aarch64-apple-darwin20
* R was compiled by
    Apple clang version 16.0.0 (clang-1600.0.26.6)
    GNU Fortran (GCC) 14.2.0
* running under: macOS Ventura 13.7.7
* using session charset: UTF-8
* using option ‘--no-vignettes’
* checking for file ‘DspikeIn/DESCRIPTION’ ... OK
* checking extension type ... Package
* this is package ‘DspikeIn’ version ‘1.0.0’
* package encoding: UTF-8
* checking package namespace information ... OK
* checking package dependencies ... INFO
Imports includes 38 non-default packages.
Importing from so many packages makes the package vulnerable to any of
them becoming unavailable.  Move as many as possible to Suggests and
use conditionally.
* checking if this is a source package ... OK
* checking if there is a namespace ... OK
* checking for hidden files and directories ... OK
* checking for portable file names ... OK
* checking for sufficient/correct file permissions ... OK
* checking whether package ‘DspikeIn’ can be installed ... OK
* checking installed package size ... OK
* checking package directory ... OK
* checking ‘build’ directory ... OK
* checking DESCRIPTION meta-information ... OK
* checking top-level files ... OK
* checking for left-over files ... OK
* checking index information ... OK
* checking package subdirectories ... OK
* checking code files for non-ASCII characters ... OK
* checking R files for syntax errors ... OK
* checking whether the package can be loaded ... OK
* checking whether the package can be loaded with stated dependencies ... OK
* checking whether the package can be unloaded cleanly ... OK
* checking whether the namespace can be loaded with stated dependencies ... OK
* checking whether the namespace can be unloaded cleanly ... OK
* checking whether startup messages can be suppressed ... OK
* checking dependencies in R code ... OK
* checking S3 generic/method consistency ... OK
* checking replacement functions ... OK
* checking foreign function calls ... OK
* checking R code for possible problems ... OK
* checking Rd files ... OK
* checking Rd metadata ... OK
* checking Rd cross-references ... NOTE
Non-topic package-anchored link(s) in Rd file 'label.Rd':
  ‘[phyloseq:tax_table-methods]{phyloseq::tax_table()}’

See section 'Cross-references' in the 'Writing R Extensions' manual.
* checking for missing documentation entries ... OK
* checking for code/documentation mismatches ... OK
* checking Rd \usage sections ... OK
* checking Rd contents ... OK
* checking for unstated dependencies in examples ... OK
* checking contents of ‘data’ directory ... OK
* checking data for non-ASCII characters ... OK
* checking LazyData ... OK
* checking data for ASCII and uncompressed saves ... OK
* checking files in ‘vignettes’ ... OK
* checking examples ... OK
Examples with CPU (user + system) or elapsed time > 5s
                              user system elapsed
taxa_barplot                11.399  0.983  12.478
plot_core_microbiome_custom  7.825  0.551   8.629
RandomForest_selected        6.951  0.203   7.177
summ_ASV_OTUID               4.999  0.374   5.382
convert_to_absolute_counts   5.090  0.167   5.293
* checking for unstated dependencies in ‘tests’ ... OK
* checking tests ...
  Running ‘testthat.R’
 OK
* checking for unstated dependencies in vignettes ... OK
* checking package vignettes ... OK
* checking running R code from vignettes ... SKIPPED
* checking re-building of vignette outputs ... SKIPPED
* checking PDF version of manual ... OK
* DONE

Status: 1 NOTE
See
  ‘/Users/biocbuild/bbs-3.22-bioc/meat/DspikeIn.Rcheck/00check.log’
for details.


Installation output

DspikeIn.Rcheck/00install.out

##############################################################################
##############################################################################
###
### Running command:
###
###   /Library/Frameworks/R.framework/Resources/bin/R CMD INSTALL DspikeIn
###
##############################################################################
##############################################################################


* installing to library ‘/Library/Frameworks/R.framework/Versions/4.5-arm64/Resources/library’
* installing *source* package ‘DspikeIn’ ...
** this is package ‘DspikeIn’ version ‘1.0.0’
** using staged installation
** R
** data
*** moving datasets to lazyload DB
** inst
** byte-compile and prepare package for lazy loading
** help
*** installing help indices
** building package indices
** installing vignettes
** testing if installed package can be loaded from temporary location
** testing if installed package can be loaded from final location
** testing if installed package keeps a record of temporary installation path
* DONE (DspikeIn)

Tests output

DspikeIn.Rcheck/tests/testthat.Rout


R version 4.5.1 Patched (2025-09-10 r88807) -- "Great Square Root"
Copyright (C) 2025 The R Foundation for Statistical Computing
Platform: aarch64-apple-darwin20

R is free software and comes with ABSOLUTELY NO WARRANTY.
You are welcome to redistribute it under certain conditions.
Type 'license()' or 'licence()' for distribution details.

R is a collaborative project with many contributors.
Type 'contributors()' for more information and
'citation()' on how to cite R or R packages in publications.

Type 'demo()' for some demos, 'help()' for on-line help, or
'help.start()' for an HTML browser interface to help.
Type 'q()' to quit R.

> # This file is part of the standard setup for testthat.
> # It is recommended that you do not modify it.
> #
> # Where should you do additional test configuration?
> # Learn more about the roles of various files in:
> # * https://r-pkgs.org/testing-design.html#sec-tests-files-overview
> # * https://testthat.r-lib.org/articles/special-files.html
> 
> library(testthat)
> library(DspikeIn)

Thank you for using DspikeIn! 🎉
For support, 📧 contact: Mitra Ghotbi (mitra.ghotbi@gmail.com)
GitHub Repository: https://github.com/mghotbi/DspikeIn
🐛 Found a bug or have a suggestion? Open an issue:
  https://github.com/mghotbi/DspikeIn/issues


> 
> test_check("DspikeIn")
[ FAIL 0 | WARN 0 | SKIP 13 | PASS 0 ]

══ Skipped tests (13) ══════════════════════════════════════════════════════════
• On Bioconductor (13): 'test-Pre_processing_species.R:1:1',
  'test-RandomForest_selected.R:1:1', 'test-calculate_spikeIn_factors.R:1:1',
  'test-calculate_spike_percentage.R:1:1',
  'test-calculate_summary_stats_table.R:1:1', 'test-conclusion.R:1:1',
  'test-convert_to_absolute_counts.R:1:1',
  'test-imbalance_calculate_list_average_scaling_factors.R:1:1',
  'test-node_level_metrics.R:1:1', 'test-perform_and_visualize_DA.R:1:1',
  'test-quadrant_plot.R:1:1', 'test-remove_zero_negative_count_samples.R:1:1',
  'test-simulate_robustness.R:1:1'

[ FAIL 0 | WARN 0 | SKIP 13 | PASS 0 ]
> 
> proc.time()
   user  system elapsed 
  4.808   0.217   5.047 

Example timings

DspikeIn.Rcheck/DspikeIn-Ex.timings

nameusersystemelapsed
AcceptableRange0.3900.0040.394
MG_shapes0.1650.0030.167
Pre_processing_hashcodes3.8610.0603.938
Pre_processing_species1.9000.0271.931
Pre_processing_species_list0.0970.0020.099
RandomForest_selected6.9510.2037.177
adjust_abundance_one_third0.7060.0330.742
adjusted_prevalence0.6720.0200.692
alluvial_plot1.9490.1072.108
calculate_list_average_scaling_factors0.0130.0010.014
calculate_spikeIn_factors1.6370.0601.705
calculate_spike_percentage3.4990.3373.892
calculate_spike_percentage_list0.2360.0290.266
calculate_summary_stats_table0.0420.0020.045
color_palette0.1310.0020.132
conclusion0.5100.0590.584
convert_categorical_to_factors0.1280.0110.139
convert_phyloseq_to_tse0.2130.0110.225
convert_to_absolute_counts5.0900.1675.293
convert_tse_to_phyloseq0.7360.0760.812
create_directory0.0010.0000.001
degree_network0.8280.0440.882
detect_common_asvs_taxa0.0000.0000.001
extract_neighbors0.0070.0040.011
filter_and_split_abundance1.3820.0591.686
get_long_format_data0.2320.0270.260
gm_mean000
imbalance_calculate_list_average_scaling_factors0.0440.0010.049
label0.0120.0010.013
metadata_full0.0080.0030.013
my_custom_theme0.1900.0030.198
node_level_metrics3.4700.1223.743
norm.DESeq0.9070.0570.968
normalization_set1.6060.2321.851
perform_and_visualize_DA000
physeq0.0100.0010.010
physeq_16SOTU0.1100.0310.141
physeq_ITSOTU0.1050.0390.143
plot_core_microbiome_custom7.8250.5518.629
plot_spikein_tree_diagnostic0.0000.0010.000
plotbar_abundance000
proportion_adj2.9790.1003.087
quadrant_plot2.2350.0742.328
random_subsample_WithReductionFactor1.6720.5962.279
randomsubsample_Trimmed_evenDepth1.0530.0801.140
regression_plot0.3370.0180.355
relativized_filtered_taxa0.1550.0180.174
remove_zero_negative_count_samples0.1740.0360.211
ridge_plot_it1.9320.1052.037
set_nf0.1060.0130.119
simulate_network_robustness1.0550.0191.075
summ_ASV_OTUID4.9990.3745.382
summ_count_phyloseq0.4100.0290.438
summ_phyloseq_sampleID1.4760.4501.967
taxa_barplot11.399 0.98312.478
tidy_phyloseq_tse0.9090.0420.969
tse0.0120.0010.013
validate_spikein_clade0.1990.0120.214
weight_Network1.2670.0551.329