| Back to Multiple platform build/check report for BioC 3.21: simplified long |
|
This page was generated on 2025-08-18 11:41 -0400 (Mon, 18 Aug 2025).
| Hostname | OS | Arch (*) | R version | Installed pkgs |
|---|---|---|---|---|
| nebbiolo1 | Linux (Ubuntu 24.04.3 LTS) | x86_64 | 4.5.1 (2025-06-13) -- "Great Square Root" | 4824 |
| palomino7 | Windows Server 2022 Datacenter | x64 | 4.5.1 (2025-06-13 ucrt) -- "Great Square Root" | 4566 |
| merida1 | macOS 12.7.5 Monterey | x86_64 | 4.5.1 RC (2025-06-05 r88288) -- "Great Square Root" | 4604 |
| kjohnson1 | macOS 13.6.6 Ventura | arm64 | 4.5.1 Patched (2025-06-14 r88325) -- "Great Square Root" | 4545 |
| kunpeng2 | Linux (openEuler 24.03 LTS) | aarch64 | R Under development (unstable) (2025-02-19 r87757) -- "Unsuffered Consequences" | 4579 |
| Click on any hostname to see more info about the system (e.g. compilers) (*) as reported by 'uname -p', except on Windows and Mac OS X | ||||
| Package 621/2341 | Hostname | OS / Arch | INSTALL | BUILD | CHECK | BUILD BIN | ||||||||
| DropletUtils 1.28.1 (landing page) Jonathan Griffiths
| nebbiolo1 | Linux (Ubuntu 24.04.3 LTS) / x86_64 | OK | OK | WARNINGS | |||||||||
| palomino7 | Windows Server 2022 Datacenter / x64 | OK | OK | OK | OK | |||||||||
| merida1 | macOS 12.7.5 Monterey / x86_64 | OK | OK | WARNINGS | OK | |||||||||
| kjohnson1 | macOS 13.6.6 Ventura / arm64 | OK | OK | WARNINGS | OK | |||||||||
| kunpeng2 | Linux (openEuler 24.03 LTS) / aarch64 | OK | OK | WARNINGS | ||||||||||
|
To the developers/maintainers of the DropletUtils package: - Allow up to 24 hours (and sometimes 48 hours) for your latest push to git@git.bioconductor.org:packages/DropletUtils.git to reflect on this report. See Troubleshooting Build Report for more information. - Use the following Renviron settings to reproduce errors and warnings. - If 'R CMD check' started to fail recently on the Linux builder(s) over a missing dependency, add the missing dependency to 'Suggests:' in your DESCRIPTION file. See Renviron.bioc for more information. |
| Package: DropletUtils |
| Version: 1.28.1 |
| Command: E:\biocbuild\bbs-3.21-bioc\R\bin\R.exe CMD check --no-multiarch --install=check:DropletUtils.install-out.txt --library=E:\biocbuild\bbs-3.21-bioc\R\library --no-vignettes --timings DropletUtils_1.28.1.tar.gz |
| StartedAt: 2025-08-15 01:42:48 -0400 (Fri, 15 Aug 2025) |
| EndedAt: 2025-08-15 01:51:51 -0400 (Fri, 15 Aug 2025) |
| EllapsedTime: 543.6 seconds |
| RetCode: 0 |
| Status: OK |
| CheckDir: DropletUtils.Rcheck |
| Warnings: 0 |
##############################################################################
##############################################################################
###
### Running command:
###
### E:\biocbuild\bbs-3.21-bioc\R\bin\R.exe CMD check --no-multiarch --install=check:DropletUtils.install-out.txt --library=E:\biocbuild\bbs-3.21-bioc\R\library --no-vignettes --timings DropletUtils_1.28.1.tar.gz
###
##############################################################################
##############################################################################
* using log directory 'E:/biocbuild/bbs-3.21-bioc/meat/DropletUtils.Rcheck'
* using R version 4.5.1 (2025-06-13 ucrt)
* using platform: x86_64-w64-mingw32
* R was compiled by
gcc.exe (GCC) 14.2.0
GNU Fortran (GCC) 14.2.0
* running under: Windows Server 2022 x64 (build 20348)
* using session charset: UTF-8
* using option '--no-vignettes'
* checking for file 'DropletUtils/DESCRIPTION' ... OK
* this is package 'DropletUtils' version '1.28.1'
* package encoding: UTF-8
* checking package namespace information ... OK
* checking package dependencies ... OK
* checking if this is a source package ... OK
* checking if there is a namespace ... OK
* checking for hidden files and directories ... NOTE
Found the following hidden files and directories:
.BBSoptions
These were most likely included in error. See section 'Package
structure' in the 'Writing R Extensions' manual.
* checking for portable file names ... OK
* checking whether package 'DropletUtils' can be installed ... OK
* used C++ compiler: 'G__~1.EXE (GCC) 14.2.0'
* checking C++ specification ... NOTE
Specified C++11: please drop specification unless essential
* checking installed package size ... OK
* checking package directory ... OK
* checking 'build' directory ... OK
* checking DESCRIPTION meta-information ... OK
* checking top-level files ... OK
* checking for left-over files ... OK
* checking index information ... OK
* checking package subdirectories ... OK
* checking code files for non-ASCII characters ... OK
* checking R files for syntax errors ... OK
* checking whether the package can be loaded ... OK
* checking whether the package can be loaded with stated dependencies ... OK
* checking whether the package can be unloaded cleanly ... OK
* checking whether the namespace can be loaded with stated dependencies ... OK
* checking whether the namespace can be unloaded cleanly ... OK
* checking dependencies in R code ... OK
* checking S3 generic/method consistency ... OK
* checking replacement functions ... OK
* checking foreign function calls ... OK
* checking R code for possible problems ... OK
* checking Rd files ... OK
* checking Rd metadata ... OK
* checking Rd cross-references ... NOTE
Found the following Rd file(s) with Rd \link{} targets missing package
anchors:
ambientContribMaximum.Rd: SummarizedExperiment-class,
BiocParallelParam-class
ambientContribNegative.Rd: SummarizedExperiment-class
ambientContribSparse.Rd: SummarizedExperiment-class,
BiocParallelParam-class
ambientProfileBimodal.Rd: SummarizedExperiment-class,
medianSizeFactors
ambientProfileEmpty.Rd: dgTMatrix-class, dgCMatrix-class,
SummarizedExperiment-class, BiocParallelParam-class
barcodeRanks.Rd: SummarizedExperiment-class, BiocParallelParam-class,
DataFrame-class
chimericDrops.Rd: DataFrame-class
cleanTagCounts.Rd: SummarizedExperiment-class, isOutlier,
DataFrame-class
defaultDrops.Rd: SummarizedExperiment-class
emptyDrops.Rd: dgTMatrix-class, dgCMatrix-class,
SummarizedExperiment-class, BiocParallelParam-class,
goodTuringProportions
emptyDropsCellRanger.Rd: SummarizedExperiment-class,
BiocParallelParam-class, DataFrame-class
hashedDrops.Rd: SummarizedExperiment-class, DataFrame-class, metadata
read10xCounts.Rd: SingleCellExperiment-class, DelayedArray-class,
BiocParallelParam-class, dgCMatrix-class, TENxMatrix-class,
splitAltExps
read10xMolInfo.Rd: DataFrame-class
removeAmbience.Rd: SummarizedExperiment-class, DataFrame-class,
sumCountsAcrossCells, RealizationSink-class,
BiocParallelParam-class
swappedDrops.Rd: HDF5Matrix-class
Please provide package anchors for all Rd \link{} targets not in the
package itself and the base packages.
* checking for missing documentation entries ... OK
* checking for code/documentation mismatches ... OK
* checking Rd \usage sections ... OK
* checking Rd contents ... OK
* checking for unstated dependencies in examples ... OK
* checking line endings in C/C++/Fortran sources/headers ... OK
* checking line endings in Makefiles ... OK
* checking compilation flags in Makevars ... OK
* checking for GNU extensions in Makefiles ... INFO
GNU make is a SystemRequirements.
* checking for portable use of $(BLAS_LIBS) and $(LAPACK_LIBS) ... OK
* checking use of PKG_*FLAGS in Makefiles ... OK
* checking compiled code ... NOTE
Note: information on .o files for x64 is not available
File 'E:/biocbuild/bbs-3.21-bioc/R/library/DropletUtils/libs/x64/DropletUtils.dll':
Found '_exit', possibly from '_exit' (C)
Found 'abort', possibly from 'abort' (C), 'runtime' (Fortran)
Found 'exit', possibly from 'exit' (C), 'stop' (Fortran)
Compiled code should not call entry points which might terminate R nor
write to stdout/stderr instead of to the console, nor use Fortran I/O
nor system RNGs nor [v]sprintf. The detected symbols are linked into
the code but might come from libraries and not actually be called.
See 'Writing portable packages' in the 'Writing R Extensions' manual.
* checking files in 'vignettes' ... OK
* checking examples ... OK
* checking for unstated dependencies in 'tests' ... OK
* checking tests ...
Running 'testthat.R'
OK
* checking for unstated dependencies in vignettes ... OK
* checking package vignettes ... OK
* checking running R code from vignettes ... SKIPPED
* checking re-building of vignette outputs ... SKIPPED
* checking PDF version of manual ... OK
* DONE
Status: 4 NOTEs
See
'E:/biocbuild/bbs-3.21-bioc/meat/DropletUtils.Rcheck/00check.log'
for details.
DropletUtils.Rcheck/00install.out
##############################################################################
##############################################################################
###
### Running command:
###
### E:\biocbuild\bbs-3.21-bioc\R\bin\R.exe CMD INSTALL DropletUtils
###
##############################################################################
##############################################################################
* installing to library 'E:/biocbuild/bbs-3.21-bioc/R/library'
* installing *source* package 'DropletUtils' ...
** this is package 'DropletUtils' version '1.28.1'
** using staged installation
** libs
using C++ compiler: 'G__~1.EXE (GCC) 14.2.0'
using C++11
g++ -std=gnu++11 -I"E:/biocbuild/bbs-3.21-bioc/R/include" -DNDEBUG -I'E:/biocbuild/bbs-3.21-bioc/R/library/Rcpp/include' -I'E:/biocbuild/bbs-3.21-bioc/R/library/beachmat/include' -I'E:/biocbuild/bbs-3.21-bioc/R/library/Rhdf5lib/include' -I'E:/biocbuild/bbs-3.21-bioc/R/library/BH/include' -I'E:/biocbuild/bbs-3.21-bioc/R/library/dqrng/include' -I'E:/biocbuild/bbs-3.21-bioc/R/library/scuttle/include' -I"C:/rtools45/x86_64-w64-mingw32.static.posix/include" -O2 -Wall -mfpmath=sse -msse2 -mstackrealign -c RcppExports.cpp -o RcppExports.o
g++ -std=gnu++11 -I"E:/biocbuild/bbs-3.21-bioc/R/include" -DNDEBUG -I'E:/biocbuild/bbs-3.21-bioc/R/library/Rcpp/include' -I'E:/biocbuild/bbs-3.21-bioc/R/library/beachmat/include' -I'E:/biocbuild/bbs-3.21-bioc/R/library/Rhdf5lib/include' -I'E:/biocbuild/bbs-3.21-bioc/R/library/BH/include' -I'E:/biocbuild/bbs-3.21-bioc/R/library/dqrng/include' -I'E:/biocbuild/bbs-3.21-bioc/R/library/scuttle/include' -I"C:/rtools45/x86_64-w64-mingw32.static.posix/include" -O2 -Wall -mfpmath=sse -msse2 -mstackrealign -c downsample_run.cpp -o downsample_run.o
g++ -std=gnu++11 -I"E:/biocbuild/bbs-3.21-bioc/R/include" -DNDEBUG -I'E:/biocbuild/bbs-3.21-bioc/R/library/Rcpp/include' -I'E:/biocbuild/bbs-3.21-bioc/R/library/beachmat/include' -I'E:/biocbuild/bbs-3.21-bioc/R/library/Rhdf5lib/include' -I'E:/biocbuild/bbs-3.21-bioc/R/library/BH/include' -I'E:/biocbuild/bbs-3.21-bioc/R/library/dqrng/include' -I'E:/biocbuild/bbs-3.21-bioc/R/library/scuttle/include' -I"C:/rtools45/x86_64-w64-mingw32.static.posix/include" -O2 -Wall -mfpmath=sse -msse2 -mstackrealign -c encode_sequences.cpp -o encode_sequences.o
encode_sequences.cpp: In function 'Rcpp::IntegerVector encode_sequences(Rcpp::StringVector)':
encode_sequences.cpp:8:23: warning: comparison of integer expressions of different signedness: 'size_t' {aka 'long long unsigned int'} and 'R_xlen_t' {aka 'long long int'} [-Wsign-compare]
8 | for (size_t i=0; i<output.size(); ++i) {
| ~^~~~~~~~~~~~~~
g++ -std=gnu++11 -I"E:/biocbuild/bbs-3.21-bioc/R/include" -DNDEBUG -I'E:/biocbuild/bbs-3.21-bioc/R/library/Rcpp/include' -I'E:/biocbuild/bbs-3.21-bioc/R/library/beachmat/include' -I'E:/biocbuild/bbs-3.21-bioc/R/library/Rhdf5lib/include' -I'E:/biocbuild/bbs-3.21-bioc/R/library/BH/include' -I'E:/biocbuild/bbs-3.21-bioc/R/library/dqrng/include' -I'E:/biocbuild/bbs-3.21-bioc/R/library/scuttle/include' -I"C:/rtools45/x86_64-w64-mingw32.static.posix/include" -O2 -Wall -mfpmath=sse -msse2 -mstackrealign -c find_chimeric.cpp -o find_chimeric.o
find_chimeric.cpp: In function 'Rcpp::List find_chimeric(Rcpp::StringVector, Rcpp::IntegerVector, Rcpp::IntegerVector, double, bool)':
find_chimeric.cpp:28:23: warning: comparison of integer expressions of different signedness: 'size_t' {aka 'long long unsigned int'} and 'long long int' [-Wsign-compare]
28 | for (size_t i=0; i<nmolecules; ++i, ++uIt) {
| ~^~~~~~~~~~~
g++ -std=gnu++11 -I"E:/biocbuild/bbs-3.21-bioc/R/include" -DNDEBUG -I'E:/biocbuild/bbs-3.21-bioc/R/library/Rcpp/include' -I'E:/biocbuild/bbs-3.21-bioc/R/library/beachmat/include' -I'E:/biocbuild/bbs-3.21-bioc/R/library/Rhdf5lib/include' -I'E:/biocbuild/bbs-3.21-bioc/R/library/BH/include' -I'E:/biocbuild/bbs-3.21-bioc/R/library/dqrng/include' -I'E:/biocbuild/bbs-3.21-bioc/R/library/scuttle/include' -I"C:/rtools45/x86_64-w64-mingw32.static.posix/include" -O2 -Wall -mfpmath=sse -msse2 -mstackrealign -c find_swapped.cpp -o find_swapped.o
In file included from E:/biocbuild/bbs-3.21-bioc/R/library/beachmat/include/beachmat3/read_lin_block.h:11,
from E:/biocbuild/bbs-3.21-bioc/R/library/beachmat/include/beachmat3/beachmat.h:24,
from find_swapped.cpp:2:
E:/biocbuild/bbs-3.21-bioc/R/library/beachmat/include/beachmat3/lin_matrix.h:95:27: warning: 'virtual const double* beachmat::lin_matrix::get_row(size_t, double*, size_t, size_t)' was hidden [-Woverloaded-virtual=]
95 | virtual const double* get_row(size_t r, double* work, size_t first, size_t last) = 0;
| ^~~~~~~
E:/biocbuild/bbs-3.21-bioc/R/library/beachmat/include/beachmat3/lin_matrix.h:338:38: note: by 'beachmat::lin_sparse_matrix::get_row'
338 | sparse_index<const double*, int> get_row(size_t r, double* work_x, int* work_i) {
| ^~~~~~~
E:/biocbuild/bbs-3.21-bioc/R/library/beachmat/include/beachmat3/lin_matrix.h:66:24: warning: 'virtual const int* beachmat::lin_matrix::get_row(size_t, int*, size_t, size_t)' was hidden [-Woverloaded-virtual=]
66 | virtual const int* get_row(size_t r, int* work, size_t first, size_t last) = 0;
| ^~~~~~~
E:/biocbuild/bbs-3.21-bioc/R/library/beachmat/include/beachmat3/lin_matrix.h:338:38: note: by 'beachmat::lin_sparse_matrix::get_row'
338 | sparse_index<const double*, int> get_row(size_t r, double* work_x, int* work_i) {
| ^~~~~~~
E:/biocbuild/bbs-3.21-bioc/R/library/beachmat/include/beachmat3/lin_matrix.h:81:27: warning: 'virtual const double* beachmat::lin_matrix::get_col(size_t, double*, size_t, size_t)' was hidden [-Woverloaded-virtual=]
81 | virtual const double* get_col(size_t c, double* work, size_t first, size_t last) = 0;
| ^~~~~~~
E:/biocbuild/bbs-3.21-bioc/R/library/beachmat/include/beachmat3/lin_matrix.h:321:38: note: by 'beachmat::lin_sparse_matrix::get_col'
321 | sparse_index<const double*, int> get_col(size_t c, double* work_x, int* work_i) {
| ^~~~~~~
E:/biocbuild/bbs-3.21-bioc/R/library/beachmat/include/beachmat3/lin_matrix.h:52:24: warning: 'virtual const int* beachmat::lin_matrix::get_col(size_t, int*, size_t, size_t)' was hidden [-Woverloaded-virtual=]
52 | virtual const int* get_col(size_t c, int* work, size_t first, size_t last) = 0;
| ^~~~~~~
E:/biocbuild/bbs-3.21-bioc/R/library/beachmat/include/beachmat3/lin_matrix.h:321:38: note: by 'beachmat::lin_sparse_matrix::get_col'
321 | sparse_index<const double*, int> get_col(size_t c, double* work_x, int* work_i) {
| ^~~~~~~
In file included from E:/biocbuild/bbs-3.21-bioc/R/library/beachmat/include/beachmat3/lin_matrix.h:12:
E:/biocbuild/bbs-3.21-bioc/R/library/beachmat/include/beachmat3/Csparse_reader.h: In instantiation of 'beachmat::SparseArraySeed_reader<V, TIT>::SparseArraySeed_reader(Rcpp::RObject) [with V = Rcpp::Vector<13>; TIT = const int*; Rcpp::RObject = Rcpp::RObject_Impl<Rcpp::PreserveStorage>]':
E:/biocbuild/bbs-3.21-bioc/R/library/beachmat/include/beachmat3/lin_matrix.h:561:46: required from 'beachmat::lin_SparseArraySeed<V, TIT>::lin_SparseArraySeed(Rcpp::RObject) [with V = Rcpp::Vector<13>; TIT = const int*; Rcpp::RObject = Rcpp::RObject_Impl<Rcpp::PreserveStorage>]'
561 | lin_SparseArraySeed(Rcpp::RObject mat) : reader(mat) {
| ^~~~~~~~~~~
E:/biocbuild/bbs-3.21-bioc/R/library/beachmat/include/beachmat3/read_lin_block.h:36:39: required from 'std::unique_ptr<M> beachmat::read_lin_sparse_block_raw(Rcpp::RObject) [with M = lin_matrix; Rcpp::RObject = Rcpp::RObject_Impl<Rcpp::PreserveStorage>]'
36 | return std::unique_ptr<M>(new integer_SparseArraySeed(block));
| ^~~~~~~~~~~~~~~~~~~~~~~~~~~~~~~~~~
E:/biocbuild/bbs-3.21-bioc/R/library/beachmat/include/beachmat3/read_lin_block.h:65:57: required from here
65 | auto ptr = read_lin_sparse_block_raw<lin_matrix>(block);
| ~~~~~~~~~~~~~~~~~~~~~~~~~~~~~~~~~~~~~^~~~~~~
E:/biocbuild/bbs-3.21-bioc/R/library/beachmat/include/beachmat3/Csparse_reader.h:535:17: warning: comparison of integer expressions of different signedness: 'const size_t' {aka 'const long long unsigned int'} and 'R_xlen_t' {aka 'long long int'} [-Wsign-compare]
535 | if (nnz != x.size()) {
| ~~~~^~~~~~~~~~~
E:/biocbuild/bbs-3.21-bioc/R/library/beachmat/include/beachmat3/Csparse_reader.h:551:45: warning: comparison of integer expressions of different signedness: 'int' and 'const size_t' {aka 'const long long unsigned int'} [-Wsign-compare]
551 | if (lastR <= 0 || lastR > NR || lastC <= 0 || lastC > NC) {
| ~~~~~~^~~~
E:/biocbuild/bbs-3.21-bioc/R/library/beachmat/include/beachmat3/Csparse_reader.h:551:73: warning: comparison of integer expressions of different signedness: 'int' and 'const size_t' {aka 'const long long unsigned int'} [-Wsign-compare]
551 | if (lastR <= 0 || lastR > NR || lastC <= 0 || lastC > NC) {
| ~~~~~~^~~~
E:/biocbuild/bbs-3.21-bioc/R/library/beachmat/include/beachmat3/Csparse_reader.h:593:35: warning: comparison of integer expressions of different signedness: 'int' and 'const size_t' {aka 'const long long unsigned int'} [-Wsign-compare]
593 | for (int v = 0; v < nnz; ++v, ++rowIt, ++colIt, ++xIt) {
| ~~^~~~~
E:/biocbuild/bbs-3.21-bioc/R/library/beachmat/include/beachmat3/Csparse_reader.h: In instantiation of 'beachmat::SparseArraySeed_reader<V, TIT>::SparseArraySeed_reader(Rcpp::RObject) [with V = Rcpp::Vector<14, Rcpp::PreserveStorage>; TIT = const double*; Rcpp::RObject = Rcpp::RObject_Impl<Rcpp::PreserveStorage>]':
E:/biocbuild/bbs-3.21-bioc/R/library/beachmat/include/beachmat3/lin_matrix.h:561:46: required from 'beachmat::lin_SparseArraySeed<V, TIT>::lin_SparseArraySeed(Rcpp::RObject) [with V = Rcpp::Vector<14, Rcpp::PreserveStorage>; TIT = const double*; Rcpp::RObject = Rcpp::RObject_Impl<Rcpp::PreserveStorage>]'
561 | lin_SparseArraySeed(Rcpp::RObject mat) : reader(mat) {
| ^~~~~~~~~~~
E:/biocbuild/bbs-3.21-bioc/R/library/beachmat/include/beachmat3/read_lin_block.h:38:39: required from 'std::unique_ptr<M> beachmat::read_lin_sparse_block_raw(Rcpp::RObject) [with M = lin_matrix; Rcpp::RObject = Rcpp::RObject_Impl<Rcpp::PreserveStorage>]'
38 | return std::unique_ptr<M>(new double_SparseArraySeed(block));
| ^~~~~~~~~~~~~~~~~~~~~~~~~~~~~~~~~
E:/biocbuild/bbs-3.21-bioc/R/library/beachmat/include/beachmat3/read_lin_block.h:65:57: required from here
65 | auto ptr = read_lin_sparse_block_raw<lin_matrix>(block);
| ~~~~~~~~~~~~~~~~~~~~~~~~~~~~~~~~~~~~~^~~~~~~
E:/biocbuild/bbs-3.21-bioc/R/library/beachmat/include/beachmat3/Csparse_reader.h:535:17: warning: comparison of integer expressions of different signedness: 'const size_t' {aka 'const long long unsigned int'} and 'R_xlen_t' {aka 'long long int'} [-Wsign-compare]
535 | if (nnz != x.size()) {
| ~~~~^~~~~~~~~~~
E:/biocbuild/bbs-3.21-bioc/R/library/beachmat/include/beachmat3/Csparse_reader.h:551:45: warning: comparison of integer expressions of different signedness: 'int' and 'const size_t' {aka 'const long long unsigned int'} [-Wsign-compare]
551 | if (lastR <= 0 || lastR > NR || lastC <= 0 || lastC > NC) {
| ~~~~~~^~~~
E:/biocbuild/bbs-3.21-bioc/R/library/beachmat/include/beachmat3/Csparse_reader.h:551:73: warning: comparison of integer expressions of different signedness: 'int' and 'const size_t' {aka 'const long long unsigned int'} [-Wsign-compare]
551 | if (lastR <= 0 || lastR > NR || lastC <= 0 || lastC > NC) {
| ~~~~~~^~~~
E:/biocbuild/bbs-3.21-bioc/R/library/beachmat/include/beachmat3/Csparse_reader.h:593:35: warning: comparison of integer expressions of different signedness: 'int' and 'const size_t' {aka 'const long long unsigned int'} [-Wsign-compare]
593 | for (int v = 0; v < nnz; ++v, ++rowIt, ++colIt, ++xIt) {
| ~~^~~~~
E:/biocbuild/bbs-3.21-bioc/R/library/beachmat/include/beachmat3/Csparse_reader.h: In instantiation of 'beachmat::SparseArraySeed_reader<V, TIT>::SparseArraySeed_reader(Rcpp::RObject) [with V = Rcpp::Vector<10, Rcpp::PreserveStorage>; TIT = const int*; Rcpp::RObject = Rcpp::RObject_Impl<Rcpp::PreserveStorage>]':
E:/biocbuild/bbs-3.21-bioc/R/library/beachmat/include/beachmat3/lin_matrix.h:561:46: required from 'beachmat::lin_SparseArraySeed<V, TIT>::lin_SparseArraySeed(Rcpp::RObject) [with V = Rcpp::Vector<10, Rcpp::PreserveStorage>; TIT = const int*; Rcpp::RObject = Rcpp::RObject_Impl<Rcpp::PreserveStorage>]'
561 | lin_SparseArraySeed(Rcpp::RObject mat) : reader(mat) {
| ^~~~~~~~~~~
E:/biocbuild/bbs-3.21-bioc/R/library/beachmat/include/beachmat3/read_lin_block.h:40:39: required from 'std::unique_ptr<M> beachmat::read_lin_sparse_block_raw(Rcpp::RObject) [with M = lin_matrix; Rcpp::RObject = Rcpp::RObject_Impl<Rcpp::PreserveStorage>]'
40 | return std::unique_ptr<M>(new logical_SparseArraySeed(block));
| ^~~~~~~~~~~~~~~~~~~~~~~~~~~~~~~~~~
E:/biocbuild/bbs-3.21-bioc/R/library/beachmat/include/beachmat3/read_lin_block.h:65:57: required from here
65 | auto ptr = read_lin_sparse_block_raw<lin_matrix>(block);
| ~~~~~~~~~~~~~~~~~~~~~~~~~~~~~~~~~~~~~^~~~~~~
E:/biocbuild/bbs-3.21-bioc/R/library/beachmat/include/beachmat3/Csparse_reader.h:535:17: warning: comparison of integer expressions of different signedness: 'const size_t' {aka 'const long long unsigned int'} and 'R_xlen_t' {aka 'long long int'} [-Wsign-compare]
535 | if (nnz != x.size()) {
| ~~~~^~~~~~~~~~~
E:/biocbuild/bbs-3.21-bioc/R/library/beachmat/include/beachmat3/Csparse_reader.h:551:45: warning: comparison of integer expressions of different signedness: 'int' and 'const size_t' {aka 'const long long unsigned int'} [-Wsign-compare]
551 | if (lastR <= 0 || lastR > NR || lastC <= 0 || lastC > NC) {
| ~~~~~~^~~~
E:/biocbuild/bbs-3.21-bioc/R/library/beachmat/include/beachmat3/Csparse_reader.h:551:73: warning: comparison of integer expressions of different signedness: 'int' and 'const size_t' {aka 'const long long unsigned int'} [-Wsign-compare]
551 | if (lastR <= 0 || lastR > NR || lastC <= 0 || lastC > NC) {
| ~~~~~~^~~~
E:/biocbuild/bbs-3.21-bioc/R/library/beachmat/include/beachmat3/Csparse_reader.h:593:35: warning: comparison of integer expressions of different signedness: 'int' and 'const size_t' {aka 'const long long unsigned int'} [-Wsign-compare]
593 | for (int v = 0; v < nnz; ++v, ++rowIt, ++colIt, ++xIt) {
| ~~^~~~~
E:/biocbuild/bbs-3.21-bioc/R/library/beachmat/include/beachmat3/Csparse_reader.h: In instantiation of 'beachmat::sparse_index<OUT, I> beachmat::Csparse_core<TIT, I, P>::get_row(size_t, ALT, I*, size_t, size_t) [with OUT = const int*; ALT = int*; TIT = const double*; I = int; P = long long unsigned int; size_t = long long unsigned int]':
E:/biocbuild/bbs-3.21-bioc/R/library/beachmat/include/beachmat3/Csparse_reader.h:650:42: required from 'beachmat::sparse_index<OUT, int> beachmat::SparseArraySeed_reader<V, TIT>::get_row(size_t, ALT, int*, size_t, size_t) [with OUT = const int*; ALT = int*; V = Rcpp::Vector<14, Rcpp::PreserveStorage>; TIT = const double*; size_t = long long unsigned int]'
650 | return core.template get_row<OUT>(r, work_x, work_i, first, last);
| ~~~~~~~~~~~~~~~~~~~~~~~~~~^~~~~~~~~~~~~~~~~~~~~~~~~~~~~~~~
E:/biocbuild/bbs-3.21-bioc/R/library/beachmat/include/beachmat3/lin_matrix.h:596:51: required from 'beachmat::sparse_index<const int*, int> beachmat::lin_SparseArraySeed<V, TIT>::get_row(size_t, int*, int*, size_t, size_t) [with V = Rcpp::Vector<14, Rcpp::PreserveStorage>; TIT = const double*; size_t = long long unsigned int]'
596 | return reader.template get_row<const int*>(r, work_x, work_i, first, last);
| ~~~~~~~~~~~~~~~~~~~~~~~~~~~~~~~~~~~^~~~~~~~~~~~~~~~~~~~~~~~~~~~~~~~
E:/biocbuild/bbs-3.21-bioc/R/library/beachmat/include/beachmat3/lin_matrix.h:595:35: required from here
595 | sparse_index<const int*, int> get_row(size_t r, int* work_x, int* work_i, size_t first, size_t last) {
| ^~~~~~~
E:/biocbuild/bbs-3.21-bioc/R/library/beachmat/include/beachmat3/Csparse_reader.h:250:22: warning: comparison of integer expressions of different signedness: 'const int' and 'const long long unsigned int' [-Wsign-compare]
250 | if (idex != *pIt && static_cast<size_t>(i[idex]) == r) {
| ~~~~~^~~~~~~
E:/biocbuild/bbs-3.21-bioc/R/library/beachmat/include/beachmat3/Csparse_reader.h: In instantiation of 'beachmat::sparse_index<OUT, I> beachmat::Csparse_core<TIT, I, P>::get_row(size_t, ALT, I*, size_t, size_t) [with OUT = const double*; ALT = double*; TIT = const double*; I = int; P = long long unsigned int; size_t = long long unsigned int]':
E:/biocbuild/bbs-3.21-bioc/R/library/beachmat/include/beachmat3/Csparse_reader.h:650:42: required from 'beachmat::sparse_index<OUT, int> beachmat::SparseArraySeed_reader<V, TIT>::get_row(size_t, ALT, int*, size_t, size_t) [with OUT = const double*; ALT = double*; V = Rcpp::Vector<14, Rcpp::PreserveStorage>; TIT = const double*; size_t = long long unsigned int]'
650 | return core.template get_row<OUT>(r, work_x, work_i, first, last);
| ~~~~~~~~~~~~~~~~~~~~~~~~~~^~~~~~~~~~~~~~~~~~~~~~~~~~~~~~~~
E:/biocbuild/bbs-3.21-bioc/R/library/beachmat/include/beachmat3/lin_matrix.h:602:54: required from 'beachmat::sparse_index<const double*, int> beachmat::lin_SparseArraySeed<V, TIT>::get_row(size_t, double*, int*, size_t, size_t) [with V = Rcpp::Vector<14, Rcpp::PreserveStorage>; TIT = const double*; size_t = long long unsigned int]'
602 | return reader.template get_row<const double*>(r, work_x, work_i, first, last);
| ~~~~~~~~~~~~~~~~~~~~~~~~~~~~~~~~~~~~~~^~~~~~~~~~~~~~~~~~~~~~~~~~~~~~~~
E:/biocbuild/bbs-3.21-bioc/R/library/beachmat/include/beachmat3/lin_matrix.h:601:38: required from here
601 | sparse_index<const double*, int> get_row(size_t r, double* work_x, int* work_i, size_t first, size_t last) {
| ^~~~~~~
E:/biocbuild/bbs-3.21-bioc/R/library/beachmat/include/beachmat3/Csparse_reader.h:250:22: warning: comparison of integer expressions of different signedness: 'const int' and 'const long long unsigned int' [-Wsign-compare]
250 | if (idex != *pIt && static_cast<size_t>(i[idex]) == r) {
| ~~~~~^~~~~~~
E:/biocbuild/bbs-3.21-bioc/R/library/beachmat/include/beachmat3/Csparse_reader.h: In instantiation of 'beachmat::sparse_index<OUT, I> beachmat::Csparse_core<TIT, I, P>::get_row(size_t, ALT, I*, size_t, size_t) [with OUT = const int*; ALT = int*; TIT = const int*; I = int; P = long long unsigned int; size_t = long long unsigned int]':
E:/biocbuild/bbs-3.21-bioc/R/library/beachmat/include/beachmat3/Csparse_reader.h:650:42: required from 'beachmat::sparse_index<OUT, int> beachmat::SparseArraySeed_reader<V, TIT>::get_row(size_t, ALT, int*, size_t, size_t) [with OUT = const int*; ALT = int*; V = Rcpp::Vector<10, Rcpp::PreserveStorage>; TIT = const int*; size_t = long long unsigned int]'
650 | return core.template get_row<OUT>(r, work_x, work_i, first, last);
| ~~~~~~~~~~~~~~~~~~~~~~~~~~^~~~~~~~~~~~~~~~~~~~~~~~~~~~~~~~
E:/biocbuild/bbs-3.21-bioc/R/library/beachmat/include/beachmat3/lin_matrix.h:596:51: required from 'beachmat::sparse_index<const int*, int> beachmat::lin_SparseArraySeed<V, TIT>::get_row(size_t, int*, int*, size_t, size_t) [with V = Rcpp::Vector<10, Rcpp::PreserveStorage>; TIT = const int*; size_t = long long unsigned int]'
596 | return reader.template get_row<const int*>(r, work_x, work_i, first, last);
| ~~~~~~~~~~~~~~~~~~~~~~~~~~~~~~~~~~~^~~~~~~~~~~~~~~~~~~~~~~~~~~~~~~~
E:/biocbuild/bbs-3.21-bioc/R/library/beachmat/include/beachmat3/lin_matrix.h:595:35: required from here
595 | sparse_index<const int*, int> get_row(size_t r, int* work_x, int* work_i, size_t first, size_t last) {
| ^~~~~~~
E:/biocbuild/bbs-3.21-bioc/R/library/beachmat/include/beachmat3/Csparse_reader.h:250:22: warning: comparison of integer expressions of different signedness: 'const int' and 'const long long unsigned int' [-Wsign-compare]
250 | if (idex != *pIt && static_cast<size_t>(i[idex]) == r) {
| ~~~~~^~~~~~~
E:/biocbuild/bbs-3.21-bioc/R/library/beachmat/include/beachmat3/Csparse_reader.h: In instantiation of 'beachmat::sparse_index<OUT, I> beachmat::Csparse_core<TIT, I, P>::get_row(size_t, ALT, I*, size_t, size_t) [with OUT = const double*; ALT = double*; TIT = const int*; I = int; P = long long unsigned int; size_t = long long unsigned int]':
E:/biocbuild/bbs-3.21-bioc/R/library/beachmat/include/beachmat3/Csparse_reader.h:650:42: required from 'beachmat::sparse_index<OUT, int> beachmat::SparseArraySeed_reader<V, TIT>::get_row(size_t, ALT, int*, size_t, size_t) [with OUT = const double*; ALT = double*; V = Rcpp::Vector<10, Rcpp::PreserveStorage>; TIT = const int*; size_t = long long unsigned int]'
650 | return core.template get_row<OUT>(r, work_x, work_i, first, last);
| ~~~~~~~~~~~~~~~~~~~~~~~~~~^~~~~~~~~~~~~~~~~~~~~~~~~~~~~~~~
E:/biocbuild/bbs-3.21-bioc/R/library/beachmat/include/beachmat3/lin_matrix.h:602:54: required from 'beachmat::sparse_index<const double*, int> beachmat::lin_SparseArraySeed<V, TIT>::get_row(size_t, double*, int*, size_t, size_t) [with V = Rcpp::Vector<10, Rcpp::PreserveStorage>; TIT = const int*; size_t = long long unsigned int]'
602 | return reader.template get_row<const double*>(r, work_x, work_i, first, last);
| ~~~~~~~~~~~~~~~~~~~~~~~~~~~~~~~~~~~~~~^~~~~~~~~~~~~~~~~~~~~~~~~~~~~~~~
E:/biocbuild/bbs-3.21-bioc/R/library/beachmat/include/beachmat3/lin_matrix.h:601:38: required from here
601 | sparse_index<const double*, int> get_row(size_t r, double* work_x, int* work_i, size_t first, size_t last) {
| ^~~~~~~
E:/biocbuild/bbs-3.21-bioc/R/library/beachmat/include/beachmat3/Csparse_reader.h:250:22: warning: comparison of integer expressions of different signedness: 'const int' and 'const long long unsigned int' [-Wsign-compare]
250 | if (idex != *pIt && static_cast<size_t>(i[idex]) == r) {
| ~~~~~^~~~~~~
g++ -std=gnu++11 -I"E:/biocbuild/bbs-3.21-bioc/R/include" -DNDEBUG -I'E:/biocbuild/bbs-3.21-bioc/R/library/Rcpp/include' -I'E:/biocbuild/bbs-3.21-bioc/R/library/beachmat/include' -I'E:/biocbuild/bbs-3.21-bioc/R/library/Rhdf5lib/include' -I'E:/biocbuild/bbs-3.21-bioc/R/library/BH/include' -I'E:/biocbuild/bbs-3.21-bioc/R/library/dqrng/include' -I'E:/biocbuild/bbs-3.21-bioc/R/library/scuttle/include' -I"C:/rtools45/x86_64-w64-mingw32.static.posix/include" -O2 -Wall -mfpmath=sse -msse2 -mstackrealign -c get_cell_barcodes.cpp -o get_cell_barcodes.o
g++ -std=gnu++11 -I"E:/biocbuild/bbs-3.21-bioc/R/include" -DNDEBUG -I'E:/biocbuild/bbs-3.21-bioc/R/library/Rcpp/include' -I'E:/biocbuild/bbs-3.21-bioc/R/library/beachmat/include' -I'E:/biocbuild/bbs-3.21-bioc/R/library/Rhdf5lib/include' -I'E:/biocbuild/bbs-3.21-bioc/R/library/BH/include' -I'E:/biocbuild/bbs-3.21-bioc/R/library/dqrng/include' -I'E:/biocbuild/bbs-3.21-bioc/R/library/scuttle/include' -I"C:/rtools45/x86_64-w64-mingw32.static.posix/include" -O2 -Wall -mfpmath=sse -msse2 -mstackrealign -c group_cells.cpp -o group_cells.o
group_cells.cpp: In function 'Rcpp::List group_cells(Rcpp::StringVector, Rcpp::IntegerVector)':
group_cells.cpp:10:10: warning: comparison of integer expressions of different signedness: 'const size_t' {aka 'const long long unsigned int'} and 'R_xlen_t' {aka 'long long int'} [-Wsign-compare]
10 | if (N!=gems.size()) {
| ~^~~~~~~~~~~~~
g++ -std=gnu++11 -I"E:/biocbuild/bbs-3.21-bioc/R/include" -DNDEBUG -I'E:/biocbuild/bbs-3.21-bioc/R/library/Rcpp/include' -I'E:/biocbuild/bbs-3.21-bioc/R/library/beachmat/include' -I'E:/biocbuild/bbs-3.21-bioc/R/library/Rhdf5lib/include' -I'E:/biocbuild/bbs-3.21-bioc/R/library/BH/include' -I'E:/biocbuild/bbs-3.21-bioc/R/library/dqrng/include' -I'E:/biocbuild/bbs-3.21-bioc/R/library/scuttle/include' -I"C:/rtools45/x86_64-w64-mingw32.static.posix/include" -O2 -Wall -mfpmath=sse -msse2 -mstackrealign -c hashed_deltas.cpp -o hashed_deltas.o
In file included from E:/biocbuild/bbs-3.21-bioc/R/library/beachmat/include/beachmat3/read_lin_block.h:11,
from E:/biocbuild/bbs-3.21-bioc/R/library/beachmat/include/beachmat3/beachmat.h:24,
from hashed_deltas.cpp:2:
E:/biocbuild/bbs-3.21-bioc/R/library/beachmat/include/beachmat3/lin_matrix.h:95:27: warning: 'virtual const double* beachmat::lin_matrix::get_row(size_t, double*, size_t, size_t)' was hidden [-Woverloaded-virtual=]
95 | virtual const double* get_row(size_t r, double* work, size_t first, size_t last) = 0;
| ^~~~~~~
E:/biocbuild/bbs-3.21-bioc/R/library/beachmat/include/beachmat3/lin_matrix.h:338:38: note: by 'beachmat::lin_sparse_matrix::get_row'
338 | sparse_index<const double*, int> get_row(size_t r, double* work_x, int* work_i) {
| ^~~~~~~
E:/biocbuild/bbs-3.21-bioc/R/library/beachmat/include/beachmat3/lin_matrix.h:66:24: warning: 'virtual const int* beachmat::lin_matrix::get_row(size_t, int*, size_t, size_t)' was hidden [-Woverloaded-virtual=]
66 | virtual const int* get_row(size_t r, int* work, size_t first, size_t last) = 0;
| ^~~~~~~
E:/biocbuild/bbs-3.21-bioc/R/library/beachmat/include/beachmat3/lin_matrix.h:338:38: note: by 'beachmat::lin_sparse_matrix::get_row'
338 | sparse_index<const double*, int> get_row(size_t r, double* work_x, int* work_i) {
| ^~~~~~~
E:/biocbuild/bbs-3.21-bioc/R/library/beachmat/include/beachmat3/lin_matrix.h:81:27: warning: 'virtual const double* beachmat::lin_matrix::get_col(size_t, double*, size_t, size_t)' was hidden [-Woverloaded-virtual=]
81 | virtual const double* get_col(size_t c, double* work, size_t first, size_t last) = 0;
| ^~~~~~~
E:/biocbuild/bbs-3.21-bioc/R/library/beachmat/include/beachmat3/lin_matrix.h:321:38: note: by 'beachmat::lin_sparse_matrix::get_col'
321 | sparse_index<const double*, int> get_col(size_t c, double* work_x, int* work_i) {
| ^~~~~~~
E:/biocbuild/bbs-3.21-bioc/R/library/beachmat/include/beachmat3/lin_matrix.h:52:24: warning: 'virtual const int* beachmat::lin_matrix::get_col(size_t, int*, size_t, size_t)' was hidden [-Woverloaded-virtual=]
52 | virtual const int* get_col(size_t c, int* work, size_t first, size_t last) = 0;
| ^~~~~~~
E:/biocbuild/bbs-3.21-bioc/R/library/beachmat/include/beachmat3/lin_matrix.h:321:38: note: by 'beachmat::lin_sparse_matrix::get_col'
321 | sparse_index<const double*, int> get_col(size_t c, double* work_x, int* work_i) {
| ^~~~~~~
In file included from E:/biocbuild/bbs-3.21-bioc/R/library/beachmat/include/beachmat3/lin_matrix.h:12:
E:/biocbuild/bbs-3.21-bioc/R/library/beachmat/include/beachmat3/Csparse_reader.h: In instantiation of 'beachmat::SparseArraySeed_reader<V, TIT>::SparseArraySeed_reader(Rcpp::RObject) [with V = Rcpp::Vector<13>; TIT = const int*; Rcpp::RObject = Rcpp::RObject_Impl<Rcpp::PreserveStorage>]':
E:/biocbuild/bbs-3.21-bioc/R/library/beachmat/include/beachmat3/lin_matrix.h:561:46: required from 'beachmat::lin_SparseArraySeed<V, TIT>::lin_SparseArraySeed(Rcpp::RObject) [with V = Rcpp::Vector<13>; TIT = const int*; Rcpp::RObject = Rcpp::RObject_Impl<Rcpp::PreserveStorage>]'
561 | lin_SparseArraySeed(Rcpp::RObject mat) : reader(mat) {
| ^~~~~~~~~~~
E:/biocbuild/bbs-3.21-bioc/R/library/beachmat/include/beachmat3/read_lin_block.h:36:39: required from 'std::unique_ptr<M> beachmat::read_lin_sparse_block_raw(Rcpp::RObject) [with M = lin_matrix; Rcpp::RObject = Rcpp::RObject_Impl<Rcpp::PreserveStorage>]'
36 | return std::unique_ptr<M>(new integer_SparseArraySeed(block));
| ^~~~~~~~~~~~~~~~~~~~~~~~~~~~~~~~~~
E:/biocbuild/bbs-3.21-bioc/R/library/beachmat/include/beachmat3/read_lin_block.h:65:57: required from here
65 | auto ptr = read_lin_sparse_block_raw<lin_matrix>(block);
| ~~~~~~~~~~~~~~~~~~~~~~~~~~~~~~~~~~~~~^~~~~~~
E:/biocbuild/bbs-3.21-bioc/R/library/beachmat/include/beachmat3/Csparse_reader.h:535:17: warning: comparison of integer expressions of different signedness: 'const size_t' {aka 'const long long unsigned int'} and 'R_xlen_t' {aka 'long long int'} [-Wsign-compare]
535 | if (nnz != x.size()) {
| ~~~~^~~~~~~~~~~
E:/biocbuild/bbs-3.21-bioc/R/library/beachmat/include/beachmat3/Csparse_reader.h:551:45: warning: comparison of integer expressions of different signedness: 'int' and 'const size_t' {aka 'const long long unsigned int'} [-Wsign-compare]
551 | if (lastR <= 0 || lastR > NR || lastC <= 0 || lastC > NC) {
| ~~~~~~^~~~
E:/biocbuild/bbs-3.21-bioc/R/library/beachmat/include/beachmat3/Csparse_reader.h:551:73: warning: comparison of integer expressions of different signedness: 'int' and 'const size_t' {aka 'const long long unsigned int'} [-Wsign-compare]
551 | if (lastR <= 0 || lastR > NR || lastC <= 0 || lastC > NC) {
| ~~~~~~^~~~
E:/biocbuild/bbs-3.21-bioc/R/library/beachmat/include/beachmat3/Csparse_reader.h:593:35: warning: comparison of integer expressions of different signedness: 'int' and 'const size_t' {aka 'const long long unsigned int'} [-Wsign-compare]
593 | for (int v = 0; v < nnz; ++v, ++rowIt, ++colIt, ++xIt) {
| ~~^~~~~
E:/biocbuild/bbs-3.21-bioc/R/library/beachmat/include/beachmat3/Csparse_reader.h: In instantiation of 'beachmat::SparseArraySeed_reader<V, TIT>::SparseArraySeed_reader(Rcpp::RObject) [with V = Rcpp::Vector<14, Rcpp::PreserveStorage>; TIT = const double*; Rcpp::RObject = Rcpp::RObject_Impl<Rcpp::PreserveStorage>]':
E:/biocbuild/bbs-3.21-bioc/R/library/beachmat/include/beachmat3/lin_matrix.h:561:46: required from 'beachmat::lin_SparseArraySeed<V, TIT>::lin_SparseArraySeed(Rcpp::RObject) [with V = Rcpp::Vector<14, Rcpp::PreserveStorage>; TIT = const double*; Rcpp::RObject = Rcpp::RObject_Impl<Rcpp::PreserveStorage>]'
561 | lin_SparseArraySeed(Rcpp::RObject mat) : reader(mat) {
| ^~~~~~~~~~~
E:/biocbuild/bbs-3.21-bioc/R/library/beachmat/include/beachmat3/read_lin_block.h:38:39: required from 'std::unique_ptr<M> beachmat::read_lin_sparse_block_raw(Rcpp::RObject) [with M = lin_matrix; Rcpp::RObject = Rcpp::RObject_Impl<Rcpp::PreserveStorage>]'
38 | return std::unique_ptr<M>(new double_SparseArraySeed(block));
| ^~~~~~~~~~~~~~~~~~~~~~~~~~~~~~~~~
E:/biocbuild/bbs-3.21-bioc/R/library/beachmat/include/beachmat3/read_lin_block.h:65:57: required from here
65 | auto ptr = read_lin_sparse_block_raw<lin_matrix>(block);
| ~~~~~~~~~~~~~~~~~~~~~~~~~~~~~~~~~~~~~^~~~~~~
E:/biocbuild/bbs-3.21-bioc/R/library/beachmat/include/beachmat3/Csparse_reader.h:535:17: warning: comparison of integer expressions of different signedness: 'const size_t' {aka 'const long long unsigned int'} and 'R_xlen_t' {aka 'long long int'} [-Wsign-compare]
535 | if (nnz != x.size()) {
| ~~~~^~~~~~~~~~~
E:/biocbuild/bbs-3.21-bioc/R/library/beachmat/include/beachmat3/Csparse_reader.h:551:45: warning: comparison of integer expressions of different signedness: 'int' and 'const size_t' {aka 'const long long unsigned int'} [-Wsign-compare]
551 | if (lastR <= 0 || lastR > NR || lastC <= 0 || lastC > NC) {
| ~~~~~~^~~~
E:/biocbuild/bbs-3.21-bioc/R/library/beachmat/include/beachmat3/Csparse_reader.h:551:73: warning: comparison of integer expressions of different signedness: 'int' and 'const size_t' {aka 'const long long unsigned int'} [-Wsign-compare]
551 | if (lastR <= 0 || lastR > NR || lastC <= 0 || lastC > NC) {
| ~~~~~~^~~~
E:/biocbuild/bbs-3.21-bioc/R/library/beachmat/include/beachmat3/Csparse_reader.h:593:35: warning: comparison of integer expressions of different signedness: 'int' and 'const size_t' {aka 'const long long unsigned int'} [-Wsign-compare]
593 | for (int v = 0; v < nnz; ++v, ++rowIt, ++colIt, ++xIt) {
| ~~^~~~~
E:/biocbuild/bbs-3.21-bioc/R/library/beachmat/include/beachmat3/Csparse_reader.h: In instantiation of 'beachmat::SparseArraySeed_reader<V, TIT>::SparseArraySeed_reader(Rcpp::RObject) [with V = Rcpp::Vector<10, Rcpp::PreserveStorage>; TIT = const int*; Rcpp::RObject = Rcpp::RObject_Impl<Rcpp::PreserveStorage>]':
E:/biocbuild/bbs-3.21-bioc/R/library/beachmat/include/beachmat3/lin_matrix.h:561:46: required from 'beachmat::lin_SparseArraySeed<V, TIT>::lin_SparseArraySeed(Rcpp::RObject) [with V = Rcpp::Vector<10, Rcpp::PreserveStorage>; TIT = const int*; Rcpp::RObject = Rcpp::RObject_Impl<Rcpp::PreserveStorage>]'
561 | lin_SparseArraySeed(Rcpp::RObject mat) : reader(mat) {
| ^~~~~~~~~~~
E:/biocbuild/bbs-3.21-bioc/R/library/beachmat/include/beachmat3/read_lin_block.h:40:39: required from 'std::unique_ptr<M> beachmat::read_lin_sparse_block_raw(Rcpp::RObject) [with M = lin_matrix; Rcpp::RObject = Rcpp::RObject_Impl<Rcpp::PreserveStorage>]'
40 | return std::unique_ptr<M>(new logical_SparseArraySeed(block));
| ^~~~~~~~~~~~~~~~~~~~~~~~~~~~~~~~~~
E:/biocbuild/bbs-3.21-bioc/R/library/beachmat/include/beachmat3/read_lin_block.h:65:57: required from here
65 | auto ptr = read_lin_sparse_block_raw<lin_matrix>(block);
| ~~~~~~~~~~~~~~~~~~~~~~~~~~~~~~~~~~~~~^~~~~~~
E:/biocbuild/bbs-3.21-bioc/R/library/beachmat/include/beachmat3/Csparse_reader.h:535:17: warning: comparison of integer expressions of different signedness: 'const size_t' {aka 'const long long unsigned int'} and 'R_xlen_t' {aka 'long long int'} [-Wsign-compare]
535 | if (nnz != x.size()) {
| ~~~~^~~~~~~~~~~
E:/biocbuild/bbs-3.21-bioc/R/library/beachmat/include/beachmat3/Csparse_reader.h:551:45: warning: comparison of integer expressions of different signedness: 'int' and 'const size_t' {aka 'const long long unsigned int'} [-Wsign-compare]
551 | if (lastR <= 0 || lastR > NR || lastC <= 0 || lastC > NC) {
| ~~~~~~^~~~
E:/biocbuild/bbs-3.21-bioc/R/library/beachmat/include/beachmat3/Csparse_reader.h:551:73: warning: comparison of integer expressions of different signedness: 'int' and 'const size_t' {aka 'const long long unsigned int'} [-Wsign-compare]
551 | if (lastR <= 0 || lastR > NR || lastC <= 0 || lastC > NC) {
| ~~~~~~^~~~
E:/biocbuild/bbs-3.21-bioc/R/library/beachmat/include/beachmat3/Csparse_reader.h:593:35: warning: comparison of integer expressions of different signedness: 'int' and 'const size_t' {aka 'const long long unsigned int'} [-Wsign-compare]
593 | for (int v = 0; v < nnz; ++v, ++rowIt, ++colIt, ++xIt) {
| ~~^~~~~
E:/biocbuild/bbs-3.21-bioc/R/library/beachmat/include/beachmat3/Csparse_reader.h: In instantiation of 'beachmat::sparse_index<OUT, I> beachmat::Csparse_core<TIT, I, P>::get_row(size_t, ALT, I*, size_t, size_t) [with OUT = const int*; ALT = int*; TIT = const double*; I = int; P = long long unsigned int; size_t = long long unsigned int]':
E:/biocbuild/bbs-3.21-bioc/R/library/beachmat/include/beachmat3/Csparse_reader.h:650:42: required from 'beachmat::sparse_index<OUT, int> beachmat::SparseArraySeed_reader<V, TIT>::get_row(size_t, ALT, int*, size_t, size_t) [with OUT = const int*; ALT = int*; V = Rcpp::Vector<14, Rcpp::PreserveStorage>; TIT = const double*; size_t = long long unsigned int]'
650 | return core.template get_row<OUT>(r, work_x, work_i, first, last);
| ~~~~~~~~~~~~~~~~~~~~~~~~~~^~~~~~~~~~~~~~~~~~~~~~~~~~~~~~~~
E:/biocbuild/bbs-3.21-bioc/R/library/beachmat/include/beachmat3/lin_matrix.h:596:51: required from 'beachmat::sparse_index<const int*, int> beachmat::lin_SparseArraySeed<V, TIT>::get_row(size_t, int*, int*, size_t, size_t) [with V = Rcpp::Vector<14, Rcpp::PreserveStorage>; TIT = const double*; size_t = long long unsigned int]'
596 | return reader.template get_row<const int*>(r, work_x, work_i, first, last);
| ~~~~~~~~~~~~~~~~~~~~~~~~~~~~~~~~~~~^~~~~~~~~~~~~~~~~~~~~~~~~~~~~~~~
E:/biocbuild/bbs-3.21-bioc/R/library/beachmat/include/beachmat3/lin_matrix.h:595:35: required from here
595 | sparse_index<const int*, int> get_row(size_t r, int* work_x, int* work_i, size_t first, size_t last) {
| ^~~~~~~
E:/biocbuild/bbs-3.21-bioc/R/library/beachmat/include/beachmat3/Csparse_reader.h:250:22: warning: comparison of integer expressions of different signedness: 'const int' and 'const long long unsigned int' [-Wsign-compare]
250 | if (idex != *pIt && static_cast<size_t>(i[idex]) == r) {
| ~~~~~^~~~~~~
E:/biocbuild/bbs-3.21-bioc/R/library/beachmat/include/beachmat3/Csparse_reader.h: In instantiation of 'beachmat::sparse_index<OUT, I> beachmat::Csparse_core<TIT, I, P>::get_row(size_t, ALT, I*, size_t, size_t) [with OUT = const double*; ALT = double*; TIT = const double*; I = int; P = long long unsigned int; size_t = long long unsigned int]':
E:/biocbuild/bbs-3.21-bioc/R/library/beachmat/include/beachmat3/Csparse_reader.h:650:42: required from 'beachmat::sparse_index<OUT, int> beachmat::SparseArraySeed_reader<V, TIT>::get_row(size_t, ALT, int*, size_t, size_t) [with OUT = const double*; ALT = double*; V = Rcpp::Vector<14, Rcpp::PreserveStorage>; TIT = const double*; size_t = long long unsigned int]'
650 | return core.template get_row<OUT>(r, work_x, work_i, first, last);
| ~~~~~~~~~~~~~~~~~~~~~~~~~~^~~~~~~~~~~~~~~~~~~~~~~~~~~~~~~~
E:/biocbuild/bbs-3.21-bioc/R/library/beachmat/include/beachmat3/lin_matrix.h:602:54: required from 'beachmat::sparse_index<const double*, int> beachmat::lin_SparseArraySeed<V, TIT>::get_row(size_t, double*, int*, size_t, size_t) [with V = Rcpp::Vector<14, Rcpp::PreserveStorage>; TIT = const double*; size_t = long long unsigned int]'
602 | return reader.template get_row<const double*>(r, work_x, work_i, first, last);
| ~~~~~~~~~~~~~~~~~~~~~~~~~~~~~~~~~~~~~~^~~~~~~~~~~~~~~~~~~~~~~~~~~~~~~~
E:/biocbuild/bbs-3.21-bioc/R/library/beachmat/include/beachmat3/lin_matrix.h:601:38: required from here
601 | sparse_index<const double*, int> get_row(size_t r, double* work_x, int* work_i, size_t first, size_t last) {
| ^~~~~~~
E:/biocbuild/bbs-3.21-bioc/R/library/beachmat/include/beachmat3/Csparse_reader.h:250:22: warning: comparison of integer expressions of different signedness: 'const int' and 'const long long unsigned int' [-Wsign-compare]
250 | if (idex != *pIt && static_cast<size_t>(i[idex]) == r) {
| ~~~~~^~~~~~~
E:/biocbuild/bbs-3.21-bioc/R/library/beachmat/include/beachmat3/Csparse_reader.h: In instantiation of 'beachmat::sparse_index<OUT, I> beachmat::Csparse_core<TIT, I, P>::get_row(size_t, ALT, I*, size_t, size_t) [with OUT = const int*; ALT = int*; TIT = const int*; I = int; P = long long unsigned int; size_t = long long unsigned int]':
E:/biocbuild/bbs-3.21-bioc/R/library/beachmat/include/beachmat3/Csparse_reader.h:650:42: required from 'beachmat::sparse_index<OUT, int> beachmat::SparseArraySeed_reader<V, TIT>::get_row(size_t, ALT, int*, size_t, size_t) [with OUT = const int*; ALT = int*; V = Rcpp::Vector<10, Rcpp::PreserveStorage>; TIT = const int*; size_t = long long unsigned int]'
650 | return core.template get_row<OUT>(r, work_x, work_i, first, last);
| ~~~~~~~~~~~~~~~~~~~~~~~~~~^~~~~~~~~~~~~~~~~~~~~~~~~~~~~~~~
E:/biocbuild/bbs-3.21-bioc/R/library/beachmat/include/beachmat3/lin_matrix.h:596:51: required from 'beachmat::sparse_index<const int*, int> beachmat::lin_SparseArraySeed<V, TIT>::get_row(size_t, int*, int*, size_t, size_t) [with V = Rcpp::Vector<10, Rcpp::PreserveStorage>; TIT = const int*; size_t = long long unsigned int]'
596 | return reader.template get_row<const int*>(r, work_x, work_i, first, last);
| ~~~~~~~~~~~~~~~~~~~~~~~~~~~~~~~~~~~^~~~~~~~~~~~~~~~~~~~~~~~~~~~~~~~
E:/biocbuild/bbs-3.21-bioc/R/library/beachmat/include/beachmat3/lin_matrix.h:595:35: required from here
595 | sparse_index<const int*, int> get_row(size_t r, int* work_x, int* work_i, size_t first, size_t last) {
| ^~~~~~~
E:/biocbuild/bbs-3.21-bioc/R/library/beachmat/include/beachmat3/Csparse_reader.h:250:22: warning: comparison of integer expressions of different signedness: 'const int' and 'const long long unsigned int' [-Wsign-compare]
250 | if (idex != *pIt && static_cast<size_t>(i[idex]) == r) {
| ~~~~~^~~~~~~
E:/biocbuild/bbs-3.21-bioc/R/library/beachmat/include/beachmat3/Csparse_reader.h: In instantiation of 'beachmat::sparse_index<OUT, I> beachmat::Csparse_core<TIT, I, P>::get_row(size_t, ALT, I*, size_t, size_t) [with OUT = const double*; ALT = double*; TIT = const int*; I = int; P = long long unsigned int; size_t = long long unsigned int]':
E:/biocbuild/bbs-3.21-bioc/R/library/beachmat/include/beachmat3/Csparse_reader.h:650:42: required from 'beachmat::sparse_index<OUT, int> beachmat::SparseArraySeed_reader<V, TIT>::get_row(size_t, ALT, int*, size_t, size_t) [with OUT = const double*; ALT = double*; V = Rcpp::Vector<10, Rcpp::PreserveStorage>; TIT = const int*; size_t = long long unsigned int]'
650 | return core.template get_row<OUT>(r, work_x, work_i, first, last);
| ~~~~~~~~~~~~~~~~~~~~~~~~~~^~~~~~~~~~~~~~~~~~~~~~~~~~~~~~~~
E:/biocbuild/bbs-3.21-bioc/R/library/beachmat/include/beachmat3/lin_matrix.h:602:54: required from 'beachmat::sparse_index<const double*, int> beachmat::lin_SparseArraySeed<V, TIT>::get_row(size_t, double*, int*, size_t, size_t) [with V = Rcpp::Vector<10, Rcpp::PreserveStorage>; TIT = const int*; size_t = long long unsigned int]'
602 | return reader.template get_row<const double*>(r, work_x, work_i, first, last);
| ~~~~~~~~~~~~~~~~~~~~~~~~~~~~~~~~~~~~~~^~~~~~~~~~~~~~~~~~~~~~~~~~~~~~~~
E:/biocbuild/bbs-3.21-bioc/R/library/beachmat/include/beachmat3/lin_matrix.h:601:38: required from here
601 | sparse_index<const double*, int> get_row(size_t r, double* work_x, int* work_i, size_t first, size_t last) {
| ^~~~~~~
E:/biocbuild/bbs-3.21-bioc/R/library/beachmat/include/beachmat3/Csparse_reader.h:250:22: warning: comparison of integer expressions of different signedness: 'const int' and 'const long long unsigned int' [-Wsign-compare]
250 | if (idex != *pIt && static_cast<size_t>(i[idex]) == r) {
| ~~~~~^~~~~~~
g++ -std=gnu++11 -I"E:/biocbuild/bbs-3.21-bioc/R/include" -DNDEBUG -I'E:/biocbuild/bbs-3.21-bioc/R/library/Rcpp/include' -I'E:/biocbuild/bbs-3.21-bioc/R/library/beachmat/include' -I'E:/biocbuild/bbs-3.21-bioc/R/library/Rhdf5lib/include' -I'E:/biocbuild/bbs-3.21-bioc/R/library/BH/include' -I'E:/biocbuild/bbs-3.21-bioc/R/library/dqrng/include' -I'E:/biocbuild/bbs-3.21-bioc/R/library/scuttle/include' -I"C:/rtools45/x86_64-w64-mingw32.static.posix/include" -O2 -Wall -mfpmath=sse -msse2 -mstackrealign -c montecarlo_pval.cpp -o montecarlo_pval.o
In file included from E:/biocbuild/bbs-3.21-bioc/R/library/BH/include/boost/mpl/aux_/na_assert.hpp:23,
from E:/biocbuild/bbs-3.21-bioc/R/library/BH/include/boost/mpl/arg.hpp:25,
from E:/biocbuild/bbs-3.21-bioc/R/library/BH/include/boost/mpl/placeholders.hpp:24,
from E:/biocbuild/bbs-3.21-bioc/R/library/BH/include/boost/iterator/iterator_categories.hpp:16,
from E:/biocbuild/bbs-3.21-bioc/R/library/BH/include/boost/iterator/iterator_concepts.hpp:10,
from E:/biocbuild/bbs-3.21-bioc/R/library/BH/include/boost/range/concepts.hpp:20,
from E:/biocbuild/bbs-3.21-bioc/R/library/BH/include/boost/range/size_type.hpp:20,
from E:/biocbuild/bbs-3.21-bioc/R/library/BH/include/boost/range/size.hpp:21,
from E:/biocbuild/bbs-3.21-bioc/R/library/BH/include/boost/random/hyperexponential_distribution.hpp:30,
from E:/biocbuild/bbs-3.21-bioc/R/library/BH/include/boost/random.hpp:71,
from montecarlo_pval.cpp:3:
E:/biocbuild/bbs-3.21-bioc/R/library/BH/include/boost/mpl/assert.hpp:194:21: warning: unnecessary parentheses in declaration of 'assert_arg' [-Wparentheses]
194 | failed ************ (Pred::************
| ^~~~~~~~~~~~~~~~~~~
195 | assert_arg( void (*)(Pred), typename assert_arg_pred<Pred>::type )
| ~~~~~~~~~~~~~~~~~~~~~~~~~~~~~~~~~~~~~~~~~~~~~~~~~~~~~~~~~~~~~~~~~~
196 | );
| ~
E:/biocbuild/bbs-3.21-bioc/R/library/BH/include/boost/mpl/assert.hpp:194:21: note: remove parentheses
194 | failed ************ (Pred::************
| ^~~~~~~~~~~~~~~~~~~
| -
195 | assert_arg( void (*)(Pred), typename assert_arg_pred<Pred>::type )
| ~~~~~~~~~~~~~~~~~~~~~~~~~~~~~~~~~~~~~~~~~~~~~~~~~~~~~~~~~~~~~~~~~~
196 | );
| ~
| -
E:/biocbuild/bbs-3.21-bioc/R/library/BH/include/boost/mpl/assert.hpp:199:21: warning: unnecessary parentheses in declaration of 'assert_not_arg' [-Wparentheses]
199 | failed ************ (boost::mpl::not_<Pred>::************
| ^~~~~~~~~~~~~~~~~~~~~~~~~~~~~~~~~~~~~
200 | assert_not_arg( void (*)(Pred), typename assert_arg_pred_not<Pred>::type )
| ~~~~~~~~~~~~~~~~~~~~~~~~~~~~~~~~~~~~~~~~~~~~~~~~~~~~~~~~~~~~~~~~~~~~~~~~~~
201 | );
| ~
E:/biocbuild/bbs-3.21-bioc/R/library/BH/include/boost/mpl/assert.hpp:199:21: note: remove parentheses
199 | failed ************ (boost::mpl::not_<Pred>::************
| ^~~~~~~~~~~~~~~~~~~~~~~~~~~~~~~~~~~~~
| -
200 | assert_not_arg( void (*)(Pred), typename assert_arg_pred_not<Pred>::type )
| ~~~~~~~~~~~~~~~~~~~~~~~~~~~~~~~~~~~~~~~~~~~~~~~~~~~~~~~~~~~~~~~~~~~~~~~~~~
201 | );
| ~
| -
montecarlo_pval.cpp: In function 'Rcpp::IntegerVector montecarlo_pval(Rcpp::IntegerVector, Rcpp::IntegerVector, Rcpp::NumericVector, Rcpp::NumericVector, int, double, Rcpp::List, Rcpp::IntegerVector)':
montecarlo_pval.cpp:99:23: warning: comparison of integer expressions of different signedness: 'size_t' {aka 'long long unsigned int'} and 'const int' [-Wsign-compare]
99 | if (higher<curlen) {
| ~~~~~~^~~~~~~
g++ -std=gnu++11 -I"E:/biocbuild/bbs-3.21-bioc/R/include" -DNDEBUG -I'E:/biocbuild/bbs-3.21-bioc/R/library/Rcpp/include' -I'E:/biocbuild/bbs-3.21-bioc/R/library/beachmat/include' -I'E:/biocbuild/bbs-3.21-bioc/R/library/Rhdf5lib/include' -I'E:/biocbuild/bbs-3.21-bioc/R/library/BH/include' -I'E:/biocbuild/bbs-3.21-bioc/R/library/dqrng/include' -I'E:/biocbuild/bbs-3.21-bioc/R/library/scuttle/include' -I"C:/rtools45/x86_64-w64-mingw32.static.posix/include" -O2 -Wall -mfpmath=sse -msse2 -mstackrealign -c rand_custom.cpp -o rand_custom.o
rand_custom.cpp: In function 'void check_pcg_vectors(Rcpp::List, Rcpp::IntegerVector, size_t, const char*)':
rand_custom.cpp:8:21: warning: comparison of integer expressions of different signedness: 'R_xlen_t' {aka 'long long int'} and 'size_t' {aka 'long long unsigned int'} [-Wsign-compare]
8 | if (seeds.size()!=N) {
| ~~~~~~~~~~~~^~~
rand_custom.cpp:14:23: warning: comparison of integer expressions of different signedness: 'R_xlen_t' {aka 'long long int'} and 'size_t' {aka 'long long unsigned int'} [-Wsign-compare]
14 | if (streams.size()!=N) {
| ~~~~~~~~~~~~~~^~~
g++ -std=gnu++11 -I"E:/biocbuild/bbs-3.21-bioc/R/include" -DNDEBUG -I'E:/biocbuild/bbs-3.21-bioc/R/library/Rcpp/include' -I'E:/biocbuild/bbs-3.21-bioc/R/library/beachmat/include' -I'E:/biocbuild/bbs-3.21-bioc/R/library/Rhdf5lib/include' -I'E:/biocbuild/bbs-3.21-bioc/R/library/BH/include' -I'E:/biocbuild/bbs-3.21-bioc/R/library/dqrng/include' -I'E:/biocbuild/bbs-3.21-bioc/R/library/scuttle/include' -I"C:/rtools45/x86_64-w64-mingw32.static.posix/include" -O2 -Wall -mfpmath=sse -msse2 -mstackrealign -c utils.cpp -o utils.o
g++ -shared -s -static-libgcc -o DropletUtils.dll tmp.def RcppExports.o downsample_run.o encode_sequences.o find_chimeric.o find_swapped.o get_cell_barcodes.o group_cells.o hashed_deltas.o montecarlo_pval.o rand_custom.o utils.o -LE:/biocbuild/bbs-3.21-bioc/R/library/Rhdf5lib/lib/x64-ucrt -lhdf5_cpp -lhdf5 -lcurl -lssh2 -lssl -lcrypto -lwldap32 -lws2_32 -lcrypt32 -lsz -laec -lz -lpsapi -LC:/rtools45/x86_64-w64-mingw32.static.posix/lib/x64 -LC:/rtools45/x86_64-w64-mingw32.static.posix/lib -LE:/biocbuild/bbs-3.21-bioc/R/bin/x64 -lR
installing to E:/biocbuild/bbs-3.21-bioc/R/library/00LOCK-DropletUtils/00new/DropletUtils/libs/x64
** R
** inst
** byte-compile and prepare package for lazy loading
** help
*** installing help indices
** building package indices
** installing vignettes
** testing if installed package can be loaded from temporary location
** testing if installed package can be loaded from final location
** testing if installed package keeps a record of temporary installation path
* DONE (DropletUtils)
DropletUtils.Rcheck/tests/testthat.Rout
R version 4.5.1 (2025-06-13 ucrt) -- "Great Square Root"
Copyright (C) 2025 The R Foundation for Statistical Computing
Platform: x86_64-w64-mingw32/x64
R is free software and comes with ABSOLUTELY NO WARRANTY.
You are welcome to redistribute it under certain conditions.
Type 'license()' or 'licence()' for distribution details.
R is a collaborative project with many contributors.
Type 'contributors()' for more information and
'citation()' on how to cite R or R packages in publications.
Type 'demo()' for some demos, 'help()' for on-line help, or
'help.start()' for an HTML browser interface to help.
Type 'q()' to quit R.
> library(testthat)
> library(DropletUtils)
Loading required package: SingleCellExperiment
Loading required package: SummarizedExperiment
Loading required package: MatrixGenerics
Loading required package: matrixStats
Attaching package: 'MatrixGenerics'
The following objects are masked from 'package:matrixStats':
colAlls, colAnyNAs, colAnys, colAvgsPerRowSet, colCollapse,
colCounts, colCummaxs, colCummins, colCumprods, colCumsums,
colDiffs, colIQRDiffs, colIQRs, colLogSumExps, colMadDiffs,
colMads, colMaxs, colMeans2, colMedians, colMins, colOrderStats,
colProds, colQuantiles, colRanges, colRanks, colSdDiffs, colSds,
colSums2, colTabulates, colVarDiffs, colVars, colWeightedMads,
colWeightedMeans, colWeightedMedians, colWeightedSds,
colWeightedVars, rowAlls, rowAnyNAs, rowAnys, rowAvgsPerColSet,
rowCollapse, rowCounts, rowCummaxs, rowCummins, rowCumprods,
rowCumsums, rowDiffs, rowIQRDiffs, rowIQRs, rowLogSumExps,
rowMadDiffs, rowMads, rowMaxs, rowMeans2, rowMedians, rowMins,
rowOrderStats, rowProds, rowQuantiles, rowRanges, rowRanks,
rowSdDiffs, rowSds, rowSums2, rowTabulates, rowVarDiffs, rowVars,
rowWeightedMads, rowWeightedMeans, rowWeightedMedians,
rowWeightedSds, rowWeightedVars
Loading required package: GenomicRanges
Loading required package: stats4
Loading required package: BiocGenerics
Loading required package: generics
Attaching package: 'generics'
The following objects are masked from 'package:base':
as.difftime, as.factor, as.ordered, intersect, is.element, setdiff,
setequal, union
Attaching package: 'BiocGenerics'
The following objects are masked from 'package:stats':
IQR, mad, sd, var, xtabs
The following objects are masked from 'package:base':
Filter, Find, Map, Position, Reduce, anyDuplicated, aperm, append,
as.data.frame, basename, cbind, colnames, dirname, do.call,
duplicated, eval, evalq, get, grep, grepl, is.unsorted, lapply,
mapply, match, mget, order, paste, pmax, pmax.int, pmin, pmin.int,
rank, rbind, rownames, sapply, saveRDS, table, tapply, unique,
unsplit, which.max, which.min
Loading required package: S4Vectors
Attaching package: 'S4Vectors'
The following object is masked from 'package:utils':
findMatches
The following objects are masked from 'package:base':
I, expand.grid, unname
Loading required package: IRanges
Attaching package: 'IRanges'
The following object is masked from 'package:grDevices':
windows
Loading required package: GenomeInfoDb
Loading required package: Biobase
Welcome to Bioconductor
Vignettes contain introductory material; view with
'browseVignettes()'. To cite Bioconductor, see
'citation("Biobase")', and for packages 'citation("pkgname")'.
Attaching package: 'Biobase'
The following object is masked from 'package:MatrixGenerics':
rowMedians
The following objects are masked from 'package:matrixStats':
anyMissing, rowMedians
> test_check("DropletUtils")
[ FAIL 0 | WARN 1 | SKIP 0 | PASS 1003 ]
[ FAIL 0 | WARN 1 | SKIP 0 | PASS 1003 ]
>
> proc.time()
user system elapsed
244.53 5.48 267.14
DropletUtils.Rcheck/DropletUtils-Ex.timings
| name | user | system | elapsed | |
| ambientContribMaximum | 1.53 | 0.03 | 1.57 | |
| ambientContribNegative | 0.03 | 0.00 | 0.03 | |
| ambientContribSparse | 0.05 | 0.00 | 0.04 | |
| ambientProfileBimodal | 0 | 0 | 0 | |
| ambientProfileEmpty | 0.17 | 0.03 | 0.21 | |
| barcodeRanks | 0.31 | 0.02 | 0.32 | |
| chimericDrops | 0.24 | 0.04 | 0.38 | |
| cleanTagCounts | 0.09 | 0.00 | 0.09 | |
| defaultDrops | 0.17 | 0.00 | 0.17 | |
| downsampleReads | 0.20 | 0.02 | 0.38 | |
| emptyDrops | 1.82 | 0.00 | 1.81 | |
| emptyDropsCellRanger | 3.29 | 0.17 | 3.47 | |
| encodeSequences | 0 | 0 | 0 | |
| get10xMolInfoStats | 0.19 | 0.02 | 0.28 | |
| hashedDrops | 0.14 | 0.00 | 0.14 | |
| makeCountMatrix | 0 | 0 | 0 | |
| read10xCounts | 0.50 | 0.01 | 0.83 | |
| read10xMolInfo | 0.11 | 0.00 | 0.20 | |
| removeAmbience | 0.34 | 0.02 | 0.36 | |
| swappedDrops | 0.49 | 0.06 | 0.86 | |
| write10xCounts | 0.17 | 0.02 | 0.34 | |