| Back to Multiple platform build/check report for BioC 3.21: simplified long |
|
This page was generated on 2025-04-22 13:17 -0400 (Tue, 22 Apr 2025).
| Hostname | OS | Arch (*) | R version | Installed pkgs |
|---|---|---|---|---|
| nebbiolo1 | Linux (Ubuntu 24.04.1 LTS) | x86_64 | 4.5.0 RC (2025-04-04 r88126) -- "How About a Twenty-Six" | 4831 |
| palomino7 | Windows Server 2022 Datacenter | x64 | 4.5.0 RC (2025-04-04 r88126 ucrt) -- "How About a Twenty-Six" | 4573 |
| lconway | macOS 12.7.1 Monterey | x86_64 | 4.5.0 RC (2025-04-04 r88126) -- "How About a Twenty-Six" | 4599 |
| kjohnson3 | macOS 13.7.1 Ventura | arm64 | 4.5.0 RC (2025-04-04 r88126) -- "How About a Twenty-Six" | 4553 |
| kunpeng2 | Linux (openEuler 24.03 LTS) | aarch64 | R Under development (unstable) (2025-02-19 r87757) -- "Unsuffered Consequences" | 4570 |
| Click on any hostname to see more info about the system (e.g. compilers) (*) as reported by 'uname -p', except on Windows and Mac OS X | ||||
| Package 606/2341 | Hostname | OS / Arch | INSTALL | BUILD | CHECK | BUILD BIN | ||||||||
| DNAcopy 1.82.0 (landing page) Venkatraman E. Seshan
| nebbiolo1 | Linux (Ubuntu 24.04.1 LTS) / x86_64 | OK | OK | OK | |||||||||
| palomino7 | Windows Server 2022 Datacenter / x64 | OK | OK | OK | OK | |||||||||
| lconway | macOS 12.7.1 Monterey / x86_64 | OK | OK | OK | OK | |||||||||
| kjohnson3 | macOS 13.7.1 Ventura / arm64 | OK | OK | OK | OK | |||||||||
| kunpeng2 | Linux (openEuler 24.03 LTS) / aarch64 | OK | OK | OK | ||||||||||
|
To the developers/maintainers of the DNAcopy package: - Allow up to 24 hours (and sometimes 48 hours) for your latest push to git@git.bioconductor.org:packages/DNAcopy.git to reflect on this report. See Troubleshooting Build Report for more information. - Use the following Renviron settings to reproduce errors and warnings. - If 'R CMD check' started to fail recently on the Linux builder(s) over a missing dependency, add the missing dependency to 'Suggests:' in your DESCRIPTION file. See Renviron.bioc for more information. |
| Package: DNAcopy |
| Version: 1.82.0 |
| Command: /Library/Frameworks/R.framework/Resources/bin/R CMD INSTALL DNAcopy |
| StartedAt: 2025-04-21 15:01:09 -0400 (Mon, 21 Apr 2025) |
| EndedAt: 2025-04-21 15:01:14 -0400 (Mon, 21 Apr 2025) |
| EllapsedTime: 5.4 seconds |
| RetCode: 0 |
| Status: OK |
##############################################################################
##############################################################################
###
### Running command:
###
### /Library/Frameworks/R.framework/Resources/bin/R CMD INSTALL DNAcopy
###
##############################################################################
##############################################################################
* installing to library ‘/Library/Frameworks/R.framework/Versions/4.5-arm64/Resources/library’
* installing *source* package ‘DNAcopy’ ...
** this is package ‘DNAcopy’ version ‘1.82.0’
** using staged installation
** libs
using C compiler: ‘Apple clang version 15.0.0 (clang-1500.1.0.2.5)’
using Fortran compiler: ‘GNU Fortran (GCC) 14.2.0’
using SDK: ‘MacOSX11.3.sdk’
/opt/gfortran/bin/gfortran -arch arm64 -fPIC -Wall -g -O2 -c cbsWtstats.f -o cbsWtstats.o
cbsWtstats.f:282:72:
282 | iseg(1) = tmaxi
| ^
Warning: 'tmaxi' may be used uninitialized [-Wmaybe-uninitialized]
cbsWtstats.f:17:16:
17 | 2 tmaxi, tmaxj, nal0
| ^
note: 'tmaxi' was declared here
cbsWtstats.f:283:72:
283 | iseg(2) = tmaxj
| ^
Warning: 'tmaxj' may be used uninitialized [-Wmaybe-uninitialized]
cbsWtstats.f:17:23:
17 | 2 tmaxi, tmaxj, nal0
| ^
note: 'tmaxj' was declared here
/opt/gfortran/bin/gfortran -arch arm64 -fPIC -Wall -g -O2 -c cbststats.f -o cbststats.o
cbststats.f:258:72:
258 | tmaxj = sxmxi + i2j
| ^
Warning: 'sxmxi' may be used uninitialized [-Wmaybe-uninitialized]
cbststats.f:11:63:
11 | 1 nb2, bi, bj, ilo, ihi, jlo, jhi, alenmax, i2j, sxmxi,
| ^
note: 'sxmxi' was declared here
/opt/gfortran/bin/gfortran -arch arm64 -fPIC -Wall -g -O2 -c changepoints-wtd.f -o changepoints-wtd.o
/opt/gfortran/bin/gfortran -arch arm64 -fPIC -Wall -g -O2 -c changepoints.f -o changepoints.o
/opt/gfortran/bin/gfortran -arch arm64 -fPIC -Wall -g -O2 -c esegment.f -o esegment.o
clang -arch arm64 -I"/Library/Frameworks/R.framework/Resources/include" -DNDEBUG -I/opt/R/arm64/include -fPIC -falign-functions=64 -Wall -g -O2 -c flchoose.c -o flchoose.o
clang -arch arm64 -I"/Library/Frameworks/R.framework/Resources/include" -DNDEBUG -I/opt/R/arm64/include -fPIC -falign-functions=64 -Wall -g -O2 -c fphyper.c -o fphyper.o
clang -arch arm64 -I"/Library/Frameworks/R.framework/Resources/include" -DNDEBUG -I/opt/R/arm64/include -fPIC -falign-functions=64 -Wall -g -O2 -c fpnorm.c -o fpnorm.o
/opt/gfortran/bin/gfortran -arch arm64 -fPIC -Wall -g -O2 -c getbdry.f -o getbdry.o
clang -arch arm64 -I"/Library/Frameworks/R.framework/Resources/include" -DNDEBUG -I/opt/R/arm64/include -fPIC -falign-functions=64 -Wall -g -O2 -c init.c -o init.o
/opt/gfortran/bin/gfortran -arch arm64 -fPIC -Wall -g -O2 -c prune.f -o prune.o
clang -arch arm64 -I"/Library/Frameworks/R.framework/Resources/include" -DNDEBUG -I/opt/R/arm64/include -fPIC -falign-functions=64 -Wall -g -O2 -c rshared.c -o rshared.o
/opt/gfortran/bin/gfortran -arch arm64 -fPIC -Wall -g -O2 -c segmentp.f -o segmentp.o
/opt/gfortran/bin/gfortran -arch arm64 -fPIC -Wall -g -O2 -c smoothCNA.f -o smoothCNA.o
/opt/gfortran/bin/gfortran -arch arm64 -fPIC -Wall -g -O2 -c tailprobs.f -o tailprobs.o
clang -arch arm64 -dynamiclib -Wl,-headerpad_max_install_names -undefined dynamic_lookup -L/Library/Frameworks/R.framework/Resources/lib -L/opt/R/arm64/lib -o DNAcopy.so cbsWtstats.o cbststats.o changepoints-wtd.o changepoints.o esegment.o flchoose.o fphyper.o fpnorm.o getbdry.o init.o prune.o rshared.o segmentp.o smoothCNA.o tailprobs.o -L/opt/gfortran/lib/gcc/aarch64-apple-darwin20.0/14.2.0 -L/opt/gfortran/lib -lemutls_w -lheapt_w -lgfortran -lquadmath -F/Library/Frameworks/R.framework/.. -framework R
installing to /Library/Frameworks/R.framework/Versions/4.5-arm64/Resources/library/00LOCK-DNAcopy/00new/DNAcopy/libs
** R
** data
*** moving datasets to lazyload DB
** demo
** inst
** byte-compile and prepare package for lazy loading
** help
*** installing help indices
** building package indices
** installing vignettes
** testing if installed package can be loaded from temporary location
** checking absolute paths in shared objects and dynamic libraries
** testing if installed package can be loaded from final location
** testing if installed package keeps a record of temporary installation path
* DONE (DNAcopy)