Back to Multiple platform build/check report for BioC 3.22:   simplified   long
ABC[D]EFGHIJKLMNOPQRSTUVWXYZ

This page was generated on 2025-11-01 12:04 -0400 (Sat, 01 Nov 2025).

HostnameOSArch (*)R versionInstalled pkgs
nebbiolo2Linux (Ubuntu 24.04.3 LTS)x86_644.5.1 Patched (2025-08-23 r88802) -- "Great Square Root" 4901
lconwaymacOS 12.7.6 Montereyx86_644.5.1 Patched (2025-09-10 r88807) -- "Great Square Root" 4691
kjohnson3macOS 13.7.7 Venturaarm644.5.1 Patched (2025-09-10 r88807) -- "Great Square Root" 4637
Click on any hostname to see more info about the system (e.g. compilers)      (*) as reported by 'uname -p', except on Windows and Mac OS X

Package 534/2361HostnameOS / ArchINSTALLBUILDCHECKBUILD BIN
DECIPHER 3.6.0  (landing page)
Erik Wright
Snapshot Date: 2025-10-31 13:45 -0400 (Fri, 31 Oct 2025)
git_url: https://git.bioconductor.org/packages/DECIPHER
git_branch: RELEASE_3_22
git_last_commit: e807f36
git_last_commit_date: 2025-10-29 10:09:13 -0400 (Wed, 29 Oct 2025)
nebbiolo2Linux (Ubuntu 24.04.3 LTS) / x86_64  OK    OK    OK  UNNEEDED, same version is already published
lconwaymacOS 12.7.6 Monterey / x86_64  OK    OK    OK    OK  UNNEEDED, same version is already published
kjohnson3macOS 13.7.7 Ventura / arm64  OK    OK    OK    OK  UNNEEDED, same version is already published


CHECK results for DECIPHER on kjohnson3

To the developers/maintainers of the DECIPHER package:
- Allow up to 24 hours (and sometimes 48 hours) for your latest push to git@git.bioconductor.org:packages/DECIPHER.git to reflect on this report. See Troubleshooting Build Report for more information.
- Use the following Renviron settings to reproduce errors and warnings.
- If 'R CMD check' started to fail recently on the Linux builder(s) over a missing dependency, add the missing dependency to 'Suggests:' in your DESCRIPTION file. See Renviron.bioc for more information.

raw results


Summary

Package: DECIPHER
Version: 3.6.0
Command: /Library/Frameworks/R.framework/Resources/bin/R CMD check --install=check:DECIPHER.install-out.txt --library=/Library/Frameworks/R.framework/Resources/library --no-vignettes --timings DECIPHER_3.6.0.tar.gz
StartedAt: 2025-10-31 19:24:05 -0400 (Fri, 31 Oct 2025)
EndedAt: 2025-10-31 19:30:58 -0400 (Fri, 31 Oct 2025)
EllapsedTime: 412.8 seconds
RetCode: 0
Status:   OK  
CheckDir: DECIPHER.Rcheck
Warnings: 0

Command output

##############################################################################
##############################################################################
###
### Running command:
###
###   /Library/Frameworks/R.framework/Resources/bin/R CMD check --install=check:DECIPHER.install-out.txt --library=/Library/Frameworks/R.framework/Resources/library --no-vignettes --timings DECIPHER_3.6.0.tar.gz
###
##############################################################################
##############################################################################


* using log directory ‘/Users/biocbuild/bbs-3.22-bioc/meat/DECIPHER.Rcheck’
* using R version 4.5.1 Patched (2025-09-10 r88807)
* using platform: aarch64-apple-darwin20
* R was compiled by
    Apple clang version 16.0.0 (clang-1600.0.26.6)
    GNU Fortran (GCC) 14.2.0
* running under: macOS Ventura 13.7.7
* using session charset: UTF-8
* using option ‘--no-vignettes’
* checking for file ‘DECIPHER/DESCRIPTION’ ... OK
* checking extension type ... Package
* this is package ‘DECIPHER’ version ‘3.6.0’
* checking package namespace information ... OK
* checking package dependencies ... OK
* checking if this is a source package ... OK
* checking if there is a namespace ... OK
* checking for hidden files and directories ... OK
* checking for portable file names ... OK
* checking for sufficient/correct file permissions ... OK
* checking whether package ‘DECIPHER’ can be installed ... OK
* used C compiler: ‘Apple clang version 15.0.0 (clang-1500.1.0.2.5)’
* used SDK: ‘MacOSX11.3.1.sdk’
* checking installed package size ... INFO
  installed size is 13.4Mb
  sub-directories of 1Mb or more:
    R         2.0Mb
    data      7.5Mb
    extdata   2.8Mb
* checking package directory ... OK
* checking ‘build’ directory ... OK
* checking DESCRIPTION meta-information ... OK
* checking top-level files ... OK
* checking for left-over files ... OK
* checking index information ... OK
* checking package subdirectories ... OK
* checking code files for non-ASCII characters ... OK
* checking R files for syntax errors ... OK
* checking whether the package can be loaded ... OK
* checking whether the package can be loaded with stated dependencies ... OK
* checking whether the package can be unloaded cleanly ... OK
* checking whether the namespace can be loaded with stated dependencies ... OK
* checking whether the namespace can be unloaded cleanly ... OK
* checking dependencies in R code ... OK
* checking S3 generic/method consistency ... OK
* checking replacement functions ... OK
* checking foreign function calls ... OK
* checking R code for possible problems ... NOTE
AlignSeqs: no visible binding for global variable ‘deltaGrulesRNA’
DesignSignatures: no visible binding for global variable ‘deltaHrules’
FindGenes: no visible binding for global variable ‘deltaHrulesRNA’
FindNonCoding: no visible binding for global variable ‘deltaHrulesRNA’
LearnNonCoding: no visible binding for global variable ‘deltaHrulesRNA’
PredictDBN: no visible binding for global variable ‘deltaGrulesRNA’
Treeline: multiple local function definitions for ‘.NNI’ with different
  formal arguments
Treeline: multiple local function definitions for ‘.minimize’ with
  different formal arguments
Undefined global functions or variables:
  deltaGrulesRNA deltaHrules deltaHrulesRNA
* checking Rd files ... OK
* checking Rd metadata ... OK
* checking Rd cross-references ... OK
* checking for missing documentation entries ... OK
* checking for code/documentation mismatches ... OK
* checking Rd \usage sections ... OK
* checking Rd contents ... OK
* checking for unstated dependencies in examples ... OK
* checking contents of ‘data’ directory ... OK
* checking data for non-ASCII characters ... OK
* checking data for ASCII and uncompressed saves ... OK
* checking line endings in C/C++/Fortran sources/headers ... OK
* checking line endings in Makefiles ... OK
* checking compilation flags in Makevars ... OK
* checking for GNU extensions in Makefiles ... OK
* checking for portable use of $(BLAS_LIBS) and $(LAPACK_LIBS) ... OK
* checking use of PKG_*FLAGS in Makefiles ... OK
* checking compiled code ... NOTE
Note: information on .o files is not available
* checking sizes of PDF files under ‘inst/doc’ ... OK
* checking files in ‘vignettes’ ... OK
* checking examples ... OK
Examples with CPU (user + system) or elapsed time > 5s
                     user system elapsed
AlignSeqs          64.536  2.106  67.199
LearnNonCoding     58.012  1.657  61.442
Treeline           28.228  0.479  28.868
FindNonCoding      24.427  2.711  27.759
ExtractGenes       15.259  0.666  16.218
Genes-class        14.723  0.902  15.720
FindGenes          14.501  0.739  15.395
WriteGenes         13.895  0.910  14.851
BrowseSeqs         13.287  0.207  13.718
InferSelection     11.415  0.426  11.978
DistanceMatrix     10.064  0.277  10.478
CorrectFrameshifts  7.372  0.891   8.583
InferRecombination  6.516  0.255   6.933
StaggerAlignment    5.155  0.215   5.441
AlignTranslation    5.063  0.088   5.245
* checking for unstated dependencies in vignettes ... OK
* checking package vignettes ... OK
* checking running R code from vignettes ... SKIPPED
* checking re-building of vignette outputs ... SKIPPED
* checking PDF version of manual ... OK
* DONE

Status: 2 NOTEs
See
  ‘/Users/biocbuild/bbs-3.22-bioc/meat/DECIPHER.Rcheck/00check.log’
for details.


Installation output

DECIPHER.Rcheck/00install.out

##############################################################################
##############################################################################
###
### Running command:
###
###   /Library/Frameworks/R.framework/Resources/bin/R CMD INSTALL DECIPHER
###
##############################################################################
##############################################################################


* installing to library ‘/Library/Frameworks/R.framework/Versions/4.5-arm64/Resources/library’
* installing *source* package ‘DECIPHER’ ...
** this is package ‘DECIPHER’ version ‘3.6.0’
** using staged installation
** libs
using C compiler: ‘Apple clang version 15.0.0 (clang-1500.1.0.2.5)’
using SDK: ‘MacOSX11.3.1.sdk’
clang -arch arm64 -std=gnu2x -I"/Library/Frameworks/R.framework/Resources/include" -DNDEBUG  -I'/Library/Frameworks/R.framework/Versions/4.5-arm64/Resources/library/Biostrings/include' -I'/Library/Frameworks/R.framework/Versions/4.5-arm64/Resources/library/S4Vectors/include' -I'/Library/Frameworks/R.framework/Versions/4.5-arm64/Resources/library/IRanges/include' -I'/Library/Frameworks/R.framework/Versions/4.5-arm64/Resources/library/XVector/include' -I/opt/R/arm64/include    -fPIC  -falign-functions=64 -Wall -g -O2  -c AlignProfiles.c -o AlignProfiles.o
clang -arch arm64 -std=gnu2x -I"/Library/Frameworks/R.framework/Resources/include" -DNDEBUG  -I'/Library/Frameworks/R.framework/Versions/4.5-arm64/Resources/library/Biostrings/include' -I'/Library/Frameworks/R.framework/Versions/4.5-arm64/Resources/library/S4Vectors/include' -I'/Library/Frameworks/R.framework/Versions/4.5-arm64/Resources/library/IRanges/include' -I'/Library/Frameworks/R.framework/Versions/4.5-arm64/Resources/library/XVector/include' -I/opt/R/arm64/include    -fPIC  -falign-functions=64 -Wall -g -O2  -c AssignIndels.c -o AssignIndels.o
clang -arch arm64 -std=gnu2x -I"/Library/Frameworks/R.framework/Resources/include" -DNDEBUG  -I'/Library/Frameworks/R.framework/Versions/4.5-arm64/Resources/library/Biostrings/include' -I'/Library/Frameworks/R.framework/Versions/4.5-arm64/Resources/library/S4Vectors/include' -I'/Library/Frameworks/R.framework/Versions/4.5-arm64/Resources/library/IRanges/include' -I'/Library/Frameworks/R.framework/Versions/4.5-arm64/Resources/library/XVector/include' -I/opt/R/arm64/include    -fPIC  -falign-functions=64 -Wall -g -O2  -c Biostrings_stubs.c -o Biostrings_stubs.o
clang -arch arm64 -std=gnu2x -I"/Library/Frameworks/R.framework/Resources/include" -DNDEBUG  -I'/Library/Frameworks/R.framework/Versions/4.5-arm64/Resources/library/Biostrings/include' -I'/Library/Frameworks/R.framework/Versions/4.5-arm64/Resources/library/S4Vectors/include' -I'/Library/Frameworks/R.framework/Versions/4.5-arm64/Resources/library/IRanges/include' -I'/Library/Frameworks/R.framework/Versions/4.5-arm64/Resources/library/XVector/include' -I/opt/R/arm64/include    -fPIC  -falign-functions=64 -Wall -g -O2  -c CalculateDeltaG.c -o CalculateDeltaG.o
clang -arch arm64 -std=gnu2x -I"/Library/Frameworks/R.framework/Resources/include" -DNDEBUG  -I'/Library/Frameworks/R.framework/Versions/4.5-arm64/Resources/library/Biostrings/include' -I'/Library/Frameworks/R.framework/Versions/4.5-arm64/Resources/library/S4Vectors/include' -I'/Library/Frameworks/R.framework/Versions/4.5-arm64/Resources/library/IRanges/include' -I'/Library/Frameworks/R.framework/Versions/4.5-arm64/Resources/library/XVector/include' -I/opt/R/arm64/include    -fPIC  -falign-functions=64 -Wall -g -O2  -c CalculateFISH.c -o CalculateFISH.o
CalculateFISH.c:26:3: warning: suggest braces around initialization of subobject [-Wmissing-braces]
                -11.5, -7.8, -7, -8.3,
                ^~~~~~~~~~~~~~~~~~~~~
                {                    }
CalculateFISH.c:27:3: warning: suggest braces around initialization of subobject [-Wmissing-braces]
                -10.4, -12.8, -16.3, -9.1,
                ^~~~~~~~~~~~~~~~~~~~~~~~~
                {                        }
CalculateFISH.c:28:3: warning: suggest braces around initialization of subobject [-Wmissing-braces]
                -8.6, -8, -9.3, -5.9,
                ^~~~~~~~~~~~~~~~~~~~
                {                   }
CalculateFISH.c:29:3: warning: suggest braces around initialization of subobject [-Wmissing-braces]
                -7.8, -5.5, -9, -7.8
                ^~~~~~~~~~~~~~~~~~~~
                {                   }
CalculateFISH.c:32:3: warning: suggest braces around initialization of subobject [-Wmissing-braces]
                -36.4, -21.6, -19.7, -23.9,
                ^~~~~~~~~~~~~~~~~~~~~~~~~~
                {                         }
CalculateFISH.c:33:3: warning: suggest braces around initialization of subobject [-Wmissing-braces]
                -28.4, -31.9, -47.1, -23.5,
                ^~~~~~~~~~~~~~~~~~~~~~~~~~
                {                         }
CalculateFISH.c:34:3: warning: suggest braces around initialization of subobject [-Wmissing-braces]
                -22.9, -17.1, -23.2, -12.3,
                ^~~~~~~~~~~~~~~~~~~~~~~~~~
                {                         }
CalculateFISH.c:35:3: warning: suggest braces around initialization of subobject [-Wmissing-braces]
                -23.2, -13.5, -26.1, -21.9
                ^~~~~~~~~~~~~~~~~~~~~~~~~~
                {                         }
CalculateFISH.c:38:3: warning: suggest braces around initialization of subobject [-Wmissing-braces]
                -7.9, -8.4, -7.8, -7.2,
                ^~~~~~~~~~~~~~~~~~~~~~
                {                     }
CalculateFISH.c:39:3: warning: suggest braces around initialization of subobject [-Wmissing-braces]
                -8.5, -8, -10.6, -7.8,
                ^~~~~~~~~~~~~~~~~~~~~
                {                    }
CalculateFISH.c:40:3: warning: suggest braces around initialization of subobject [-Wmissing-braces]
                -8.2, -9.8, -8, -8.4,
                ^~~~~~~~~~~~~~~~~~~~
                {                   }
CalculateFISH.c:41:3: warning: suggest braces around initialization of subobject [-Wmissing-braces]
                -7.2, -8.2, -8.5, -7.9
                ^~~~~~~~~~~~~~~~~~~~~~
                {                     }
CalculateFISH.c:44:3: warning: suggest braces around initialization of subobject [-Wmissing-braces]
                -22.2, -22.4, -21, -20.4,
                ^~~~~~~~~~~~~~~~~~~~~~~~
                {                       }
CalculateFISH.c:45:3: warning: suggest braces around initialization of subobject [-Wmissing-braces]
                -22.7, -19.9, -27.2, -21,
                ^~~~~~~~~~~~~~~~~~~~~~~~
                {                       }
CalculateFISH.c:46:3: warning: suggest braces around initialization of subobject [-Wmissing-braces]
                -22.2, -24.4, -19.9, -22.4,
                ^~~~~~~~~~~~~~~~~~~~~~~~~~
                {                         }
CalculateFISH.c:47:3: warning: suggest braces around initialization of subobject [-Wmissing-braces]
                -21.3, -22.2, -22.7, -22.2
                ^~~~~~~~~~~~~~~~~~~~~~~~~~
                {                         }
CalculateFISH.c:50:3: warning: suggest braces around initialization of subobject [-Wmissing-braces]
                -6.6, -10.17, -7.65, -5.76,
                ^~~~~~~~~~~~~~~~~~~~~~~~~~
                {                         }
CalculateFISH.c:51:3: warning: suggest braces around initialization of subobject [-Wmissing-braces]
                -10.56, -12.21, -7.95, -7.65,
                ^~~~~~~~~~~~~~~~~~~~~~~~~~~~
                {                           }
CalculateFISH.c:52:3: warning: suggest braces around initialization of subobject [-Wmissing-braces]
                -13.37, -14.21, -12.21, -10.17,
                ^~~~~~~~~~~~~~~~~~~~~~~~~~~~~~
                {                             }
CalculateFISH.c:53:3: warning: suggest braces around initialization of subobject [-Wmissing-braces]
                -8.11, -13.37, -10.56, -6.6
                ^~~~~~~~~~~~~~~~~~~~~~~~~~~
                {                          }
CalculateFISH.c:56:3: warning: suggest braces around initialization of subobject [-Wmissing-braces]
                -18.38, -26.03, -19.18, -15.67,
                ^~~~~~~~~~~~~~~~~~~~~~~~~~~~~~
                {                             }
CalculateFISH.c:57:3: warning: suggest braces around initialization of subobject [-Wmissing-braces]
                -28.25, -30.02, -19.18, -19.18,
                ^~~~~~~~~~~~~~~~~~~~~~~~~~~~~~
                {                             }
CalculateFISH.c:58:3: warning: suggest braces around initialization of subobject [-Wmissing-braces]
                -35.68, -34.85, -30.02, -26.03,
                ^~~~~~~~~~~~~~~~~~~~~~~~~~~~~~
                {                             }
CalculateFISH.c:59:3: warning: suggest braces around initialization of subobject [-Wmissing-braces]
                -22.59, -35.68, -28.25, -18.38
                ^~~~~~~~~~~~~~~~~~~~~~~~~~~~~~
                {                             }
24 warnings generated.
clang -arch arm64 -std=gnu2x -I"/Library/Frameworks/R.framework/Resources/include" -DNDEBUG  -I'/Library/Frameworks/R.framework/Versions/4.5-arm64/Resources/library/Biostrings/include' -I'/Library/Frameworks/R.framework/Versions/4.5-arm64/Resources/library/S4Vectors/include' -I'/Library/Frameworks/R.framework/Versions/4.5-arm64/Resources/library/IRanges/include' -I'/Library/Frameworks/R.framework/Versions/4.5-arm64/Resources/library/XVector/include' -I/opt/R/arm64/include    -fPIC  -falign-functions=64 -Wall -g -O2  -c ChainSegments.c -o ChainSegments.o
ChainSegments.c:666:6: warning: unused variable 'nthreads' [-Wunused-variable]
        int nthreads = asInteger(nThreads);
            ^
1 warning generated.
clang -arch arm64 -std=gnu2x -I"/Library/Frameworks/R.framework/Resources/include" -DNDEBUG  -I'/Library/Frameworks/R.framework/Versions/4.5-arm64/Resources/library/Biostrings/include' -I'/Library/Frameworks/R.framework/Versions/4.5-arm64/Resources/library/S4Vectors/include' -I'/Library/Frameworks/R.framework/Versions/4.5-arm64/Resources/library/IRanges/include' -I'/Library/Frameworks/R.framework/Versions/4.5-arm64/Resources/library/XVector/include' -I/opt/R/arm64/include    -fPIC  -falign-functions=64 -Wall -g -O2  -c Cluster.c -o Cluster.o
clang -arch arm64 -std=gnu2x -I"/Library/Frameworks/R.framework/Resources/include" -DNDEBUG  -I'/Library/Frameworks/R.framework/Versions/4.5-arm64/Resources/library/Biostrings/include' -I'/Library/Frameworks/R.framework/Versions/4.5-arm64/Resources/library/S4Vectors/include' -I'/Library/Frameworks/R.framework/Versions/4.5-arm64/Resources/library/IRanges/include' -I'/Library/Frameworks/R.framework/Versions/4.5-arm64/Resources/library/XVector/include' -I/opt/R/arm64/include    -fPIC  -falign-functions=64 -Wall -g -O2  -c ClusterME.c -o ClusterME.o
clang -arch arm64 -std=gnu2x -I"/Library/Frameworks/R.framework/Resources/include" -DNDEBUG  -I'/Library/Frameworks/R.framework/Versions/4.5-arm64/Resources/library/Biostrings/include' -I'/Library/Frameworks/R.framework/Versions/4.5-arm64/Resources/library/S4Vectors/include' -I'/Library/Frameworks/R.framework/Versions/4.5-arm64/Resources/library/IRanges/include' -I'/Library/Frameworks/R.framework/Versions/4.5-arm64/Resources/library/XVector/include' -I/opt/R/arm64/include    -fPIC  -falign-functions=64 -Wall -g -O2  -c ClusterML.c -o ClusterML.o
ClusterML.c:1887:6: warning: unused variable 'nthreads' [-Wunused-variable]
        int nthreads = asInteger(nThreads);
            ^
1 warning generated.
clang -arch arm64 -std=gnu2x -I"/Library/Frameworks/R.framework/Resources/include" -DNDEBUG  -I'/Library/Frameworks/R.framework/Versions/4.5-arm64/Resources/library/Biostrings/include' -I'/Library/Frameworks/R.framework/Versions/4.5-arm64/Resources/library/S4Vectors/include' -I'/Library/Frameworks/R.framework/Versions/4.5-arm64/Resources/library/IRanges/include' -I'/Library/Frameworks/R.framework/Versions/4.5-arm64/Resources/library/XVector/include' -I/opt/R/arm64/include    -fPIC  -falign-functions=64 -Wall -g -O2  -c ClusterMP.c -o ClusterMP.o
ClusterMP.c:112:6: warning: unused variable 'nthreads' [-Wunused-variable]
        int nthreads = asInteger(nThreads);
            ^
1 warning generated.
clang -arch arm64 -std=gnu2x -I"/Library/Frameworks/R.framework/Resources/include" -DNDEBUG  -I'/Library/Frameworks/R.framework/Versions/4.5-arm64/Resources/library/Biostrings/include' -I'/Library/Frameworks/R.framework/Versions/4.5-arm64/Resources/library/S4Vectors/include' -I'/Library/Frameworks/R.framework/Versions/4.5-arm64/Resources/library/IRanges/include' -I'/Library/Frameworks/R.framework/Versions/4.5-arm64/Resources/library/XVector/include' -I/opt/R/arm64/include    -fPIC  -falign-functions=64 -Wall -g -O2  -c Compositions.c -o Compositions.o
clang -arch arm64 -std=gnu2x -I"/Library/Frameworks/R.framework/Resources/include" -DNDEBUG  -I'/Library/Frameworks/R.framework/Versions/4.5-arm64/Resources/library/Biostrings/include' -I'/Library/Frameworks/R.framework/Versions/4.5-arm64/Resources/library/S4Vectors/include' -I'/Library/Frameworks/R.framework/Versions/4.5-arm64/Resources/library/IRanges/include' -I'/Library/Frameworks/R.framework/Versions/4.5-arm64/Resources/library/XVector/include' -I/opt/R/arm64/include    -fPIC  -falign-functions=64 -Wall -g -O2  -c Compression.c -o Compression.o
Compression.c:521:6: warning: unused variable 'nthreads' [-Wunused-variable]
        int nthreads = asInteger(nThreads);
            ^
Compression.c:1408:6: warning: unused variable 'nthreads' [-Wunused-variable]
        int nthreads = asInteger(nThreads);
            ^
Compression.c:1706:6: warning: unused variable 'nthreads' [-Wunused-variable]
        int nthreads = asInteger(nThreads);
            ^
3 warnings generated.
clang -arch arm64 -std=gnu2x -I"/Library/Frameworks/R.framework/Resources/include" -DNDEBUG  -I'/Library/Frameworks/R.framework/Versions/4.5-arm64/Resources/library/Biostrings/include' -I'/Library/Frameworks/R.framework/Versions/4.5-arm64/Resources/library/S4Vectors/include' -I'/Library/Frameworks/R.framework/Versions/4.5-arm64/Resources/library/IRanges/include' -I'/Library/Frameworks/R.framework/Versions/4.5-arm64/Resources/library/XVector/include' -I/opt/R/arm64/include    -fPIC  -falign-functions=64 -Wall -g -O2  -c ConsensusSequence.c -o ConsensusSequence.o
clang -arch arm64 -std=gnu2x -I"/Library/Frameworks/R.framework/Resources/include" -DNDEBUG  -I'/Library/Frameworks/R.framework/Versions/4.5-arm64/Resources/library/Biostrings/include' -I'/Library/Frameworks/R.framework/Versions/4.5-arm64/Resources/library/S4Vectors/include' -I'/Library/Frameworks/R.framework/Versions/4.5-arm64/Resources/library/IRanges/include' -I'/Library/Frameworks/R.framework/Versions/4.5-arm64/Resources/library/XVector/include' -I/opt/R/arm64/include    -fPIC  -falign-functions=64 -Wall -g -O2  -c DesignProbes.c -o DesignProbes.o
DesignProbes.c:72:3: warning: suggest braces around initialization of subobject [-Wmissing-braces]
                -0.816507461,-2.5401714,-1.647430026,-1.184658548
                ^~~~~~~~~~~~~~~~~~~~~~~~~~~~~~~~~~~~~~~~~~~~~~~~~
                {                                                }
DesignProbes.c:73:4: warning: suggest braces around initialization of subobject [-Wmissing-braces]
                ,-1.854740485,-2.479102613,-2.826248182,-1.647430026
                 ^~~~~~~~~~~~~~~~~~~~~~~~~~~~~~~~~~~~~~~~~~~~~~~~~~~
                 {                                                  }
DesignProbes.c:74:4: warning: suggest braces around initialization of subobject [-Wmissing-braces]
                ,-2.48761723,-4.694133177,-2.479102613,-2.5401714
                 ^~~~~~~~~~~~~~~~~~~~~~~~~~~~~~~~~~~~~~~~~~~~~~~~
                 {                                               }
DesignProbes.c:75:4: warning: suggest braces around initialization of subobject [-Wmissing-braces]
                ,-0.495794417,-2.48761723,-1.854740485,-0.816507461
                 ^~~~~~~~~~~~~~~~~~~~~~~~~~~~~~~~~~~~~~~~~~~~~~~~~~
                 {                                                 }
DesignProbes.c:79:3: warning: suggest braces around initialization of subobject [-Wmissing-braces]
                -0.141370102,-0.439805276,-0.285236035,-0.205111781
                ^~~~~~~~~~~~~~~~~~~~~~~~~~~~~~~~~~~~~~~~~~~~~~~~~~~
                {                                                  }
DesignProbes.c:80:4: warning: suggest braces around initialization of subobject [-Wmissing-braces]
                ,-0.321129768,-0.429231826,-0.48933661,-0.285236035
                 ^~~~~~~~~~~~~~~~~~~~~~~~~~~~~~~~~~~~~~~~~~~~~~~~~~
                 {                                                 }
DesignProbes.c:81:4: warning: suggest braces around initialization of subobject [-Wmissing-braces]
                ,-0.430706047,-0.812742218,-0.429231826,-0.439805276
                 ^~~~~~~~~~~~~~~~~~~~~~~~~~~~~~~~~~~~~~~~~~~~~~~~~~~
                 {                                                  }
DesignProbes.c:82:4: warning: suggest braces around initialization of subobject [-Wmissing-braces]
                ,-0.085841845,-0.430706047,-0.321129768,-0.141370102
                 ^~~~~~~~~~~~~~~~~~~~~~~~~~~~~~~~~~~~~~~~~~~~~~~~~~~
                 {                                                  }
DesignProbes.c:86:3: warning: suggest braces around initialization of subobject [-Wmissing-braces]
                0,0,0,0
                ^~~~~~~
                {      }
DesignProbes.c:87:4: warning: suggest braces around initialization of subobject [-Wmissing-braces]
                ,1.545032445,1.254355018,1.491691514,1.329138183
                 ^~~~~~~~~~~~~~~~~~~~~~~~~~~~~~~~~~~~~~~~~~~~~~~
                 {                                              }
DesignProbes.c:88:4: warning: suggest braces around initialization of subobject [-Wmissing-braces]
                ,1.150635633,0.582415494,1.075877275,1.187937642
                 ^~~~~~~~~~~~~~~~~~~~~~~~~~~~~~~~~~~~~~~~~~~~~~~
                 {                                              }
DesignProbes.c:89:4: warning: suggest braces around initialization of subobject [-Wmissing-braces]
                ,1.203555051,1.001540513,0.864287715,0.717125848
                 ^~~~~~~~~~~~~~~~~~~~~~~~~~~~~~~~~~~~~~~~~~~~~~~
                 {                                              }
DesignProbes.c:90:4: warning: suggest braces around initialization of subobject [-Wmissing-braces]
                ,0.75,0.65,0.69,0.78
                 ^~~~~~~~~~~~~~~~~~~
                 {                  }
DesignProbes.c:86:3: warning: suggest braces around initialization of subobject [-Wmissing-braces]
                0,0,0,0
                ^~~~~~~
                {
DesignProbes.c:91:4: warning: suggest braces around initialization of subobject [-Wmissing-braces]
                ,0.630005348,0.18553379,0.730763505,0.709272397
                 ^~~~~~~~~~~~~~~~~~~~~~~~~~~~~~~~~~~~~~~~~~~~~~
                 {                                             }
DesignProbes.c:92:4: warning: suggest braces around initialization of subobject [-Wmissing-braces]
                ,0,0,0,0
                 ^~~~~~~
                 {      }
DesignProbes.c:93:4: warning: suggest braces around initialization of subobject [-Wmissing-braces]
                ,0.856582783,-0.143236405,0.716721488,0.603652831
                 ^~~~~~~~~~~~~~~~~~~~~~~~~~~~~~~~~~~~~~~~~~~~~~~~
                 {                                               }
DesignProbes.c:94:4: warning: suggest braces around initialization of subobject [-Wmissing-braces]
                ,0.851622883,0.653168672,0.676545316,1.187937642
                 ^~~~~~~~~~~~~~~~~~~~~~~~~~~~~~~~~~~~~~~~~~~~~~~
                 {                                              }
DesignProbes.c:95:4: warning: suggest braces around initialization of subobject [-Wmissing-braces]
                ,0.75,0.65,0.69,0.78
                 ^~~~~~~~~~~~~~~~~~~
                 {                  }
DesignProbes.c:91:4: warning: suggest braces around initialization of subobject [-Wmissing-braces]
                ,0.630005348,0.18553379,0.730763505,0.709272397
                 ^~~~~~~~~~~~~~~~~~~~~~~~~~~~~~~~~~~~~~~~~~~~~~
                 {
DesignProbes.c:96:4: warning: suggest braces around initialization of subobject [-Wmissing-braces]
                ,1.231861002,0.746214538,1.087821916,0.989140748
                 ^~~~~~~~~~~~~~~~~~~~~~~~~~~~~~~~~~~~~~~~~~~~~~~
                 {                                              }
DesignProbes.c:97:4: warning: suggest braces around initialization of subobject [-Wmissing-braces]
                ,1.822113278,1.270687029,1.336192565,1.364584949
                 ^~~~~~~~~~~~~~~~~~~~~~~~~~~~~~~~~~~~~~~~~~~~~~~
                 {                                              }
DesignProbes.c:98:4: warning: suggest braces around initialization of subobject [-Wmissing-braces]
                ,0,0,0,0
                 ^~~~~~~
                 {      }
DesignProbes.c:99:4: warning: suggest braces around initialization of subobject [-Wmissing-braces]
                ,1.443665704,1.385046493,1.256013166,1.329138183
                 ^~~~~~~~~~~~~~~~~~~~~~~~~~~~~~~~~~~~~~~~~~~~~~~
                 {                                              }
DesignProbes.c:100:4: warning: suggest braces around initialization of subobject [-Wmissing-braces]
                ,0.75,0.65,0.69,0.78
                 ^~~~~~~~~~~~~~~~~~~
                 {                  }
DesignProbes.c:96:4: warning: suggest braces around initialization of subobject [-Wmissing-braces]
                ,1.231861002,0.746214538,1.087821916,0.989140748
                 ^~~~~~~~~~~~~~~~~~~~~~~~~~~~~~~~~~~~~~~~~~~~~~~
                 {
DesignProbes.c:101:4: warning: suggest braces around initialization of subobject [-Wmissing-braces]
                ,1.478009492,0.882097231,1.20450984,1.061002478
                 ^~~~~~~~~~~~~~~~~~~~~~~~~~~~~~~~~~~~~~~~~~~~~~
                 {                                             }
DesignProbes.c:102:4: warning: suggest braces around initialization of subobject [-Wmissing-braces]
                ,1.496720812,0.846496194,0.967868114,0.989140748
                 ^~~~~~~~~~~~~~~~~~~~~~~~~~~~~~~~~~~~~~~~~~~~~~~
                 {                                              }
DesignProbes.c:103:4: warning: suggest braces around initialization of subobject [-Wmissing-braces]
                ,0.766581547,-0.024857805,0.50754303,0.709272397
                 ^~~~~~~~~~~~~~~~~~~~~~~~~~~~~~~~~~~~~~~~~~~~~~~
                 {                                              }
DesignProbes.c:104:4: warning: suggest braces around initialization of subobject [-Wmissing-braces]
                ,0,0,0,0
                 ^~~~~~~
                 {      }
DesignProbes.c:105:4: warning: suggest braces around initialization of subobject [-Wmissing-braces]
                ,0.75,0.65,0.69,0.78
                 ^~~~~~~~~~~~~~~~~~~
                 {                  }
DesignProbes.c:101:4: warning: suggest braces around initialization of subobject [-Wmissing-braces]
                ,1.478009492,0.882097231,1.20450984,1.061002478
                 ^~~~~~~~~~~~~~~~~~~~~~~~~~~~~~~~~~~~~~~~~~~~~~
                 {
DesignProbes.c:106:4: warning: suggest braces around initialization of subobject [-Wmissing-braces]
                ,0.75,0.65,0.69,0.78
                 ^~~~~~~~~~~~~~~~~~~
                 {                  }
DesignProbes.c:107:4: warning: suggest braces around initialization of subobject [-Wmissing-braces]
                ,0.75,0.65,0.69,0.78
                 ^~~~~~~~~~~~~~~~~~~
                 {                  }
DesignProbes.c:108:4: warning: suggest braces around initialization of subobject [-Wmissing-braces]
                ,0.75,0.65,0.69,0.78
                 ^~~~~~~~~~~~~~~~~~~
                 {                  }
DesignProbes.c:109:4: warning: suggest braces around initialization of subobject [-Wmissing-braces]
                ,0.76,0.65,0.69,0.78
                 ^~~~~~~~~~~~~~~~~~~
                 {                  }
DesignProbes.c:110:4: warning: suggest braces around initialization of subobject [-Wmissing-braces]
                ,0,0,0,0
                 ^~~~~~~
                 {      }
DesignProbes.c:106:4: warning: suggest braces around initialization of subobject [-Wmissing-braces]
                ,0.75,0.65,0.69,0.78
                 ^~~~~~~~~~~~~~~~~~~
                 {
DesignProbes.c:86:3: warning: suggest braces around initialization of subobject [-Wmissing-braces]
                0,0,0,0
                ^~~~~~~
                {
DesignProbes.c:111:4: warning: suggest braces around initialization of subobject [-Wmissing-braces]
                ,0,0,0,0
                 ^~~~~~~
                 {      }
DesignProbes.c:112:4: warning: suggest braces around initialization of subobject [-Wmissing-braces]
                ,1.295827995,0.84547091,0.91019099,1.256013166
                 ^~~~~~~~~~~~~~~~~~~~~~~~~~~~~~~~~~~~~~~~~~~~~
                 {                                            }
DesignProbes.c:113:4: warning: suggest braces around initialization of subobject [-Wmissing-braces]
                ,0.755889609,0.241428373,0.396379912,0.676545316
                 ^~~~~~~~~~~~~~~~~~~~~~~~~~~~~~~~~~~~~~~~~~~~~~~
                 {                                              }
DesignProbes.c:114:4: warning: suggest braces around initialization of subobject [-Wmissing-braces]
                ,0.99945386,0.740323132,0.435659206,0.864287715
                 ^~~~~~~~~~~~~~~~~~~~~~~~~~~~~~~~~~~~~~~~~~~~~~
                 {                                             }
DesignProbes.c:115:4: warning: suggest braces around initialization of subobject [-Wmissing-braces]
                ,0.65,0.55,0.48,0.69
                 ^~~~~~~~~~~~~~~~~~~
                 {                  }
DesignProbes.c:111:4: warning: suggest braces around initialization of subobject [-Wmissing-braces]
                ,0,0,0,0
                 ^~~~~~~
                 {
DesignProbes.c:116:4: warning: suggest braces around initialization of subobject [-Wmissing-braces]
                ,0.843147406,0.101248351,0.49063599,0.50754303
                 ^~~~~~~~~~~~~~~~~~~~~~~~~~~~~~~~~~~~~~~~~~~~~
                 {                                            }
DesignProbes.c:117:4: warning: suggest braces around initialization of subobject [-Wmissing-braces]
                ,0,0,0,0
                 ^~~~~~~
                 {      }
DesignProbes.c:118:4: warning: suggest braces around initialization of subobject [-Wmissing-braces]
                ,1.0651638,0.249934344,0.699352949,0.716721488
                 ^~~~~~~~~~~~~~~~~~~~~~~~~~~~~~~~~~~~~~~~~~~~~
                 {                                            }
DesignProbes.c:119:4: warning: suggest braces around initialization of subobject [-Wmissing-braces]
                ,0.871921533,0.59458138,0.396379912,1.075877275
                 ^~~~~~~~~~~~~~~~~~~~~~~~~~~~~~~~~~~~~~~~~~~~~~
                 {                                             }
DesignProbes.c:120:4: warning: suggest braces around initialization of subobject [-Wmissing-braces]
                ,0.65,0.56,0.49,0.69
                 ^~~~~~~~~~~~~~~~~~~
                 {                  }
DesignProbes.c:116:4: warning: suggest braces around initialization of subobject [-Wmissing-braces]
                ,0.843147406,0.101248351,0.49063599,0.50754303
                 ^~~~~~~~~~~~~~~~~~~~~~~~~~~~~~~~~~~~~~~~~~~~~
                 {
DesignProbes.c:121:4: warning: suggest braces around initialization of subobject [-Wmissing-braces]
                ,1.07531714,0.318907854,0.653287717,0.967868114
                 ^~~~~~~~~~~~~~~~~~~~~~~~~~~~~~~~~~~~~~~~~~~~~~
                 {                                             }
DesignProbes.c:122:4: warning: suggest braces around initialization of subobject [-Wmissing-braces]
                ,1.099899195,0.730184613,0.661798984,1.336192565
                 ^~~~~~~~~~~~~~~~~~~~~~~~~~~~~~~~~~~~~~~~~~~~~~~
                 {                                              }
DesignProbes.c:123:4: warning: suggest braces around initialization of subobject [-Wmissing-braces]
                ,0,0,0,0
                 ^~~~~~~
                 {      }
DesignProbes.c:124:4: warning: suggest braces around initialization of subobject [-Wmissing-braces]
                ,1.45897431,1.318532145,0.91019099,1.491691514
                 ^~~~~~~~~~~~~~~~~~~~~~~~~~~~~~~~~~~~~~~~~~~~~
                 {                                            }
DesignProbes.c:125:4: warning: suggest braces around initialization of subobject [-Wmissing-braces]
                ,0.65,0.56,0.49,0.69
                 ^~~~~~~~~~~~~~~~~~~
                 {                  }
DesignProbes.c:121:4: warning: suggest braces around initialization of subobject [-Wmissing-braces]
                ,1.07531714,0.318907854,0.653287717,0.967868114
                 ^~~~~~~~~~~~~~~~~~~~~~~~~~~~~~~~~~~~~~~~~~~~~~
                 {
DesignProbes.c:126:4: warning: suggest braces around initialization of subobject [-Wmissing-braces]
                ,1.242135174,0.894838095,1.108555445,1.20450984
                 ^~~~~~~~~~~~~~~~~~~~~~~~~~~~~~~~~~~~~~~~~~~~~~
                 {                                             }
DesignProbes.c:127:4: warning: suggest braces around initialization of subobject [-Wmissing-braces]
                ,0.911428974,0.524430101,0.653287717,1.087821916
                 ^~~~~~~~~~~~~~~~~~~~~~~~~~~~~~~~~~~~~~~~~~~~~~~
                 {                                              }
DesignProbes.c:128:4: warning: suggest braces around initialization of subobject [-Wmissing-braces]
                ,0.503209827,0.274849491,0.49063599,0.730763505
                 ^~~~~~~~~~~~~~~~~~~~~~~~~~~~~~~~~~~~~~~~~~~~~~
                 {                                             }
DesignProbes.c:129:4: warning: suggest braces around initialization of subobject [-Wmissing-braces]
                ,0,0,0,0
                 ^~~~~~~
                 {      }
DesignProbes.c:130:4: warning: suggest braces around initialization of subobject [-Wmissing-braces]
                ,0.65,0.55,0.48,0.69
                 ^~~~~~~~~~~~~~~~~~~
                 {                  }
DesignProbes.c:126:4: warning: suggest braces around initialization of subobject [-Wmissing-braces]
                ,1.242135174,0.894838095,1.108555445,1.20450984
                 ^~~~~~~~~~~~~~~~~~~~~~~~~~~~~~~~~~~~~~~~~~~~~~
                 {
DesignProbes.c:131:4: warning: suggest braces around initialization of subobject [-Wmissing-braces]
                ,0.65,0.55,0.48,0.69
                 ^~~~~~~~~~~~~~~~~~~
                 {                  }
DesignProbes.c:132:4: warning: suggest braces around initialization of subobject [-Wmissing-braces]
                ,0.65,0.56,0.49,0.69
                 ^~~~~~~~~~~~~~~~~~~
                 {                  }
DesignProbes.c:133:4: warning: suggest braces around initialization of subobject [-Wmissing-braces]
                ,0.65,0.56,0.49,0.69
                 ^~~~~~~~~~~~~~~~~~~
                 {                  }
DesignProbes.c:134:4: warning: suggest braces around initialization of subobject [-Wmissing-braces]
                ,0.65,0.55,0.48,0.69
                 ^~~~~~~~~~~~~~~~~~~
                 {                  }
DesignProbes.c:135:4: warning: suggest braces around initialization of subobject [-Wmissing-braces]
                ,0,0,0,0
                 ^~~~~~~
                 {      }
DesignProbes.c:131:4: warning: suggest braces around initialization of subobject [-Wmissing-braces]
                ,0.65,0.55,0.48,0.69
                 ^~~~~~~~~~~~~~~~~~~
                 {
DesignProbes.c:111:4: warning: suggest braces around initialization of subobject [-Wmissing-braces]
                ,0,0,0,0
                 ^~~~~~~
                 {
DesignProbes.c:136:4: warning: suggest braces around initialization of subobject [-Wmissing-braces]
                ,0,0,0,0
                 ^~~~~~~
                 {      }
DesignProbes.c:137:4: warning: suggest braces around initialization of subobject [-Wmissing-braces]
                ,1.100661785,0.969784756,1.318532145,1.385046493
                 ^~~~~~~~~~~~~~~~~~~~~~~~~~~~~~~~~~~~~~~~~~~~~~~
                 {                                              }
DesignProbes.c:138:4: warning: suggest braces around initialization of subobject [-Wmissing-braces]
                ,0.565895968,-0.060347902,0.59458138,0.653168672
                 ^~~~~~~~~~~~~~~~~~~~~~~~~~~~~~~~~~~~~~~~~~~~~~~
                 {                                              }
DesignProbes.c:139:4: warning: suggest braces around initialization of subobject [-Wmissing-braces]
                ,0.782168488,0.788161238,0.740323132,1.001540513
                 ^~~~~~~~~~~~~~~~~~~~~~~~~~~~~~~~~~~~~~~~~~~~~~~
                 {                                              }
DesignProbes.c:140:4: warning: suggest braces around initialization of subobject [-Wmissing-braces]
                ,0.68,0.46,0.55,0.65
                 ^~~~~~~~~~~~~~~~~~~
                 {                  }
DesignProbes.c:136:4: warning: suggest braces around initialization of subobject [-Wmissing-braces]
                ,0,0,0,0
                 ^~~~~~~
                 {
DesignProbes.c:141:4: warning: suggest braces around initialization of subobject [-Wmissing-braces]
                ,0.468913405,-0.469855984,0.274849491,-0.024857805
                 ^~~~~~~~~~~~~~~~~~~~~~~~~~~~~~~~~~~~~~~~~~~~~~~~~
                 {                                                }
DesignProbes.c:142:4: warning: suggest braces around initialization of subobject [-Wmissing-braces]
                ,0,0,0,0
                 ^~~~~~~
                 {      }
DesignProbes.c:143:4: warning: suggest braces around initialization of subobject [-Wmissing-braces]
                ,0.258195131,-0.70438632,0.249934344,-0.143236405
                 ^~~~~~~~~~~~~~~~~~~~~~~~~~~~~~~~~~~~~~~~~~~~~~~~
                 {                                               }
DesignProbes.c:144:4: warning: suggest braces around initialization of subobject [-Wmissing-braces]
                ,0.502914193,-0.060347902,0.241428373,0.582415494
                 ^~~~~~~~~~~~~~~~~~~~~~~~~~~~~~~~~~~~~~~~~~~~~~~~
                 {                                               }
DesignProbes.c:145:4: warning: suggest braces around initialization of subobject [-Wmissing-braces]
                ,0.68,0.47,0.56,0.65
                 ^~~~~~~~~~~~~~~~~~~
                 {                  }
DesignProbes.c:141:4: warning: suggest braces around initialization of subobject [-Wmissing-braces]
                ,0.468913405,-0.469855984,0.274849491,-0.024857805
                 ^~~~~~~~~~~~~~~~~~~~~~~~~~~~~~~~~~~~~~~~~~~~~~~~~
                 {
DesignProbes.c:146:4: warning: suggest braces around initialization of subobject [-Wmissing-braces]
                ,0.584083861,0.258975454,0.524430101,0.846496194
                 ^~~~~~~~~~~~~~~~~~~~~~~~~~~~~~~~~~~~~~~~~~~~~~~
                 {                                              }
DesignProbes.c:147:4: warning: suggest braces around initialization of subobject [-Wmissing-braces]
                ,0.968040559,0.797499702,0.730184613,1.270687029
                 ^~~~~~~~~~~~~~~~~~~~~~~~~~~~~~~~~~~~~~~~~~~~~~~
                 {                                              }
DesignProbes.c:148:4: warning: suggest braces around initialization of subobject [-Wmissing-braces]
                ,0,0,0,0
                 ^~~~~~~
                 {      }
DesignProbes.c:149:4: warning: suggest braces around initialization of subobject [-Wmissing-braces]
                ,1.081040749,0.969784756,0.84547091,1.254355018
                 ^~~~~~~~~~~~~~~~~~~~~~~~~~~~~~~~~~~~~~~~~~~~~~
                 {                                             }
DesignProbes.c:150:4: warning: suggest braces around initialization of subobject [-Wmissing-braces]
                ,0.68,0.47,0.56,0.65
                 ^~~~~~~~~~~~~~~~~~~
                 {                  }
DesignProbes.c:146:4: warning: suggest braces around initialization of subobject [-Wmissing-braces]
                ,0.584083861,0.258975454,0.524430101,0.846496194
                 ^~~~~~~~~~~~~~~~~~~~~~~~~~~~~~~~~~~~~~~~~~~~~~~
                 {
DesignProbes.c:151:4: warning: suggest braces around initialization of subobject [-Wmissing-braces]
                ,1.048553951,0.728354541,0.894838095,0.882097231
                 ^~~~~~~~~~~~~~~~~~~~~~~~~~~~~~~~~~~~~~~~~~~~~~~
                 {                                              }
DesignProbes.c:152:4: warning: suggest braces around initialization of subobject [-Wmissing-braces]
                ,0.88611252,0.258975454,0.318907854,0.746214538
                 ^~~~~~~~~~~~~~~~~~~~~~~~~~~~~~~~~~~~~~~~~~~~~~
                 {                                             }
DesignProbes.c:153:4: warning: suggest braces around initialization of subobject [-Wmissing-braces]
                ,0.239520858,-0.469855984,0.101248351,0.18553379
                 ^~~~~~~~~~~~~~~~~~~~~~~~~~~~~~~~~~~~~~~~~~~~~~~
                 {                                              }
DesignProbes.c:154:4: warning: suggest braces around initialization of subobject [-Wmissing-braces]
                ,0,0,0,0
                 ^~~~~~~
                 {      }
DesignProbes.c:155:4: warning: suggest braces around initialization of subobject [-Wmissing-braces]
                ,0.68,0.46,0.55,0.65
                 ^~~~~~~~~~~~~~~~~~~
                 {                  }
DesignProbes.c:151:4: warning: suggest braces around initialization of subobject [-Wmissing-braces]
                ,1.048553951,0.728354541,0.894838095,0.882097231
                 ^~~~~~~~~~~~~~~~~~~~~~~~~~~~~~~~~~~~~~~~~~~~~~~
                 {
DesignProbes.c:156:4: warning: suggest braces around initialization of subobject [-Wmissing-braces]
                ,0.68,0.46,0.55,0.65
                 ^~~~~~~~~~~~~~~~~~~
                 {                  }
DesignProbes.c:157:4: warning: suggest braces around initialization of subobject [-Wmissing-braces]
                ,0.68,0.47,0.56,0.65
                 ^~~~~~~~~~~~~~~~~~~
                 {                  }
DesignProbes.c:158:4: warning: suggest braces around initialization of subobject [-Wmissing-braces]
                ,0.68,0.47,0.56,0.65
                 ^~~~~~~~~~~~~~~~~~~
                 {                  }
DesignProbes.c:159:4: warning: suggest braces around initialization of subobject [-Wmissing-braces]
                ,0.68,0.46,0.55,0.65
                 ^~~~~~~~~~~~~~~~~~~
                 {                  }
DesignProbes.c:160:4: warning: suggest braces around initialization of subobject [-Wmissing-braces]
                ,0,0,0,0
                 ^~~~~~~
                 {      }
DesignProbes.c:156:4: warning: suggest braces around initialization of subobject [-Wmissing-braces]
                ,0.68,0.46,0.55,0.65
                 ^~~~~~~~~~~~~~~~~~~
                 {
DesignProbes.c:136:4: warning: suggest braces around initialization of subobject [-Wmissing-braces]
                ,0,0,0,0
                 ^~~~~~~
                 {
DesignProbes.c:161:4: warning: suggest braces around initialization of subobject [-Wmissing-braces]
                ,0,0,0,0
                 ^~~~~~~
                 {      }
DesignProbes.c:162:4: warning: suggest braces around initialization of subobject [-Wmissing-braces]
                ,1.566899704,1.081040749,1.45897431,1.443665704
                 ^~~~~~~~~~~~~~~~~~~~~~~~~~~~~~~~~~~~~~~~~~~~~~
                 {                                             }
DesignProbes.c:163:4: warning: suggest braces around initialization of subobject [-Wmissing-braces]
                ,0.976725675,0.502914193,0.871921533,0.851622883
                 ^~~~~~~~~~~~~~~~~~~~~~~~~~~~~~~~~~~~~~~~~~~~~~~
                 {                                              }
DesignProbes.c:164:4: warning: suggest braces around initialization of subobject [-Wmissing-braces]
                ,1.482046826,0.782168488,0.99945386,1.203555051
                 ^~~~~~~~~~~~~~~~~~~~~~~~~~~~~~~~~~~~~~~~~~~~~~
                 {                                             }
DesignProbes.c:165:4: warning: suggest braces around initialization of subobject [-Wmissing-braces]
                ,0.85,0.68,0.65,0.76
                 ^~~~~~~~~~~~~~~~~~~
                 {                  }
DesignProbes.c:161:4: warning: suggest braces around initialization of subobject [-Wmissing-braces]
                ,0,0,0,0
                 ^~~~~~~
                 {
DesignProbes.c:166:4: warning: suggest braces around initialization of subobject [-Wmissing-braces]
                ,0.798628781,0.239520858,0.503209827,0.766581547
                 ^~~~~~~~~~~~~~~~~~~~~~~~~~~~~~~~~~~~~~~~~~~~~~~
                 {                                              }
DesignProbes.c:167:4: warning: suggest braces around initialization of subobject [-Wmissing-braces]
                ,0,0,0,0
                 ^~~~~~~
                 {      }
DesignProbes.c:168:4: warning: suggest braces around initialization of subobject [-Wmissing-braces]
                ,1.141098246,0.258195131,1.0651638,0.856582783
                 ^~~~~~~~~~~~~~~~~~~~~~~~~~~~~~~~~~~~~~~~~~~~~
                 {                                            }
DesignProbes.c:169:4: warning: suggest braces around initialization of subobject [-Wmissing-braces]
                ,0.976725675,0.565895968,0.755889609,1.150635633
                 ^~~~~~~~~~~~~~~~~~~~~~~~~~~~~~~~~~~~~~~~~~~~~~~
                 {                                              }
DesignProbes.c:170:4: warning: suggest braces around initialization of subobject [-Wmissing-braces]
                ,0.85,0.68,0.65,0.75
                 ^~~~~~~~~~~~~~~~~~~
                 {                  }
DesignProbes.c:166:4: warning: suggest braces around initialization of subobject [-Wmissing-braces]
                ,0.798628781,0.239520858,0.503209827,0.766581547
                 ^~~~~~~~~~~~~~~~~~~~~~~~~~~~~~~~~~~~~~~~~~~~~~~
                 {
DesignProbes.c:171:4: warning: suggest braces around initialization of subobject [-Wmissing-braces]
                ,1.125403302,0.88611252,0.911428974,1.496720812
                 ^~~~~~~~~~~~~~~~~~~~~~~~~~~~~~~~~~~~~~~~~~~~~~
                 {                                             }
DesignProbes.c:172:4: warning: suggest braces around initialization of subobject [-Wmissing-braces]
                ,1.68169282,0.968040559,1.099899195,1.822113278
                 ^~~~~~~~~~~~~~~~~~~~~~~~~~~~~~~~~~~~~~~~~~~~~~
                 {                                             }
DesignProbes.c:173:4: warning: suggest braces around initialization of subobject [-Wmissing-braces]
                ,0,0,0,0
                 ^~~~~~~
                 {      }
DesignProbes.c:174:4: warning: suggest braces around initialization of subobject [-Wmissing-braces]
                ,1.566899704,1.100661785,1.295827995,1.545032445
                 ^~~~~~~~~~~~~~~~~~~~~~~~~~~~~~~~~~~~~~~~~~~~~~~
                 {                                              }
DesignProbes.c:175:4: warning: suggest braces around initialization of subobject [-Wmissing-braces]
                ,0.85,0.68,0.65,0.75
                 ^~~~~~~~~~~~~~~~~~~
                 {                  }
DesignProbes.c:171:4: warning: suggest braces around initialization of subobject [-Wmissing-braces]
                ,1.125403302,0.88611252,0.911428974,1.496720812
                 ^~~~~~~~~~~~~~~~~~~~~~~~~~~~~~~~~~~~~~~~~~~~~~
                 {
DesignProbes.c:176:4: warning: suggest braces around initialization of subobject [-Wmissing-braces]
                ,1.35948517,1.048553951,1.242135174,1.478009492
                 ^~~~~~~~~~~~~~~~~~~~~~~~~~~~~~~~~~~~~~~~~~~~~~
                 {                                             }
DesignProbes.c:177:4: warning: suggest braces around initialization of subobject [-Wmissing-braces]
                ,1.125403302,0.584083861,1.07531714,1.231861002
                 ^~~~~~~~~~~~~~~~~~~~~~~~~~~~~~~~~~~~~~~~~~~~~~
                 {                                             }
DesignProbes.c:178:4: warning: suggest braces around initialization of subobject [-Wmissing-braces]
                ,0.798628781,0.468913405,0.843147406,0.630005348
                 ^~~~~~~~~~~~~~~~~~~~~~~~~~~~~~~~~~~~~~~~~~~~~~~
                 {                                              }
DesignProbes.c:179:4: warning: suggest braces around initialization of subobject [-Wmissing-braces]
                ,0,0,0,0
                 ^~~~~~~
                 {      }
DesignProbes.c:180:4: warning: suggest braces around initialization of subobject [-Wmissing-braces]
                ,0.85,0.68,0.65,0.75
                 ^~~~~~~~~~~~~~~~~~~
                 {                  }
DesignProbes.c:176:4: warning: suggest braces around initialization of subobject [-Wmissing-braces]
                ,1.35948517,1.048553951,1.242135174,1.478009492
                 ^~~~~~~~~~~~~~~~~~~~~~~~~~~~~~~~~~~~~~~~~~~~~~
                 {
DesignProbes.c:181:4: warning: suggest braces around initialization of subobject [-Wmissing-braces]
                ,0.85,0.68,0.65,0.75
                 ^~~~~~~~~~~~~~~~~~~
                 {                  }
DesignProbes.c:182:4: warning: suggest braces around initialization of subobject [-Wmissing-braces]
                ,0.85,0.68,0.65,0.75
                 ^~~~~~~~~~~~~~~~~~~
                 {                  }
DesignProbes.c:183:4: warning: suggest braces around initialization of subobject [-Wmissing-braces]
                ,0.85,0.68,0.65,0.75
                 ^~~~~~~~~~~~~~~~~~~
                 {                  }
DesignProbes.c:184:4: warning: suggest braces around initialization of subobject [-Wmissing-braces]
                ,0.85,0.68,0.65,0.75
                 ^~~~~~~~~~~~~~~~~~~
                 {                  }
DesignProbes.c:185:4: warning: suggest braces around initialization of subobject [-Wmissing-braces]
                ,0,0,0,0        
                 ^~~~~~~
                 {      }
DesignProbes.c:181:4: warning: suggest braces around initialization of subobject [-Wmissing-braces]
                ,0.85,0.68,0.65,0.75
                 ^~~~~~~~~~~~~~~~~~~
                 {
DesignProbes.c:161:4: warning: suggest braces around initialization of subobject [-Wmissing-braces]
                ,0,0,0,0
                 ^~~~~~~
                 {
DesignProbes.c:59:6: warning: unused variable 'nthreads' [-Wunused-variable]
        int nthreads = asInteger(nThreads);
            ^
133 warnings generated.
clang -arch arm64 -std=gnu2x -I"/Library/Frameworks/R.framework/Resources/include" -DNDEBUG  -I'/Library/Frameworks/R.framework/Versions/4.5-arm64/Resources/library/Biostrings/include' -I'/Library/Frameworks/R.framework/Versions/4.5-arm64/Resources/library/S4Vectors/include' -I'/Library/Frameworks/R.framework/Versions/4.5-arm64/Resources/library/IRanges/include' -I'/Library/Frameworks/R.framework/Versions/4.5-arm64/Resources/library/XVector/include' -I/opt/R/arm64/include    -fPIC  -falign-functions=64 -Wall -g -O2  -c Diff.c -o Diff.o
clang -arch arm64 -std=gnu2x -I"/Library/Frameworks/R.framework/Resources/include" -DNDEBUG  -I'/Library/Frameworks/R.framework/Versions/4.5-arm64/Resources/library/Biostrings/include' -I'/Library/Frameworks/R.framework/Versions/4.5-arm64/Resources/library/S4Vectors/include' -I'/Library/Frameworks/R.framework/Versions/4.5-arm64/Resources/library/IRanges/include' -I'/Library/Frameworks/R.framework/Versions/4.5-arm64/Resources/library/XVector/include' -I/opt/R/arm64/include    -fPIC  -falign-functions=64 -Wall -g -O2  -c DistanceMatrix.c -o DistanceMatrix.o
DistanceMatrix.c:522:6: warning: unused variable 'nthreads' [-Wunused-variable]
        int nthreads = asInteger(nThreads);
            ^
DistanceMatrix.c:1118:6: warning: unused variable 'nthreads' [-Wunused-variable]
        int nthreads = asInteger(nThreads);
            ^
2 warnings generated.
clang -arch arm64 -std=gnu2x -I"/Library/Frameworks/R.framework/Resources/include" -DNDEBUG  -I'/Library/Frameworks/R.framework/Versions/4.5-arm64/Resources/library/Biostrings/include' -I'/Library/Frameworks/R.framework/Versions/4.5-arm64/Resources/library/S4Vectors/include' -I'/Library/Frameworks/R.framework/Versions/4.5-arm64/Resources/library/IRanges/include' -I'/Library/Frameworks/R.framework/Versions/4.5-arm64/Resources/library/XVector/include' -I/opt/R/arm64/include    -fPIC  -falign-functions=64 -Wall -g -O2  -c EnumerateSequence.c -o EnumerateSequence.o
EnumerateSequence.c:298:6: warning: unused variable 'nthreads' [-Wunused-variable]
        int nthreads = asInteger(nThreads);
            ^
EnumerateSequence.c:871:6: warning: unused variable 'nthreads' [-Wunused-variable]
        int nthreads = asInteger(nThreads);
            ^
2 warnings generated.
clang -arch arm64 -std=gnu2x -I"/Library/Frameworks/R.framework/Resources/include" -DNDEBUG  -I'/Library/Frameworks/R.framework/Versions/4.5-arm64/Resources/library/Biostrings/include' -I'/Library/Frameworks/R.framework/Versions/4.5-arm64/Resources/library/S4Vectors/include' -I'/Library/Frameworks/R.framework/Versions/4.5-arm64/Resources/library/IRanges/include' -I'/Library/Frameworks/R.framework/Versions/4.5-arm64/Resources/library/XVector/include' -I/opt/R/arm64/include    -fPIC  -falign-functions=64 -Wall -g -O2  -c ExpandAmbiguities.c -o ExpandAmbiguities.o
clang -arch arm64 -std=gnu2x -I"/Library/Frameworks/R.framework/Resources/include" -DNDEBUG  -I'/Library/Frameworks/R.framework/Versions/4.5-arm64/Resources/library/Biostrings/include' -I'/Library/Frameworks/R.framework/Versions/4.5-arm64/Resources/library/S4Vectors/include' -I'/Library/Frameworks/R.framework/Versions/4.5-arm64/Resources/library/IRanges/include' -I'/Library/Frameworks/R.framework/Versions/4.5-arm64/Resources/library/XVector/include' -I/opt/R/arm64/include    -fPIC  -falign-functions=64 -Wall -g -O2  -c FindFrameshifts.c -o FindFrameshifts.o
clang -arch arm64 -std=gnu2x -I"/Library/Frameworks/R.framework/Resources/include" -DNDEBUG  -I'/Library/Frameworks/R.framework/Versions/4.5-arm64/Resources/library/Biostrings/include' -I'/Library/Frameworks/R.framework/Versions/4.5-arm64/Resources/library/S4Vectors/include' -I'/Library/Frameworks/R.framework/Versions/4.5-arm64/Resources/library/IRanges/include' -I'/Library/Frameworks/R.framework/Versions/4.5-arm64/Resources/library/XVector/include' -I/opt/R/arm64/include    -fPIC  -falign-functions=64 -Wall -g -O2  -c GeneFinding.c -o GeneFinding.o
GeneFinding.c:3261:6: warning: unused variable 'nthreads' [-Wunused-variable]
        int nthreads = asInteger(nThreads);
            ^
GeneFinding.c:3338:6: warning: unused variable 'nthreads' [-Wunused-variable]
        int nthreads = asInteger(nThreads);
            ^
GeneFinding.c:3395:6: warning: unused variable 'nthreads' [-Wunused-variable]
        int nthreads = asInteger(nThreads);
            ^
3 warnings generated.
clang -arch arm64 -std=gnu2x -I"/Library/Frameworks/R.framework/Resources/include" -DNDEBUG  -I'/Library/Frameworks/R.framework/Versions/4.5-arm64/Resources/library/Biostrings/include' -I'/Library/Frameworks/R.framework/Versions/4.5-arm64/Resources/library/S4Vectors/include' -I'/Library/Frameworks/R.framework/Versions/4.5-arm64/Resources/library/IRanges/include' -I'/Library/Frameworks/R.framework/Versions/4.5-arm64/Resources/library/XVector/include' -I/opt/R/arm64/include    -fPIC  -falign-functions=64 -Wall -g -O2  -c GetPools.c -o GetPools.o
clang -arch arm64 -std=gnu2x -I"/Library/Frameworks/R.framework/Resources/include" -DNDEBUG  -I'/Library/Frameworks/R.framework/Versions/4.5-arm64/Resources/library/Biostrings/include' -I'/Library/Frameworks/R.framework/Versions/4.5-arm64/Resources/library/S4Vectors/include' -I'/Library/Frameworks/R.framework/Versions/4.5-arm64/Resources/library/IRanges/include' -I'/Library/Frameworks/R.framework/Versions/4.5-arm64/Resources/library/XVector/include' -I/opt/R/arm64/include    -fPIC  -falign-functions=64 -Wall -g -O2  -c Import.c -o Import.o
clang -arch arm64 -std=gnu2x -I"/Library/Frameworks/R.framework/Resources/include" -DNDEBUG  -I'/Library/Frameworks/R.framework/Versions/4.5-arm64/Resources/library/Biostrings/include' -I'/Library/Frameworks/R.framework/Versions/4.5-arm64/Resources/library/S4Vectors/include' -I'/Library/Frameworks/R.framework/Versions/4.5-arm64/Resources/library/IRanges/include' -I'/Library/Frameworks/R.framework/Versions/4.5-arm64/Resources/library/XVector/include' -I/opt/R/arm64/include    -fPIC  -falign-functions=64 -Wall -g -O2  -c InformationContent.c -o InformationContent.o
clang -arch arm64 -std=gnu2x -I"/Library/Frameworks/R.framework/Resources/include" -DNDEBUG  -I'/Library/Frameworks/R.framework/Versions/4.5-arm64/Resources/library/Biostrings/include' -I'/Library/Frameworks/R.framework/Versions/4.5-arm64/Resources/library/S4Vectors/include' -I'/Library/Frameworks/R.framework/Versions/4.5-arm64/Resources/library/IRanges/include' -I'/Library/Frameworks/R.framework/Versions/4.5-arm64/Resources/library/XVector/include' -I/opt/R/arm64/include    -fPIC  -falign-functions=64 -Wall -g -O2  -c IntDist.c -o IntDist.o
clang -arch arm64 -std=gnu2x -I"/Library/Frameworks/R.framework/Resources/include" -DNDEBUG  -I'/Library/Frameworks/R.framework/Versions/4.5-arm64/Resources/library/Biostrings/include' -I'/Library/Frameworks/R.framework/Versions/4.5-arm64/Resources/library/S4Vectors/include' -I'/Library/Frameworks/R.framework/Versions/4.5-arm64/Resources/library/IRanges/include' -I'/Library/Frameworks/R.framework/Versions/4.5-arm64/Resources/library/XVector/include' -I/opt/R/arm64/include    -fPIC  -falign-functions=64 -Wall -g -O2  -c ManipulateXStringSet.c -o ManipulateXStringSet.o
ManipulateXStringSet.c:55:6: warning: unused variable 'nthreads' [-Wunused-variable]
        int nthreads = asInteger(nThreads);
            ^
ManipulateXStringSet.c:692:6: warning: unused variable 'nthreads' [-Wunused-variable]
        int nthreads = asInteger(nThreads);
            ^
ManipulateXStringSet.c:822:6: warning: unused variable 'nthreads' [-Wunused-variable]
        int nthreads = asInteger(nThreads);
            ^
ManipulateXStringSet.c:925:6: warning: unused variable 'nthreads' [-Wunused-variable]
        int nthreads = asInteger(nThreads);
            ^
ManipulateXStringSet.c:1019:6: warning: unused variable 'nthreads' [-Wunused-variable]
        int nthreads = asInteger(nThreads);
            ^
5 warnings generated.
clang -arch arm64 -std=gnu2x -I"/Library/Frameworks/R.framework/Resources/include" -DNDEBUG  -I'/Library/Frameworks/R.framework/Versions/4.5-arm64/Resources/library/Biostrings/include' -I'/Library/Frameworks/R.framework/Versions/4.5-arm64/Resources/library/S4Vectors/include' -I'/Library/Frameworks/R.framework/Versions/4.5-arm64/Resources/library/IRanges/include' -I'/Library/Frameworks/R.framework/Versions/4.5-arm64/Resources/library/XVector/include' -I/opt/R/arm64/include    -fPIC  -falign-functions=64 -Wall -g -O2  -c MeltPolymer.c -o MeltPolymer.o
MeltPolymer.c:80:3: warning: suggest braces around initialization of subobject [-Wmissing-braces]
                -7.9,-8.4,-7.8,-7.2
                ^~~~~~~~~~~~~~~~~~~
                {                  }
MeltPolymer.c:81:4: warning: suggest braces around initialization of subobject [-Wmissing-braces]
                ,-8.5,-8.0,-10.6,-7.8
                 ^~~~~~~~~~~~~~~~~~~~
                 {                   }
MeltPolymer.c:82:4: warning: suggest braces around initialization of subobject [-Wmissing-braces]
                ,-8.2,-9.8,-8.0,-8.4
                 ^~~~~~~~~~~~~~~~~~~
                 {                  }
MeltPolymer.c:83:4: warning: suggest braces around initialization of subobject [-Wmissing-braces]
                ,-7.2,-8.2,-8.5,-7.9
                 ^~~~~~~~~~~~~~~~~~~
                 {                  }
MeltPolymer.c:89:3: warning: suggest braces around initialization of subobject [-Wmissing-braces]
                -22.2,-22.4,-21.0,-20.4
                ^~~~~~~~~~~~~~~~~~~~~~~
                {                      }
MeltPolymer.c:90:4: warning: suggest braces around initialization of subobject [-Wmissing-braces]
                ,-22.7,-19.9,-27.2,-21.0
                 ^~~~~~~~~~~~~~~~~~~~~~~
                 {                      }
MeltPolymer.c:91:4: warning: suggest braces around initialization of subobject [-Wmissing-braces]
                ,-22.2,-24.4,-19.9,-22.4
                 ^~~~~~~~~~~~~~~~~~~~~~~
                 {                      }
MeltPolymer.c:92:4: warning: suggest braces around initialization of subobject [-Wmissing-braces]
                ,-21.3,-22.2,-22.7,-22.2
                 ^~~~~~~~~~~~~~~~~~~~~~~
                 {                      }
8 warnings generated.
clang -arch arm64 -std=gnu2x -I"/Library/Frameworks/R.framework/Resources/include" -DNDEBUG  -I'/Library/Frameworks/R.framework/Versions/4.5-arm64/Resources/library/Biostrings/include' -I'/Library/Frameworks/R.framework/Versions/4.5-arm64/Resources/library/S4Vectors/include' -I'/Library/Frameworks/R.framework/Versions/4.5-arm64/Resources/library/IRanges/include' -I'/Library/Frameworks/R.framework/Versions/4.5-arm64/Resources/library/XVector/include' -I/opt/R/arm64/include    -fPIC  -falign-functions=64 -Wall -g -O2  -c MovingAverage.c -o MovingAverage.o
clang -arch arm64 -std=gnu2x -I"/Library/Frameworks/R.framework/Resources/include" -DNDEBUG  -I'/Library/Frameworks/R.framework/Versions/4.5-arm64/Resources/library/Biostrings/include' -I'/Library/Frameworks/R.framework/Versions/4.5-arm64/Resources/library/S4Vectors/include' -I'/Library/Frameworks/R.framework/Versions/4.5-arm64/Resources/library/IRanges/include' -I'/Library/Frameworks/R.framework/Versions/4.5-arm64/Resources/library/XVector/include' -I/opt/R/arm64/include    -fPIC  -falign-functions=64 -Wall -g -O2  -c NNLS.c -o NNLS.o
NNLS.c:50:6: warning: unused variable 'nthreads' [-Wunused-variable]
        int nthreads = asInteger(nThreads);
            ^
1 warning generated.
clang -arch arm64 -std=gnu2x -I"/Library/Frameworks/R.framework/Resources/include" -DNDEBUG  -I'/Library/Frameworks/R.framework/Versions/4.5-arm64/Resources/library/Biostrings/include' -I'/Library/Frameworks/R.framework/Versions/4.5-arm64/Resources/library/S4Vectors/include' -I'/Library/Frameworks/R.framework/Versions/4.5-arm64/Resources/library/IRanges/include' -I'/Library/Frameworks/R.framework/Versions/4.5-arm64/Resources/library/XVector/include' -I/opt/R/arm64/include    -fPIC  -falign-functions=64 -Wall -g -O2  -c Order.c -o Order.o
clang -arch arm64 -std=gnu2x -I"/Library/Frameworks/R.framework/Resources/include" -DNDEBUG  -I'/Library/Frameworks/R.framework/Versions/4.5-arm64/Resources/library/Biostrings/include' -I'/Library/Frameworks/R.framework/Versions/4.5-arm64/Resources/library/S4Vectors/include' -I'/Library/Frameworks/R.framework/Versions/4.5-arm64/Resources/library/IRanges/include' -I'/Library/Frameworks/R.framework/Versions/4.5-arm64/Resources/library/XVector/include' -I/opt/R/arm64/include    -fPIC  -falign-functions=64 -Wall -g -O2  -c PairwiseAlignment.c -o PairwiseAlignment.o
PairwiseAlignment.c:188:6: warning: unused variable 'nthreads' [-Wunused-variable]
        int nthreads = asInteger(nThreads);
            ^
PairwiseAlignment.c:1034:6: warning: unused variable 'nthreads' [-Wunused-variable]
        int nthreads = asInteger(nThreads);
            ^
2 warnings generated.
clang -arch arm64 -std=gnu2x -I"/Library/Frameworks/R.framework/Resources/include" -DNDEBUG  -I'/Library/Frameworks/R.framework/Versions/4.5-arm64/Resources/library/Biostrings/include' -I'/Library/Frameworks/R.framework/Versions/4.5-arm64/Resources/library/S4Vectors/include' -I'/Library/Frameworks/R.framework/Versions/4.5-arm64/Resources/library/IRanges/include' -I'/Library/Frameworks/R.framework/Versions/4.5-arm64/Resources/library/XVector/include' -I/opt/R/arm64/include    -fPIC  -falign-functions=64 -Wall -g -O2  -c PopulationGenetics.c -o PopulationGenetics.o
clang -arch arm64 -std=gnu2x -I"/Library/Frameworks/R.framework/Resources/include" -DNDEBUG  -I'/Library/Frameworks/R.framework/Versions/4.5-arm64/Resources/library/Biostrings/include' -I'/Library/Frameworks/R.framework/Versions/4.5-arm64/Resources/library/S4Vectors/include' -I'/Library/Frameworks/R.framework/Versions/4.5-arm64/Resources/library/IRanges/include' -I'/Library/Frameworks/R.framework/Versions/4.5-arm64/Resources/library/XVector/include' -I/opt/R/arm64/include    -fPIC  -falign-functions=64 -Wall -g -O2  -c PredictDBN.c -o PredictDBN.o
PredictDBN.c:160:6: warning: unused variable 'nthreads' [-Wunused-variable]
        int nthreads = asInteger(nThreads);
            ^
1 warning generated.
clang -arch arm64 -std=gnu2x -I"/Library/Frameworks/R.framework/Resources/include" -DNDEBUG  -I'/Library/Frameworks/R.framework/Versions/4.5-arm64/Resources/library/Biostrings/include' -I'/Library/Frameworks/R.framework/Versions/4.5-arm64/Resources/library/S4Vectors/include' -I'/Library/Frameworks/R.framework/Versions/4.5-arm64/Resources/library/IRanges/include' -I'/Library/Frameworks/R.framework/Versions/4.5-arm64/Resources/library/XVector/include' -I/opt/R/arm64/include    -fPIC  -falign-functions=64 -Wall -g -O2  -c PredictHEC.c -o PredictHEC.o
clang -arch arm64 -std=gnu2x -I"/Library/Frameworks/R.framework/Resources/include" -DNDEBUG  -I'/Library/Frameworks/R.framework/Versions/4.5-arm64/Resources/library/Biostrings/include' -I'/Library/Frameworks/R.framework/Versions/4.5-arm64/Resources/library/S4Vectors/include' -I'/Library/Frameworks/R.framework/Versions/4.5-arm64/Resources/library/IRanges/include' -I'/Library/Frameworks/R.framework/Versions/4.5-arm64/Resources/library/XVector/include' -I/opt/R/arm64/include    -fPIC  -falign-functions=64 -Wall -g -O2  -c R_init_decipher.c -o R_init_decipher.o
clang -arch arm64 -std=gnu2x -I"/Library/Frameworks/R.framework/Resources/include" -DNDEBUG  -I'/Library/Frameworks/R.framework/Versions/4.5-arm64/Resources/library/Biostrings/include' -I'/Library/Frameworks/R.framework/Versions/4.5-arm64/Resources/library/S4Vectors/include' -I'/Library/Frameworks/R.framework/Versions/4.5-arm64/Resources/library/IRanges/include' -I'/Library/Frameworks/R.framework/Versions/4.5-arm64/Resources/library/XVector/include' -I/opt/R/arm64/include    -fPIC  -falign-functions=64 -Wall -g -O2  -c S4Vectors_stubs.c -o S4Vectors_stubs.o
clang -arch arm64 -std=gnu2x -I"/Library/Frameworks/R.framework/Resources/include" -DNDEBUG  -I'/Library/Frameworks/R.framework/Versions/4.5-arm64/Resources/library/Biostrings/include' -I'/Library/Frameworks/R.framework/Versions/4.5-arm64/Resources/library/S4Vectors/include' -I'/Library/Frameworks/R.framework/Versions/4.5-arm64/Resources/library/IRanges/include' -I'/Library/Frameworks/R.framework/Versions/4.5-arm64/Resources/library/XVector/include' -I/opt/R/arm64/include    -fPIC  -falign-functions=64 -Wall -g -O2  -c Search.c -o Search.o
Search.c:106:6: warning: unused variable 'nthreads' [-Wunused-variable]
        int nthreads = asInteger(nThreads);
            ^
1 warning generated.
clang -arch arm64 -std=gnu2x -I"/Library/Frameworks/R.framework/Resources/include" -DNDEBUG  -I'/Library/Frameworks/R.framework/Versions/4.5-arm64/Resources/library/Biostrings/include' -I'/Library/Frameworks/R.framework/Versions/4.5-arm64/Resources/library/S4Vectors/include' -I'/Library/Frameworks/R.framework/Versions/4.5-arm64/Resources/library/IRanges/include' -I'/Library/Frameworks/R.framework/Versions/4.5-arm64/Resources/library/XVector/include' -I/opt/R/arm64/include    -fPIC  -falign-functions=64 -Wall -g -O2  -c TerminalMismatch.c -o TerminalMismatch.o
TerminalMismatch.c:41:6: warning: unused variable 'nthreads' [-Wunused-variable]
        int nthreads = asInteger(nThreads);
            ^
1 warning generated.
clang -arch arm64 -std=gnu2x -I"/Library/Frameworks/R.framework/Resources/include" -DNDEBUG  -I'/Library/Frameworks/R.framework/Versions/4.5-arm64/Resources/library/Biostrings/include' -I'/Library/Frameworks/R.framework/Versions/4.5-arm64/Resources/library/S4Vectors/include' -I'/Library/Frameworks/R.framework/Versions/4.5-arm64/Resources/library/IRanges/include' -I'/Library/Frameworks/R.framework/Versions/4.5-arm64/Resources/library/XVector/include' -I/opt/R/arm64/include    -fPIC  -falign-functions=64 -Wall -g -O2  -c Translate.c -o Translate.o
clang -arch arm64 -std=gnu2x -I"/Library/Frameworks/R.framework/Resources/include" -DNDEBUG  -I'/Library/Frameworks/R.framework/Versions/4.5-arm64/Resources/library/Biostrings/include' -I'/Library/Frameworks/R.framework/Versions/4.5-arm64/Resources/library/S4Vectors/include' -I'/Library/Frameworks/R.framework/Versions/4.5-arm64/Resources/library/IRanges/include' -I'/Library/Frameworks/R.framework/Versions/4.5-arm64/Resources/library/XVector/include' -I/opt/R/arm64/include    -fPIC  -falign-functions=64 -Wall -g -O2  -c Utils.c -o Utils.o
Utils.c:230:6: warning: unused variable 'nthreads' [-Wunused-variable]
        int nthreads = asInteger(nThreads);
            ^
Utils.c:343:6: warning: unused variable 'nthreads' [-Wunused-variable]
        int nthreads = asInteger(nThreads);
            ^
2 warnings generated.
clang -arch arm64 -std=gnu2x -I"/Library/Frameworks/R.framework/Resources/include" -DNDEBUG  -I'/Library/Frameworks/R.framework/Versions/4.5-arm64/Resources/library/Biostrings/include' -I'/Library/Frameworks/R.framework/Versions/4.5-arm64/Resources/library/S4Vectors/include' -I'/Library/Frameworks/R.framework/Versions/4.5-arm64/Resources/library/IRanges/include' -I'/Library/Frameworks/R.framework/Versions/4.5-arm64/Resources/library/XVector/include' -I/opt/R/arm64/include    -fPIC  -falign-functions=64 -Wall -g -O2  -c VectorSums.c -o VectorSums.o
VectorSums.c:83:6: warning: unused variable 'nthreads' [-Wunused-variable]
        int nthreads = asInteger(nThreads);
            ^
1 warning generated.
clang -arch arm64 -std=gnu2x -I"/Library/Frameworks/R.framework/Resources/include" -DNDEBUG  -I'/Library/Frameworks/R.framework/Versions/4.5-arm64/Resources/library/Biostrings/include' -I'/Library/Frameworks/R.framework/Versions/4.5-arm64/Resources/library/S4Vectors/include' -I'/Library/Frameworks/R.framework/Versions/4.5-arm64/Resources/library/IRanges/include' -I'/Library/Frameworks/R.framework/Versions/4.5-arm64/Resources/library/XVector/include' -I/opt/R/arm64/include    -fPIC  -falign-functions=64 -Wall -g -O2  -c XVector_stubs.c -o XVector_stubs.o
clang -arch arm64 -std=gnu2x -dynamiclib -Wl,-headerpad_max_install_names -undefined dynamic_lookup -L/Library/Frameworks/R.framework/Resources/lib -L/opt/R/arm64/lib -o DECIPHER.so AlignProfiles.o AssignIndels.o Biostrings_stubs.o CalculateDeltaG.o CalculateFISH.o ChainSegments.o Cluster.o ClusterME.o ClusterML.o ClusterMP.o Compositions.o Compression.o ConsensusSequence.o DesignProbes.o Diff.o DistanceMatrix.o EnumerateSequence.o ExpandAmbiguities.o FindFrameshifts.o GeneFinding.o GetPools.o Import.o InformationContent.o IntDist.o ManipulateXStringSet.o MeltPolymer.o MovingAverage.o NNLS.o Order.o PairwiseAlignment.o PopulationGenetics.o PredictDBN.o PredictHEC.o R_init_decipher.o S4Vectors_stubs.o Search.o TerminalMismatch.o Translate.o Utils.o VectorSums.o XVector_stubs.o -F/Library/Frameworks/R.framework/.. -framework R
installing to /Library/Frameworks/R.framework/Versions/4.5-arm64/Resources/library/00LOCK-DECIPHER/00new/DECIPHER/libs
** R
** data
** inst
** byte-compile and prepare package for lazy loading
** help
*** installing help indices
** building package indices
** installing vignettes
** testing if installed package can be loaded from temporary location
** checking absolute paths in shared objects and dynamic libraries
** testing if installed package can be loaded from final location
** testing if installed package keeps a record of temporary installation path
* DONE (DECIPHER)

Tests output


Example timings

DECIPHER.Rcheck/DECIPHER-Ex.timings

nameusersystemelapsed
AA_REDUCED0.0120.0020.014
Add2DB0.2130.0200.235
AdjustAlignment0.0690.0050.077
AlignDB0.4330.0090.448
AlignPairs2.1090.0332.160
AlignProfiles0.4340.0130.448
AlignSeqs64.536 2.10667.199
AlignSynteny0.8340.0290.886
AlignTranslation5.0630.0885.245
AmplifyDNA0.0020.0010.002
Array2Matrix2.4040.0242.442
BLOSUM0.0080.0020.010
BrowseDB0.0170.0020.020
BrowseSeqs13.287 0.20713.718
CalculateEfficiencyArray0.0070.0020.010
CalculateEfficiencyFISH0.0010.0010.002
CalculateEfficiencyPCR0.0010.0000.002
Clusterize3.1130.3953.599
Codec0.5670.0070.598
ConsensusSequence0.0580.0020.060
Cophenetic0.6870.0290.731
CorrectFrameshifts7.3720.8918.583
CreateChimeras0.2040.0020.206
DB2Seqs0.0160.0100.031
DesignArray2.2340.0682.401
DesignPrimers0.0030.0000.004
DesignProbes0.0040.0010.005
DesignSignatures0.0060.0000.005
DetectRepeats3.7860.0773.968
DigestDNA0.0470.0030.052
Disambiguate0.0170.0020.026
DistanceMatrix10.064 0.27710.478
ExtractGenes15.259 0.66616.218
FindChimeras0.0200.0010.021
FindGenes14.501 0.73915.395
FindNonCoding24.427 2.71127.759
FindSynteny0.5400.0170.564
FormGroups0.0210.0040.025
Genes-class14.723 0.90215.720
HEC_MI0.1310.0050.136
IdConsensus0.1300.0150.153
IdLengths0.0120.0010.013
IdTaxa4.4340.1924.749
IdentifyByRank0.0100.0000.011
IndexSeqs0.4590.0030.465
InferDemography2.9300.0262.955
InferRecombination6.5160.2556.933
InferSelection11.415 0.42611.978
InvertedIndex-class0.2400.0020.241
LearnNonCoding58.012 1.65761.442
LearnTaxa3.3090.8114.151
MIQS0.0240.0040.030
MMLSUM0.0030.0030.006
MODELS0.0000.0000.001
MapCharacters1.1400.0621.211
MaskAlignment0.1720.0060.178
MeltDNA0.0330.0020.035
NNLS0.0010.0000.001
NonCoding-class0.0250.0040.029
NonCodingRNA0.0510.0080.058
OrientNucleotides0.2110.0020.211
PAM0.0020.0020.004
PFASUM0.0030.0020.005
PredictDBN0.0030.0010.003
PredictHEC0.1570.0050.163
RESTRICTION_ENZYMES0.0000.0020.003
ReadDendrogram0.0100.0020.014
RemoveGaps0.0040.0000.004
ScoreAlignment2.2140.0502.286
SearchDB0.0170.0010.018
SearchIndex0.5560.0370.594
Seqs2DB0.0380.0020.039
StaggerAlignment5.1550.2155.441
Synteny-class0.8840.0320.921
Taxa-class4.3420.2364.581
TerminalChar0.0030.0010.003
TileSeqs0.9360.0080.944
TrainingSet_16S0.6700.0160.685
Treeline28.228 0.47928.868
TrimDNA3.6680.4604.143
WriteDendrogram0.0010.0000.001
WriteGenes13.895 0.91014.851
deltaGrules0.0040.0030.007
deltaGrulesRNA0.0090.0030.012
deltaHrules0.0080.0020.010
deltaHrulesRNA0.0070.0020.009
deltaSrules0.0190.0010.020
deltaSrulesRNA0.0060.0040.011