| Back to Multiple platform build/check report for BioC 3.22: simplified long |
|
This page was generated on 2025-11-06 12:00 -0500 (Thu, 06 Nov 2025).
| Hostname | OS | Arch (*) | R version | Installed pkgs |
|---|---|---|---|---|
| nebbiolo2 | Linux (Ubuntu 24.04.3 LTS) | x86_64 | 4.5.1 Patched (2025-08-23 r88802) -- "Great Square Root" | 4902 |
| kjohnson3 | macOS 13.7.7 Ventura | arm64 | 4.5.1 Patched (2025-09-10 r88807) -- "Great Square Root" | 4638 |
| Click on any hostname to see more info about the system (e.g. compilers) (*) as reported by 'uname -p', except on Windows and Mac OS X | ||||
| Package 523/2361 | Hostname | OS / Arch | INSTALL | BUILD | CHECK | BUILD BIN | ||||||||
| DAPAR 1.42.0 (landing page) Samuel Wieczorek
| nebbiolo2 | Linux (Ubuntu 24.04.3 LTS) / x86_64 | OK | OK | OK | |||||||||
| kjohnson3 | macOS 13.7.7 Ventura / arm64 | OK | OK | OK | OK | |||||||||
|
To the developers/maintainers of the DAPAR package: - Allow up to 24 hours (and sometimes 48 hours) for your latest push to git@git.bioconductor.org:packages/DAPAR.git to reflect on this report. See Troubleshooting Build Report for more information. - Use the following Renviron settings to reproduce errors and warnings. - If 'R CMD check' started to fail recently on the Linux builder(s) over a missing dependency, add the missing dependency to 'Suggests:' in your DESCRIPTION file. See Renviron.bioc for more information. |
| Package: DAPAR |
| Version: 1.42.0 |
| Command: /home/biocbuild/bbs-3.22-bioc/R/bin/R CMD check --install=check:DAPAR.install-out.txt --library=/home/biocbuild/bbs-3.22-bioc/R/site-library --timings DAPAR_1.42.0.tar.gz |
| StartedAt: 2025-11-05 22:49:55 -0500 (Wed, 05 Nov 2025) |
| EndedAt: 2025-11-05 22:58:19 -0500 (Wed, 05 Nov 2025) |
| EllapsedTime: 503.4 seconds |
| RetCode: 0 |
| Status: OK |
| CheckDir: DAPAR.Rcheck |
| Warnings: 0 |
##############################################################################
##############################################################################
###
### Running command:
###
### /home/biocbuild/bbs-3.22-bioc/R/bin/R CMD check --install=check:DAPAR.install-out.txt --library=/home/biocbuild/bbs-3.22-bioc/R/site-library --timings DAPAR_1.42.0.tar.gz
###
##############################################################################
##############################################################################
* using log directory ‘/home/biocbuild/bbs-3.22-bioc/meat/DAPAR.Rcheck’
* using R version 4.5.1 Patched (2025-08-23 r88802)
* using platform: x86_64-pc-linux-gnu
* R was compiled by
gcc (Ubuntu 13.3.0-6ubuntu2~24.04) 13.3.0
GNU Fortran (Ubuntu 13.3.0-6ubuntu2~24.04) 13.3.0
* running under: Ubuntu 24.04.3 LTS
* using session charset: UTF-8
* checking for file ‘DAPAR/DESCRIPTION’ ... OK
* checking extension type ... Package
* this is package ‘DAPAR’ version ‘1.42.0’
* package encoding: UTF-8
* checking package namespace information ... OK
* checking package dependencies ... INFO
Vignette dependency required without any vignettes: ‘knitr’
* checking if this is a source package ... OK
* checking if there is a namespace ... OK
* checking for hidden files and directories ... OK
* checking for portable file names ... OK
* checking for sufficient/correct file permissions ... OK
* checking whether package ‘DAPAR’ can be installed ... OK
* checking installed package size ... OK
* checking package directory ... OK
* checking DESCRIPTION meta-information ... OK
* checking top-level files ... OK
* checking for left-over files ... OK
* checking index information ... OK
* checking package subdirectories ... OK
* checking code files for non-ASCII characters ... OK
* checking R files for syntax errors ... OK
* checking whether the package can be loaded ... OK
* checking whether the package can be loaded with stated dependencies ... OK
* checking whether the package can be unloaded cleanly ... OK
* checking whether the namespace can be loaded with stated dependencies ... OK
* checking whether the namespace can be unloaded cleanly ... OK
* checking loading without being on the library search path ... OK
* checking whether startup messages can be suppressed ... OK
* checking dependencies in R code ... OK
* checking S3 generic/method consistency ... OK
* checking replacement functions ... OK
* checking foreign function calls ... OK
* checking R code for possible problems ... NOTE
Check_Dataset_Validity: no visible global function definition for
‘exprs’
OWAnova: no visible global function definition for ‘aov’
aggregateIterParallel: no visible binding for global variable ‘cond’
averageIntensities: no visible binding for global variable ‘condition’
averageIntensities: no visible binding for global variable ‘feature’
averageIntensities: no visible binding for global variable ‘intensity’
createMSnset: no visible global function definition for
‘installed.packages’
createMSnset: no visible binding for global variable ‘Prostar.loc’
createMSnset2: no visible global function definition for
‘installed.packages’
createMSnset2: no visible binding for global variable ‘Prostar.loc’
diffAnaVolcanoplot_rCharts: no visible binding for global variable ‘x’
diffAnaVolcanoplot_rCharts: no visible binding for global variable ‘y’
diffAnaVolcanoplot_rCharts: no visible binding for global variable ‘g’
display.CC.visNet: no visible binding for global variable
‘layout_nicely’
getTextForGOAnalysis: no visible binding for global variable
‘textGOParams’
getTextForGOAnalysis: no visible binding for global variable ‘input’
globalAdjPval: no visible global function definition for ‘stack’
heatmapForMissingValues: no visible binding for global variable ‘par’
limmaCompleteTest: no visible binding for global variable ‘A’
limmaCompleteTest: no visible binding for global variable ‘B’
limmaCompleteTest: no visible binding for global variable ‘P.Value’
pepa.test: no visible global function definition for ‘nodes<-’
testAnovaModels : <anonymous>: no visible global function definition
for ‘TukeyHSD’
visualizeClusters: no visible binding for global variable
‘adjusted_pvalues’
visualizeClusters: no visible binding for global variable ‘Condition’
visualizeClusters: no visible binding for global variable ‘Intensity’
visualizeClusters: no visible binding for global variable
‘FDR_threshold’
visualizeClusters: no visible binding for global variable ‘feature’
wrapperClassic1wayAnova: no visible binding for global variable
‘Pr(>F)1’
wrapperRunClustering: no visible global function definition for ‘str_c’
Undefined global functions or variables:
A B Condition FDR_threshold Intensity P.Value Pr(>F)1 Prostar.loc
TukeyHSD adjusted_pvalues aov cond condition exprs feature g input
installed.packages intensity layout_nicely nodes<- par stack str_c
textGOParams x y
Consider adding
importFrom("graphics", "par")
importFrom("stats", "TukeyHSD", "aov")
importFrom("utils", "installed.packages", "stack")
to your NAMESPACE file.
* checking Rd files ... OK
* checking Rd metadata ... OK
* checking Rd cross-references ... OK
* checking for missing documentation entries ... OK
* checking for code/documentation mismatches ... OK
* checking Rd \usage sections ... OK
* checking Rd contents ... OK
* checking for unstated dependencies in examples ... OK
* checking examples ... OK
Examples with CPU (user + system) or elapsed time > 5s
user system elapsed
wrapper.compareNormalizationD_HC 35.980 11.687 48.049
wrapper.dapar.impute.mi 13.145 0.404 13.561
barplotEnrichGO_HC 6.192 0.757 6.994
* checking for unstated dependencies in ‘tests’ ... OK
* checking tests ...
Running ‘testthat.R’
OK
* checking PDF version of manual ... OK
* DONE
Status: 1 NOTE
See
‘/home/biocbuild/bbs-3.22-bioc/meat/DAPAR.Rcheck/00check.log’
for details.
DAPAR.Rcheck/00install.out
############################################################################## ############################################################################## ### ### Running command: ### ### /home/biocbuild/bbs-3.22-bioc/R/bin/R CMD INSTALL DAPAR ### ############################################################################## ############################################################################## * installing to library ‘/home/biocbuild/bbs-3.22-bioc/R/site-library’ * installing *source* package ‘DAPAR’ ... ** this is package ‘DAPAR’ version ‘1.42.0’ ** using staged installation ** R ** inst ** byte-compile and prepare package for lazy loading ** help *** installing help indices ** building package indices ** testing if installed package can be loaded from temporary location ** testing if installed package can be loaded from final location ** testing if installed package keeps a record of temporary installation path * DONE (DAPAR)
DAPAR.Rcheck/tests/testthat.Rout
R version 4.5.1 Patched (2025-08-23 r88802) -- "Great Square Root"
Copyright (C) 2025 The R Foundation for Statistical Computing
Platform: x86_64-pc-linux-gnu
R is free software and comes with ABSOLUTELY NO WARRANTY.
You are welcome to redistribute it under certain conditions.
Type 'license()' or 'licence()' for distribution details.
R is a collaborative project with many contributors.
Type 'contributors()' for more information and
'citation()' on how to cite R or R packages in publications.
Type 'demo()' for some demos, 'help()' for on-line help, or
'help.start()' for an HTML browser interface to help.
Type 'q()' to quit R.
> library(testthat)
> library(DAPAR)
This is the 'DAPAR' version 1.42.0.
To get started, visit
http://www.prostar-proteomics.org/
>
> test_check("DAPAR")
Iterations:
1 / 1 - Imputation MNAR OK -
Imputation MCAR in progress -
3 % - 6 % - 9 % - 12 % - 15 % - 18 % - 21 % - 24 % - 27 % - 30 % - 33 % - 36 % - 39 % - 42 % - 45 % - 48 % - 51 % - 54 % - 57 % - 60 % - 63 % - 66 % - 69 % - 72 % - 75 % - 78 % - 81 % - 84 % - 87 % - 90 % - 93 % - 96 % - 99 % -
Iterations:
1 / 1 - Imputation MNAR OK -
Imputation MCAR in progress -
3 % - 6 % - 9 % - 12 % - 15 % - 18 % - 21 % - 24 % - 27 % - 30 % - 33 % - 36 % - 39 % - 42 % - 45 % - 48 % - 51 % - 54 % - 57 % - 60 % - 63 % - 66 % - 69 % - 72 % - 75 % - 78 % - 81 % - 84 % - 87 % - 90 % - 93 % - 96 % - 99 % -
Imputation in condition 1 ...
In progress: 10 % - 20 % - 30 % - 40 % - 50 % - 60 % - 70 % - 80 % - 90 % - 100 % -
Imputation in condition 2 ...
In progress: 10 % - 20 % - 30 % - 40 % - 50 % - 60 % - 70 % - 80 % - 90 % - 100 % - [ FAIL 0 | WARN 17 | SKIP 0 | PASS 66 ]
[ FAIL 0 | WARN 17 | SKIP 0 | PASS 66 ]
>
> proc.time()
user system elapsed
30.810 1.031 31.835
DAPAR.Rcheck/DAPAR-Ex.timings
| name | user | system | elapsed | |
| AggregateMetacell | 0.549 | 0.011 | 0.560 | |
| BuildAdjacencyMatrix | 0.447 | 0.016 | 0.463 | |
| BuildColumnToProteinDataset | 0.552 | 0.011 | 0.562 | |
| BuildMetaCell | 1.576 | 0.078 | 1.667 | |
| CVDistD_HC | 2.017 | 0.169 | 2.205 | |
| Children | 0.004 | 0.000 | 0.004 | |
| CountPep | 0.504 | 0.005 | 0.509 | |
| ExtendPalette | 0.022 | 0.001 | 0.024 | |
| GOAnalysisSave | 0 | 0 | 0 | |
| GetCC | 2.388 | 0.111 | 2.499 | |
| GetColorsForConditions | 0.439 | 0.011 | 0.450 | |
| GetDetailedNbPeptides | 0.464 | 0.010 | 0.473 | |
| GetDetailedNbPeptidesUsed | 0 | 0 | 0 | |
| GetIndices_BasedOnConditions | 0.453 | 0.004 | 0.457 | |
| GetIndices_MetacellFiltering | 0.463 | 0.019 | 0.482 | |
| GetIndices_WholeLine | 0.452 | 0.009 | 0.461 | |
| GetIndices_WholeMatrix | 0.449 | 0.012 | 0.461 | |
| GetKeyId | 0.437 | 0.006 | 0.443 | |
| GetMatAdj | 0.489 | 0.015 | 0.504 | |
| GetMetacell | 0 | 0 | 0 | |
| GetMetacellTags | 0.446 | 0.007 | 0.453 | |
| GetNbPeptidesUsed | 0.447 | 0.013 | 0.460 | |
| GetNbTags | 0 | 0 | 0 | |
| GetSoftAvailables | 0 | 0 | 0 | |
| GetTypeofData | 0.429 | 0.009 | 0.438 | |
| Get_AllComparisons | 0.260 | 0.007 | 0.267 | |
| GlobalQuantileAlignment | 0.456 | 0.008 | 0.464 | |
| GraphPepProt | 0.453 | 0.012 | 0.465 | |
| LH0 | 0 | 0 | 0 | |
| LH0.lm | 0.000 | 0.000 | 0.001 | |
| LH1 | 0 | 0 | 0 | |
| LH1.lm | 0 | 0 | 0 | |
| LOESS | 1.132 | 0.018 | 1.149 | |
| MeanCentering | 0.460 | 0.004 | 0.464 | |
| MetaCellFiltering | 0.582 | 0.007 | 0.588 | |
| MetacellFilteringScope | 0.001 | 0.000 | 0.000 | |
| Metacell_DIA_NN | 0.444 | 0.004 | 0.448 | |
| Metacell_generic | 0.382 | 0.006 | 0.387 | |
| Metacell_maxquant | 0.405 | 0.002 | 0.407 | |
| Metacell_proline | 0.379 | 0.003 | 0.382 | |
| NumericalFiltering | 0.466 | 0.009 | 0.475 | |
| NumericalgetIndicesOfLinesToRemove | 0.432 | 0.017 | 0.449 | |
| OWAnova | 0.006 | 0.001 | 0.007 | |
| QuantileCentering | 0.477 | 0.013 | 0.490 | |
| SetCC | 2.155 | 0.057 | 2.212 | |
| SetMatAdj | 0.464 | 0.018 | 0.484 | |
| Set_POV_MEC_tags | 0.439 | 0.006 | 0.445 | |
| StringBasedFiltering | 0.461 | 0.005 | 0.466 | |
| StringBasedFiltering2 | 0.458 | 0.003 | 0.461 | |
| SumByColumns | 1.217 | 0.036 | 1.252 | |
| SymFilteringOperators | 0 | 0 | 0 | |
| UpdateMetacellAfterImputation | 0.442 | 0.008 | 0.450 | |
| aggregateIter | 0.571 | 0.023 | 0.594 | |
| aggregateIterParallel | 0 | 0 | 0 | |
| aggregateMean | 0.519 | 0.016 | 0.535 | |
| aggregateSum | 0.533 | 0.014 | 0.547 | |
| aggregateTopn | 0.498 | 0.010 | 0.508 | |
| applyAnovasOnProteins | 0.132 | 0.003 | 0.135 | |
| averageIntensities | 0.442 | 0.054 | 0.497 | |
| barplotEnrichGO_HC | 6.192 | 0.757 | 6.994 | |
| barplotGroupGO_HC | 3.937 | 0.230 | 4.176 | |
| boxPlotD_HC | 0.241 | 0.023 | 0.267 | |
| buildGraph | 1.597 | 0.009 | 1.606 | |
| check.conditions | 0.418 | 0.008 | 0.426 | |
| check.design | 0.421 | 0.012 | 0.432 | |
| checkClusterability | 2.229 | 0.827 | 3.091 | |
| classic1wayAnova | 0.001 | 0.000 | 0.001 | |
| compareNormalizationD_HC | 0.159 | 0.010 | 0.169 | |
| compute.selection.table | 0.640 | 0.040 | 0.683 | |
| compute_t_tests | 1.000 | 0.077 | 1.082 | |
| corrMatrixD_HC | 0.526 | 0.022 | 0.548 | |
| createMSnset | 1.464 | 0.031 | 1.496 | |
| createMSnset2 | 1.431 | 0.031 | 1.464 | |
| dapar_hc_ExportMenu | 0.111 | 0.023 | 0.135 | |
| dapar_hc_chart | 0.046 | 0.011 | 0.057 | |
| deleteLinesFromIndices | 0.470 | 0.015 | 0.485 | |
| densityPlotD_HC | 2.288 | 0.505 | 2.824 | |
| diffAnaComputeAdjustedPValues | 0.185 | 0.012 | 0.200 | |
| diffAnaComputeFDR | 0 | 0 | 0 | |
| diffAnaGetSignificant | 0.262 | 0.025 | 0.289 | |
| diffAnaSave | 0.254 | 0.018 | 0.276 | |
| diffAnaVolcanoplot | 0.185 | 0.007 | 0.192 | |
| diffAnaVolcanoplot_rCharts | 0.336 | 0.047 | 0.385 | |
| display.CC.visNet | 1.798 | 0.068 | 1.867 | |
| enrich_GO | 4.028 | 0.198 | 4.232 | |
| finalizeAggregation | 0 | 0 | 0 | |
| findMECBlock | 0.469 | 0.008 | 0.476 | |
| formatHSDResults | 0 | 0 | 0 | |
| formatLimmaResult | 0.168 | 0.006 | 0.175 | |
| formatPHResults | 0 | 0 | 0 | |
| formatPHTResults | 0 | 0 | 0 | |
| fudge2LRT | 0 | 0 | 0 | |
| get.pep.prot.cc | 1.739 | 0.093 | 1.832 | |
| getDesignLevel | 0.413 | 0.011 | 0.424 | |
| getIndicesConditions | 0.415 | 0.012 | 0.427 | |
| getIndicesOfLinesToRemove | 0.435 | 0.011 | 0.448 | |
| getListNbValuesInLines | 0.424 | 0.007 | 0.431 | |
| getNumberOf | 0.434 | 0.010 | 0.444 | |
| getNumberOfEmptyLines | 0.441 | 0.010 | 0.452 | |
| getPourcentageOfMV | 0.432 | 0.015 | 0.447 | |
| getProcessingInfo | 0.417 | 0.009 | 0.426 | |
| getProteinsStats | 0.447 | 0.014 | 0.461 | |
| getQuantile4Imp | 0.115 | 0.002 | 0.117 | |
| getTextForAggregation | 0 | 0 | 0 | |
| getTextForAnaDiff | 0 | 0 | 0 | |
| getTextForFiltering | 0.001 | 0.000 | 0.001 | |
| getTextForGOAnalysis | 0 | 0 | 0 | |
| getTextForHypothesisTest | 0.001 | 0.000 | 0.001 | |
| getTextForNewDataset | 0.002 | 0.000 | 0.002 | |
| getTextForNormalization | 0 | 0 | 0 | |
| getTextForpeptideImputation | 0 | 0 | 0 | |
| getTextForproteinImputation | 0 | 0 | 0 | |
| globalAdjPval | 0.409 | 0.022 | 0.433 | |
| group_GO | 3.938 | 0.237 | 4.181 | |
| hc_logFC_DensityPlot | 0.537 | 0.089 | 0.631 | |
| hc_mvTypePlot2 | 0.820 | 0.133 | 0.958 | |
| heatmapD | 0.716 | 0.011 | 0.727 | |
| heatmapForMissingValues | 0.189 | 0.014 | 0.203 | |
| histPValue_HC | 0.311 | 0.030 | 0.343 | |
| impute.pa2 | 0.485 | 0.022 | 0.507 | |
| inner.aggregate.iter | 0.489 | 0.041 | 0.530 | |
| inner.aggregate.topn | 0.469 | 0.019 | 0.488 | |
| inner.mean | 0.471 | 0.012 | 0.483 | |
| inner.sum | 0.463 | 0.014 | 0.478 | |
| is.subset | 0.001 | 0.000 | 0.000 | |
| limmaCompleteTest | 1.273 | 0.061 | 1.336 | |
| listSheets | 0 | 0 | 0 | |
| make.contrast | 0.436 | 0.011 | 0.446 | |
| make.design.1 | 0.438 | 0.012 | 0.450 | |
| make.design.2 | 0.438 | 0.015 | 0.454 | |
| make.design.3 | 0.446 | 0.006 | 0.453 | |
| make.design | 0.449 | 0.006 | 0.455 | |
| match.metacell | 0.463 | 0.012 | 0.475 | |
| metacell.def | 0.003 | 0.001 | 0.004 | |
| metacellHisto_HC | 0.520 | 0.019 | 0.539 | |
| metacellPerLinesHistoPerCondition_HC | 0.590 | 0.029 | 0.619 | |
| metacellPerLinesHisto_HC | 0.678 | 0.074 | 0.753 | |
| metacombine | 0.138 | 0.011 | 0.148 | |
| mvImage | 1.931 | 0.052 | 1.985 | |
| my_hc_ExportMenu | 0.108 | 0.019 | 0.129 | |
| my_hc_chart | 0.106 | 0.020 | 0.131 | |
| nonzero | 0.014 | 0.000 | 0.014 | |
| normalizeMethods.dapar | 0 | 0 | 0 | |
| pepa.test | 0.460 | 0.008 | 0.468 | |
| pkgs.require | 0 | 0 | 0 | |
| plotJitter | 1.574 | 0.039 | 1.613 | |
| plotJitter_rCharts | 1.544 | 0.031 | 1.576 | |
| plotPCA_Eigen | 0.483 | 0.018 | 0.502 | |
| plotPCA_Eigen_hc | 0.418 | 0.008 | 0.425 | |
| plotPCA_Ind | 0.425 | 0.008 | 0.433 | |
| plotPCA_Var | 0.421 | 0.008 | 0.428 | |
| postHocTest | 0 | 0 | 0 | |
| proportionConRev_HC | 0.038 | 0.007 | 0.047 | |
| rbindMSnset | 0.503 | 0.014 | 0.518 | |
| reIntroduceMEC | 0.463 | 0.019 | 0.482 | |
| readExcel | 0 | 0 | 0 | |
| removeLines | 0.456 | 0.011 | 0.467 | |
| samLRT | 0 | 0 | 0 | |
| saveParameters | 0.426 | 0.006 | 0.433 | |
| scatterplotEnrichGO_HC | 3.909 | 0.172 | 4.087 | |
| search.metacell.tags | 0.006 | 0.000 | 0.006 | |
| separateAdjPval | 0.187 | 0.013 | 0.201 | |
| splitAdjacencyMat | 0.464 | 0.014 | 0.479 | |
| test.design | 0.513 | 0.008 | 0.521 | |
| testAnovaModels | 0.142 | 0.001 | 0.143 | |
| thresholdpval4fdr | 0 | 0 | 0 | |
| translatedRandomBeta | 0.001 | 0.000 | 0.002 | |
| univ_AnnotDbPkg | 0.129 | 0.007 | 0.137 | |
| violinPlotD | 0.259 | 0.003 | 0.265 | |
| visualizeClusters | 1.204 | 0.089 | 1.297 | |
| vsn | 0.69 | 0.01 | 0.70 | |
| wrapper.CVDistD_HC | 1.665 | 0.398 | 2.076 | |
| wrapper.compareNormalizationD_HC | 35.980 | 11.687 | 48.049 | |
| wrapper.corrMatrixD_HC | 0.501 | 0.025 | 0.525 | |
| wrapper.dapar.impute.mi | 13.145 | 0.404 | 13.561 | |
| wrapper.heatmapD | 0.628 | 0.016 | 0.645 | |
| wrapper.impute.KNN | 0.453 | 0.012 | 0.467 | |
| wrapper.impute.detQuant | 0.493 | 0.020 | 0.514 | |
| wrapper.impute.fixedValue | 0.503 | 0.013 | 0.515 | |
| wrapper.impute.mle | 0.465 | 0.008 | 0.473 | |
| wrapper.impute.pa | 0.150 | 0.008 | 0.157 | |
| wrapper.impute.pa2 | 0.456 | 0.017 | 0.475 | |
| wrapper.impute.slsa | 0.602 | 0.020 | 0.623 | |
| wrapper.mvImage | 0.167 | 0.010 | 0.177 | |
| wrapper.normalizeD | 0.434 | 0.008 | 0.441 | |
| wrapper.pca | 0.161 | 0.008 | 0.169 | |
| wrapperCalibrationPlot | 0.203 | 0.013 | 0.217 | |
| wrapperClassic1wayAnova | 0 | 0 | 0 | |
| wrapperRunClustering | 1.955 | 0.231 | 2.193 | |
| write.excel | 0.759 | 0.062 | 0.822 | |
| writeMSnsetToCSV | 0.459 | 0.014 | 0.474 | |
| writeMSnsetToExcel | 0.900 | 0.096 | 0.999 | |