| Back to Multiple platform build/check report for BioC 3.22: simplified long | 
  | 
This page was generated on 2025-11-03 12:03 -0500 (Mon, 03 Nov 2025).
| Hostname | OS | Arch (*) | R version | Installed pkgs | 
|---|---|---|---|---|
| nebbiolo2 | Linux (Ubuntu 24.04.3 LTS) | x86_64 | 4.5.1 Patched (2025-08-23 r88802) -- "Great Square Root" | 4902 | 
| lconway | macOS 12.7.6 Monterey | x86_64 | 4.5.1 Patched (2025-09-10 r88807) -- "Great Square Root" | 4692 | 
| kjohnson3 | macOS 13.7.7 Ventura | arm64 | 4.5.1 Patched (2025-09-10 r88807) -- "Great Square Root" | 4638 | 
| Click on any hostname to see more info about the system (e.g. compilers) (*) as reported by 'uname -p', except on Windows and Mac OS X | ||||
| Package 513/2361 | Hostname | OS / Arch | INSTALL | BUILD | CHECK | BUILD BIN | ||||||||
| CytoPipeline 1.10.0  (landing page) Philippe Hauchamps 
  | nebbiolo2 | Linux (Ubuntu 24.04.3 LTS) / x86_64 | OK | OK | OK | |||||||||
| lconway | macOS 12.7.6 Monterey / x86_64 | OK | OK | OK | OK | |||||||||
| kjohnson3 | macOS 13.7.7 Ventura / arm64 | OK | OK | OK | OK | |||||||||
| 
To the developers/maintainers of the CytoPipeline package: - Allow up to 24 hours (and sometimes 48 hours) for your latest push to git@git.bioconductor.org:packages/CytoPipeline.git to reflect on this report. See Troubleshooting Build Report for more information. - Use the following Renviron settings to reproduce errors and warnings. - If 'R CMD check' started to fail recently on the Linux builder(s) over a missing dependency, add the missing dependency to 'Suggests:' in your DESCRIPTION file. See Renviron.bioc for more information.  | 
| Package: CytoPipeline | 
| Version: 1.10.0 | 
| Command: /home/biocbuild/bbs-3.22-bioc/R/bin/R CMD check --install=check:CytoPipeline.install-out.txt --library=/home/biocbuild/bbs-3.22-bioc/R/site-library --timings CytoPipeline_1.10.0.tar.gz | 
| StartedAt: 2025-11-02 22:52:54 -0500 (Sun, 02 Nov 2025) | 
| EndedAt: 2025-11-02 22:57:45 -0500 (Sun, 02 Nov 2025) | 
| EllapsedTime: 291.2 seconds | 
| RetCode: 0 | 
| Status: OK | 
| CheckDir: CytoPipeline.Rcheck | 
| Warnings: 0 | 
##############################################################################
##############################################################################
###
### Running command:
###
###   /home/biocbuild/bbs-3.22-bioc/R/bin/R CMD check --install=check:CytoPipeline.install-out.txt --library=/home/biocbuild/bbs-3.22-bioc/R/site-library --timings CytoPipeline_1.10.0.tar.gz
###
##############################################################################
##############################################################################
* using log directory ‘/home/biocbuild/bbs-3.22-bioc/meat/CytoPipeline.Rcheck’
* using R version 4.5.1 Patched (2025-08-23 r88802)
* using platform: x86_64-pc-linux-gnu
* R was compiled by
    gcc (Ubuntu 13.3.0-6ubuntu2~24.04) 13.3.0
    GNU Fortran (Ubuntu 13.3.0-6ubuntu2~24.04) 13.3.0
* running under: Ubuntu 24.04.3 LTS
* using session charset: UTF-8
* checking for file ‘CytoPipeline/DESCRIPTION’ ... OK
* this is package ‘CytoPipeline’ version ‘1.10.0’
* package encoding: UTF-8
* checking package namespace information ... OK
* checking package dependencies ... OK
* checking if this is a source package ... OK
* checking if there is a namespace ... OK
* checking for hidden files and directories ... OK
* checking for portable file names ... OK
* checking for sufficient/correct file permissions ... OK
* checking whether package ‘CytoPipeline’ can be installed ... OK
* checking installed package size ... OK
* checking package directory ... OK
* checking ‘build’ directory ... OK
* checking DESCRIPTION meta-information ... OK
* checking top-level files ... NOTE
File
  LICENSE
is not mentioned in the DESCRIPTION file.
* checking for left-over files ... OK
* checking index information ... OK
* checking package subdirectories ... OK
* checking code files for non-ASCII characters ... OK
* checking R files for syntax errors ... OK
* checking whether the package can be loaded ... OK
* checking whether the package can be loaded with stated dependencies ... OK
* checking whether the package can be unloaded cleanly ... OK
* checking whether the namespace can be loaded with stated dependencies ... OK
* checking whether the namespace can be unloaded cleanly ... OK
* checking loading without being on the library search path ... OK
* checking dependencies in R code ... OK
* checking S3 generic/method consistency ... OK
* checking replacement functions ... OK
* checking foreign function calls ... OK
* checking R code for possible problems ... OK
* checking Rd files ... OK
* checking Rd metadata ... OK
* checking Rd cross-references ... OK
* checking for missing documentation entries ... OK
* checking for code/documentation mismatches ... OK
* checking Rd \usage sections ... OK
* checking Rd contents ... OK
* checking for unstated dependencies in examples ... OK
* checking contents of ‘data’ directory ... OK
* checking data for non-ASCII characters ... OK
* checking data for ASCII and uncompressed saves ... OK
* checking files in ‘vignettes’ ... OK
* checking examples ... OK
Examples with CPU (user + system) or elapsed time > 5s
                                   user system elapsed
execute                          25.413  0.672  26.099
interactingWithCytoPipelineCache 13.752  0.240  14.006
inspectCytoPipelineObjects        9.548  0.180   9.732
ggplotEvents                      5.471  0.043   5.301
* checking for unstated dependencies in ‘tests’ ... OK
* checking tests ...
  Running ‘testthat.R’
 OK
* checking for unstated dependencies in vignettes ... OK
* checking package vignettes ... OK
* checking re-building of vignette outputs ... OK
* checking PDF version of manual ... OK
* DONE
Status: 1 NOTE
See
  ‘/home/biocbuild/bbs-3.22-bioc/meat/CytoPipeline.Rcheck/00check.log’
for details.
CytoPipeline.Rcheck/00install.out
############################################################################## ############################################################################## ### ### Running command: ### ### /home/biocbuild/bbs-3.22-bioc/R/bin/R CMD INSTALL CytoPipeline ### ############################################################################## ############################################################################## * installing to library ‘/home/biocbuild/bbs-3.22-bioc/R/site-library’ * installing *source* package ‘CytoPipeline’ ... ** this is package ‘CytoPipeline’ version ‘1.10.0’ ** using staged installation ** R ** data ** inst ** byte-compile and prepare package for lazy loading ** help *** installing help indices ** building package indices ** installing vignettes ** testing if installed package can be loaded from temporary location ** testing if installed package can be loaded from final location ** testing if installed package keeps a record of temporary installation path * DONE (CytoPipeline)
CytoPipeline.Rcheck/tests/testthat.Rout
R version 4.5.1 Patched (2025-08-23 r88802) -- "Great Square Root"
Copyright (C) 2025 The R Foundation for Statistical Computing
Platform: x86_64-pc-linux-gnu
R is free software and comes with ABSOLUTELY NO WARRANTY.
You are welcome to redistribute it under certain conditions.
Type 'license()' or 'licence()' for distribution details.
R is a collaborative project with many contributors.
Type 'contributors()' for more information and
'citation()' on how to cite R or R packages in publications.
Type 'demo()' for some demos, 'help()' for on-line help, or
'help.start()' for an HTML browser interface to help.
Type 'q()' to quit R.
> # CytoPipeline - Copyright (C) <2022-2025>
> # <Université catholique de Louvain (UCLouvain), Belgique>
> #
> #   Description and complete License: see LICENSE file.
> #
> # This program (CytoPipeline) is free software:
> #   you can redistribute it and/or modify it under the terms of the GNU General
> # Public License as published by the Free Software Foundation,
> # either version 3 of the License, or (at your option) any later version.
> #
> # This program is distributed in the hope that it will be useful,
> # but WITHOUT ANY WARRANTY; without even the implied warranty of
> # MERCHANTABILITY or FITNESS FOR A PARTICULAR PURPOSE.  See the
> # GNU General Public License for more details (<http://www.gnu.org/licenses/>).
> 
> library(testthat)
> library(CytoPipeline)
> 
> # launch unit tests
> test_check("CytoPipeline")
Pipeline object for flow cytometry experiment: OMIP021_PeacoQC 
No sample file
No pheno data
Scale transformations evaluation queue has no processing step
Flow frames pre-processing evaluation queue has no processing step
Pipeline object for flow cytometry experiment: OMIP021_PeacoQC 
Sample files: 2 sample file(s)
head(samples):
  displayName
1  Donor1.fcs
2  Donor2.fcs
                                                                    sampleFile
1 /home/biocbuild/bbs-3.22-bioc/R/site-library/CytoPipeline/extdata/Donor1.fcs
2 /home/biocbuild/bbs-3.22-bioc/R/site-library/CytoPipeline/extdata/Donor2.fcs
No pheno data
Scale transformations evaluation queue has no processing step
Flow frames pre-processing evaluation queue has no processing step
#####################################################
### running SCALE TRANSFORMATION processing steps ###
#####################################################
Proceeding with step 1 [scale_transform_read] ...
#####################################################
### NOW PRE-PROCESSING FILE /home/biocbuild/bbs-3.22-bioc/R/site-library/CytoPipeline/extdata/Donor1.fcs...
#####################################################
#####################################################
### NOW PRE-PROCESSING FILE /home/biocbuild/bbs-3.22-bioc/R/site-library/CytoPipeline/extdata/Donor2.fcs...
#####################################################
Proceeding with phenoData ...
#####################################################
### running SCALE TRANSFORMATION processing steps ###
#####################################################
Proceeding with step 1 [flowframe_read] ...
#####################################################
### NOW PRE-PROCESSING FILE /home/biocbuild/bbs-3.22-bioc/R/site-library/CytoPipeline/extdata/Donor1.fcs...
#####################################################
Proceeding with step 1 [flowFrame_read] ...
#####################################################
### NOW PRE-PROCESSING FILE /home/biocbuild/bbs-3.22-bioc/R/site-library/CytoPipeline/extdata/Donor2.fcs...
#####################################################
Proceeding with step 1 [flowFrame_read] ...
Proceeding with phenoData: found in cache => updating it!
#####################################################
### running SCALE TRANSFORMATION processing steps ###
#####################################################
Proceeding with step 1 [flowframe_read]: found in cache!
#####################################################
### NOW PRE-PROCESSING FILE /home/biocbuild/bbs-3.22-bioc/R/site-library/CytoPipeline/extdata/Donor1.fcs...
#####################################################
Proceeding with step 1 [flowFrame_read]: found in cache!
#####################################################
### NOW PRE-PROCESSING FILE /home/biocbuild/bbs-3.22-bioc/R/site-library/CytoPipeline/extdata/Donor2.fcs...
#####################################################
Proceeding with step 1 [flowFrame_read]: found in cache!
#####################################################
### running SCALE TRANSFORMATION processing steps ###
#####################################################
Proceeding with step 1 [flowframe_read] ...
Proceeding with step 2 [remove_margins] ...
Removing margins from file : Donor1.fcs
Removing margins from file : Donor2.fcs
Proceeding with step 3 [compensate] ...
Proceeding with step 4 [flowframe_aggregate] ...
Proceeding with step 5 [scale_transform_estimate] ...
#####################################################
### NOW PRE-PROCESSING FILE /home/biocbuild/bbs-3.22-bioc/R/site-library/CytoPipeline/extdata/Donor1.fcs...
#####################################################
Proceeding with step 1 [flowframe_read] ...
Proceeding with step 2 [remove_margins] ...
Removing margins from file : Donor1.fcs
Proceeding with step 3 [compensate] ...
Proceeding with step 4 [remove_doublets] ...
Proceeding with step 5 [remove_debris] ...
Proceeding with step 6 [remove_dead_cells] ...
Proceeding with step 7 [perform_QC] ...
Applying PeacoQC method...
Starting quality control analysis for Donor1.fcs
Calculating peaks
  |                                                        
  |                                                  |   0%
  |                                                        
  |++                                                |   5%
  |                                                        
  |+++++                                             |  10%
  |                                                        
  |++++++++                                          |  15%
  |                                                        
  |++++++++++                                        |  20%
  |                                                        
  |++++++++++++                                      |  25%
  |                                                        
  |+++++++++++++++                                   |  30%
  |                                                        
  |++++++++++++++++++                                |  35%
  |                                                        
  |++++++++++++++++++++                              |  40%
  |                                                        
  |++++++++++++++++++++++                            |  45%
  |                                                        
  |+++++++++++++++++++++++++                         |  50%
  |                                                        
  |++++++++++++++++++++++++++++                      |  55%
  |                                                        
  |++++++++++++++++++++++++++++++                    |  60%
  |                                                        
  |++++++++++++++++++++++++++++++++                  |  65%
  |                                                        
  |+++++++++++++++++++++++++++++++++++               |  70%
  |                                                        
  |++++++++++++++++++++++++++++++++++++++            |  75%
  |                                                        
  |++++++++++++++++++++++++++++++++++++++++          |  80%
  |                                                        
  |++++++++++++++++++++++++++++++++++++++++++        |  85%
  |                                                        
  |+++++++++++++++++++++++++++++++++++++++++++++     |  90%
  |                                                        
  |++++++++++++++++++++++++++++++++++++++++++++++++  |  95%
  |                                                        
  |++++++++++++++++++++++++++++++++++++++++++++++++++| 100%
MAD analysis removed 30.75% of the measurements
The algorithm removed 30.75% of the measurements
Proceeding with step 8 [transform] ...
#####################################################
### NOW PRE-PROCESSING FILE /home/biocbuild/bbs-3.22-bioc/R/site-library/CytoPipeline/extdata/Donor2.fcs...
#####################################################
Proceeding with step 1 [flowframe_read] ...
Proceeding with step 2 [remove_margins] ...
Removing margins from file : Donor2.fcs
Proceeding with step 3 [compensate] ...
Proceeding with step 4 [remove_doublets] ...
Proceeding with step 5 [remove_debris] ...
Proceeding with step 6 [remove_dead_cells] ...
Proceeding with step 7 [perform_QC] ...
Applying PeacoQC method...
Starting quality control analysis for Donor2.fcs
Calculating peaks
  |                                                        
  |                                                  |   0%
  |                                                        
  |++                                                |   5%
  |                                                        
  |+++++                                             |  10%
  |                                                        
  |++++++++                                          |  15%
  |                                                        
  |++++++++++                                        |  20%
  |                                                        
  |++++++++++++                                      |  25%
  |                                                        
  |+++++++++++++++                                   |  30%
  |                                                        
  |++++++++++++++++++                                |  35%
  |                                                        
  |++++++++++++++++++++                              |  40%
  |                                                        
  |++++++++++++++++++++++                            |  45%
  |                                                        
  |+++++++++++++++++++++++++                         |  50%
  |                                                        
  |++++++++++++++++++++++++++++                      |  55%
  |                                                        
  |++++++++++++++++++++++++++++++                    |  60%
  |                                                        
  |++++++++++++++++++++++++++++++++                  |  65%
  |                                                        
  |+++++++++++++++++++++++++++++++++++               |  70%
  |                                                        
  |++++++++++++++++++++++++++++++++++++++            |  75%
  |                                                        
  |++++++++++++++++++++++++++++++++++++++++          |  80%
  |                                                        
  |++++++++++++++++++++++++++++++++++++++++++        |  85%
  |                                                        
  |+++++++++++++++++++++++++++++++++++++++++++++     |  90%
  |                                                        
  |++++++++++++++++++++++++++++++++++++++++++++++++  |  95%
  |                                                        
  |++++++++++++++++++++++++++++++++++++++++++++++++++| 100%
MAD analysis removed 24.38% of the measurements
The algorithm removed 24.38% of the measurements
Proceeding with step 8 [transform] ...
#####################################################
### running SCALE TRANSFORMATION processing steps ###
#####################################################
Proceeding with step 1 [flowframe_read]: found in cache!
Proceeding with step 2 [remove_margins]: found in cache!
Proceeding with step 3 [compensate]: found in cache!
Proceeding with step 4 [flowframe_aggregate]: found in cache!
Proceeding with step 5 [scale_transform_estimate]: found in cache!
#####################################################
### NOW PRE-PROCESSING FILE /home/biocbuild/bbs-3.22-bioc/R/site-library/CytoPipeline/extdata/Donor1.fcs...
#####################################################
Proceeding with step 1 [flowframe_read]: found in cache!
Proceeding with step 2 [remove_margins]: found in cache!
Proceeding with step 3 [compensate]: found in cache!
Proceeding with step 4 [remove_doublets]: found in cache!
Proceeding with step 5 [remove_debris]: found in cache!
Proceeding with step 6 [remove_dead_cells]: found in cache!
Proceeding with step 7 [perform_QC]: found in cache!
Proceeding with step 8 [transform]: found in cache!
#####################################################
### NOW PRE-PROCESSING FILE /home/biocbuild/bbs-3.22-bioc/R/site-library/CytoPipeline/extdata/Donor2.fcs...
#####################################################
Proceeding with step 1 [flowframe_read]: found in cache!
Proceeding with step 2 [remove_margins]: found in cache!
Proceeding with step 3 [compensate]: found in cache!
Proceeding with step 4 [remove_doublets]: found in cache!
Proceeding with step 5 [remove_debris]: found in cache!
Proceeding with step 6 [remove_dead_cells]: found in cache!
Proceeding with step 7 [perform_QC]: found in cache!
Proceeding with step 8 [transform]: found in cache!
#####################################################
### running SCALE TRANSFORMATION processing steps ###
#####################################################
Proceeding with step 1 [flowframe_read] ...
Proceeding with step 2 [remove_margins] ...
Removing margins from file : Donor1.fcs
Removing margins from file : Donor2.fcs
Proceeding with step 3 [compensate] ...
Proceeding with step 4 [flowframe_aggregate] ...
Proceeding with step 5 [scale_transform_estimate] ...
#####################################################
### NOW PRE-PROCESSING FILE /home/biocbuild/bbs-3.22-bioc/R/site-library/CytoPipeline/extdata/Donor1.fcs...
#####################################################
Proceeding with step 1 [flowframe_read] ...
Proceeding with step 2 [remove_margins] ...
Removing margins from file : Donor1.fcs
Proceeding with step 3 [compensate] ...
Proceeding with step 4 [remove_doublets] ...
Proceeding with step 5 [remove_debris] ...
Proceeding with step 6 [remove_dead_cells] ...
Proceeding with step 7 [perform_QC] ...
Applying PeacoQC method...
Starting quality control analysis for Donor1.fcs
Calculating peaks
  |                                                        
  |                                                  |   0%
  |                                                        
  |++                                                |   5%
  |                                                        
  |+++++                                             |  10%
  |                                                        
  |++++++++                                          |  15%
  |                                                        
  |++++++++++                                        |  20%
  |                                                        
  |++++++++++++                                      |  25%
  |                                                        
  |+++++++++++++++                                   |  30%
  |                                                        
  |++++++++++++++++++                                |  35%
  |                                                        
  |++++++++++++++++++++                              |  40%
  |                                                        
  |++++++++++++++++++++++                            |  45%
  |                                                        
  |+++++++++++++++++++++++++                         |  50%
  |                                                        
  |++++++++++++++++++++++++++++                      |  55%
  |                                                        
  |++++++++++++++++++++++++++++++                    |  60%
  |                                                        
  |++++++++++++++++++++++++++++++++                  |  65%
  |                                                        
  |+++++++++++++++++++++++++++++++++++               |  70%
  |                                                        
  |++++++++++++++++++++++++++++++++++++++            |  75%
  |                                                        
  |++++++++++++++++++++++++++++++++++++++++          |  80%
  |                                                        
  |++++++++++++++++++++++++++++++++++++++++++        |  85%
  |                                                        
  |+++++++++++++++++++++++++++++++++++++++++++++     |  90%
  |                                                        
  |++++++++++++++++++++++++++++++++++++++++++++++++  |  95%
  |                                                        
  |++++++++++++++++++++++++++++++++++++++++++++++++++| 100%
MAD analysis removed 30.75% of the measurements
The algorithm removed 30.75% of the measurements
Proceeding with step 8 [transform] ...
#####################################################
### NOW PRE-PROCESSING FILE /home/biocbuild/bbs-3.22-bioc/R/site-library/CytoPipeline/extdata/Donor2.fcs...
#####################################################
Proceeding with step 1 [flowframe_read] ...
Proceeding with step 2 [remove_margins] ...
Removing margins from file : Donor2.fcs
Proceeding with step 3 [compensate] ...
Proceeding with step 4 [remove_doublets] ...
Proceeding with step 5 [remove_debris] ...
Proceeding with step 6 [remove_dead_cells] ...
Proceeding with step 7 [perform_QC] ...
Applying PeacoQC method...
Starting quality control analysis for Donor2.fcs
Calculating peaks
  |                                                        
  |                                                  |   0%
  |                                                        
  |++                                                |   5%
  |                                                        
  |+++++                                             |  10%
  |                                                        
  |++++++++                                          |  15%
  |                                                        
  |++++++++++                                        |  20%
  |                                                        
  |++++++++++++                                      |  25%
  |                                                        
  |+++++++++++++++                                   |  30%
  |                                                        
  |++++++++++++++++++                                |  35%
  |                                                        
  |++++++++++++++++++++                              |  40%
  |                                                        
  |++++++++++++++++++++++                            |  45%
  |                                                        
  |+++++++++++++++++++++++++                         |  50%
  |                                                        
  |++++++++++++++++++++++++++++                      |  55%
  |                                                        
  |++++++++++++++++++++++++++++++                    |  60%
  |                                                        
  |++++++++++++++++++++++++++++++++                  |  65%
  |                                                        
  |+++++++++++++++++++++++++++++++++++               |  70%
  |                                                        
  |++++++++++++++++++++++++++++++++++++++            |  75%
  |                                                        
  |++++++++++++++++++++++++++++++++++++++++          |  80%
  |                                                        
  |++++++++++++++++++++++++++++++++++++++++++        |  85%
  |                                                        
  |+++++++++++++++++++++++++++++++++++++++++++++     |  90%
  |                                                        
  |++++++++++++++++++++++++++++++++++++++++++++++++  |  95%
  |                                                        
  |++++++++++++++++++++++++++++++++++++++++++++++++++| 100%
MAD analysis removed 24.38% of the measurements
The algorithm removed 24.38% of the measurements
Proceeding with step 8 [transform] ...
pData row names has been set by default to sample names.
#####################################################
### running SCALE TRANSFORMATION processing steps ###
#####################################################
Proceeding with step 1 [flowframe_read] ...
Proceeding with step 2 [remove_margins] ...
Removing margins from file : Donor1.fcs
Removing margins from file : Donor2.fcs
Proceeding with step 3 [compensate] ...
Proceeding with step 4 [flowframe_aggregate] ...
Proceeding with step 5 [scale_transform_estimate] ...
#####################################################
### NOW PRE-PROCESSING FILE /home/biocbuild/bbs-3.22-bioc/R/site-library/CytoPipeline/extdata/Donor1.fcs...
#####################################################
Proceeding with step 1 [flowframe_read] ...
Proceeding with step 2 [remove_margins] ...
Removing margins from file : Donor1.fcs
Proceeding with step 3 [compensate] ...
Proceeding with step 4 [remove_doublets] ...
Proceeding with step 5 [remove_debris] ...
Proceeding with step 6 [remove_dead_cells] ...
Proceeding with step 7 [perform_QC] ...
Applying PeacoQC method...
Starting quality control analysis for Donor1.fcs
Calculating peaks
  |                                                        
  |                                                  |   0%
  |                                                        
  |++                                                |   5%
  |                                                        
  |+++++                                             |  10%
  |                                                        
  |++++++++                                          |  15%
  |                                                        
  |++++++++++                                        |  20%
  |                                                        
  |++++++++++++                                      |  25%
  |                                                        
  |+++++++++++++++                                   |  30%
  |                                                        
  |++++++++++++++++++                                |  35%
  |                                                        
  |++++++++++++++++++++                              |  40%
  |                                                        
  |++++++++++++++++++++++                            |  45%
  |                                                        
  |+++++++++++++++++++++++++                         |  50%
  |                                                        
  |++++++++++++++++++++++++++++                      |  55%
  |                                                        
  |++++++++++++++++++++++++++++++                    |  60%
  |                                                        
  |++++++++++++++++++++++++++++++++                  |  65%
  |                                                        
  |+++++++++++++++++++++++++++++++++++               |  70%
  |                                                        
  |++++++++++++++++++++++++++++++++++++++            |  75%
  |                                                        
  |++++++++++++++++++++++++++++++++++++++++          |  80%
  |                                                        
  |++++++++++++++++++++++++++++++++++++++++++        |  85%
  |                                                        
  |+++++++++++++++++++++++++++++++++++++++++++++     |  90%
  |                                                        
  |++++++++++++++++++++++++++++++++++++++++++++++++  |  95%
  |                                                        
  |++++++++++++++++++++++++++++++++++++++++++++++++++| 100%
MAD analysis removed 30.75% of the measurements
The algorithm removed 30.75% of the measurements
Proceeding with step 8 [transform] ...
#####################################################
### NOW PRE-PROCESSING FILE /home/biocbuild/bbs-3.22-bioc/R/site-library/CytoPipeline/extdata/Donor2.fcs...
#####################################################
Proceeding with step 1 [flowframe_read] ...
Proceeding with step 2 [remove_margins] ...
Removing margins from file : Donor2.fcs
Proceeding with step 3 [compensate] ...
Proceeding with step 4 [remove_doublets] ...
Proceeding with step 5 [remove_debris] ...
Proceeding with step 6 [remove_dead_cells] ...
Proceeding with step 7 [perform_QC] ...
Applying PeacoQC method...
Starting quality control analysis for Donor2.fcs
Calculating peaks
  |                                                        
  |                                                  |   0%
  |                                                        
  |++                                                |   5%
  |                                                        
  |+++++                                             |  10%
  |                                                        
  |++++++++                                          |  15%
  |                                                        
  |++++++++++                                        |  20%
  |                                                        
  |++++++++++++                                      |  25%
  |                                                        
  |+++++++++++++++                                   |  30%
  |                                                        
  |++++++++++++++++++                                |  35%
  |                                                        
  |++++++++++++++++++++                              |  40%
  |                                                        
  |++++++++++++++++++++++                            |  45%
  |                                                        
  |+++++++++++++++++++++++++                         |  50%
  |                                                        
  |++++++++++++++++++++++++++++                      |  55%
  |                                                        
  |++++++++++++++++++++++++++++++                    |  60%
  |                                                        
  |++++++++++++++++++++++++++++++++                  |  65%
  |                                                        
  |+++++++++++++++++++++++++++++++++++               |  70%
  |                                                        
  |++++++++++++++++++++++++++++++++++++++            |  75%
  |                                                        
  |++++++++++++++++++++++++++++++++++++++++          |  80%
  |                                                        
  |++++++++++++++++++++++++++++++++++++++++++        |  85%
  |                                                        
  |+++++++++++++++++++++++++++++++++++++++++++++     |  90%
  |                                                        
  |++++++++++++++++++++++++++++++++++++++++++++++++  |  95%
  |                                                        
  |++++++++++++++++++++++++++++++++++++++++++++++++++| 100%
MAD analysis removed 24.38% of the measurements
The algorithm removed 24.38% of the measurements
Proceeding with step 8 [transform] ...
#####################################################
### running SCALE TRANSFORMATION processing steps ###
#####################################################
Proceeding with step 1 [flowframe_read] ...
Proceeding with step 2 [remove_margins] ...
Removing margins from file : Donor1.fcs
Removing margins from file : Donor2.fcs
Proceeding with step 3 [compensate] ...
Proceeding with step 4 [flowframe_aggregate] ...
Proceeding with step 5 [scale_transform_estimate] ...
  |                                                                            
  |                                                                      |   0%
  |                                                                            
  |===================================                                   |  50%
  |                                                                            
  |======================================================================| 100%
#####################################################
### running SCALE TRANSFORMATION processing steps ###
#####################################################
Proceeding with step 1 [flowframe_read]: found in cache!
Proceeding with step 2 [remove_margins]: found in cache!
Proceeding with step 3 [compensate]: found in cache!
Proceeding with step 4 [flowframe_aggregate]: found in cache!
Proceeding with step 5 [scale_transform_estimate]: found in cache!
#####################################################
### NOW PRE-PROCESSING FILE Donor1.fcs...
#####################################################
Proceeding with step 1 [flowframe_read]: found in cache!
Proceeding with step 2 [remove_margins]: found in cache!
Proceeding with step 3 [compensate]: found in cache!
Proceeding with step 4 [remove_doublets]: found in cache!
Proceeding with step 5 [remove_debris]: found in cache!
Proceeding with step 6 [remove_dead_cells]: found in cache!
Proceeding with step 7 [perform_QC]: found in cache!
Proceeding with step 8 [transform]: found in cache!
#####################################################
### NOW PRE-PROCESSING FILE Donor2.fcs...
#####################################################
Proceeding with step 1 [flowframe_read]: found in cache!
Proceeding with step 2 [remove_margins]: found in cache!
Proceeding with step 3 [compensate]: found in cache!
Proceeding with step 4 [remove_doublets]: found in cache!
Proceeding with step 5 [remove_debris]: found in cache!
Proceeding with step 6 [remove_dead_cells]: found in cache!
Proceeding with step 7 [perform_QC]: found in cache!
Proceeding with step 8 [transform]: found in cache!
#####################################################
### running SCALE TRANSFORMATION processing steps ###
#####################################################
Proceeding with step 1 [flowframe_read] ...
#####################################################
### NOW PRE-PROCESSING FILE /home/biocbuild/bbs-3.22-bioc/R/site-library/CytoPipeline/extdata/Donor1.fcs...
#####################################################
#####################################################
### NOW PRE-PROCESSING FILE /home/biocbuild/bbs-3.22-bioc/R/site-library/CytoPipeline/extdata/Donor2.fcs...
#####################################################
#####################################################
### running SCALE TRANSFORMATION processing steps ###
#####################################################
Proceeding with step 1 [flowframe_read]: found in cache!
#####################################################
### NOW PRE-PROCESSING FILE /home/biocbuild/bbs-3.22-bioc/R/site-library/CytoPipeline/extdata/Donor1.fcs...
#####################################################
Proceeding with step 1 [flowframe_read] ...
#####################################################
### NOW PRE-PROCESSING FILE /home/biocbuild/bbs-3.22-bioc/R/site-library/CytoPipeline/extdata/Donor2.fcs...
#####################################################
Proceeding with step 1 [flowframe_read] ...
#####################################################
### running SCALE TRANSFORMATION processing steps ###
#####################################################
Proceeding with step 1 [flowframe_read]: found in cache!
#####################################################
### NOW PRE-PROCESSING FILE /home/biocbuild/bbs-3.22-bioc/R/site-library/CytoPipeline/extdata/Donor1.fcs...
#####################################################
Proceeding with step 1 [flowframe_read]: found in cache!
Proceeding with step 2 [remove_margins] ...
Removing margins from file : Donor1.fcs
#####################################################
### NOW PRE-PROCESSING FILE /home/biocbuild/bbs-3.22-bioc/R/site-library/CytoPipeline/extdata/Donor2.fcs...
#####################################################
Proceeding with step 1 [flowframe_read]: found in cache!
Proceeding with step 2 [remove_margins] ...
Removing margins from file : Donor2.fcs
#####################################################
### running SCALE TRANSFORMATION processing steps ###
#####################################################
Proceeding with step 1 [flowframe_read] ...
#####################################################
### NOW PRE-PROCESSING FILE /home/biocbuild/bbs-3.22-bioc/R/site-library/CytoPipeline/extdata/Donor2.fcs...
#####################################################
#####################################################
### running SCALE TRANSFORMATION processing steps ###
#####################################################
Proceeding with step 1 [flowframe_read]: found in cache!
#####################################################
### NOW PRE-PROCESSING FILE /home/biocbuild/bbs-3.22-bioc/R/site-library/CytoPipeline/extdata/Donor2.fcs...
#####################################################
Proceeding with step 1 [flowframe_read] ...
#####################################################
### running SCALE TRANSFORMATION processing steps ###
#####################################################
Proceeding with step 1 [flowframe_read]: found in cache!
#####################################################
### NOW PRE-PROCESSING FILE /home/biocbuild/bbs-3.22-bioc/R/site-library/CytoPipeline/extdata/Donor2.fcs...
#####################################################
Proceeding with step 1 [flowframe_read]: found in cache!
Proceeding with step 2 [remove_margins] ...
Removing margins from file : Donor2.fcs
no sample file passed as argument => defaulting to first sample file
#####################################################
### running SCALE TRANSFORMATION processing steps ###
#####################################################
Proceeding with step 1 [flowframe_read]: found in cache!
#####################################################
### NOW PRE-PROCESSING FILE /home/biocbuild/bbs-3.22-bioc/R/site-library/CytoPipeline/extdata/Donor1.fcs...
#####################################################
Proceeding with step 1 [flowframe_read] ...
Proceeding with step 2 [remove_margins] ...
Removing margins from file : Donor1.fcs
#####################################################
### NOW PRE-PROCESSING FILE /home/biocbuild/bbs-3.22-bioc/R/site-library/CytoPipeline/extdata/Donor2.fcs...
#####################################################
Proceeding with step 1 [flowframe_read]: found in cache!
Proceeding with step 2 [remove_margins]: found in cache!
no sample file passed as argument => defaulting to first sample file
pData row names has been set by default to sample names.
Object of class "CytoProcessingStep"
 Name: summing step
 Function: user-provided function
COL NAMES MARKER MAPPING: Channel, Marker, Used
COL NAMES MARKER MAPPING: Channel, Marker, Used
Removing margins from file : Donor1.fcs
Removing margins from file : Donor1.fcs
Removing margins from file : Donor1.fcs
Removing margins from file : Donor1.fcs
Applying PeacoQC method...
Starting quality control analysis for Donor1.fcs
Calculating peaks
  |                                                        
  |                                                  |   0%
  |                                                        
  |++                                                |   5%
  |                                                        
  |+++++                                             |  10%
  |                                                        
  |++++++++                                          |  15%
  |                                                        
  |++++++++++                                        |  20%
  |                                                        
  |++++++++++++                                      |  25%
  |                                                        
  |+++++++++++++++                                   |  30%
  |                                                        
  |++++++++++++++++++                                |  35%
  |                                                        
  |++++++++++++++++++++                              |  40%
  |                                                        
  |++++++++++++++++++++++                            |  45%
  |                                                        
  |+++++++++++++++++++++++++                         |  50%
  |                                                        
  |++++++++++++++++++++++++++++                      |  55%
  |                                                        
  |++++++++++++++++++++++++++++++                    |  60%
  |                                                        
  |++++++++++++++++++++++++++++++++                  |  65%
  |                                                        
  |+++++++++++++++++++++++++++++++++++               |  70%
  |                                                        
  |++++++++++++++++++++++++++++++++++++++            |  75%
  |                                                        
  |++++++++++++++++++++++++++++++++++++++++          |  80%
  |                                                        
  |++++++++++++++++++++++++++++++++++++++++++        |  85%
  |                                                        
  |+++++++++++++++++++++++++++++++++++++++++++++     |  90%
  |                                                        
  |++++++++++++++++++++++++++++++++++++++++++++++++  |  95%
  |                                                        
  |++++++++++++++++++++++++++++++++++++++++++++++++++| 100%
Applying flowAI method...
Quality control for the file: Donor1
49% of anomalous cells detected in the flow rate check. 
0% of anomalous cells detected in signal acquisition check. 
3% of anomalous cells detected in the dynamic range check. 
[ FAIL 0 | WARN 0 | SKIP 3 | PASS 319 ]
══ Skipped tests (3) ═══════════════════════════════════════════════════════════
• On CRAN (3): 'test-gating.R:42:5', 'test-ggplots.R:185:5',
  'test-ggplots.R:310:5'
[ FAIL 0 | WARN 0 | SKIP 3 | PASS 319 ]
Deleting unused snapshots:
• gating/singletsgate-default-channels-with-fixed-nmad.svg
• gating/singletsgate-selected-channels.svg
• gating/singletsgates-one-after-the-other-fig1.svg
• gating/singletsgates-one-after-the-other-fig2.svg
• ggplots/ggplotevents-2d-x-linear-y-logicle.svg
• ggplots/ggplotevents-2d-x-logicle-y-linear.svg
• ggplots/ggplotevents-2d-x-logicle-y-logicle-bins.svg
• ggplots/ggplotevents-2d-x-logicle-y-logicle-by-markers.svg
• ggplots/ggplotevents-2d-x-logicle-y-logicle-translist-not-run.svg
• ggplots/ggplotevents-2d-x-logicle-y-logicle-translist-run.svg
• ggplots/ggplotfilterevents-2d-5000-points.svg
• ggplots/ggplotfilterevents-2d-all-points-interactive.svg
• ggplots/ggplotfilterevents-2d-infinite-nb-of-points.svg
• ggplots/ggplotfilterevents-2d-small-size.svg
• ggplots/ggplotfilterevents-2d-translist-not-run.svg
• ggplots/ggplotfilterevents-2d-translist-run.svg
> 
> proc.time()
   user  system elapsed 
 77.155   1.997  90.680 
CytoPipeline.Rcheck/CytoPipeline-Ex.timings
| name | user | system | elapsed | |
| CytoPipelineClass | 0.029 | 0.002 | 0.031 | |
| CytoProcessingStep | 0.004 | 0.001 | 0.004 | |
| aggregateAndSample | 0.171 | 0.005 | 0.175 | |
| appendCellID | 0.119 | 0.000 | 0.120 | |
| applyScaleTransforms | 0.232 | 0.008 | 0.238 | |
| areFluoCols | 0.127 | 0.002 | 0.129 | |
| areSignalCols | 0.125 | 0.000 | 0.125 | |
| compensateFromMatrix | 1.531 | 0.096 | 1.629 | |
| computeScatterChannelsLinearScale | 0.178 | 0.004 | 0.182 | |
| estimateScaleTransforms | 0.177 | 0.000 | 0.177 | |
| execute | 25.413 | 0.672 | 26.099 | |
| exportCytoPipeline | 0.012 | 0.000 | 0.012 | |
| findTimeChannel | 0.120 | 0.002 | 0.122 | |
| getAcquiredCompensationMatrix | 0.063 | 0.001 | 0.064 | |
| getChannelNamesFromMarkers | 0.118 | 0.004 | 0.122 | |
| getFCSFileName | 0.123 | 0.000 | 0.123 | |
| getTransfoParams | 0.139 | 0.003 | 0.142 | |
| ggplotEvents | 5.471 | 0.043 | 5.301 | |
| ggplotFilterEvents | 0.762 | 0.009 | 0.772 | |
| ggplotFlowRate | 1.332 | 0.052 | 1.385 | |
| handlingProcessingSteps | 0.008 | 0.000 | 0.008 | |
| inspectCytoPipelineObjects | 9.548 | 0.180 | 9.732 | |
| interactingWithCytoPipelineCache | 13.752 | 0.240 | 14.006 | |
| qualityControlFlowAI | 1.006 | 0.011 | 1.018 | |
| qualityControlPeacoQC | 0.67 | 0.01 | 0.68 | |
| readRDSObject | 0.700 | 0.002 | 0.702 | |
| readSampleFiles | 0.071 | 0.002 | 0.073 | |
| removeChannels | 0.122 | 0.002 | 0.125 | |
| removeDeadCellsManualGate | 0.113 | 0.000 | 0.113 | |
| removeDebrisManualGate | 0.115 | 0.005 | 0.121 | |
| removeDoubletsCytoPipeline | 0.105 | 0.008 | 0.114 | |
| removeMarginsPeacoQC | 0.302 | 0.005 | 0.307 | |
| resetCellIDs | 0.121 | 0.000 | 0.122 | |
| runCompensation | 0.132 | 0.000 | 0.133 | |
| singletsGate | 1.079 | 0.017 | 1.097 | |
| subsample | 0.119 | 0.002 | 0.122 | |
| updateMarkerName | 0.120 | 0.001 | 0.122 | |
| writeFlowFrame | 0.228 | 0.000 | 0.229 | |