Back to Multiple platform build/check report for BioC 3.22:   simplified   long
AB[C]DEFGHIJKLMNOPQRSTUVWXYZ

This page was generated on 2025-11-07 11:59 -0500 (Fri, 07 Nov 2025).

HostnameOSArch (*)R versionInstalled pkgs
nebbiolo2Linux (Ubuntu 24.04.3 LTS)x86_644.5.1 Patched (2025-08-23 r88802) -- "Great Square Root" 4902
kjohnson3macOS 13.7.7 Venturaarm644.5.1 Patched (2025-09-10 r88807) -- "Great Square Root" 4638
Click on any hostname to see more info about the system (e.g. compilers)      (*) as reported by 'uname -p', except on Windows and Mac OS X

All results for package ConsensusClusterPlus


To the developers/maintainers of the ConsensusClusterPlus package:
- Allow up to 24 hours (and sometimes 48 hours) for your latest push to git@git.bioconductor.org:packages/ConsensusClusterPlus.git to reflect on this report. See Troubleshooting Build Report for more information.
- Use the following Renviron settings to reproduce errors and warnings.
- If 'R CMD check' started to fail recently on the Linux builder(s) over a missing dependency, add the missing dependency to 'Suggests:' in your DESCRIPTION file. See Renviron.bioc for more information.

raw results

Package 440/2361HostnameOS / ArchINSTALLBUILDCHECKBUILD BIN
ConsensusClusterPlus 1.74.0  (landing page)
Matt Wilkerson
Snapshot Date: 2025-11-06 13:45 -0500 (Thu, 06 Nov 2025)
git_url: https://git.bioconductor.org/packages/ConsensusClusterPlus
git_branch: RELEASE_3_22
git_last_commit: 4015c97
git_last_commit_date: 2025-10-29 10:04:16 -0500 (Wed, 29 Oct 2025)
nebbiolo2Linux (Ubuntu 24.04.3 LTS) / x86_64  OK    OK    OK  UNNEEDED, same version is already published
kjohnson3macOS 13.7.7 Ventura / arm64  OK    OK    OK    OK  UNNEEDED, same version is already published



Results for Bioconductor software packages that depend directly on package ConsensusClusterPlus

QUICK STATSOS / ArchINSTALLBUILDCHECKBUILD BIN
nebbiolo2Linux (Ubuntu 24.04.3 LTS) / x86_64
005
005
0023
kjohnson3macOS 13.7.7 Ventura / arm64
005
005
0023
005
Package 1/5HostnameOS / ArchINSTALLBUILDCHECKBUILD BIN
CATALYST 1.34.0  (landing page)
Helena L. Crowell
git_last_commit: 8ec200e
git_last_commit_date: 2025-10-29 10:38:04 -0500
nebbiolo2Linux (Ubuntu 24.04.3 LTS) / x86_64  OK    OK    OK  UNNEEDED, same version is already published
kjohnson3macOS 13.7.7 Ventura / arm64  OK    OK    OK    OK  UNNEEDED, same version is already published
Package 2/5HostnameOS / ArchINSTALLBUILDCHECKBUILD BIN
ChromSCape 1.20.0  (landing page)
Pacome Prompsy
git_last_commit: a5a7bda
git_last_commit_date: 2025-10-29 11:02:56 -0500
nebbiolo2Linux (Ubuntu 24.04.3 LTS) / x86_64  OK    OK    WARNINGS  UNNEEDED, same version is already published
kjohnson3macOS 13.7.7 Ventura / arm64  OK    OK    WARNINGS    OK  UNNEEDED, same version is already published
Package 3/5HostnameOS / ArchINSTALLBUILDCHECKBUILD BIN
DEGreport 1.46.0  (landing page)
Lorena Pantano
git_last_commit: c98a779
git_last_commit_date: 2025-10-29 10:19:57 -0500
nebbiolo2Linux (Ubuntu 24.04.3 LTS) / x86_64  OK    OK    OK  UNNEEDED, same version is already published
kjohnson3macOS 13.7.7 Ventura / arm64  OK    OK    OK    OK  UNNEEDED, same version is already published
Package 4/5HostnameOS / ArchINSTALLBUILDCHECKBUILD BIN
FlowSOM 2.18.0  (landing page)
Sofie Van Gassen
git_last_commit: b942a41
git_last_commit_date: 2025-10-29 10:23:19 -0500
nebbiolo2Linux (Ubuntu 24.04.3 LTS) / x86_64  OK    OK    OK  UNNEEDED, same version is already published
kjohnson3macOS 13.7.7 Ventura / arm64  OK    OK    OK    OK  UNNEEDED, same version is already published
Package 5/5HostnameOS / ArchINSTALLBUILDCHECKBUILD BIN
PDATK 1.18.0  (landing page)
Benjamin Haibe-Kains
git_last_commit: d15fa15
git_last_commit_date: 2025-10-29 11:06:35 -0500
nebbiolo2Linux (Ubuntu 24.04.3 LTS) / x86_64  OK    OK    WARNINGS  UNNEEDED, same version is already published
kjohnson3macOS 13.7.7 Ventura / arm64  OK    OK    WARNINGS    OK  UNNEEDED, same version is already published